{"text_format":"1","workbook":"xlsx","n_sheets":21,"sheets":["Main Menu","Read Me","Setup","Crop Factor","Fixed WU Figure","Evap","Irrig Diary Summary","WU Chart","Irrig Diary","Fert Program 1,2,3","N Graph","P Graph","K Graph","Fert Program 4","F4, N Graph","F4, P Graph","F4, K Graph","Foliar Program","Leaf Analysis","Nutrient Removal Analysis","Pumping Costs"],"not_rendered":{"charts":15,"images":4,"macros":1,"external_links":0,"defined_names":21,"comments":8,"pivot_tables":0},"unopened":[{"sheet":"WU Chart","index":7,"reason":"not_a_worksheet"},{"sheet":"N Graph","index":10,"reason":"not_a_worksheet"},{"sheet":"P Graph","index":11,"reason":"not_a_worksheet"},{"sheet":"K Graph","index":12,"reason":"not_a_worksheet"},{"sheet":"F4, N Graph","index":14,"reason":"not_a_worksheet"},{"sheet":"F4, P Graph","index":15,"reason":"not_a_worksheet"},{"sheet":"F4, K Graph","index":16,"reason":"not_a_worksheet"}],"bounds":{"document_bytes":16777216,"sheet_cells":100000,"rows_first":2000,"rows_last":500,"rows_between":2000,"halvings":0,"cell_chars":16384,"cell_head_chars":4096},"cells_cut":0,"cells_raw":0,"read":"whole","date_system":"1900"}

{"sheet":"Main Menu","index":0,"n_rows":33,"n_cols":11,"rows_kept":33,"cut":false,"hidden":false,"merged":[[0,0,0,18],[2,0,2,18],[3,0,3,18],[4,0,4,18]]}
["MAIN MENU"]
[]
["Almond Production Spreadsheet"]
["Updated 7th January, 2015"]
["Version 150107"]
[]
[]
["INTRODUCTION ",null,null,null,null,null,null,null,null,null,"FOLIAR NUTRITION "]
["Read Me ",null,null,null,null,null,null,null,null,null,"Foliar Nutrient Program"]
[]
["Setup / Interview "]
[]
[]
[]
["IRRIGATION ",null,null,null,null,null,null,null,null,null,"TREE & FRUIT ANALYSIS "]
["Irrigation Diary ",null,null,null,null,null,null,null,null,null,"Leaf Analysis Critical Values "]
[]
["Irrigation Diary - Summary ",null,null,null,null,null,null,null,null,null,"Nutrient Removal Calculator "]
[]
["Water Use Graph"]
[]
["Pumping Cost Calculator"]
[]
[]
[]
["FERTIGATION - Optimisation Treatments",null,null,null,null,null,null,null,null,null,"FERTIGATION - User Defined"]
["Fertiliser Program Table",null,null,null,null,null,null,null,null,null,"Fertiliser Program Table"]
[]
["Nitrogen Graph",null,null,null,null,null,null,null,null,null,"Nitrogen Graph"]
[]
["Phosphorus Graph",null,null,null,null,null,null,null,null,null,"Phosphorus Graph"]
[]
["Potassium Graph",null,null,null,null,null,null,null,null,null,"Potassium Graph"]

{"sheet":"Read Me","index":1,"n_rows":0,"n_cols":0,"rows_kept":0,"cut":false,"hidden":false,"merged":[]}

{"sheet":"Setup","index":2,"n_rows":59,"n_cols":12,"rows_kept":59,"cut":false,"hidden":false,"merged":[[37,3,42,7],[1,0,1,7],[1,11,1,21]]}
[]
["IRRIGATION & FERTILISER DIARY SETUP",null,null,null,null,null,null,null,null,null,null,"NOTES / WORKING PAGE"]
[]
["FIRST MONDAY OF FINANCIAL YEAR:"]
["2014-07-07"]
[]
["PATCH INFORMATION"]
["Irrigation System:",null,"Drip",null,null,null,null,null,"Irrigation System Type"]
[null,null,null,null,null,null,null,null,"Sprinkler"]
["Hectares (Ha):",null,27,null,null,null,null,null,"Drip"]
[]
["Row Spacing (m):",null,3.35]
["Tree Spacing (m):",null,2.4]
[]
["APPLICATION RATE"]
["Calculations by:",null,"Theoretical Drip",null,null,null,null,null,"Calculations by"]
[null,null,null,null,null,null,null,null,"Theoretical Drip"]
[{"$f":"IF(AND(C$8=\"Sprinkler\",C$16=\"Theoretical Sprinkler\"), \"Sprinkler Flow Rate (L/Hr):\", \"\")","v":""},null,0,null,null,null,null,null,"Theoretical Sprinkler"]
[{"$f":"IF(AND(C$8=\"Sprinkler\",C$16=\"Theoretical Sprinkler\"), \"Sprinkler Spacing Down the Row (m):\", \"\")","v":""},null,0,null,null,null,null,null,"Water Meter"]
[{"$f":"IF(AND(C$8=\"Sprinkler\",C$16=\"Theoretical Sprinkler\"), \"Sprinkler Spacing Across the Row/s (m):\",\"\")","v":""},null,0]
[{"$f":"IF(AND(C$8=\"Sprinkler\",C$16=\"Theoretical\"), \"Application Rate (mm/hr):\",\"\")","v":""},null,{"$f":"IF(AND(C8=\"Sprinkler\",C16=\"Theoretical Sprinkler\"),(C18/C19/C20),0)","v":0}]
[null,"OR"]
[{"$f":"IF(AND(C$8=\"Drip\",C$16=\"Theoretical Drip\"), \"No. of Drip Laterals:\",\"\")","v":"No. of Drip Laterals:"},null,1]
[{"$f":"IF(AND(C$8=\"Drip\",C$16=\"Theoretical Drip\"), \"Dripper Flow Rate (L/Hr):\",\"\")","v":"Dripper Flow Rate (L/Hr):"},null,3.5]
[{"$f":"IF(AND(C$8=\"Drip\",C$16=\"Theoretical Drip\"), \"Dripper Spacing (m):\",\"\")","v":"Dripper Spacing (m):"},null,0.9]
[{"$f":"IF(AND(C$8=\"Drip\",C$16=\"Theoretical\"), \"Application Rate (mm/hr):\",\"\")","v":""},null,{"$f":"IF(AND(C8=\"Drip\",C16=\"Theoretical Drip\"),(C23*(C24/C12/C25)),0)","v":1.1608623548922055}]
[null,"OR"]
[{"$f":"IF(C$16=\"Water Meter\", \"Start Meter Reading (kL)\",\"\")","v":""},null,0]
[{"$f":"IF(C$16=\"Water Meter\", \"Finish Meter Reading (kL)\",\"\")","v":""},null,0]
[{"$f":"IF(C$16=\"Water Meter\", \"Water Used (kL)\",\"\")","v":""},null,{"$f":"C29-C28","v":0}]
[{"$f":"IF(C$16=\"Water Meter\", \"Run Time (min)\",\"\")","v":""},null,0]
[{"$f":"IF(C$16=\"Water Meter\", \"Shift Area (Ha)\",\"\")","v":""},null,0]
[{"$f":"IF(C$16=\"Water Meter\", \"Application Rate (mm/hr)\",\"\")","v":""},null,{"$f":"IF(C16=\"Water Meter\",(C30/10)/C32,0)","v":0}]
[]
["IRRIGATION PROGRAM:"]
[]
[]
[null,null,null,"Go to the crop factor section to choose between Class A Evaporation Pan or Automated Weather Station as the preferred climatic data input"]
[]
[]
[]
[null,"OR"]
[]
[]
[]
[]
[]
[]
[]
[]
["FERTILISER PROGRAM:"]
["Program:",4]
[]
[null,"N","P","K"]
[null,"(kg/ha)","(kg/ha)","(kg/ha)"]
["CT Trial 1",240,50,400]
["CT Trial 2",320,50,600]
["CT Trial 3",320,50,400]
["User Defined 4",50,10,50]

{"sheet":"Crop Factor","index":3,"n_rows":15,"n_cols":8,"rows_kept":15,"cut":false,"hidden":false,"merged":[[1,0,1,6],[1,7,1,16],[12,1,12,2]]}
[]
["IRRIGATION STRATEGY - CROP FACTOR",null,null,null,null,null,null,"NOTES / WORKING PAGE"]
[]
[]
["Crop Factor",null,1]
[null,null,null,null,null,null,null,"Weather Station"]
["BOM Weather Station",null,"Loxton_RS",null,null,null,null,"Loxton_RS"]
[null,null,null,null,null,null,null,"Mildura_AP"]
["Approximate Water Budget",null,{"$f":"C5*VLOOKUP(Weather_Station, Annual_Etc, 2, FALSE)","v":15.184402023809527},"ML/Ha",null,null,null,"Griffith_CSIRO"]
[null,null,null,null,null,null,null,"Parafield_AP"]
["Kpan adjustment factor",0.7,null,null,null,null,null,"Hillston_AP"]
[]
["Preferred Weather Input:","Auto Weather Stn",null,1,null,null,null,"Weather Input"]
[null,null,null,null,null,null,null,"Evaporation Pan"]
[null,null,null,null,null,null,null,"Auto Weather Stn"]

{"sheet":"Fixed WU Figure","index":4,"n_rows":25,"n_cols":12,"rows_kept":25,"cut":false,"hidden":false,"merged":[[24,1,24,2],[1,0,1,6],[1,11,1,22]]}
[]
["IRRIGATION STRATEGY - FIXED WATER USE FIGURE",null,null,null,null,null,null,null,null,null,null,"NOTES / WORKING PAGE"]
[]
[]
["Water Use Figure"]
[0,"ML/Ha"]
[]
[null,"mm Early Season Wetup","=",{"$f":"IF(A8>0,A8/100/A6,0)","v":0},"of seasonal water use"]
[]
[null,null,null,null,"Cumm","Mthly","Mthly"]
[null,"Monthly %","Monthly % (adj)","ML/Ha","ML/Ha","mm","mm/day",null,"Monthly % (CT)","days","mm/mth"]
["Jul",3.6999999999999998E-2,{"$f":"IF(A$6>0,((A$6-(A$8/100))/A$6)*B12,B12)","v":3.6999999999999998E-2},{"$f":"IF(A$6>0,A$6*C12,\"N/A\")","v":"N/A"},{"$f":"IF(D12=\"N/A\",\"N/A\",D12)","v":"N/A"},{"$f":"IF(D12=\"N/A\",D12,D12*100)","v":"N/A"},{"$f":"IF(D12=\"N/A\",\"N/A\",D12*100/J12)","v":"N/A"},null,3.6999999999999998E-2,31,{"$f":"D12*100","v":{"$error":"#VALUE!"}}]
["Aug",3.6400000000000002E-2,3.6400000000000002E-2,"N/A",{"$f":"IF(D13=\"N/A\",\"N/A\",D13+E12)","v":"N/A"},"N/A",{"$f":"IF(D13=\"N/A\",\"N/A\",D13*100/J13)","v":"N/A"},null,3.6400000000000002E-2,31,{"$error":"#VALUE!"}]
["Sep",5.0999999999999997E-2,5.0999999999999997E-2,"N/A","N/A","N/A","N/A",null,5.0999999999999997E-2,30,{"$error":"#VALUE!"}]
["Oct",0.11799999999999999,0.11799999999999999,"N/A","N/A","N/A","N/A",null,0.11799999999999999,31,{"$error":"#VALUE!"}]
["Nov",0.15670000000000001,0.15670000000000001,"N/A","N/A","N/A","N/A",null,0.15670000000000001,30,{"$error":"#VALUE!"}]
["Dec",0.16220000000000001,0.16220000000000001,"N/A","N/A","N/A","N/A",null,0.16220000000000001,31,{"$error":"#VALUE!"}]
["Jan",0.17710000000000001,0.17710000000000001,"N/A","N/A","N/A","N/A",null,0.17710000000000001,31,{"$error":"#VALUE!"}]
["Feb",0.11650000000000001,0.11650000000000001,"N/A","N/A","N/A","N/A",null,0.11650000000000001,28,{"$error":"#VALUE!"}]
["Mar",9.5899999999999999E-2,9.5899999999999999E-2,"N/A","N/A","N/A","N/A",null,9.5899999999999999E-2,31,{"$error":"#VALUE!"}]
["Apr",3.9E-2,3.9E-2,"N/A","N/A","N/A","N/A",null,3.9E-2,30,{"$error":"#VALUE!"}]
["May",1.0200000000000001E-2,1.0200000000000001E-2,"N/A","N/A","N/A","N/A",null,1.0200000000000001E-2,31,{"$error":"#VALUE!"}]
["Jun",0,0,"N/A","N/A","N/A","N/A",null,0,30,{"$error":"#VALUE!"}]
["SUBTOTAL",{"$f":"SUM(B12:B23)","v":1.0000000000000002},{"$f":"SUM(C12:C23)","v":1.0000000000000002},{"$f":"SUM(D12:D23)","v":0},{"$f":"E23","v":"N/A"},{"$f":"SUM(F12:F23)","v":0},null,null,{"$f":"SUM(I12:I23)","v":1.0000000000000002},{"$f":"SUM(J12:J23)","v":365}]
["TOTAL",{"$f":"IF(SUM(C12:C23,D8)=100%,SUM(C12:C23,D8),\"ERROR\")","v":1.0000000000000002}]

{"sheet":"Evap","index":5,"n_rows":370,"n_cols":39,"rows_kept":370,"cut":false,"hidden":true,"merged":[[0,11,0,13],[0,2,0,4],[0,8,0,10],[0,5,0,7],[0,14,0,16],[0,19,0,22],[0,23,0,26],[0,27,0,30],[0,31,0,34],[0,35,0,38]]}
[null,"Mean","Griffith_CSIRO Epan",null,null,"Loxton_RS Epan",null,null,"Mildura_AP Epan",null,null,"Parafield_AP Epan",null,null,"Hillston_AP Epan",null,null,null,null,"Griffith_CSIRO Epan",null,null,null,"Loxton_RS Epan",null,null,null,"Mildura_AP Epan",null,null,null,"Parafield_AP Epan",null,null,null,"Hillston_AP Epan"]
[null,1,"Evap","ETc","ETc Cum","Evap","ETc","ETc Cum","Evap","ETc","ETc Cum","Evap","ETc","ETc Cum","Evap","ETc","ETc Cum",null,null,"Evap","ETc","ETc Cum","User Def","Evap","ETc","ETc Cum","User Def","Evap","ETc","ETc Cum","User Def","Evap","ETc","ETc Cum","User Def","Evap","ETc","ETc Cum","User Def"]
["Date","cf","(mm)","(mm)","(mm)","(mm)","(mm)","(mm)","(mm)","(mm)","(mm)","(mm)","(mm)","(mm)","(mm)","(mm)","(mm)",null,"Date","(mm)","(ML/Ha)","(ML/Ha)","(ML/Ha)","(mm)","(ML/Ha)","(ML/Ha)","(ML/Ha)","(mm)","(ML/Ha)","(ML/Ha)","(ML/Ha)","(mm)","(ML/Ha)","(ML/Ha)","(ML/Ha)","(mm)","(ML/Ha)","(ML/Ha)","(ML/Ha)"]
["2008-07-01",{"$f":"'Irrig Diary'!E17","v":0},1.6,{"$f":"$B4*C4","v":0},{"$f":"D4","v":0},1.7,{"$f":"$B4*F4","v":0},{"$f":"G4","v":0},2,{"$f":"$B4*I4","v":0},{"$f":"J4","v":0},1.9,{"$f":"$B4*L4","v":0},{"$f":"M4","v":0},1.5,{"$f":"$B4*O4","v":0},{"$f":"P4","v":0},null,"Jul",{"$f":"SUM(C4:C34)","v":49.600000000000023},{"$f":"SUM(D4:D34)/100","v":0},{"$f":"U4","v":0},{"$f":"IF('Crop Factor'!C$7=\"Griffith_CSIRO\",'Crop Factor'!C$5*Evap!V4,\"\")","v":""},{"$f":"SUM(F4:F34)","v":52.700000000000024},{"$f":"SUM(G4:G34)/100","v":0},{"$f":"Y4","v":0},{"$f":"IF('Crop Factor'!C$7=\"Loxton_RS\",'Crop Factor'!C$5*Evap!Z4,\"\")","v":0},{"$f":"SUM(I4:I34)","v":62},{"$f":"SUM(J4:J34)/100","v":0},{"$f":"AC4","v":0},{"$f":"IF('Crop Factor'!C$7=\"Mildura_AP\",'Crop Factor'!C$5*Evap!AD4,\"\")","v":""},{"$f":"SUM(L4:L34)","v":58.89999999999997},{"$f":"SUM(M4:M34)/100","v":0},{"$f":"AG4","v":0},{"$f":"IF('Crop Factor'!C$7=\"Parafield_AP\",'Crop Factor'!C$5*Evap!AH4,\"\")","v":""},{"$f":"SUM(O4:O34)","v":46.5},{"$f":"SUM(P4:P34)/100","v":0},{"$f":"AK4","v":0},{"$f":"IF('Crop Factor'!G$7=\"Hillston_AP\",'Crop Factor'!G$5*Evap!AL4,\"\")","v":""}]
["2008-07-02",{"$f":"'Irrig Diary'!E18","v":0},1.6,{"$f":"$B5*C5","v":0},{"$f":"E4+D5","v":0},1.7,{"$f":"$B5*F5","v":0},{"$f":"H4+G5","v":0},2,0,{"$f":"K4+J5","v":0},1.9,0,{"$f":"N4+M5","v":0},1.5,{"$f":"$B5*O5","v":0},{"$f":"Q4+P5","v":0},null,"Aug",{"$f":"SUM(C35:C65)","v":71.299999999999955},{"$f":"SUM(D35:D65)/100","v":0.19423499999999994},{"$f":"(V4+U5)","v":0.19423499999999994},{"$f":"IF('Crop Factor'!C$7=\"Griffith_CSIRO\",'Crop Factor'!C$5*Evap!V5,\"\")","v":""},{"$f":"SUM(F35:F65)","v":83.700000000000045},{"$f":"SUM(G35:G65)/100","v":0.22801500000000005},{"$f":"Z4+Y5","v":0.22801500000000005},{"$f":"IF('Crop Factor'!C$7=\"Loxton_RS\",'Crop Factor'!C$5*Evap!Z5,\"\")","v":0.22801500000000005},{"$f":"SUM(I35:I65)","v":93},{"$f":"SUM(J35:J65)/100","v":0.25334999999999996},{"$f":"AD4+AC5","v":0.25334999999999996},{"$f":"IF('Crop Factor'!C$7=\"Mildura_AP\",'Crop Factor'!C$5*Evap!AD5,\"\")","v":""},{"$f":"SUM(L35:L65)","v":83.700000000000045},{"$f":"SUM(M35:M65)/100","v":0.22801500000000005},{"$f":"AH4+AG5","v":0.22801500000000005},{"$f":"IF('Crop Factor'!C$7=\"Parafield_AP\",'Crop Factor'!C$5*Evap!AH5,\"\")","v":""},{"$f":"SUM(O35:O65)","v":65.100000000000023},{"$f":"SUM(P35:P65)/100","v":0.17734500000000003},{"$f":"AL4+AK5","v":0.17734500000000003},{"$f":"IF('Crop Factor'!G$7=\"Hillston_AP\",'Crop Factor'!G$5*Evap!AL5,\"\")","v":""}]
["2008-07-03",{"$f":"'Irrig Diary'!E19","v":0},1.6,0,{"$f":"E5+D6","v":0},1.7,0,{"$f":"H5+G6","v":0},2,0,{"$f":"K5+J6","v":0},1.9,0,{"$f":"N5+M6","v":0},1.5,0,{"$f":"Q5+P6","v":0},null,"Sep",{"$f":"SUM(C66:C95)","v":102.00000000000004},{"$f":"SUM(D66:D95)/100","v":0.63324999999999998},{"$f":"(V5+U6)","v":0.82748499999999992},{"$f":"IF('Crop Factor'!C$7=\"Griffith_CSIRO\",'Crop Factor'!C$5*Evap!V6,\"\")","v":""},{"$f":"SUM(F66:F95)","v":122.99999999999993},{"$f":"SUM(G66:G95)/100","v":0.76362499999999978},{"$f":"Z5+Y6","v":0.99163999999999985},{"$f":"IF('Crop Factor'!C$7=\"Loxton_RS\",'Crop Factor'!C$5*Evap!Z6,\"\")","v":0.99163999999999985},{"$f":"SUM(I66:I95)","v":137.99999999999991},{"$f":"SUM(J66:J95)/100","v":0.85674999999999946},{"$f":"AD5+AC6","v":1.1100999999999994},{"$f":"IF('Crop Factor'!C$7=\"Mildura_AP\",'Crop Factor'!C$5*Evap!AD6,\"\")","v":""},{"$f":"SUM(L66:L95)","v":113.99999999999994},{"$f":"SUM(M66:M95)/100","v":0.70775000000000021},{"$f":"AH5+AG6","v":0.93576500000000029},{"$f":"IF('Crop Factor'!C$7=\"Parafield_AP\",'Crop Factor'!C$5*Evap!AH6,\"\")","v":""},{"$f":"SUM(O66:O95)","v":107.99999999999994},{"$f":"SUM(P66:P95)/100","v":0.67049999999999998},{"$f":"AL5+AK6","v":0.84784499999999996},{"$f":"IF('Crop Factor'!G$7=\"Hillston_AP\",'Crop Factor'!G$5*Evap!AL6,\"\")","v":""}]
["2008-07-04",{"$f":"'Irrig Diary'!E20","v":0},1.6,0,0,1.7,0,0,2,0,0,1.9,0,0,1.5,0,0,null,"Oct",{"$f":"SUM(C96:C126)","v":151.90000000000009},{"$f":"SUM(D96:D126)/100","v":1.4834750000000008},2.3109600000000006,{"$f":"IF('Crop Factor'!C$7=\"Griffith_CSIRO\",'Crop Factor'!C$5*Evap!V7,\"\")","v":""},{"$f":"SUM(F96:F126)","v":182.90000000000009},{"$f":"SUM(G96:G126)/100","v":1.7862250000000004},2.7778650000000003,{"$f":"IF('Crop Factor'!C$7=\"Loxton_RS\",'Crop Factor'!C$5*Evap!Z7,\"\")","v":2.7778650000000003},{"$f":"SUM(I96:I126)","v":201.5},{"$f":"SUM(J96:J126)/100","v":1.9678750000000012},3.0779750000000003,{"$f":"IF('Crop Factor'!C$7=\"Mildura_AP\",'Crop Factor'!C$5*Evap!AD7,\"\")","v":""},{"$f":"SUM(L96:L126)","v":176.69999999999996},{"$f":"SUM(M96:M126)/100","v":1.7256749999999998},2.6614400000000002,{"$f":"IF('Crop Factor'!C$7=\"Parafield_AP\",'Crop Factor'!C$5*Evap!AH7,\"\")","v":""},{"$f":"SUM(O96:O126)","v":161.19999999999996},{"$f":"SUM(P96:P126)/100","v":1.5743000000000003},2.4221450000000004,{"$f":"IF('Crop Factor'!G$7=\"Hillston_AP\",'Crop Factor'!G$5*Evap!AL7,\"\")","v":""}]
["2008-07-05",{"$f":"'Irrig Diary'!E21","v":0},1.6,0,0,1.7,0,0,2,0,0,1.9,0,0,1.5,0,0,null,"Nov",{"$f":"SUM(C127:C156)","v":212.99999999999989},{"$f":"SUM(D127:D156)/100","v":2.2409375000000011},4.5518975000000017,{"$f":"IF('Crop Factor'!C$7=\"Griffith_CSIRO\",'Crop Factor'!C$5*Evap!V8,\"\")","v":""},{"$f":"SUM(F127:F156)","v":225},{"$f":"SUM(G127:G156)/100","v":2.3671875000000004},5.1450525000000003,{"$f":"IF('Crop Factor'!C$7=\"Loxton_RS\",'Crop Factor'!C$5*Evap!Z8,\"\")","v":5.1450525000000003},{"$f":"SUM(I127:I156)","v":255},{"$f":"SUM(J127:J156)/100","v":2.6828124999999998},5.7607875000000002,{"$f":"IF('Crop Factor'!C$7=\"Mildura_AP\",'Crop Factor'!C$5*Evap!AD8,\"\")","v":""},{"$f":"SUM(L127:L156)","v":234.00000000000011},{"$f":"SUM(M127:M156)/100","v":2.4618749999999996},5.1233149999999998,{"$f":"IF('Crop Factor'!C$7=\"Parafield_AP\",'Crop Factor'!C$5*Evap!AH8,\"\")","v":""},{"$f":"SUM(O127:O156)","v":210},{"$f":"SUM(P127:P156)/100","v":2.2093749999999988},4.6315199999999992,{"$f":"IF('Crop Factor'!G$7=\"Hillston_AP\",'Crop Factor'!G$5*Evap!AL8,\"\")","v":""}]
["2008-07-06",{"$f":"'Irrig Diary'!E22","v":0},1.6,0,0,1.7,0,0,2,0,0,1.9,0,0,1.5,0,0,null,"Dec",{"$f":"SUM(C157:C187)","v":251.09999999999988},{"$f":"SUM(D157:D187)/100","v":2.635031249999999},7.1869287500000008,{"$f":"IF('Crop Factor'!C$7=\"Griffith_CSIRO\",'Crop Factor'!C$5*Evap!V9,\"\")","v":""},{"$f":"SUM(F157:F187)","v":266.59999999999991},{"$f":"SUM(G157:G187)/100","v":2.7976874999999986},7.9427399999999988,{"$f":"IF('Crop Factor'!C$7=\"Loxton_RS\",'Crop Factor'!C$5*Evap!Z9,\"\")","v":7.9427399999999988},{"$f":"SUM(I157:I187)","v":313.10000000000002},{"$f":"SUM(J157:J187)/100","v":3.2856562499999997},9.0464437499999999,{"$f":"IF('Crop Factor'!C$7=\"Mildura_AP\",'Crop Factor'!C$5*Evap!AD9,\"\")","v":""},{"$f":"SUM(L157:L187)","v":294.5},{"$f":"SUM(M157:M187)/100","v":3.0904687500000012},8.213783750000001,{"$f":"IF('Crop Factor'!C$7=\"Parafield_AP\",'Crop Factor'!C$5*Evap!AH9,\"\")","v":""},{"$f":"SUM(O157:O187)","v":266.59999999999991},{"$f":"SUM(P157:P187)/100","v":2.7976874999999986},7.4292074999999977,{"$f":"IF('Crop Factor'!G$7=\"Hillston_AP\",'Crop Factor'!G$5*Evap!AL9,\"\")","v":""}]
["2008-07-07",{"$f":"'Irrig Diary'!E23","v":0},1.6,0,0,1.7,0,0,2,0,0,1.9,0,0,1.5,0,0,null,"Jan",{"$f":"SUM(C188:C218)","v":269.69999999999987},{"$f":"SUM(D188:D218)/100","v":2.7274500000000002},9.9143787500000009,{"$f":"IF('Crop Factor'!C$7=\"Griffith_CSIRO\",'Crop Factor'!C$5*Evap!V10,\"\")","v":""},{"$f":"SUM(F188:F218)","v":294.5},{"$f":"SUM(G188:G218)/100","v":2.9782500000000005},10.92099,{"$f":"IF('Crop Factor'!C$7=\"Loxton_RS\",'Crop Factor'!C$5*Evap!Z10,\"\")","v":10.92099},{"$f":"SUM(I188:I218)","v":328.60000000000008},{"$f":"SUM(J188:J218)/100","v":3.3230999999999984},12.369543749999998,{"$f":"IF('Crop Factor'!C$7=\"Mildura_AP\",'Crop Factor'!C$5*Evap!AD10,\"\")","v":""},{"$f":"SUM(L188:L218)","v":322.39999999999992},{"$f":"SUM(M188:M218)/100","v":3.2603999999999989},11.47418375,{"$f":"IF('Crop Factor'!C$7=\"Parafield_AP\",'Crop Factor'!C$5*Evap!AH10,\"\")","v":""},{"$f":"SUM(O188:O218)","v":272.80000000000013},{"$f":"SUM(P188:P218)/100","v":2.7587999999999999},10.188007499999998,{"$f":"IF('Crop Factor'!G$7=\"Hillston_AP\",'Crop Factor'!G$5*Evap!AL10,\"\")","v":""}]
["2008-07-08",{"$f":"'Irrig Diary'!E24","v":0},1.6,0,0,1.7,0,0,2,0,0,1.9,0,0,1.5,0,0,null,"Feb",{"$f":"SUM(C219:C246)","v":224},{"$f":"SUM(D219:D246)/100","v":1.8099999999999989},11.72437875,{"$f":"IF('Crop Factor'!C$7=\"Griffith_CSIRO\",'Crop Factor'!C$5*Evap!V11,\"\")","v":""},{"$f":"SUM(F219:F246)","v":235.2000000000001},{"$f":"SUM(G219:G246)/100","v":1.900499999999999},12.821489999999999,{"$f":"IF('Crop Factor'!C$7=\"Loxton_RS\",'Crop Factor'!C$5*Evap!Z11,\"\")","v":12.821489999999999},{"$f":"SUM(I219:I246)","v":274.40000000000015},{"$f":"SUM(J219:J246)/100","v":2.2172499999999995},14.586793749999998,{"$f":"IF('Crop Factor'!C$7=\"Mildura_AP\",'Crop Factor'!C$5*Evap!AD11,\"\")","v":""},{"$f":"SUM(L219:L246)","v":277.20000000000005},{"$f":"SUM(M219:M246)/100","v":2.2398750000000018},13.714058750000001,{"$f":"IF('Crop Factor'!C$7=\"Parafield_AP\",'Crop Factor'!C$5*Evap!AH11,\"\")","v":""},{"$f":"SUM(O219:O246)","v":226.7999999999999},{"$f":"SUM(P219:P246)/100","v":1.8326250000000004},12.020632499999998,{"$f":"IF('Crop Factor'!G$7=\"Hillston_AP\",'Crop Factor'!G$5*Evap!AL11,\"\")","v":""}]
["2008-07-09",{"$f":"'Irrig Diary'!E25","v":0},1.6,0,0,1.7,0,0,2,0,0,1.9,0,0,1.5,0,0,null,"Mar",{"$f":"SUM(C247:C277)","v":186},{"$f":"SUM(D247:D277)/100","v":1.3904999999999998},13.114878749999999,{"$f":"IF('Crop Factor'!C$7=\"Griffith_CSIRO\",'Crop Factor'!C$5*Evap!V12,\"\")","v":""},{"$f":"SUM(F247:F277)","v":201.5},{"$f":"SUM(G247:G277)/100","v":1.5063749999999998},14.327864999999999,{"$f":"IF('Crop Factor'!C$7=\"Loxton_RS\",'Crop Factor'!C$5*Evap!Z12,\"\")","v":14.327864999999999},{"$f":"SUM(I247:I277)","v":232.5},{"$f":"SUM(J247:J277)/100","v":1.7381249999999997},16.324918749999998,{"$f":"IF('Crop Factor'!C$7=\"Mildura_AP\",'Crop Factor'!C$5*Evap!AD12,\"\")","v":""},{"$f":"SUM(L247:L277)","v":223.19999999999987},{"$f":"SUM(M247:M277)/100","v":1.6685999999999996},15.382658750000001,{"$f":"IF('Crop Factor'!C$7=\"Parafield_AP\",'Crop Factor'!C$5*Evap!AH12,\"\")","v":""},{"$f":"SUM(O247:O277)","v":186},{"$f":"SUM(P247:P277)/100","v":1.3904999999999998},13.411132499999997,{"$f":"IF('Crop Factor'!G$7=\"Hillston_AP\",'Crop Factor'!G$5*Evap!AL12,\"\")","v":""}]
["2008-07-10",{"$f":"'Irrig Diary'!E26","v":0},1.6,0,0,1.7,0,0,2,0,0,1.9,0,0,1.5,0,0,null,"Apr",{"$f":"SUM(C278:C307)","v":105},{"$f":"SUM(D278:D307)/100","v":0.4913125000000001},13.606191249999998,{"$f":"IF('Crop Factor'!C$7=\"Griffith_CSIRO\",'Crop Factor'!C$5*Evap!V13,\"\")","v":""},{"$f":"SUM(F278:F307)","v":120},{"$f":"SUM(G278:G307)/100","v":0.56149999999999989},14.889365,{"$f":"IF('Crop Factor'!C$7=\"Loxton_RS\",'Crop Factor'!C$5*Evap!Z13,\"\")","v":14.889365},{"$f":"SUM(I278:I307)","v":141.00000000000003},{"$f":"SUM(J278:J307)/100","v":0.65976249999999992},16.984681249999998,{"$f":"IF('Crop Factor'!C$7=\"Mildura_AP\",'Crop Factor'!C$5*Evap!AD13,\"\")","v":""},{"$f":"SUM(L278:L307)","v":135},{"$f":"SUM(M278:M307)/100","v":0.63168750000000029},16.014346250000003,{"$f":"IF('Crop Factor'!C$7=\"Parafield_AP\",'Crop Factor'!C$5*Evap!AH13,\"\")","v":""},{"$f":"SUM(O278:O307)","v":113.99999999999994},{"$f":"SUM(P278:P307)/100","v":0.53342500000000026},13.944557499999998,{"$f":"IF('Crop Factor'!G$7=\"Hillston_AP\",'Crop Factor'!G$5*Evap!AL13,\"\")","v":""}]
["2008-07-11",{"$f":"'Irrig Diary'!E27","v":0},1.6,0,0,1.7,0,0,2,0,0,1.9,0,0,1.5,0,0,null,"May",{"$f":"SUM(C308:C338)","v":62},{"$f":"SUM(D308:D338)/100","v":0.2299452380952382},13.836136488095237,{"$f":"IF('Crop Factor'!C$7=\"Griffith_CSIRO\",'Crop Factor'!C$5*Evap!V14,\"\")","v":""},{"$f":"SUM(F308:F338)","v":71.299999999999955},{"$f":"SUM(G308:G338)/100","v":0.26443702380952377},15.153802023809524,{"$f":"IF('Crop Factor'!C$7=\"Loxton_RS\",'Crop Factor'!C$5*Evap!Z14,\"\")","v":15.153802023809524},{"$f":"SUM(I308:I338)","v":83.700000000000045},{"$f":"SUM(J308:J338)/100","v":0.31042607142857126},17.295107321428571,{"$f":"IF('Crop Factor'!C$7=\"Mildura_AP\",'Crop Factor'!C$5*Evap!AD14,\"\")","v":""},{"$f":"SUM(L308:L338)","v":83.700000000000045},{"$f":"SUM(M308:M338)/100","v":0.31042607142857126},16.324772321428576,{"$f":"IF('Crop Factor'!C$7=\"Parafield_AP\",'Crop Factor'!C$5*Evap!AH14,\"\")","v":""},{"$f":"SUM(O308:O338)","v":68.200000000000031},{"$f":"SUM(P308:P338)/100","v":0.25293976190476208},14.197497261904761,{"$f":"IF('Crop Factor'!G$7=\"Hillston_AP\",'Crop Factor'!G$5*Evap!AL14,\"\")","v":""}]
["2008-07-12",{"$f":"'Irrig Diary'!E28","v":0},1.6,0,0,1.7,0,0,2,0,0,1.9,0,0,1.5,0,0,null,"Jun",{"$f":"SUM(C339:C368)","v":41.999999999999979},{"$f":"SUM(D339:D368)/100","v":2.52E-2},13.861336488095237,{"$f":"IF('Crop Factor'!C$7=\"Griffith_CSIRO\",'Crop Factor'!C$5*Evap!V15,\"\")","v":""},{"$f":"SUM(F339:F368)","v":51.000000000000021},{"$f":"SUM(G339:G368)/100","v":3.0599999999999995E-2},15.184402023809524,{"$f":"IF('Crop Factor'!C$7=\"Loxton_RS\",'Crop Factor'!C$5*Evap!Z15,\"\")","v":15.184402023809524},{"$f":"SUM(I339:I368)","v":56.999999999999972},{"$f":"SUM(J339:J368)/100","v":3.4199999999999994E-2},17.329307321428569,{"$f":"IF('Crop Factor'!C$7=\"Mildura_AP\",'Crop Factor'!C$5*Evap!AD15,\"\")","v":""},{"$f":"SUM(L339:L368)","v":51.000000000000021},{"$f":"SUM(M339:M368)/100","v":3.0599999999999995E-2},16.355372321428575,{"$f":"IF('Crop Factor'!C$7=\"Parafield_AP\",'Crop Factor'!C$5*Evap!AH15,\"\")","v":""},{"$f":"SUM(O339:O368)","v":38.999999999999993},{"$f":"SUM(P339:P368)/100","v":2.3400000000000004E-2},14.220897261904762,{"$f":"IF('Crop Factor'!G$7=\"Hillston_AP\",'Crop Factor'!G$5*Evap!AL15,\"\")","v":""}]
["2008-07-13",{"$f":"'Irrig Diary'!E29","v":0},1.6,0,0,1.7,0,0,2,0,0,1.9,0,0,1.5,0,0,null,null,{"$f":"C369","v":1727.6000000000049},{"$f":"D369/100","v":13.861336488095253},{"$f":"V15","v":13.861336488095237},{"$f":"W15","v":""},{"$f":"F369","v":1907.4000000000026},{"$f":"G369/100","v":15.184402023809527},{"$f":"Z15","v":15.184402023809524},{"$f":"AA15","v":15.184402023809524},{"$f":"I369","v":2179.7999999999956},{"$f":"J369/100","v":17.329307321428566},{"$f":"AD15","v":17.329307321428569},{"$f":"AE15","v":""},{"$f":"L369","v":2054.3000000000075},{"$f":"M369/100","v":16.355372321428554},{"$f":"AH15","v":16.355372321428575},{"$f":"AI15","v":""},{"$f":"O369","v":1764.1999999999948},{"$f":"P369/100","v":14.220897261904776},{"$f":"AL15","v":14.220897261904762},{"$f":"AM15","v":""}]
["2008-07-14",{"$f":"'Irrig Diary'!E30","v":0},1.6,0,0,1.7,0,0,2,0,0,1.9,0,0,1.5,0,0]
["2008-07-15",{"$f":"'Irrig Diary'!E31","v":0},1.6,0,0,1.7,0,0,2,0,0,1.9,0,0,1.5,0,0,null,null,"ETc",null,null,"Jul","Aug","Sep","Oct","Nov","Dec","Jan","Feb","Mar","Apr","May","Jun","TOTAL"]
["2008-07-16",{"$f":"'Irrig Diary'!E32","v":0},1.6,0,0,1.7,0,0,2,0,0,1.9,0,0,1.5,0,0,null,null,"(ML/Ha)",null,null,"(ML/Ha)","(ML/Ha)","(ML/Ha)","(ML/Ha)","(ML/Ha)","(ML/Ha)","(ML/Ha)","(ML/Ha)","(ML/Ha)","(ML/Ha)","(ML/Ha)","(ML/Ha)","(ML/Ha)"]
["2008-07-17",{"$f":"'Irrig Diary'!E33","v":0},1.6,0,0,1.7,0,0,2,0,0,1.9,0,0,1.5,0,0,null,"Griffith_CSIRO",{"$f":"U16","v":13.861336488095253},null,"Griffith_CSIRO",{"$f":"W4","v":""},{"$f":"W5","v":""},{"$f":"W6","v":""},{"$f":"W7","v":""},{"$f":"W8","v":""},{"$f":"W9","v":""},{"$f":"W10","v":""},{"$f":"W11","v":""},{"$f":"W12","v":""},{"$f":"W13","v":""},{"$f":"W14","v":""},{"$f":"W15","v":""},{"$f":"W16","v":""}]
["2008-07-18",{"$f":"'Irrig Diary'!E34","v":0},1.6,0,0,1.7,0,0,2,0,0,1.9,0,0,1.5,0,0,null,"Loxton_RS",{"$f":"Y16","v":15.184402023809527},null,"Loxton_RS",{"$f":"AA4","v":0},{"$f":"AA5","v":0.22801500000000005},{"$f":"AA6","v":0.99163999999999985},{"$f":"AA7","v":2.7778650000000003},{"$f":"AA8","v":5.1450525000000003},{"$f":"AA9","v":7.9427399999999988},{"$f":"AA10","v":10.92099},{"$f":"AA11","v":12.821489999999999},{"$f":"AA12","v":14.327864999999999},{"$f":"AA13","v":14.889365},{"$f":"AA14","v":15.153802023809524},{"$f":"AA15","v":15.184402023809524},{"$f":"AA16","v":15.184402023809524}]
["2008-07-19",{"$f":"'Irrig Diary'!E35","v":0},1.6,0,0,1.7,0,0,2,0,0,1.9,0,0,1.5,0,0,null,"Mildura_AP",{"$f":"AC16","v":17.329307321428566},null,"Mildura_AP",{"$f":"AE4","v":""},{"$f":"AE5","v":""},{"$f":"AE6","v":""},{"$f":"AE7","v":""},{"$f":"AE8","v":""},{"$f":"AE9","v":""},{"$f":"AE10","v":""},{"$f":"AE11","v":""},{"$f":"AE12","v":""},{"$f":"AE13","v":""},{"$f":"AE14","v":""},{"$f":"AE15","v":""},{"$f":"AE16","v":""}]
["2008-07-20",{"$f":"'Irrig Diary'!E36","v":0},1.6,0,0,1.7,0,0,2,0,0,1.9,0,0,1.5,0,0,null,"Parafield_AP",{"$f":"AG16","v":16.355372321428554},null,"Parafield_AP",{"$f":"AI4","v":""},{"$f":"AI5","v":""},{"$f":"AI6","v":""},{"$f":"AI7","v":""},{"$f":"AI8","v":""},{"$f":"AI9","v":""},{"$f":"AI10","v":""},{"$f":"AI11","v":""},{"$f":"AI12","v":""},{"$f":"AI14","v":""},{"$f":"AI14","v":""},{"$f":"AI15","v":""},{"$f":"AI16","v":""}]
["2008-07-21",{"$f":"'Irrig Diary'!E37","v":0},1.6,0,0,1.7,0,0,2,0,0,1.9,0,0,1.5,0,0,null,"Hillston_AP",{"$f":"AK16","v":14.220897261904776},null,"Hillston_AP",{"$f":"AM4","v":""},{"$f":"AM5","v":""},{"$f":"AM6","v":""},{"$f":"AM7","v":""},{"$f":"AM8","v":""},{"$f":"AM9","v":""},{"$f":"AM10","v":""},{"$f":"AM11","v":""},{"$f":"AM12","v":""},{"$f":"AM13","v":""},{"$f":"AM14","v":""},{"$f":"AM15","v":""},{"$f":"AM16","v":""}]
["2008-07-22",{"$f":"'Irrig Diary'!E38","v":0},1.6,0,0,1.7,0,0,2,0,0,1.9,0,0,1.5,0,0]
["2008-07-23",{"$f":"'Irrig Diary'!E39","v":0},1.6,0,0,1.7,0,0,2,0,0,1.9,0,0,1.5,0,0]
["2008-07-24",{"$f":"'Irrig Diary'!E40","v":0},1.6,0,0,1.7,0,0,2,0,0,1.9,0,0,1.5,0,0]
["2008-07-25",{"$f":"'Irrig Diary'!E41","v":0},1.6,0,0,1.7,0,0,2,0,0,1.9,0,0,1.5,0,0]
["2008-07-26",{"$f":"'Irrig Diary'!E42","v":0},1.6,0,0,1.7,0,0,2,0,0,1.9,0,0,1.5,0,0]
["2008-07-27",{"$f":"'Irrig Diary'!E43","v":0},1.6,0,0,1.7,0,0,2,0,0,1.9,0,0,1.5,0,0]
["2008-07-28",{"$f":"'Irrig Diary'!E44","v":0},1.6,0,0,1.7,0,0,2,0,0,1.9,0,0,1.5,0,0]
["2008-07-29",{"$f":"'Irrig Diary'!E45","v":0},1.6,0,0,1.7,0,0,2,0,0,1.9,0,0,1.5,0,0]
["2008-07-30",{"$f":"'Irrig Diary'!E46","v":0},1.6,0,0,1.7,0,0,2,0,0,1.9,0,0,1.5,0,0]
["2008-07-31",{"$f":"'Irrig Diary'!E47","v":0},1.6,0,0,1.7,0,0,2,0,0,1.9,0,0,1.5,0,0]
["2008-08-01",{"$f":"'Irrig Diary'!E48","v":0},2.2999999999999998,0,0,2.7,0,0,3,0,0,2.7,0,0,2.1,0,0]
["2008-08-02",{"$f":"'Irrig Diary'!E49","v":0},2.2999999999999998,0,0,2.7,0,0,3,0,0,2.7,0,0,2.1,0,0]
["2008-08-03",{"$f":"'Irrig Diary'!E50","v":0},2.2999999999999998,0,0,2.7,0,0,3,0,0,2.7,0,0,2.1,0,0]
["2008-08-04",{"$f":"'Irrig Diary'!E51","v":0},2.2999999999999998,0,0,2.7,0,0,3,0,0,2.7,0,0,2.1,0,0]
["2008-08-05",{"$f":"'Irrig Diary'!E52","v":0},2.2999999999999998,0,0,2.7,0,0,3,0,0,2.7,0,0,2.1,0,0]
["2008-08-06",{"$f":"'Irrig Diary'!E53","v":0},2.2999999999999998,0,0,2.7,0,0,3,0,0,2.7,0,0,2.1,0,0]
["2008-08-07",{"$f":"'Irrig Diary'!E54","v":0},2.2999999999999998,0,0,2.7,0,0,3,0,0,2.7,0,0,2.1,0,0]
["2008-08-08",{"$f":"'Irrig Diary'!E55","v":0},2.2999999999999998,0,0,2.7,0,0,3,0,0,2.7,0,0,2.1,0,0]
["2008-08-09",{"$f":"'Irrig Diary'!E56","v":0},2.2999999999999998,0,0,2.7,0,0,3,0,0,2.7,0,0,2.1,0,0]
["2008-08-10",{"$f":"'Irrig Diary'!E57","v":0},2.2999999999999998,0,0,2.7,0,0,3,0,0,2.7,0,0,2.1,0,0]
["2008-08-11",{"$f":"'Irrig Diary'!E58","v":0},2.2999999999999998,0,0,2.7,0,0,3,0,0,2.7,0,0,2.1,0,0]
["2008-08-12",{"$f":"'Irrig Diary'!E59","v":0},2.2999999999999998,0,0,2.7,0,0,3,0,0,2.7,0,0,2.1,0,0]
["2008-08-13",{"$f":"'Irrig Diary'!E60","v":0.3},2.2999999999999998,0.69,0.69,2.7,0.81,0.81,3,0.89999999999999991,0.89999999999999991,2.7,0.81,0.81,2.1,0.63,0.63]
["2008-08-14",{"$f":"'Irrig Diary'!E61","v":0.3},2.2999999999999998,0.69,1.38,2.7,0.81,1.62,3,0.89999999999999991,1.7999999999999998,2.7,0.81,1.62,2.1,0.63,1.26]
["2008-08-15",{"$f":"'Irrig Diary'!E62","v":0.3},2.2999999999999998,0.69,2.0699999999999998,2.7,0.81,2.4300000000000002,3,0.89999999999999991,2.6999999999999997,2.7,0.81,2.4300000000000002,2.1,0.63,1.8900000000000001]
["2008-08-16",{"$f":"'Irrig Diary'!E63","v":0.3},2.2999999999999998,0.69,2.76,2.7,0.81,3.24,3,0.89999999999999991,3.5999999999999996,2.7,0.81,3.24,2.1,0.63,2.52]
["2008-08-17",{"$f":"'Irrig Diary'!E64","v":0.4},2.2999999999999998,0.91999999999999993,3.6799999999999997,2.7,1.08,4.32,3,1.2000000000000002,4.8,2.7,1.08,4.32,2.1,0.84000000000000008,3.3600000000000003]
["2008-08-18",{"$f":"'Irrig Diary'!E65","v":0.4},2.2999999999999998,0.91999999999999993,4.5999999999999996,2.7,1.08,5.4,3,1.2000000000000002,6,2.7,1.08,5.4,2.1,0.84000000000000008,4.2]
["2008-08-19",{"$f":"'Irrig Diary'!E66","v":0.55000000000000004},2.2999999999999998,1.2649999999999999,5.8649999999999993,2.7,1.4850000000000003,6.8850000000000007,3,1.6500000000000001,7.65,2.7,1.4850000000000003,6.8850000000000007,2.1,1.1550000000000002,5.3550000000000004]
["2008-08-20",{"$f":"'Irrig Diary'!E67","v":0.47499999999999998},2.2999999999999998,1.0924999999999998,6.9574999999999996,2.7,1.2825,8.1675000000000004,3,1.4249999999999998,9.0749999999999993,2.7,1.2825,8.1675000000000004,2.1,0.99749999999999994,6.3525]
["2008-08-21",{"$f":"'Irrig Diary'!E68","v":0.48},2.2999999999999998,1.1039999999999999,8.0614999999999988,2.7,1.296,9.4634999999999998,3,1.44,10.514999999999999,2.7,1.296,9.4634999999999998,2.1,1.008,7.3605]
["2008-08-22",{"$f":"'Irrig Diary'!E69","v":0.48},2.2999999999999998,1.1039999999999999,9.165499999999998,2.7,1.296,10.759499999999999,3,1.44,11.954999999999998,2.7,1.296,10.759499999999999,2.1,1.008,8.3685000000000009]
["2008-08-23",{"$f":"'Irrig Diary'!E70","v":0.48},2.2999999999999998,1.1039999999999999,10.269499999999997,2.7,1.296,12.055499999999999,3,1.44,13.394999999999998,2.7,1.296,12.055499999999999,2.1,1.008,9.3765000000000001]
["2008-08-24",{"$f":"'Irrig Diary'!E71","v":0.48},2.2999999999999998,1.1039999999999999,11.373499999999996,2.7,1.296,13.351499999999998,3,1.44,14.834999999999997,2.7,1.296,13.351499999999998,2.1,1.008,10.384499999999999]
["2008-08-25",{"$f":"'Irrig Diary'!E72","v":0.5},2.2999999999999998,1.1499999999999999,12.523499999999997,2.7,1.35,14.701499999999998,3,1.5,16.334999999999997,2.7,1.35,14.701499999999998,2.1,1.05,11.4345]
["2008-08-26",{"$f":"'Irrig Diary'!E73","v":0.5},2.2999999999999998,1.1499999999999999,13.673499999999997,2.7,1.35,16.051499999999997,3,1.5,17.834999999999997,2.7,1.35,16.051499999999997,2.1,1.05,12.484500000000001]
["2008-08-27",{"$f":"'Irrig Diary'!E74","v":0.5},2.2999999999999998,1.1499999999999999,14.823499999999997,2.7,1.35,17.401499999999999,3,1.5,19.334999999999997,2.7,1.35,17.401499999999999,2.1,1.05,13.534500000000001]
["2008-08-28",{"$f":"'Irrig Diary'!E75","v":0.5},2.2999999999999998,1.1499999999999999,15.973499999999998,2.7,1.35,18.7515,3,1.5,20.834999999999997,2.7,1.35,18.7515,2.1,1.05,14.584500000000002]
["2008-08-29",{"$f":"'Irrig Diary'!E76","v":0.5},2.2999999999999998,1.1499999999999999,17.123499999999996,2.7,1.35,20.101500000000001,3,1.5,22.334999999999997,2.7,1.35,20.101500000000001,2.1,1.05,15.634500000000003]
["2008-08-30",{"$f":"'Irrig Diary'!E77","v":0.5},2.2999999999999998,1.1499999999999999,18.273499999999995,2.7,1.35,21.451500000000003,3,1.5,23.834999999999997,2.7,1.35,21.451500000000003,2.1,1.05,16.684500000000003]
["2008-08-31",{"$f":"'Irrig Diary'!E78","v":0.5},2.2999999999999998,1.1499999999999999,19.423499999999994,2.7,1.35,22.801500000000004,3,1.5,25.334999999999997,2.7,1.35,22.801500000000004,2.1,1.05,17.734500000000004]
["2008-09-01",{"$f":"'Irrig Diary'!E79","v":0.5},3.4,1.7,21.123499999999993,4.0999999999999996,2.0499999999999998,24.851500000000005,4.5999999999999996,2.2999999999999998,27.634999999999998,3.8,1.9,24.701500000000003,3.6,1.8,19.534500000000005]
["2008-09-02",{"$f":"'Irrig Diary'!E80","v":0.5},3.4,1.7,22.823499999999992,4.0999999999999996,2.0499999999999998,26.901500000000006,4.5999999999999996,2.2999999999999998,29.934999999999999,3.8,1.9,26.601500000000001,3.6,1.8,21.334500000000006]
["2008-09-03",{"$f":"'Irrig Diary'!E81","v":0.5},3.4,{"$f":"$B68*C68","v":1.7},24.523499999999991,4.0999999999999996,2.0499999999999998,28.951500000000006,4.5999999999999996,{"$f":"$B68*I68","v":2.2999999999999998},32.234999999999999,3.8,{"$f":"$B68*L68","v":1.9},28.5015,3.6,{"$f":"$B68*O68","v":1.8},23.134500000000006]
["2008-09-04",{"$f":"'Irrig Diary'!E82","v":0.5},3.4,1.7,26.223499999999991,4.0999999999999996,{"$f":"$B69*F69","v":2.0499999999999998},31.001500000000007,4.5999999999999996,2.2999999999999998,34.534999999999997,3.8,1.9,30.401499999999999,3.6,1.8,24.934500000000007]
["2008-09-05",{"$f":"'Irrig Diary'!E83","v":0.5},3.4,1.7,{"$f":"E69+D70","v":27.92349999999999},4.0999999999999996,2.0499999999999998,{"$f":"H69+G70","v":33.051500000000004},4.5999999999999996,2.2999999999999998,{"$f":"K69+J70","v":36.834999999999994},3.8,1.9,{"$f":"N69+M70","v":32.301499999999997},3.6,1.8,{"$f":"Q69+P70","v":26.734500000000008}]
["2008-09-06",{"$f":"'Irrig Diary'!E84","v":0.53749999999999998},3.4,1.8274999999999999,29.750999999999991,4.0999999999999996,2.2037499999999999,35.255250000000004,4.5999999999999996,2.4724999999999997,39.30749999999999,3.8,2.0425,34.343999999999994,3.6,1.9350000000000001,28.669500000000006]
["2008-09-07",{"$f":"'Irrig Diary'!E85","v":0.53749999999999998},3.4,1.8274999999999999,31.578499999999991,4.0999999999999996,2.2037499999999999,37.459000000000003,4.5999999999999996,2.4724999999999997,41.779999999999987,3.8,2.0425,36.386499999999991,3.6,1.9350000000000001,30.604500000000005]
["2008-09-08",{"$f":"'Irrig Diary'!E86","v":0.53749999999999998},3.4,1.8274999999999999,33.405999999999992,4.0999999999999996,2.2037499999999999,39.662750000000003,4.5999999999999996,2.4724999999999997,44.252499999999984,3.8,2.0425,38.428999999999988,3.6,1.9350000000000001,32.539500000000004]
["2008-09-09",{"$f":"'Irrig Diary'!E87","v":0.53749999999999998},3.4,1.8274999999999999,35.233499999999992,4.0999999999999996,2.2037499999999999,41.866500000000002,4.5999999999999996,2.4724999999999997,46.72499999999998,3.8,2.0425,40.471499999999985,3.6,1.9350000000000001,34.474500000000006]
["2008-09-10",{"$f":"'Irrig Diary'!E88","v":0.53749999999999998},3.4,1.8274999999999999,37.060999999999993,4.0999999999999996,2.2037499999999999,44.070250000000001,4.5999999999999996,2.4724999999999997,49.197499999999977,3.8,2.0425,42.513999999999982,3.6,1.9350000000000001,36.409500000000008]
["2008-09-11",{"$f":"'Irrig Diary'!E89","v":0.53749999999999998},3.4,1.8274999999999999,38.888499999999993,4.0999999999999996,2.2037499999999999,46.274000000000001,4.5999999999999996,2.4724999999999997,51.669999999999973,3.8,2.0425,44.556499999999978,3.6,1.9350000000000001,38.344500000000011]
["2008-09-12",{"$f":"'Irrig Diary'!E90","v":0.53749999999999998},3.4,1.8274999999999999,40.715999999999994,4.0999999999999996,2.2037499999999999,48.47775,4.5999999999999996,2.4724999999999997,54.14249999999997,3.8,2.0425,46.598999999999975,3.6,1.9350000000000001,40.279500000000013]
["2008-09-13",{"$f":"'Irrig Diary'!E91","v":0.5625},3.4,1.9124999999999999,42.628499999999995,4.0999999999999996,2.3062499999999999,50.783999999999999,4.5999999999999996,2.5874999999999999,56.729999999999968,3.8,2.1374999999999997,48.736499999999978,3.6,2.0249999999999999,42.304500000000012]
["2008-09-14",{"$f":"'Irrig Diary'!E92","v":0.5625},3.4,1.9124999999999999,44.540999999999997,4.0999999999999996,2.3062499999999999,53.090249999999997,4.5999999999999996,2.5874999999999999,59.317499999999967,3.8,2.1374999999999997,50.873999999999981,3.6,2.0249999999999999,44.32950000000001]
["2008-09-15",{"$f":"'Irrig Diary'!E93","v":0.5625},3.4,1.9124999999999999,46.453499999999998,4.0999999999999996,2.3062499999999999,55.396499999999996,4.5999999999999996,2.5874999999999999,61.904999999999966,3.8,2.1374999999999997,53.011499999999984,3.6,2.0249999999999999,46.354500000000009]
["2008-09-16",{"$f":"'Irrig Diary'!E94","v":0.5625},3.4,1.9124999999999999,48.366,4.0999999999999996,2.3062499999999999,57.702749999999995,4.5999999999999996,2.5874999999999999,64.492499999999964,3.8,2.1374999999999997,55.148999999999987,3.6,2.0249999999999999,48.379500000000007]
["2008-09-17",{"$f":"'Irrig Diary'!E95","v":0.5625},3.4,1.9124999999999999,50.278500000000001,4.0999999999999996,2.3062499999999999,60.008999999999993,4.5999999999999996,2.5874999999999999,67.07999999999997,3.8,2.1374999999999997,57.28649999999999,3.6,2.0249999999999999,50.404500000000006]
["2008-09-18",{"$f":"'Irrig Diary'!E96","v":0.6},3.4,2.04,52.3185,4.0999999999999996,2.4599999999999995,62.468999999999994,4.5999999999999996,2.76,69.839999999999975,3.8,2.2799999999999998,59.566499999999991,3.6,2.16,52.56450000000001]
["2008-09-19",{"$f":"'Irrig Diary'!E97","v":0.63749999999999996},3.4,2.1675,54.485999999999997,4.0999999999999996,2.6137499999999996,65.08274999999999,4.5999999999999996,2.9324999999999997,72.77249999999998,3.8,2.4224999999999999,61.98899999999999,3.6,2.2949999999999999,54.859500000000011]
["2008-09-20",{"$f":"'Irrig Diary'!E98","v":0.63749999999999996},3.4,2.1675,56.653499999999994,4.0999999999999996,2.6137499999999996,67.696499999999986,4.5999999999999996,2.9324999999999997,75.704999999999984,3.8,2.4224999999999999,64.41149999999999,3.6,2.2949999999999999,57.154500000000013]
["2008-09-21",{"$f":"'Irrig Diary'!E99","v":0.67499999999999993},3.4,2.2949999999999999,58.948499999999996,4.0999999999999996,2.7674999999999996,70.463999999999984,4.5999999999999996,3.1049999999999995,78.809999999999988,3.8,2.5649999999999995,66.976499999999987,3.6,2.4299999999999997,59.584500000000013]
["2008-09-22",{"$f":"'Irrig Diary'!E100","v":0.67499999999999993},3.4,2.2949999999999999,61.243499999999997,4.0999999999999996,2.7674999999999996,73.231499999999983,4.5999999999999996,3.1049999999999995,81.914999999999992,3.8,2.5649999999999995,69.541499999999985,3.6,2.4299999999999997,62.014500000000012]
["2008-09-23",{"$f":"'Irrig Diary'!E101","v":0.76249999999999996},3.4,2.5924999999999998,63.835999999999999,4.0999999999999996,3.1262499999999998,76.357749999999982,4.5999999999999996,3.5074999999999994,85.422499999999985,3.8,2.8974999999999995,72.438999999999979,3.6,2.7450000000000001,64.759500000000017]
["2008-09-24",{"$f":"'Irrig Diary'!E102","v":0.76249999999999996},3.4,2.5924999999999998,66.4285,4.0999999999999996,3.1262499999999998,79.48399999999998,4.5999999999999996,3.5074999999999994,88.929999999999978,3.8,2.8974999999999995,75.336499999999972,3.6,2.7450000000000001,67.504500000000021]
["2008-09-25",{"$f":"'Irrig Diary'!E103","v":0.79999999999999993},3.4,2.7199999999999998,69.148499999999999,4.0999999999999996,3.2799999999999994,82.763999999999982,4.5999999999999996,3.6799999999999993,92.609999999999971,3.8,3.0399999999999996,78.376499999999979,3.6,2.88,70.384500000000017]
["2008-09-26",{"$f":"'Irrig Diary'!E104","v":0.79999999999999993},3.4,2.7199999999999998,71.868499999999997,4.0999999999999996,3.2799999999999994,86.043999999999983,4.5999999999999996,3.6799999999999993,96.289999999999964,3.8,3.0399999999999996,81.416499999999985,3.6,2.88,73.264500000000012]
["2008-09-27",{"$f":"'Irrig Diary'!E105","v":0.79999999999999993},3.4,2.7199999999999998,74.588499999999996,4.0999999999999996,3.2799999999999994,89.323999999999984,4.5999999999999996,3.6799999999999993,99.969999999999956,3.8,3.0399999999999996,84.456499999999991,3.6,2.88,76.144500000000008]
["2008-09-28",{"$f":"'Irrig Diary'!E106","v":0.79999999999999993},3.4,2.7199999999999998,77.308499999999995,4.0999999999999996,3.2799999999999994,92.603999999999985,4.5999999999999996,3.6799999999999993,103.64999999999995,3.8,3.0399999999999996,87.496499999999997,3.6,2.88,79.024500000000003]
["2008-09-29",{"$f":"'Irrig Diary'!E107","v":0.79999999999999993},3.4,2.7199999999999998,80.028499999999994,4.0999999999999996,3.2799999999999994,95.883999999999986,4.5999999999999996,3.6799999999999993,107.32999999999994,3.8,3.0399999999999996,90.536500000000004,3.6,2.88,81.904499999999999]
["2008-09-30",{"$f":"'Irrig Diary'!E108","v":0.79999999999999993},3.4,2.7199999999999998,82.748499999999993,4.0999999999999996,3.2799999999999994,99.163999999999987,4.5999999999999996,3.6799999999999993,111.00999999999993,3.8,3.0399999999999996,93.57650000000001,3.6,2.88,84.784499999999994]
["2008-10-01",{"$f":"'Irrig Diary'!E109","v":0.79999999999999993},4.9000000000000004,3.92,86.668499999999995,5.9,4.72,103.88399999999999,6.5,5.1999999999999993,116.20999999999994,5.7,4.5599999999999996,98.136500000000012,5.2,4.16,88.944499999999991]
["2008-10-02",{"$f":"'Irrig Diary'!E110","v":0.85},4.9000000000000004,4.165,90.833500000000001,5.9,5.0150000000000006,108.89899999999999,6.5,5.5249999999999995,121.73499999999994,5.7,4.8449999999999998,102.98150000000001,5.2,4.42,93.364499999999992]
["2008-10-03",{"$f":"'Irrig Diary'!E111","v":0.875},4.9000000000000004,4.2875000000000005,95.120999999999995,5.9,5.1625000000000005,114.06149999999998,6.5,5.6875,127.42249999999994,5.7,4.9874999999999998,107.96900000000001,5.2,4.55,97.91449999999999]
["2008-10-04",{"$f":"'Irrig Diary'!E112","v":0.875},4.9000000000000004,4.2875000000000005,99.408499999999989,5.9,5.1625000000000005,119.22399999999998,6.5,5.6875,133.10999999999996,5.7,4.9874999999999998,112.95650000000001,5.2,4.55,102.46449999999999]
["2008-10-05",{"$f":"'Irrig Diary'!E113","v":0.9},4.9000000000000004,4.41,103.81849999999999,5.9,5.3100000000000005,124.53399999999998,6.5,5.8500000000000005,138.95999999999995,5.7,5.13,118.0865,5.2,4.6800000000000006,107.14449999999999]
["2008-10-06",{"$f":"'Irrig Diary'!E114","v":0.92500000000000004},4.9000000000000004,4.5325000000000006,108.35099999999998,5.9,5.4575000000000005,129.99149999999997,6.5,6.0125000000000002,144.97249999999994,5.7,5.2725000000000009,123.35900000000001,5.2,4.8100000000000005,111.9545]
["2008-10-07",{"$f":"'Irrig Diary'!E115","v":0.92500000000000004},4.9000000000000004,4.5325000000000006,112.88349999999998,5.9,5.4575000000000005,135.44899999999998,6.5,6.0125000000000002,150.98499999999993,5.7,5.2725000000000009,128.63150000000002,5.2,4.8100000000000005,116.7645]
["2008-10-08",{"$f":"'Irrig Diary'!E116","v":0.92500000000000004},4.9000000000000004,4.5325000000000006,117.41599999999998,5.9,5.4575000000000005,140.90649999999999,6.5,6.0125000000000002,156.99749999999992,5.7,5.2725000000000009,133.90400000000002,5.2,4.8100000000000005,121.5745]
["2008-10-09",{"$f":"'Irrig Diary'!E117","v":0.92500000000000004},4.9000000000000004,4.5325000000000006,121.94849999999998,5.9,5.4575000000000005,146.364,6.5,6.0125000000000002,163.00999999999991,5.7,5.2725000000000009,139.17650000000003,5.2,4.8100000000000005,126.3845]
["2008-10-10",{"$f":"'Irrig Diary'!E118","v":0.92500000000000004},4.9000000000000004,4.5325000000000006,126.48099999999998,5.9,5.4575000000000005,151.82150000000001,6.5,6.0125000000000002,169.02249999999989,5.7,5.2725000000000009,144.44900000000004,5.2,4.8100000000000005,131.19450000000001]
["2008-10-11",{"$f":"'Irrig Diary'!E119","v":0.92500000000000004},4.9000000000000004,4.5325000000000006,131.01349999999999,5.9,5.4575000000000005,157.27900000000002,6.5,6.0125000000000002,175.03499999999988,5.7,5.2725000000000009,149.72150000000005,5.2,4.8100000000000005,136.00450000000001]
["2008-10-12",{"$f":"'Irrig Diary'!E120","v":0.92500000000000004},4.9000000000000004,4.5325000000000006,135.54599999999999,5.9,5.4575000000000005,162.73650000000004,6.5,6.0125000000000002,181.04749999999987,5.7,5.2725000000000009,154.99400000000006,5.2,4.8100000000000005,140.81450000000001]
["2008-10-13",{"$f":"'Irrig Diary'!E121","v":0.97499999999999998},4.9000000000000004,4.7774999999999999,140.3235,5.9,5.7525000000000004,168.48900000000003,6.5,6.3374999999999995,187.38499999999988,5.7,5.5575000000000001,160.55150000000006,5.2,5.07,145.8845]
["2008-10-14",{"$f":"'Irrig Diary'!E122","v":0.97499999999999998},4.9000000000000004,4.7774999999999999,145.101,5.9,5.7525000000000004,174.24150000000003,6.5,6.3374999999999995,193.72249999999988,5.7,5.5575000000000001,166.10900000000007,5.2,5.07,150.9545]
["2008-10-15",{"$f":"'Irrig Diary'!E123","v":0.97499999999999998},4.9000000000000004,4.7774999999999999,149.8785,5.9,5.7525000000000004,179.99400000000003,6.5,6.3374999999999995,200.05999999999989,5.7,5.5575000000000001,171.66650000000007,5.2,5.07,156.02449999999999]
["2008-10-16",{"$f":"'Irrig Diary'!E124","v":0.97499999999999998},4.9000000000000004,4.7774999999999999,154.65600000000001,5.9,5.7525000000000004,185.74650000000003,6.5,6.3374999999999995,206.39749999999989,5.7,5.5575000000000001,177.22400000000007,5.2,5.07,161.09449999999998]
["2008-10-17",{"$f":"'Irrig Diary'!E125","v":1},4.9000000000000004,4.9000000000000004,159.55600000000001,5.9,5.9,191.64650000000003,6.5,6.5,212.89749999999989,5.7,5.7,182.92400000000006,5.2,5.2,166.29449999999997]
["2008-10-18",{"$f":"'Irrig Diary'!E126","v":1},4.9000000000000004,4.9000000000000004,164.45600000000002,5.9,5.9,197.54650000000004,6.5,6.5,219.39749999999989,5.7,5.7,188.62400000000005,5.2,5.2,171.49449999999996]
["2008-10-19",{"$f":"'Irrig Diary'!E127","v":0.98750000000000004},4.9000000000000004,4.838750000000001,169.29475000000002,5.9,5.8262500000000008,203.37275000000002,6.5,6.4187500000000002,225.81624999999988,5.7,5.6287500000000001,194.25275000000005,5.2,5.1350000000000007,176.62949999999995]
["2008-10-20",{"$f":"'Irrig Diary'!E128","v":0.98750000000000004},4.9000000000000004,4.838750000000001,174.13350000000003,5.9,5.8262500000000008,209.19900000000001,6.5,6.4187500000000002,232.23499999999987,5.7,5.6287500000000001,199.88150000000005,5.2,5.1350000000000007,181.76449999999994]
["2008-10-21",{"$f":"'Irrig Diary'!E129","v":1.0125000000000002},4.9000000000000004,4.9612500000000015,179.09475000000003,5.9,5.9737500000000017,215.17275000000001,6.5,6.5812500000000007,238.81624999999988,5.7,5.7712500000000011,205.65275000000005,5.2,5.2650000000000015,187.02949999999996]
["2008-10-22",{"$f":"'Irrig Diary'!E130","v":1.0125000000000002},4.9000000000000004,4.9612500000000015,184.05600000000004,5.9,5.9737500000000017,221.1465,6.5,6.5812500000000007,245.39749999999989,5.7,5.7712500000000011,211.42400000000006,5.2,5.2650000000000015,192.29449999999997]
["2008-10-23",{"$f":"'Irrig Diary'!E131","v":1.0250000000000001},4.9000000000000004,5.0225000000000009,189.07850000000005,5.9,6.0475000000000012,227.19400000000002,6.5,6.6625000000000005,252.05999999999989,5.7,5.8425000000000011,217.26650000000006,5.2,5.330000000000001,197.62449999999998]
["2008-10-24",{"$f":"'Irrig Diary'!E132","v":1.05},4.9000000000000004,5.1450000000000005,194.22350000000006,5.9,6.1950000000000003,233.38900000000001,6.5,6.8250000000000002,258.88499999999988,5.7,5.9850000000000003,223.25150000000008,5.2,5.4600000000000009,203.08449999999999]
["2008-10-25",{"$f":"'Irrig Diary'!E133","v":1.0750000000000002},4.9000000000000004,5.267500000000001,199.49100000000007,5.9,6.3425000000000011,239.73150000000001,6.5,6.9875000000000007,265.87249999999989,5.7,6.1275000000000013,229.37900000000008,5.2,5.5900000000000007,208.67449999999999]
["2008-10-26",{"$f":"'Irrig Diary'!E134","v":1.0750000000000002},4.9000000000000004,5.267500000000001,204.75850000000008,5.9,6.3425000000000011,246.07400000000001,6.5,6.9875000000000007,272.8599999999999,5.7,6.1275000000000013,235.50650000000007,5.2,5.5900000000000007,214.2645]
["2008-10-27",{"$f":"'Irrig Diary'!E135","v":1.0750000000000002},4.9000000000000004,5.267500000000001,210.0260000000001,5.9,6.3425000000000011,252.41650000000001,6.5,6.9875000000000007,279.84749999999991,5.7,6.1275000000000013,241.63400000000007,5.2,5.5900000000000007,219.8545]
["2008-10-28",{"$f":"'Irrig Diary'!E136","v":1.0750000000000002},4.9000000000000004,5.267500000000001,215.29350000000011,5.9,6.3425000000000011,258.75900000000001,6.5,6.9875000000000007,286.83499999999992,5.7,6.1275000000000013,247.76150000000007,5.2,5.5900000000000007,225.44450000000001]
["2008-10-29",{"$f":"'Irrig Diary'!E137","v":1.0750000000000002},4.9000000000000004,5.267500000000001,220.56100000000012,5.9,6.3425000000000011,265.10149999999999,6.5,6.9875000000000007,293.82249999999993,5.7,6.1275000000000013,253.88900000000007,5.2,5.5900000000000007,231.03450000000001]
["2008-10-30",{"$f":"'Irrig Diary'!E138","v":1.0750000000000002},4.9000000000000004,5.267500000000001,225.82850000000013,5.9,6.3425000000000011,271.44399999999996,6.5,6.9875000000000007,300.80999999999995,5.7,6.1275000000000013,260.01650000000006,5.2,5.5900000000000007,236.62450000000001]
["2008-10-31",{"$f":"'Irrig Diary'!E139","v":1.0750000000000002},4.9000000000000004,5.267500000000001,231.09600000000015,5.9,6.3425000000000011,277.78649999999993,6.5,6.9875000000000007,307.79749999999996,5.7,6.1275000000000013,266.14400000000006,5.2,5.5900000000000007,242.21450000000002]
["2008-11-01",{"$f":"'Irrig Diary'!E140","v":1.0750000000000002},7.1,7.6325000000000012,238.72850000000014,7.5,8.0625000000000018,285.84899999999993,8.5,9.1375000000000011,316.93499999999995,7.8,8.3850000000000016,274.52900000000005,7,7.5250000000000012,249.73950000000002]
["2008-11-02",{"$f":"'Irrig Diary'!E141","v":1.0625000000000002},7.1,7.5437500000000011,246.27225000000013,7.5,7.9687500000000018,293.81774999999993,8.5,9.0312500000000018,325.96624999999995,7.8,8.2875000000000014,282.81650000000008,7,7.4375000000000018,257.17700000000002]
["2008-11-03",{"$f":"'Irrig Diary'!E142","v":1.0500000000000003},7.1,7.4550000000000018,253.72725000000014,7.5,7.8750000000000018,301.69274999999993,8.5,8.9250000000000025,334.89124999999996,7.8,8.1900000000000013,291.00650000000007,7,7.3500000000000014,264.52700000000004]
["2008-11-04",{"$f":"'Irrig Diary'!E143","v":1.0500000000000003},7.1,7.4550000000000018,261.18225000000012,7.5,7.8750000000000018,309.56774999999993,8.5,8.9250000000000025,343.81624999999997,7.8,8.1900000000000013,299.19650000000007,7,7.3500000000000014,271.87700000000007]
["2008-11-05",{"$f":"'Irrig Diary'!E144","v":1.0500000000000003},7.1,7.4550000000000018,268.63725000000011,7.5,7.8750000000000018,317.44274999999993,8.5,8.9250000000000025,352.74124999999998,7.8,8.1900000000000013,307.38650000000007,7,7.3500000000000014,279.22700000000009]
["2008-11-06",{"$f":"'Irrig Diary'!E145","v":1.0625000000000002},7.1,{"$f":"$B132*C132","v":7.5437500000000011},276.1810000000001,7.5,7.9687500000000018,325.41149999999993,8.5,{"$f":"$B132*I132","v":9.0312500000000018},361.77249999999998,7.8,{"$f":"$B132*L132","v":8.2875000000000014},315.67400000000009,7,{"$f":"$B132*O132","v":7.4375000000000018},286.66450000000009]
["2008-11-07",{"$f":"'Irrig Diary'!E146","v":1.0625000000000002},7.1,7.5437500000000011,283.72475000000009,7.5,{"$f":"$B133*F133","v":7.9687500000000018},333.38024999999993,8.5,9.0312500000000018,370.80374999999998,7.8,8.2875000000000014,323.96150000000011,7,7.4375000000000018,294.10200000000009]
["2008-11-08",{"$f":"'Irrig Diary'!E147","v":1.0625000000000002},7.1,7.5437500000000011,{"$f":"E133+D134","v":291.26850000000007},7.5,7.9687500000000018,{"$f":"H133+G134","v":341.34899999999993},8.5,9.0312500000000018,{"$f":"K133+J134","v":379.83499999999998},7.8,8.2875000000000014,{"$f":"N133+M134","v":332.24900000000014},7,7.4375000000000018,{"$f":"Q133+P134","v":301.53950000000009}]
["2008-11-09",{"$f":"'Irrig Diary'!E148","v":1.0625000000000002},7.1,7.5437500000000011,298.81225000000006,7.5,7.9687500000000018,349.31774999999993,8.5,9.0312500000000018,388.86624999999998,7.8,8.2875000000000014,340.53650000000016,7,7.4375000000000018,308.97700000000009]
["2008-11-10",{"$f":"'Irrig Diary'!E149","v":1.0625000000000002},7.1,7.5437500000000011,306.35600000000005,7.5,7.9687500000000018,357.28649999999993,8.5,9.0312500000000018,397.89749999999998,7.8,8.2875000000000014,348.82400000000018,7,7.4375000000000018,316.41450000000009]
["2008-11-11",{"$f":"'Irrig Diary'!E150","v":1.0625000000000002},7.1,7.5437500000000011,313.89975000000004,7.5,7.9687500000000018,365.25524999999993,8.5,9.0312500000000018,406.92874999999998,7.8,8.2875000000000014,357.11150000000021,7,7.4375000000000018,323.85200000000009]
["2008-11-12",{"$f":"'Irrig Diary'!E151","v":1.0625000000000002},7.1,7.5437500000000011,321.44350000000003,7.5,7.9687500000000018,373.22399999999993,8.5,9.0312500000000018,415.96,7.8,8.2875000000000014,365.39900000000023,7,7.4375000000000018,331.28950000000009]
["2008-11-13",{"$f":"'Irrig Diary'!E152","v":1.0625000000000002},7.1,7.5437500000000011,328.98725000000002,7.5,7.9687500000000018,381.19274999999993,8.5,9.0312500000000018,424.99124999999998,7.8,8.2875000000000014,373.68650000000025,7,7.4375000000000018,338.72700000000009]
["2008-11-14",{"$f":"'Irrig Diary'!E153","v":1.0625000000000002},7.1,7.5437500000000011,336.53100000000001,7.5,7.9687500000000018,389.16149999999993,8.5,9.0312500000000018,434.02249999999998,7.8,8.2875000000000014,381.97400000000027,7,7.4375000000000018,346.16450000000009]
["2008-11-15",{"$f":"'Irrig Diary'!E154","v":1.0625000000000002},7.1,7.5437500000000011,344.07474999999999,7.5,7.9687500000000018,397.13024999999993,8.5,9.0312500000000018,443.05374999999998,7.8,8.2875000000000014,390.2615000000003,7,7.4375000000000018,353.60200000000009]
["2008-11-16",{"$f":"'Irrig Diary'!E155","v":1.0625000000000002},7.1,7.5437500000000011,351.61849999999998,7.5,7.9687500000000018,405.09899999999993,8.5,9.0312500000000018,452.08499999999998,7.8,8.2875000000000014,398.54900000000032,7,7.4375000000000018,361.03950000000009]
["2008-11-17",{"$f":"'Irrig Diary'!E156","v":1.0625000000000002},7.1,7.5437500000000011,359.16224999999997,7.5,7.9687500000000018,413.06774999999993,8.5,9.0312500000000018,461.11624999999998,7.8,8.2875000000000014,406.83650000000034,7,7.4375000000000018,368.47700000000009]
["2008-11-18",{"$f":"'Irrig Diary'!E157","v":1.0625000000000002},7.1,7.5437500000000011,366.70599999999996,7.5,7.9687500000000018,421.03649999999993,8.5,9.0312500000000018,470.14749999999998,7.8,8.2875000000000014,415.12400000000036,7,7.4375000000000018,375.91450000000009]
["2008-11-19",{"$f":"'Irrig Diary'!E158","v":1.05},7.1,7.4550000000000001,374.16099999999994,7.5,7.875,428.91149999999993,8.5,8.9250000000000007,479.07249999999999,7.8,8.19,423.31400000000036,7,7.3500000000000005,383.26450000000011]
["2008-11-20",{"$f":"'Irrig Diary'!E159","v":1.0375000000000001},7.1,7.36625,381.52724999999992,7.5,7.7812500000000009,436.69274999999993,8.5,8.8187500000000014,487.89125000000001,7.8,8.0925000000000011,431.40650000000039,7,7.2625000000000011,390.5270000000001]
["2008-11-21",{"$f":"'Irrig Diary'!E160","v":1.0375000000000001},7.1,7.36625,388.8934999999999,7.5,7.7812500000000009,444.47399999999993,8.5,8.8187500000000014,496.71000000000004,7.8,8.0925000000000011,439.49900000000036,7,7.2625000000000011,397.78950000000009]
["2008-11-22",{"$f":"'Irrig Diary'!E161","v":1.0375000000000001},7.1,7.36625,396.25974999999988,7.5,7.7812500000000009,452.25524999999993,8.5,8.8187500000000014,505.52875000000006,7.8,8.0925000000000011,447.59150000000034,7,7.2625000000000011,405.05200000000008]
["2008-11-23",{"$f":"'Irrig Diary'!E162","v":1.0375000000000001},7.1,7.36625,403.62599999999986,7.5,7.7812500000000009,460.03649999999993,8.5,8.8187500000000014,514.34750000000008,7.8,8.0925000000000011,455.68400000000031,7,7.2625000000000011,412.31450000000007]
["2008-11-24",{"$f":"'Irrig Diary'!E163","v":1.0375000000000001},7.1,7.36625,410.99224999999984,7.5,7.7812500000000009,467.81774999999993,8.5,8.8187500000000014,523.1662500000001,7.8,8.0925000000000011,463.77650000000028,7,7.2625000000000011,419.57700000000006]
["2008-11-25",{"$f":"'Irrig Diary'!E164","v":1.0375000000000001},7.1,7.36625,418.35849999999982,7.5,7.7812500000000009,475.59899999999993,8.5,8.8187500000000014,531.98500000000013,7.8,8.0925000000000011,471.86900000000026,7,7.2625000000000011,426.83950000000004]
["2008-11-26",{"$f":"'Irrig Diary'!E165","v":1.0375000000000001},7.1,7.36625,425.7247499999998,7.5,7.7812500000000009,483.38024999999993,8.5,8.8187500000000014,540.80375000000015,7.8,8.0925000000000011,479.96150000000023,7,7.2625000000000011,434.10200000000003]
["2008-11-27",{"$f":"'Irrig Diary'!E166","v":1.0375000000000001},7.1,7.36625,433.09099999999978,7.5,7.7812500000000009,491.16149999999993,8.5,8.8187500000000014,549.62250000000017,7.8,8.0925000000000011,488.0540000000002,7,7.2625000000000011,441.36450000000002]
["2008-11-28",{"$f":"'Irrig Diary'!E167","v":1.0375000000000001},7.1,7.36625,440.45724999999976,7.5,7.7812500000000009,498.94274999999993,8.5,8.8187500000000014,558.4412500000002,7.8,8.0925000000000011,496.14650000000017,7,7.2625000000000011,448.62700000000001]
["2008-11-29",{"$f":"'Irrig Diary'!E168","v":1.0375000000000001},7.1,7.36625,447.82349999999974,7.5,7.7812500000000009,506.72399999999993,8.5,8.8187500000000014,567.26000000000022,7.8,8.0925000000000011,504.23900000000015,7,7.2625000000000011,455.8895]
["2008-11-30",{"$f":"'Irrig Diary'!E169","v":1.0375000000000001},7.1,7.36625,455.18974999999972,7.5,7.7812500000000009,514.50524999999993,8.5,8.8187500000000014,576.07875000000024,7.8,8.0925000000000011,512.33150000000012,7,7.2625000000000011,463.15199999999999]
["2008-12-01",{"$f":"'Irrig Diary'!E170","v":1.0375000000000001},8.1,8.4037500000000005,463.59349999999972,8.6,8.9225000000000012,523.42774999999995,10.1,10.47875,586.55750000000023,9.5,9.8562500000000011,522.18775000000016,8.6,8.9225000000000012,472.0745]
["2008-12-02",{"$f":"'Irrig Diary'!E171","v":1.0375000000000001},8.1,8.4037500000000005,471.99724999999972,8.6,8.9225000000000012,532.35024999999996,10.1,10.47875,597.03625000000022,9.5,9.8562500000000011,532.04400000000021,8.6,8.9225000000000012,480.99700000000001]
["2008-12-03",{"$f":"'Irrig Diary'!E172","v":1.0375000000000001},8.1,8.4037500000000005,480.40099999999973,8.6,8.9225000000000012,541.27274999999997,10.1,10.47875,607.51500000000021,9.5,9.8562500000000011,541.90025000000026,8.6,8.9225000000000012,489.91950000000003]
["2008-12-04",{"$f":"'Irrig Diary'!E173","v":1.0375000000000001},8.1,8.4037500000000005,488.80474999999973,8.6,8.9225000000000012,550.19524999999999,10.1,10.47875,617.9937500000002,9.5,9.8562500000000011,551.7565000000003,8.6,8.9225000000000012,498.84200000000004]
["2008-12-05",{"$f":"'Irrig Diary'!E174","v":1.0375000000000001},8.1,8.4037500000000005,497.20849999999973,8.6,8.9225000000000012,559.11775,10.1,10.47875,628.4725000000002,9.5,9.8562500000000011,561.61275000000035,8.6,8.9225000000000012,507.76450000000006]
["2008-12-06",{"$f":"'Irrig Diary'!E175","v":1.0375000000000001},8.1,8.4037500000000005,505.61224999999973,8.6,8.9225000000000012,568.04025000000001,10.1,10.47875,638.95125000000019,9.5,9.8562500000000011,571.46900000000039,8.6,8.9225000000000012,516.68700000000001]
["2008-12-07",{"$f":"'Irrig Diary'!E176","v":1.04375},8.1,8.4543749999999989,514.0666249999997,8.6,8.9762499999999985,577.01650000000006,10.1,10.541874999999999,649.49312500000019,9.5,9.9156250000000004,581.38462500000037,8.6,8.9762499999999985,525.66325000000006]
["2008-12-08",{"$f":"'Irrig Diary'!E177","v":1.04375},8.1,8.4543749999999989,522.52099999999973,8.6,8.9762499999999985,585.99275000000011,10.1,10.541874999999999,660.0350000000002,9.5,9.9156250000000004,591.30025000000035,8.6,8.9762499999999985,534.63950000000011]
["2008-12-09",{"$f":"'Irrig Diary'!E178","v":1.04375},8.1,8.4543749999999989,530.97537499999976,8.6,8.9762499999999985,594.96900000000016,10.1,10.541874999999999,670.5768750000002,9.5,9.9156250000000004,601.21587500000032,8.6,8.9762499999999985,543.61575000000016]
["2008-12-10",{"$f":"'Irrig Diary'!E179","v":1.04375},8.1,8.4543749999999989,539.42974999999979,8.6,8.9762499999999985,603.94525000000021,10.1,10.541874999999999,681.1187500000002,9.5,9.9156250000000004,611.1315000000003,8.6,8.9762499999999985,552.59200000000021]
["2008-12-11",{"$f":"'Irrig Diary'!E180","v":1.0562499999999999},8.1,8.5556249999999991,547.98537499999975,8.6,9.0837499999999984,613.02900000000022,10.1,10.668124999999998,691.78687500000024,9.5,10.034374999999999,621.16587500000026,8.6,9.0837499999999984,561.67575000000022]
["2008-12-12",{"$f":"'Irrig Diary'!E181","v":1.0437500000000002},8.1,8.4543750000000006,556.43974999999978,8.6,8.9762500000000003,622.00525000000027,10.1,10.541875000000001,702.32875000000024,9.5,9.9156250000000021,631.08150000000023,8.6,8.9762500000000003,570.65200000000027]
["2008-12-13",{"$f":"'Irrig Diary'!E182","v":1.0437500000000002},8.1,8.4543750000000006,564.8941249999998,8.6,8.9762500000000003,630.98150000000032,10.1,10.541875000000001,712.87062500000025,9.5,9.9156250000000021,640.99712500000021,8.6,8.9762500000000003,579.62825000000032]
["2008-12-14",{"$f":"'Irrig Diary'!E183","v":1.05},8.1,8.5050000000000008,573.3991249999998,8.6,9.0299999999999994,640.0115000000003,10.1,10.605,723.47562500000026,9.5,9.9749999999999996,650.97212500000023,8.6,9.0299999999999994,588.65825000000029]
["2008-12-15",{"$f":"'Irrig Diary'!E184","v":1.05},8.1,8.5050000000000008,581.90412499999979,8.6,9.0299999999999994,649.04150000000027,10.1,10.605,734.08062500000028,9.5,9.9749999999999996,660.94712500000026,8.6,9.0299999999999994,597.68825000000027]
["2008-12-16",{"$f":"'Irrig Diary'!E185","v":1.05},8.1,8.5050000000000008,590.40912499999979,8.6,9.0299999999999994,658.07150000000024,10.1,10.605,744.6856250000003,9.5,9.9749999999999996,670.92212500000028,8.6,9.0299999999999994,606.71825000000024]
["2008-12-17",{"$f":"'Irrig Diary'!E186","v":1.05},8.1,8.5050000000000008,598.91412499999979,8.6,9.0299999999999994,667.10150000000021,10.1,10.605,755.29062500000032,9.5,9.9749999999999996,680.8971250000003,8.6,9.0299999999999994,615.74825000000021]
["2008-12-18",{"$f":"'Irrig Diary'!E187","v":1.05},8.1,8.5050000000000008,607.41912499999978,8.6,9.0299999999999994,676.13150000000019,10.1,10.605,765.89562500000034,9.5,9.9749999999999996,690.87212500000032,8.6,9.0299999999999994,624.77825000000018]
["2008-12-19",{"$f":"'Irrig Diary'!E188","v":1.05},8.1,8.5050000000000008,615.92412499999978,8.6,9.0299999999999994,685.16150000000016,10.1,10.605,776.50062500000035,9.5,9.9749999999999996,700.84712500000035,8.6,9.0299999999999994,633.80825000000016]
["2008-12-20",{"$f":"'Irrig Diary'!E189","v":1.05},8.1,8.5050000000000008,624.42912499999977,8.6,9.0299999999999994,694.19150000000013,10.1,10.605,787.10562500000037,9.5,9.9749999999999996,710.82212500000037,8.6,9.0299999999999994,642.83825000000013]
["2008-12-21",{"$f":"'Irrig Diary'!E190","v":1.0625},8.1,8.6062499999999993,633.03537499999982,8.6,9.1374999999999993,703.32900000000018,10.1,10.731249999999999,797.83687500000042,9.5,10.09375,720.91587500000037,8.6,9.1374999999999993,651.97575000000018]
["2008-12-22",{"$f":"'Irrig Diary'!E191","v":1.0625},8.1,8.6062499999999993,641.64162499999986,8.6,9.1374999999999993,712.46650000000022,10.1,10.731249999999999,808.56812500000046,9.5,10.09375,731.00962500000037,8.6,9.1374999999999993,661.11325000000022]
["2008-12-23",{"$f":"'Irrig Diary'!E192","v":1.0625},8.1,8.6062499999999993,650.24787499999991,8.6,9.1374999999999993,721.60400000000027,10.1,10.731249999999999,819.29937500000051,9.5,10.09375,741.10337500000037,8.6,9.1374999999999993,670.25075000000027]
["2008-12-24",{"$f":"'Irrig Diary'!E193","v":1.0625},8.1,8.6062499999999993,658.85412499999995,8.6,9.1374999999999993,730.74150000000031,10.1,10.731249999999999,830.03062500000055,9.5,10.09375,751.19712500000037,8.6,9.1374999999999993,679.38825000000031]
["2008-12-25",{"$f":"'Irrig Diary'!E194","v":1.0625},8.1,8.6062499999999993,667.460375,8.6,9.1374999999999993,739.87900000000036,10.1,10.731249999999999,840.7618750000006,9.5,10.09375,761.29087500000037,8.6,9.1374999999999993,688.52575000000036]
["2008-12-26",{"$f":"'Irrig Diary'!E195","v":1.0625},8.1,8.6062499999999993,676.06662500000004,8.6,9.1374999999999993,749.01650000000041,10.1,10.731249999999999,851.49312500000065,9.5,10.09375,771.38462500000037,8.6,9.1374999999999993,697.6632500000004]
["2008-12-27",{"$f":"'Irrig Diary'!E196","v":1.0625},8.1,8.6062499999999993,684.67287500000009,8.6,9.1374999999999993,758.15400000000045,10.1,10.731249999999999,862.22437500000069,9.5,10.09375,781.47837500000037,8.6,9.1374999999999993,706.80075000000045]
["2008-12-28",{"$f":"'Irrig Diary'!E197","v":1.05},8.1,8.5050000000000008,693.17787500000009,8.6,9.0299999999999994,767.18400000000042,10.1,10.605,872.82937500000071,9.5,9.9749999999999996,791.45337500000039,8.6,9.0299999999999994,715.83075000000042]
["2008-12-29",{"$f":"'Irrig Diary'!E198","v":1.05},8.1,8.5050000000000008,701.68287500000008,8.6,9.0299999999999994,776.2140000000004,10.1,10.605,883.43437500000073,9.5,9.9749999999999996,801.42837500000041,8.6,9.0299999999999994,724.86075000000039]
["2008-12-30",{"$f":"'Irrig Diary'!E199","v":1.05},8.1,8.5050000000000008,710.18787500000008,8.6,9.0299999999999994,785.24400000000037,10.1,10.605,894.03937500000075,9.5,9.9749999999999996,811.40337500000044,8.6,9.0299999999999994,733.89075000000037]
["2008-12-31",{"$f":"'Irrig Diary'!E200","v":1.05},8.1,8.5050000000000008,718.69287500000007,8.6,9.0299999999999994,794.27400000000034,10.1,10.605,904.64437500000076,9.5,9.9749999999999996,821.37837500000046,8.6,9.0299999999999994,742.92075000000034]
["2009-01-01",{"$f":"'Irrig Diary'!E201","v":1.05},8.6999999999999993,9.1349999999999998,727.82787500000006,9.5,9.9749999999999996,804.24900000000036,10.6,11.13,915.77437500000076,10.4,10.920000000000002,832.29837500000042,8.8000000000000007,9.240000000000002,752.16075000000035]
["2009-01-02",{"$f":"'Irrig Diary'!E202","v":1.05},8.6999999999999993,9.1349999999999998,736.96287500000005,9.5,9.9749999999999996,814.22400000000039,10.6,11.13,926.90437500000075,10.4,10.920000000000002,843.21837500000038,8.8000000000000007,9.240000000000002,761.40075000000036]
["2009-01-03",{"$f":"'Irrig Diary'!E203","v":1.05},8.6999999999999993,9.1349999999999998,746.09787500000004,9.5,9.9749999999999996,824.19900000000041,10.6,11.13,938.03437500000075,10.4,10.920000000000002,854.13837500000034,8.8000000000000007,9.240000000000002,770.64075000000037]
["2009-01-04",{"$f":"'Irrig Diary'!E204","v":1.05},8.6999999999999993,9.1349999999999998,755.23287500000004,9.5,9.9749999999999996,834.17400000000043,10.6,11.13,949.16437500000075,10.4,10.920000000000002,865.0583750000003,8.8000000000000007,9.240000000000002,779.88075000000038]
["2009-01-05",{"$f":"'Irrig Diary'!E205","v":1.05},8.6999999999999993,9.1349999999999998,764.36787500000003,9.5,9.9749999999999996,844.14900000000046,10.6,11.13,960.29437500000074,10.4,10.920000000000002,875.97837500000026,8.8000000000000007,9.240000000000002,789.12075000000038]
["2009-01-06",{"$f":"'Irrig Diary'!E206","v":1.0249999999999999},8.6999999999999993,8.9174999999999986,773.28537500000004,9.5,9.7374999999999989,853.88650000000041,10.6,10.864999999999998,971.15937500000075,10.4,10.66,886.63837500000022,8.8000000000000007,9.02,798.14075000000037]
["2009-01-07",{"$f":"'Irrig Diary'!E207","v":1.0249999999999999},8.6999999999999993,8.9174999999999986,782.20287500000006,9.5,9.7374999999999989,863.62400000000036,10.6,10.864999999999998,982.02437500000076,10.4,10.66,897.29837500000019,8.8000000000000007,9.02,807.16075000000035]
["2009-01-08",{"$f":"'Irrig Diary'!E208","v":1.0249999999999999},8.6999999999999993,8.9174999999999986,791.12037500000008,9.5,9.7374999999999989,873.36150000000032,10.6,10.864999999999998,992.88937500000077,10.4,10.66,907.95837500000016,8.8000000000000007,9.02,816.18075000000033]
["2009-01-09",{"$f":"'Irrig Diary'!E209","v":1.0249999999999999},8.6999999999999993,{"$f":"$B196*C196","v":8.9174999999999986},800.0378750000001,9.5,9.7374999999999989,883.09900000000027,10.6,{"$f":"$B196*I196","v":10.864999999999998},1003.7543750000008,10.4,{"$f":"$B196*L196","v":10.66},918.61837500000013,8.8000000000000007,{"$f":"$B196*O196","v":9.02},825.20075000000031]
["2009-01-10",{"$f":"'Irrig Diary'!E210","v":1.0249999999999999},8.6999999999999993,8.9174999999999986,808.95537500000012,9.5,{"$f":"$B197*F197","v":9.7374999999999989},892.83650000000023,10.6,10.864999999999998,1014.6193750000008,10.4,10.66,929.2783750000001,8.8000000000000007,9.02,834.22075000000029]
["2009-01-11",{"$f":"'Irrig Diary'!E211","v":1.0374999999999999},8.6999999999999993,9.0262499999999974,{"$f":"E197+D198","v":817.98162500000012},9.5,9.8562499999999993,{"$f":"H197+G198","v":902.69275000000027},10.6,10.997499999999999,{"$f":"K197+J198","v":1025.6168750000008},10.4,10.79,{"$f":"N197+M198","v":940.06837500000006},8.8000000000000007,9.129999999999999,{"$f":"Q197+P198","v":843.35075000000029}]
["2009-01-12",{"$f":"'Irrig Diary'!E212","v":1.0374999999999999},8.6999999999999993,9.0262499999999974,827.00787500000013,9.5,9.8562499999999993,912.54900000000032,10.6,10.997499999999999,1036.6143750000008,10.4,10.79,950.85837500000002,8.8000000000000007,9.129999999999999,852.48075000000028]
["2009-01-13",{"$f":"'Irrig Diary'!E213","v":1.0374999999999999},8.6999999999999993,9.0262499999999974,836.03412500000013,9.5,9.8562499999999993,922.40525000000036,10.6,10.997499999999999,1047.6118750000007,10.4,10.79,961.64837499999999,8.8000000000000007,9.129999999999999,861.61075000000028]
["2009-01-14",{"$f":"'Irrig Diary'!E214","v":1.0374999999999999},8.6999999999999993,9.0262499999999974,845.06037500000014,9.5,9.8562499999999993,932.26150000000041,10.6,10.997499999999999,1058.6093750000007,10.4,10.79,972.43837499999995,8.8000000000000007,9.129999999999999,870.74075000000028]
["2009-01-15",{"$f":"'Irrig Diary'!E215","v":1.0374999999999999},8.6999999999999993,9.0262499999999974,854.08662500000014,9.5,9.8562499999999993,942.11775000000046,10.6,10.997499999999999,1069.6068750000006,10.4,10.79,983.22837499999991,8.8000000000000007,9.129999999999999,879.87075000000027]
["2009-01-16",{"$f":"'Irrig Diary'!E216","v":1.0374999999999999},8.6999999999999993,9.0262499999999974,863.11287500000014,9.5,9.8562499999999993,951.9740000000005,10.6,10.997499999999999,1080.6043750000006,10.4,10.79,994.01837499999988,8.8000000000000007,9.129999999999999,889.00075000000027]
["2009-01-17",{"$f":"'Irrig Diary'!E217","v":1.0125},8.6999999999999993,8.8087499999999981,871.92162500000018,9.5,9.6187500000000004,961.59275000000048,10.6,10.7325,1091.3368750000006,10.4,10.53,1004.5483749999999,8.8000000000000007,8.91,897.91075000000023]
["2009-01-18",{"$f":"'Irrig Diary'!E218","v":1.0125},8.6999999999999993,8.8087499999999981,880.73037500000021,9.5,9.6187500000000004,971.21150000000046,10.6,10.7325,1102.0693750000007,10.4,10.53,1015.0783749999998,8.8000000000000007,8.91,906.8207500000002]
["2009-01-19",{"$f":"'Irrig Diary'!E219","v":1.0125},8.6999999999999993,8.8087499999999981,889.53912500000024,9.5,9.6187500000000004,980.83025000000043,10.6,10.7325,1112.8018750000008,10.4,10.53,1025.6083749999998,8.8000000000000007,8.91,915.73075000000017]
["2009-01-20",{"$f":"'Irrig Diary'!E220","v":1.0125},8.6999999999999993,8.8087499999999981,898.34787500000027,9.5,9.6187500000000004,990.44900000000041,10.6,10.7325,1123.5343750000009,10.4,10.53,1036.1383749999998,8.8000000000000007,8.91,924.64075000000014]
["2009-01-21",{"$f":"'Irrig Diary'!E221","v":1},8.6999999999999993,8.6999999999999993,907.04787500000032,9.5,9.5,999.94900000000041,10.6,10.6,1134.1343750000008,10.4,10.4,1046.5383749999999,8.8000000000000007,8.8000000000000007,933.44075000000009]
["2009-01-22",{"$f":"'Irrig Diary'!E222","v":1},8.6999999999999993,8.6999999999999993,915.74787500000036,9.5,9.5,1009.4490000000004,10.6,10.6,1144.7343750000007,10.4,10.4,1056.938375,8.8000000000000007,8.8000000000000007,942.24075000000005]
["2009-01-23",{"$f":"'Irrig Diary'!E223","v":1},8.6999999999999993,8.6999999999999993,924.44787500000041,9.5,9.5,1018.9490000000004,10.6,10.6,1155.3343750000006,10.4,10.4,1067.338375,8.8000000000000007,8.8000000000000007,951.04075]
["2009-01-24",{"$f":"'Irrig Diary'!E224","v":1},8.6999999999999993,8.6999999999999993,933.14787500000045,9.5,9.5,1028.4490000000005,10.6,10.6,1165.9343750000005,10.4,10.4,1077.7383750000001,8.8000000000000007,8.8000000000000007,959.84074999999996]
["2009-01-25",{"$f":"'Irrig Diary'!E225","v":0.98750000000000004},8.6999999999999993,8.5912500000000005,941.7391250000004,9.5,9.3812499999999996,1037.8302500000004,10.6,10.467499999999999,1176.4018750000005,10.4,10.270000000000001,1088.0083750000001,8.8000000000000007,8.6900000000000013,968.53075000000001]
["2009-01-26",{"$f":"'Irrig Diary'!E226","v":0.98750000000000004},8.6999999999999993,8.5912500000000005,950.33037500000034,9.5,9.3812499999999996,1047.2115000000003,10.6,10.467499999999999,1186.8693750000004,10.4,10.270000000000001,1098.2783750000001,8.8000000000000007,8.6900000000000013,977.22075000000007]
["2009-01-27",{"$f":"'Irrig Diary'!E227","v":0.98750000000000004},8.6999999999999993,8.5912500000000005,958.92162500000029,9.5,9.3812499999999996,1056.5927500000003,10.6,10.467499999999999,1197.3368750000004,10.4,10.270000000000001,1108.5483750000001,8.8000000000000007,8.6900000000000013,985.91075000000012]
["2009-01-28",{"$f":"'Irrig Diary'!E228","v":0.96250000000000002},8.6999999999999993,8.3737499999999994,967.29537500000026,9.5,9.1437500000000007,1065.7365000000002,10.6,10.202500000000001,1207.5393750000005,10.4,10.01,1118.5583750000001,8.8000000000000007,8.4700000000000006,994.38075000000015]
["2009-01-29",{"$f":"'Irrig Diary'!E229","v":0.92500000000000004},8.6999999999999993,8.0474999999999994,975.34287500000028,9.5,8.7874999999999996,1074.5240000000001,10.6,9.8049999999999997,1217.3443750000006,10.4,9.620000000000001,1128.178375,8.8000000000000007,8.14,1002.5207500000001]
["2009-01-30",{"$f":"'Irrig Diary'!E230","v":0.92500000000000004},8.6999999999999993,8.0474999999999994,983.39037500000029,9.5,8.7874999999999996,1083.3115,10.6,9.8049999999999997,1227.1493750000006,10.4,9.620000000000001,1137.7983749999999,8.8000000000000007,8.14,1010.6607500000001]
["2009-01-31",{"$f":"'Irrig Diary'!E231","v":0.92500000000000004},8.6999999999999993,8.0474999999999994,991.4378750000003,9.5,8.7874999999999996,1092.0989999999999,10.6,9.8049999999999997,1236.9543750000007,10.4,9.620000000000001,1147.4183749999997,8.8000000000000007,8.14,1018.8007500000001]
["2009-02-01",{"$f":"'Irrig Diary'!E232","v":0.9},8,7.2,998.63787500000035,8.4,7.5600000000000005,1099.6589999999999,9.8000000000000007,8.82,1245.7743750000006,9.9,8.91,1156.3283749999998,8.1,7.29,1026.0907500000001]
["2009-02-02",{"$f":"'Irrig Diary'!E233","v":0.875},8,7,1005.6378750000003,8.4,7.3500000000000005,1107.0089999999998,9.8000000000000007,8.5750000000000011,1254.3493750000007,9.9,8.6624999999999996,1164.9908749999997,8.1,7.0874999999999995,1033.1782500000002]
["2009-02-03",{"$f":"'Irrig Diary'!E234","v":0.875},8,7,1012.6378750000003,8.4,7.3500000000000005,1114.3589999999997,9.8000000000000007,8.5750000000000011,1262.9243750000007,9.9,8.6624999999999996,1173.6533749999996,8.1,7.0874999999999995,1040.2657500000003]
["2009-02-04",{"$f":"'Irrig Diary'!E235","v":0.85},8,6.8,1019.4378750000003,8.4,7.14,1121.4989999999998,9.8000000000000007,8.33,1271.2543750000007,9.9,8.4150000000000009,1182.0683749999996,8.1,6.8849999999999998,1047.1507500000002]
["2009-02-05",{"$f":"'Irrig Diary'!E236","v":0.85},8,6.8,1026.2378750000003,8.4,7.14,1128.6389999999999,9.8000000000000007,8.33,1279.5843750000006,9.9,8.4150000000000009,1190.4833749999996,8.1,6.8849999999999998,1054.0357500000002]
["2009-02-06",{"$f":"'Irrig Diary'!E237","v":0.85},8,6.8,1033.0378750000002,8.4,7.14,1135.779,9.8000000000000007,8.33,1287.9143750000005,9.9,8.4150000000000009,1198.8983749999995,8.1,6.8849999999999998,1060.9207500000002]
["2009-02-07",{"$f":"'Irrig Diary'!E238","v":0.85},8,6.8,1039.8378750000002,8.4,7.14,1142.9190000000001,9.8000000000000007,8.33,1296.2443750000004,9.9,8.4150000000000009,1207.3133749999995,8.1,6.8849999999999998,1067.8057500000002]
["2009-02-08",{"$f":"'Irrig Diary'!E239","v":0.85},8,6.8,1046.6378750000001,8.4,7.14,1150.0590000000002,9.8000000000000007,8.33,1304.5743750000004,9.9,8.4150000000000009,1215.7283749999995,8.1,6.8849999999999998,1074.6907500000002]
["2009-02-09",{"$f":"'Irrig Diary'!E240","v":0.85},8,6.8,1053.4378750000001,8.4,7.14,1157.1990000000003,9.8000000000000007,8.33,1312.9043750000003,9.9,8.4150000000000009,1224.1433749999994,8.1,6.8849999999999998,1081.5757500000002]
["2009-02-10",{"$f":"'Irrig Diary'!E241","v":0.85},8,6.8,1060.237875,8.4,7.14,1164.3390000000004,9.8000000000000007,8.33,1321.2343750000002,9.9,8.4150000000000009,1232.5583749999994,8.1,6.8849999999999998,1088.4607500000002]
["2009-02-11",{"$f":"'Irrig Diary'!E242","v":0.85},8,6.8,1067.037875,8.4,7.14,1171.4790000000005,9.8000000000000007,8.33,1329.5643750000002,9.9,8.4150000000000009,1240.9733749999994,8.1,6.8849999999999998,1095.3457500000002]
["2009-02-12",{"$f":"'Irrig Diary'!E243","v":0.85},8,6.8,1073.8378749999999,8.4,7.14,1178.6190000000006,9.8000000000000007,8.33,1337.8943750000001,9.9,8.4150000000000009,1249.3883749999993,8.1,6.8849999999999998,1102.2307500000002]
["2009-02-13",{"$f":"'Irrig Diary'!E244","v":0.79999999999999993},8,6.3999999999999995,1080.237875,8.4,6.72,1185.3390000000006,9.8000000000000007,7.84,1345.734375,9.9,7.92,1257.3083749999994,8.1,6.4799999999999995,1108.7107500000002]
["2009-02-14",{"$f":"'Irrig Diary'!E245","v":0.74999999999999989},8,5.9999999999999991,1086.237875,8.4,6.2999999999999989,1191.6390000000006,9.8000000000000007,7.35,1353.0843749999999,9.9,7.4249999999999989,1264.7333749999993,8.1,6.0749999999999984,1114.7857500000002]
["2009-02-15",{"$f":"'Irrig Diary'!E246","v":0.74999999999999989},8,5.9999999999999991,1092.237875,8.4,6.2999999999999989,1197.9390000000005,9.8000000000000007,7.35,1360.4343749999998,9.9,7.4249999999999989,1272.1583749999993,8.1,6.0749999999999984,1120.8607500000003]
["2009-02-16",{"$f":"'Irrig Diary'!E247","v":0.74999999999999989},8,5.9999999999999991,1098.237875,8.4,6.2999999999999989,1204.2390000000005,9.8000000000000007,7.35,1367.7843749999997,9.9,7.4249999999999989,1279.5833749999993,8.1,6.0749999999999984,1126.9357500000003]
["2009-02-17",{"$f":"'Irrig Diary'!E248","v":0.74999999999999989},8,5.9999999999999991,1104.237875,8.4,6.2999999999999989,1210.5390000000004,9.8000000000000007,7.35,1375.1343749999996,9.9,7.4249999999999989,1287.0083749999992,8.1,6.0749999999999984,1133.0107500000004]
["2009-02-18",{"$f":"'Irrig Diary'!E249","v":0.77499999999999991},8,6.1999999999999993,1110.4378750000001,8.4,6.51,1217.0490000000004,9.8000000000000007,7.5949999999999998,1382.7293749999997,9.9,7.6724999999999994,1294.6808749999991,8.1,6.277499999999999,1139.2882500000003]
["2009-02-19",{"$f":"'Irrig Diary'!E250","v":0.77499999999999991},8,6.1999999999999993,1116.6378750000001,8.4,6.51,1223.5590000000004,9.8000000000000007,7.5949999999999998,1390.3243749999997,9.9,7.6724999999999994,1302.353374999999,8.1,6.277499999999999,1145.5657500000002]
["2009-02-20",{"$f":"'Irrig Diary'!E251","v":0.77499999999999991},8,6.1999999999999993,1122.8378750000002,8.4,6.51,1230.0690000000004,9.8000000000000007,7.5949999999999998,1397.9193749999997,9.9,7.6724999999999994,1310.0258749999989,8.1,6.277499999999999,1151.8432500000001]
["2009-02-21",{"$f":"'Irrig Diary'!E252","v":0.77499999999999991},8,6.1999999999999993,1129.0378750000002,8.4,6.51,1236.5790000000004,9.8000000000000007,7.5949999999999998,1405.5143749999997,9.9,7.6724999999999994,1317.6983749999988,8.1,6.277499999999999,1158.12075]
["2009-02-22",{"$f":"'Irrig Diary'!E253","v":0.77499999999999991},8,6.1999999999999993,1135.2378750000003,8.4,6.51,1243.0890000000004,9.8000000000000007,7.5949999999999998,1413.1093749999998,9.9,7.6724999999999994,1325.3708749999987,8.1,6.277499999999999,1164.39825]
["2009-02-23",{"$f":"'Irrig Diary'!E254","v":0.77499999999999991},8,6.1999999999999993,1141.4378750000003,8.4,6.51,1249.5990000000004,9.8000000000000007,7.5949999999999998,1420.7043749999998,9.9,7.6724999999999994,1333.0433749999986,8.1,6.277499999999999,1170.6757499999999]
["2009-02-24",{"$f":"'Irrig Diary'!E255","v":0.77499999999999991},8,6.1999999999999993,1147.6378750000003,8.4,6.51,1256.1090000000004,9.8000000000000007,7.5949999999999998,1428.2993749999998,9.9,7.6724999999999994,1340.7158749999985,8.1,6.277499999999999,1176.9532499999998]
["2009-02-25",{"$f":"'Irrig Diary'!E256","v":0.77499999999999991},8,6.1999999999999993,1153.8378750000004,8.4,6.51,1262.6190000000004,9.8000000000000007,7.5949999999999998,1435.8943749999999,9.9,7.6724999999999994,1348.3883749999984,8.1,6.277499999999999,1183.2307499999997]
["2009-02-26",{"$f":"'Irrig Diary'!E257","v":0.77499999999999991},8,6.1999999999999993,1160.0378750000004,8.4,6.51,1269.1290000000004,9.8000000000000007,7.5949999999999998,1443.4893749999999,9.9,7.6724999999999994,1356.0608749999983,8.1,6.277499999999999,1189.5082499999996]
["2009-02-27",{"$f":"'Irrig Diary'!E258","v":0.77499999999999991},8,6.1999999999999993,1166.2378750000005,8.4,6.51,1275.6390000000004,9.8000000000000007,7.5949999999999998,1451.0843749999999,9.9,7.6724999999999994,1363.7333749999982,8.1,6.277499999999999,1195.7857499999996]
["2009-02-28",{"$f":"'Irrig Diary'!E259","v":0.77499999999999991},8,6.1999999999999993,1172.4378750000005,8.4,6.51,1282.1490000000003,9.8000000000000007,7.5949999999999998,1458.6793749999999,9.9,7.6724999999999994,1371.4058749999981,8.1,6.277499999999999,1202.0632499999995]
["2009-03-01",{"$f":"'Irrig Diary'!E260","v":0.77499999999999991},6,4.6499999999999995,1177.0878750000006,6.5,5.0374999999999996,1287.1865000000003,7.5,5.8124999999999991,1464.4918749999999,7.2,5.5799999999999992,1376.985874999998,6,4.6499999999999995,1206.7132499999996]
["2009-03-02",{"$f":"'Irrig Diary'!E261","v":0.77499999999999991},6,4.6499999999999995,1181.7378750000007,6.5,5.0374999999999996,1292.2240000000002,7.5,5.8124999999999991,1470.3043749999999,7.2,5.5799999999999992,1382.565874999998,6,4.6499999999999995,1211.3632499999997]
["2009-03-03",{"$f":"'Irrig Diary'!E262","v":0.77499999999999991},6,4.6499999999999995,1186.3878750000008,6.5,5.0374999999999996,1297.2615000000001,7.5,5.8124999999999991,1476.1168749999999,7.2,5.5799999999999992,1388.1458749999979,6,4.6499999999999995,1216.0132499999997]
["2009-03-04",{"$f":"'Irrig Diary'!E263","v":0.77499999999999991},6,4.6499999999999995,1191.0378750000009,6.5,5.0374999999999996,1302.299,7.5,5.8124999999999991,1481.9293749999999,7.2,5.5799999999999992,1393.7258749999978,6,4.6499999999999995,1220.6632499999998]
["2009-03-05",{"$f":"'Irrig Diary'!E264","v":0.77499999999999991},6,4.6499999999999995,1195.687875000001,6.5,5.0374999999999996,1307.3364999999999,7.5,5.8124999999999991,1487.7418749999999,7.2,5.5799999999999992,1399.3058749999977,6,4.6499999999999995,1225.3132499999999]
["2009-03-06",{"$f":"'Irrig Diary'!E265","v":0.79999999999999993},6,4.8,1200.4878750000009,6.5,5.1999999999999993,1312.5364999999999,7.5,5.9999999999999991,1493.7418749999999,7.2,5.76,1405.0658749999977,6,4.8,1230.1132499999999]
["2009-03-07",{"$f":"'Irrig Diary'!E266","v":0.79999999999999993},6,4.8,1205.2878750000009,6.5,5.1999999999999993,1317.7365,7.5,5.9999999999999991,1499.7418749999999,7.2,5.76,1410.8258749999977,6,4.8,1234.9132499999998]
["2009-03-08",{"$f":"'Irrig Diary'!E267","v":0.79999999999999993},6,4.8,1210.0878750000008,6.5,5.1999999999999993,1322.9365,7.5,5.9999999999999991,1505.7418749999999,7.2,5.76,1416.5858749999977,6,4.8,1239.7132499999998]
["2009-03-09",{"$f":"'Irrig Diary'!E268","v":0.79999999999999993},6,4.8,1214.8878750000008,6.5,5.1999999999999993,1328.1365000000001,7.5,5.9999999999999991,1511.7418749999999,7.2,5.76,1422.3458749999977,6,4.8,1244.5132499999997]
["2009-03-10",{"$f":"'Irrig Diary'!E269","v":0.79999999999999993},6,4.8,1219.6878750000008,6.5,5.1999999999999993,1333.3365000000001,7.5,5.9999999999999991,1517.7418749999999,7.2,5.76,1428.1058749999977,6,4.8,1249.3132499999997]
["2009-03-11",{"$f":"'Irrig Diary'!E270","v":0.79999999999999993},6,4.8,1224.4878750000007,6.5,5.1999999999999993,1338.5365000000002,7.5,5.9999999999999991,1523.7418749999999,7.2,5.76,1433.8658749999977,6,4.8,1254.1132499999997]
["2009-03-12",{"$f":"'Irrig Diary'!E271","v":0.79999999999999993},6,4.8,1229.2878750000007,6.5,5.1999999999999993,1343.7365000000002,7.5,5.9999999999999991,1529.7418749999999,7.2,5.76,1439.6258749999977,6,4.8,1258.9132499999996]
["2009-03-13",{"$f":"'Irrig Diary'!E272","v":0.78749999999999998},6,4.7249999999999996,1234.0128750000006,6.5,5.1187499999999995,1348.8552500000003,7.5,5.90625,1535.6481249999999,7.2,5.67,1445.2958749999977,6,4.7249999999999996,1263.6382499999995]
["2009-03-14",{"$f":"'Irrig Diary'!E273","v":0.77500000000000002},6,{"$f":"$B260*C260","v":4.6500000000000004},1238.6628750000007,6.5,5.0375000000000005,1353.8927500000002,7.5,{"$f":"$B260*I260","v":5.8125},1541.4606249999999,7.2,{"$f":"$B260*L260","v":5.58},1450.8758749999977,6,{"$f":"$B260*O260","v":4.6500000000000004},1268.2882499999996]
["2009-03-15",{"$f":"'Irrig Diary'!E274","v":0.76250000000000007},6,4.5750000000000002,1243.2378750000007,6.5,{"$f":"$B261*F261","v":4.9562500000000007},1358.8490000000002,7.5,5.7187500000000009,1547.1793749999999,7.2,5.49,1456.3658749999977,6,4.5750000000000002,1272.8632499999997]
["2009-03-16",{"$f":"'Irrig Diary'!E275","v":0.76250000000000007},6,4.5750000000000002,{"$f":"E261+D262","v":1247.8128750000008},6.5,4.9562500000000007,{"$f":"H261+G262","v":1363.8052500000001},7.5,5.7187500000000009,{"$f":"K261+J262","v":1552.8981249999999},7.2,5.49,{"$f":"N261+M262","v":1461.8558749999977},6,4.5750000000000002,{"$f":"Q261+P262","v":1277.4382499999997}]
["2009-03-17",{"$f":"'Irrig Diary'!E276","v":0.76250000000000007},6,4.5750000000000002,1252.3878750000008,6.5,4.9562500000000007,1368.7615000000001,7.5,5.7187500000000009,1558.6168749999999,7.2,5.49,1467.3458749999977,6,4.5750000000000002,1282.0132499999997]
["2009-03-18",{"$f":"'Irrig Diary'!E277","v":0.76250000000000007},6,4.5750000000000002,1256.9628750000008,6.5,4.9562500000000007,1373.71775,7.5,5.7187500000000009,1564.3356249999999,7.2,5.49,1472.8358749999977,6,4.5750000000000002,1286.5882499999998]
["2009-03-19",{"$f":"'Irrig Diary'!E278","v":0.76250000000000007},6,4.5750000000000002,1261.5378750000009,6.5,4.9562500000000007,1378.674,7.5,5.7187500000000009,1570.0543749999999,7.2,5.49,1478.3258749999977,6,4.5750000000000002,1291.1632499999998]
["2009-03-20",{"$f":"'Irrig Diary'!E279","v":0.75},6,4.5,1266.0378750000009,6.5,4.875,1383.549,7.5,5.625,1575.6793749999999,7.2,5.4,1483.7258749999978,6,4.5,1295.6632499999998]
["2009-03-21",{"$f":"'Irrig Diary'!E280","v":0.73749999999999993},6,4.4249999999999998,1270.4628750000008,6.5,4.7937499999999993,1388.34275,7.5,5.5312499999999991,1581.2106249999999,7.2,5.31,1489.0358749999978,6,4.4249999999999998,1300.0882499999998]
["2009-03-22",{"$f":"'Irrig Diary'!E281","v":0.72499999999999987},6,4.3499999999999996,1274.8128750000008,6.5,4.7124999999999995,1393.0552500000001,7.5,5.4374999999999991,1586.6481249999999,7.2,5.2199999999999989,1494.2558749999978,6,4.3499999999999996,1304.4382499999997]
["2009-03-23",{"$f":"'Irrig Diary'!E282","v":0.72499999999999987},6,4.3499999999999996,1279.1628750000007,6.5,4.7124999999999995,1397.7677500000002,7.5,5.4374999999999991,1592.0856249999999,7.2,5.2199999999999989,1499.4758749999978,6,4.3499999999999996,1308.7882499999996]
["2009-03-24",{"$f":"'Irrig Diary'!E283","v":0.71249999999999991},6,4.2749999999999995,1283.4378750000008,6.5,4.6312499999999996,1402.3990000000001,7.5,5.3437499999999991,1597.4293749999999,7.2,5.13,1504.6058749999979,6,4.2749999999999995,1313.0632499999997]
["2009-03-25",{"$f":"'Irrig Diary'!E284","v":0.71249999999999991},6,4.2749999999999995,1287.7128750000008,6.5,4.6312499999999996,1407.03025,7.5,5.3437499999999991,1602.7731249999999,7.2,5.13,1509.735874999998,6,4.2749999999999995,1317.3382499999998]
["2009-03-26",{"$f":"'Irrig Diary'!E285","v":0.68749999999999989},6,4.1249999999999991,1291.8378750000008,6.5,4.4687499999999991,1411.499,7.5,5.1562499999999991,1607.9293749999999,7.2,4.9499999999999993,1514.6858749999981,6,4.1249999999999991,1321.4632499999998]
["2009-03-27",{"$f":"'Irrig Diary'!E286","v":0.67499999999999993},6,4.05,1295.8878750000008,6.5,4.3874999999999993,1415.8865000000001,7.5,5.0624999999999991,1612.9918749999999,7.2,4.8599999999999994,1519.545874999998,6,4.05,1325.5132499999997]
["2009-03-28",{"$f":"'Irrig Diary'!E287","v":0.66249999999999998},6,3.9749999999999996,1299.8628750000007,6.5,4.3062499999999995,1420.1927500000002,7.5,4.96875,1617.9606249999999,7.2,4.7699999999999996,1524.315874999998,6,3.9749999999999996,1329.4882499999997]
["2009-03-29",{"$f":"'Irrig Diary'!E288","v":0.65},6,3.9000000000000004,1303.7628750000008,6.5,4.2250000000000005,1424.4177500000001,7.5,4.875,1622.8356249999999,7.2,4.6800000000000006,1528.995874999998,6,3.9000000000000004,1333.3882499999997]
["2009-03-30",{"$f":"'Irrig Diary'!E289","v":0.65},6,3.9000000000000004,1307.6628750000009,6.5,4.2250000000000005,1428.64275,7.5,4.875,1627.7106249999999,7.2,4.6800000000000006,1533.6758749999981,6,3.9000000000000004,1337.2882499999998]
["2009-03-31",{"$f":"'Irrig Diary'!E290","v":0.63749999999999996},6,3.8249999999999997,1311.4878750000009,6.5,4.1437499999999998,1432.7864999999999,7.5,4.78125,1632.4918749999999,7.2,4.59,1538.265874999998,6,3.8249999999999997,1341.1132499999999]
["2009-04-01",{"$f":"'Irrig Diary'!E291","v":0.63749999999999996},3.5,2.2312499999999997,1313.719125000001,4,2.5499999999999998,1435.3364999999999,4.7,2.9962499999999999,1635.4881249999999,4.5,2.8687499999999999,1541.1346249999981,3.8,2.4224999999999999,1343.5357499999998]
["2009-04-02",{"$f":"'Irrig Diary'!E292","v":0.63749999999999996},3.5,2.2312499999999997,1315.950375000001,4,2.5499999999999998,1437.8864999999998,4.7,2.9962499999999999,1638.4843749999998,4.5,2.8687499999999999,1544.0033749999982,3.8,2.4224999999999999,1345.9582499999997]
["2009-04-03",{"$f":"'Irrig Diary'!E293","v":0.58750000000000013},3.5,2.0562500000000004,1318.0066250000011,4,2.3500000000000005,1440.2364999999998,4.7,2.7612500000000009,1641.2456249999998,4.5,2.6437500000000007,1546.6471249999981,3.8,2.2325000000000004,1348.1907499999998]
["2009-04-04",{"$f":"'Irrig Diary'!E294","v":0.52500000000000002},3.5,1.8375000000000001,1319.8441250000012,4,2.1,1442.3364999999997,4.7,2.4675000000000002,1643.7131249999998,4.5,2.3625000000000003,1549.0096249999981,3.8,1.9949999999999999,1350.1857499999996]
["2009-04-05",{"$f":"'Irrig Diary'!E295","v":0.5},3.5,1.75,1321.5941250000012,4,2,1444.3364999999997,4.7,2.35,1646.0631249999997,4.5,2.25,1551.2596249999981,3.8,1.9,1352.0857499999997]
["2009-04-06",{"$f":"'Irrig Diary'!E296","v":0.5},3.5,1.75,1323.3441250000012,4,2,1446.3364999999997,4.7,2.35,1648.4131249999996,4.5,2.25,1553.5096249999981,3.8,1.9,1353.9857499999998]
["2009-04-07",{"$f":"'Irrig Diary'!E297","v":0.5},3.5,1.75,1325.0941250000012,4,2,1448.3364999999997,4.7,2.35,1650.7631249999995,4.5,2.25,1555.7596249999981,3.8,1.9,1355.8857499999999]
["2009-04-08",{"$f":"'Irrig Diary'!E298","v":0.5},3.5,1.75,1326.8441250000012,4,2,1450.3364999999997,4.7,2.35,1653.1131249999994,4.5,2.25,1558.0096249999981,3.8,1.9,1357.78575]
["2009-04-09",{"$f":"'Irrig Diary'!E299","v":0.5},3.5,1.75,1328.5941250000012,4,2,1452.3364999999997,4.7,2.35,1655.4631249999993,4.5,2.25,1560.2596249999981,3.8,1.9,1359.6857500000001]
["2009-04-10",{"$f":"'Irrig Diary'!E300","v":0.48749999999999999},3.5,1.70625,1330.3003750000012,4,1.95,1454.2864999999997,4.7,2.2912500000000002,1657.7543749999993,4.5,2.1937500000000001,1562.453374999998,3.8,1.8524999999999998,1361.5382500000001]
["2009-04-11",{"$f":"'Irrig Diary'!E301","v":0.47499999999999998},3.5,1.6624999999999999,1331.9628750000011,4,1.9,1456.1864999999998,4.7,2.2324999999999999,1659.9868749999994,4.5,2.1374999999999997,1564.5908749999981,3.8,1.8049999999999999,1363.3432500000001]
["2009-04-12",{"$f":"'Irrig Diary'!E302","v":0.46249999999999997},3.5,1.6187499999999999,1333.5816250000012,4,1.8499999999999999,1458.0364999999997,4.7,2.1737500000000001,1662.1606249999993,4.5,2.0812499999999998,1566.672124999998,3.8,1.7574999999999998,1365.1007500000001]
["2009-04-13",{"$f":"'Irrig Diary'!E303","v":0.46249999999999997},3.5,1.6187499999999999,1335.2003750000013,4,1.8499999999999999,1459.8864999999996,4.7,2.1737500000000001,1664.3343749999992,4.5,2.0812499999999998,1568.753374999998,3.8,1.7574999999999998,1366.85825]
["2009-04-14",{"$f":"'Irrig Diary'!E304","v":0.46249999999999997},3.5,1.6187499999999999,1336.8191250000013,4,1.8499999999999999,1461.7364999999995,4.7,2.1737500000000001,1666.5081249999992,4.5,2.0812499999999998,1570.8346249999979,3.8,1.7574999999999998,1368.6157499999999]
["2009-04-15",{"$f":"'Irrig Diary'!E305","v":0.44999999999999996},3.5,1.5749999999999997,1338.3941250000014,4,1.7999999999999998,1463.5364999999995,4.7,2.1149999999999998,1668.6231249999992,4.5,2.0249999999999999,1572.859624999998,3.8,1.7099999999999997,1370.32575]
["2009-04-16",{"$f":"'Irrig Diary'!E306","v":0.44999999999999996},3.5,1.5749999999999997,1339.9691250000014,4,1.7999999999999998,1465.3364999999994,4.7,2.1149999999999998,1670.7381249999992,4.5,2.0249999999999999,1574.8846249999981,3.8,1.7099999999999997,1372.03575]
["2009-04-17",{"$f":"'Irrig Diary'!E307","v":0.43749999999999994},3.5,1.5312499999999998,1341.5003750000014,4,1.7499999999999998,1467.0864999999994,4.7,2.0562499999999999,1672.7943749999993,4.5,1.9687499999999998,1576.8533749999981,3.8,1.6624999999999996,1373.6982499999999]
["2009-04-18",{"$f":"'Irrig Diary'!E308","v":0.43749999999999994},3.5,1.5312499999999998,1343.0316250000014,4,1.7499999999999998,1468.8364999999994,4.7,2.0562499999999999,1674.8506249999994,4.5,1.9687499999999998,1578.8221249999981,3.8,1.6624999999999996,1375.3607499999998]
["2009-04-19",{"$f":"'Irrig Diary'!E309","v":0.43749999999999994},3.5,1.5312499999999998,1344.5628750000014,4,1.7499999999999998,1470.5864999999994,4.7,2.0562499999999999,1676.9068749999994,4.5,1.9687499999999998,1580.7908749999981,3.8,1.6624999999999996,1377.0232499999997]
["2009-04-20",{"$f":"'Irrig Diary'!E310","v":0.43749999999999994},3.5,1.5312499999999998,1346.0941250000014,4,1.7499999999999998,1472.3364999999994,4.7,2.0562499999999999,1678.9631249999995,4.5,1.9687499999999998,1582.7596249999981,3.8,1.6624999999999996,1378.6857499999996]
["2009-04-21",{"$f":"'Irrig Diary'!E311","v":0.43749999999999994},3.5,1.5312499999999998,1347.6253750000014,4,1.7499999999999998,1474.0864999999994,4.7,2.0562499999999999,1681.0193749999996,4.5,1.9687499999999998,1584.7283749999981,3.8,1.6624999999999996,1380.3482499999996]
["2009-04-22",{"$f":"'Irrig Diary'!E312","v":0.41249999999999998},3.5,1.4437499999999999,1349.0691250000013,4,1.65,1475.7364999999995,4.7,1.93875,1682.9581249999997,4.5,1.85625,1586.5846249999981,3.8,1.5674999999999999,1381.9157499999997]
["2009-04-23",{"$f":"'Irrig Diary'!E313","v":0.41249999999999998},3.5,1.4437499999999999,1350.5128750000013,4,1.65,1477.3864999999996,4.7,1.93875,1684.8968749999997,4.5,1.85625,1588.4408749999982,3.8,1.5674999999999999,1383.4832499999998]
["2009-04-24",{"$f":"'Irrig Diary'!E314","v":0.41249999999999998},3.5,1.4437499999999999,1351.9566250000012,4,1.65,1479.0364999999997,4.7,1.93875,1686.8356249999997,4.5,1.85625,1590.2971249999982,3.8,1.5674999999999999,1385.0507499999999]
["2009-04-25",{"$f":"'Irrig Diary'!E315","v":0.41249999999999998},3.5,1.4437499999999999,1353.4003750000011,4,1.65,1480.6864999999998,4.7,1.93875,1688.7743749999997,4.5,1.85625,1592.1533749999983,3.8,1.5674999999999999,1386.61825]
["2009-04-26",{"$f":"'Irrig Diary'!E316","v":0.41249999999999998},3.5,1.4437499999999999,1354.844125000001,4,1.65,1482.3364999999999,4.7,1.93875,1690.7131249999998,4.5,1.85625,1594.0096249999983,3.8,1.5674999999999999,1388.1857500000001]
["2009-04-27",{"$f":"'Irrig Diary'!E317","v":0.41249999999999998},3.5,1.4437499999999999,1356.2878750000009,4,1.65,1483.9865,4.7,1.93875,1692.6518749999998,4.5,1.85625,1595.8658749999984,3.8,1.5674999999999999,1389.7532500000002]
["2009-04-28",{"$f":"'Irrig Diary'!E318","v":0.41249999999999998},3.5,1.4437499999999999,1357.7316250000008,4,1.65,1485.6365000000001,4.7,1.93875,1694.5906249999998,4.5,1.85625,1597.7221249999984,3.8,1.5674999999999999,1391.3207500000003]
["2009-04-29",{"$f":"'Irrig Diary'!E319","v":0.41249999999999998},3.5,1.4437499999999999,1359.1753750000007,4,1.65,1487.2865000000002,4.7,1.93875,1696.5293749999998,4.5,1.85625,1599.5783749999985,3.8,1.5674999999999999,1392.8882500000004]
["2009-04-30",{"$f":"'Irrig Diary'!E320","v":0.41249999999999998},3.5,1.4437499999999999,1360.6191250000006,4,1.65,1488.9365000000003,4.7,1.93875,1698.4681249999999,4.5,1.85625,1601.4346249999985,3.8,1.5674999999999999,1394.4557500000005]
["2009-05-01",{"$f":"'Irrig Diary'!E321","v":0.41249999999999998},2,0.82499999999999996,1361.4441250000007,2.2999999999999998,0.94874999999999987,1489.8852500000003,2.7,1.11375,1699.5818749999999,2.7,1.11375,1602.5483749999985,2.2000000000000002,0.90749999999999997,1395.3632500000006]
["2009-05-02",{"$f":"'Irrig Diary'!E322","v":0.42857142857142855},2,0.8571428571428571,1362.3012678571436,2.2999999999999998,0.98571428571428554,1490.8709642857145,2.7,1.1571428571428573,1700.7390178571427,2.7,1.1571428571428573,1603.7055178571413,2.2000000000000002,0.94285714285714284,1396.3061071428576]
["2009-05-03",{"$f":"'Irrig Diary'!E323","v":0.42857142857142855},2,0.8571428571428571,1363.1584107142864,2.2999999999999998,0.98571428571428554,1491.8566785714288,2.7,1.1571428571428573,1701.8961607142855,2.7,1.1571428571428573,1604.8626607142842,2.2000000000000002,0.94285714285714284,1397.2489642857147]
["2009-05-04",{"$f":"'Irrig Diary'!E324","v":0.42857142857142855},2,0.8571428571428571,1364.0155535714293,2.2999999999999998,0.98571428571428554,1492.8423928571431,2.7,1.1571428571428573,1703.0533035714284,2.7,1.1571428571428573,1606.019803571427,2.2000000000000002,0.94285714285714284,1398.1918214285718]
["2009-05-05",{"$f":"'Irrig Diary'!E325","v":0.42857142857142855},2,0.8571428571428571,1364.8726964285722,2.2999999999999998,0.98571428571428554,1493.8281071428573,2.7,1.1571428571428573,1704.2104464285712,2.7,1.1571428571428573,1607.1769464285699,2.2000000000000002,0.94285714285714284,1399.1346785714288]
["2009-05-06",{"$f":"'Irrig Diary'!E326","v":0.39999999999999997},2,0.79999999999999993,1365.6726964285722,2.2999999999999998,0.91999999999999982,1494.7481071428574,2.7,1.08,1705.2904464285712,2.7,1.08,1608.2569464285698,2.2000000000000002,0.88,1400.0146785714289]
["2009-05-07",{"$f":"'Irrig Diary'!E327","v":0.39999999999999997},2,0.79999999999999993,1366.4726964285721,2.2999999999999998,0.91999999999999982,1495.6681071428575,2.7,1.08,1706.3704464285711,2.7,1.08,1609.3369464285697,2.2000000000000002,0.88,1400.894678571429]
["2009-05-08",{"$f":"'Irrig Diary'!E328","v":0.39999999999999997},2,0.79999999999999993,1367.2726964285721,2.2999999999999998,0.91999999999999982,1496.5881071428576,2.7,1.08,1707.450446428571,2.7,1.08,1610.4169464285696,2.2000000000000002,0.88,1401.7746785714291]
["2009-05-09",{"$f":"'Irrig Diary'!E329","v":0.39999999999999997},2,0.79999999999999993,1368.072696428572,2.2999999999999998,0.91999999999999982,1497.5081071428576,2.7,1.08,1708.5304464285709,2.7,1.08,1611.4969464285696,2.2000000000000002,0.88,1402.6546785714293]
["2009-05-10",{"$f":"'Irrig Diary'!E330","v":0.39999999999999997},2,0.79999999999999993,1368.872696428572,2.2999999999999998,0.91999999999999982,1498.4281071428577,2.7,1.08,1709.6104464285709,2.7,1.08,1612.5769464285695,2.2000000000000002,0.88,1403.5346785714294]
["2009-05-11",{"$f":"'Irrig Diary'!E331","v":0.39999999999999997},2,0.79999999999999993,1369.672696428572,2.2999999999999998,0.91999999999999982,1499.3481071428578,2.7,1.08,1710.6904464285708,2.7,1.08,1613.6569464285694,2.2000000000000002,0.88,1404.4146785714295]
["2009-05-12",{"$f":"'Irrig Diary'!E332","v":0.39999999999999997},2,0.79999999999999993,1370.4726964285719,2.2999999999999998,0.91999999999999982,1500.2681071428578,2.7,1.08,1711.7704464285707,2.7,1.08,1614.7369464285694,2.2000000000000002,0.88,1405.2946785714296]
["2009-05-13",{"$f":"'Irrig Diary'!E333","v":0.38571428571428568},2,0.77142857142857135,1371.2441250000004,2.2999999999999998,0.88714285714285701,1501.1552500000007,2.7,1.0414285714285714,1712.8118749999992,2.7,1.0414285714285714,1615.7783749999978,2.2000000000000002,0.84857142857142853,1406.143250000001]
["2009-05-14",{"$f":"'Irrig Diary'!E334","v":0.35714285714285715},2,0.7142857142857143,1371.9584107142862,2.2999999999999998,0.8214285714285714,1501.9766785714294,2.7,0.96428571428571441,1713.776160714285,2.7,0.96428571428571441,1616.7426607142836,2.2000000000000002,0.78571428571428581,1406.9289642857152]
["2009-05-15",{"$f":"'Irrig Diary'!E335","v":0.35714285714285715},2,0.7142857142857143,1372.672696428572,2.2999999999999998,0.8214285714285714,1502.798107142858,2.7,0.96428571428571441,1714.7404464285707,2.7,0.96428571428571441,1617.7069464285694,2.2000000000000002,0.78571428571428581,1407.7146785714294]
["2009-05-16",{"$f":"'Irrig Diary'!E336","v":0.35714285714285715},2,0.7142857142857143,1373.3869821428577,2.2999999999999998,0.8214285714285714,1503.6195357142867,2.7,0.96428571428571441,1715.7047321428565,2.7,0.96428571428571441,1618.6712321428552,2.2000000000000002,0.78571428571428581,1408.5003928571437]
["2009-05-17",{"$f":"'Irrig Diary'!E337","v":0.3666666666666667},2,{"$f":"$B324*C324","v":0.73333333333333339},1374.1203154761911,2.2999999999999998,0.84333333333333338,1504.46286904762,2.7,{"$f":"$B324*I324","v":0.9900000000000001},1716.6947321428565,2.7,{"$f":"$B324*L324","v":0.9900000000000001},1619.6612321428552,2.2000000000000002,{"$f":"$B324*O324","v":0.80666666666666675},1409.3070595238103]
["2009-05-18",{"$f":"'Irrig Diary'!E338","v":0.3666666666666667},2,0.73333333333333339,1374.8536488095244,2.2999999999999998,{"$f":"$B325*F325","v":0.84333333333333338},1505.3062023809532,2.7,0.9900000000000001,1717.6847321428565,2.7,0.9900000000000001,1620.6512321428552,2.2000000000000002,0.80666666666666675,1410.1137261904769]
["2009-05-19",{"$f":"'Irrig Diary'!E339","v":0.3666666666666667},2,0.73333333333333339,{"$f":"E325+D326","v":1375.5869821428578},2.2999999999999998,0.84333333333333338,{"$f":"H325+G326","v":1506.1495357142865},2.7,0.9900000000000001,{"$f":"K325+J326","v":1718.6747321428566},2.7,0.9900000000000001,{"$f":"N325+M326","v":1621.6412321428552},2.2000000000000002,0.80666666666666675,{"$f":"Q325+P326","v":1410.9203928571435}]
["2009-05-20",{"$f":"'Irrig Diary'!E340","v":0.3666666666666667},2,0.73333333333333339,1376.3203154761911,2.2999999999999998,0.84333333333333338,1506.9928690476197,2.7,0.9900000000000001,1719.6647321428566,2.7,0.9900000000000001,1622.6312321428552,2.2000000000000002,0.80666666666666675,1411.7270595238101]
["2009-05-21",{"$f":"'Irrig Diary'!E341","v":0.3666666666666667},2,0.73333333333333339,1377.0536488095245,2.2999999999999998,0.84333333333333338,1507.836202380953,2.7,0.9900000000000001,1720.6547321428566,2.7,0.9900000000000001,1623.6212321428552,2.2000000000000002,0.80666666666666675,1412.5337261904767]
["2009-05-22",{"$f":"'Irrig Diary'!E342","v":0.33333333333333331},2,0.66666666666666663,1377.7203154761912,2.2999999999999998,0.76666666666666661,1508.6028690476196,2.7,0.9,1721.5547321428567,2.7,0.9,1624.5212321428553,2.2000000000000002,0.73333333333333339,1413.2670595238101]
["2009-05-23",{"$f":"'Irrig Diary'!E343","v":0.33333333333333331},2,0.66666666666666663,1378.386982142858,2.2999999999999998,0.76666666666666661,1509.3695357142863,2.7,0.9,1722.4547321428568,2.7,0.9,1625.4212321428554,2.2000000000000002,0.73333333333333339,1414.0003928571434]
["2009-05-24",{"$f":"'Irrig Diary'!E344","v":0.33333333333333331},2,0.66666666666666663,1379.0536488095247,2.2999999999999998,0.76666666666666661,1510.1362023809529,2.7,0.9,1723.3547321428568,2.7,0.9,1626.3212321428555,2.2000000000000002,0.73333333333333339,1414.7337261904768]
["2009-05-25",{"$f":"'Irrig Diary'!E345","v":0.33333333333333331},2,0.66666666666666663,1379.7203154761914,2.2999999999999998,0.76666666666666661,1510.9028690476196,2.7,0.9,1724.2547321428569,2.7,0.9,1627.2212321428556,2.2000000000000002,0.73333333333333339,1415.4670595238101]
["2009-05-26",{"$f":"'Irrig Diary'!E346","v":0.33333333333333331},2,0.66666666666666663,1380.3869821428582,2.2999999999999998,0.76666666666666661,1511.6695357142862,2.7,0.9,1725.154732142857,2.7,0.9,1628.1212321428557,2.2000000000000002,0.73333333333333339,1416.2003928571435]
["2009-05-27",{"$f":"'Irrig Diary'!E347","v":0.33333333333333331},2,0.66666666666666663,1381.0536488095249,2.2999999999999998,0.76666666666666661,1512.4362023809529,2.7,0.9,1726.0547321428571,2.7,0.9,1629.0212321428558,2.2000000000000002,0.73333333333333339,1416.9337261904768]
["2009-05-28",{"$f":"'Irrig Diary'!E348","v":0.33999999999999997},2,0.67999999999999994,1381.733648809525,2.2999999999999998,0.78199999999999992,1513.2182023809528,2.7,0.91799999999999993,1726.972732142857,2.7,0.91799999999999993,1629.9392321428556,2.2000000000000002,0.748,1417.6817261904769]
["2009-05-29",{"$f":"'Irrig Diary'!E349","v":0.33999999999999997},2,0.67999999999999994,1382.4136488095251,2.2999999999999998,0.78199999999999992,1514.0002023809527,2.7,0.91799999999999993,1727.8907321428569,2.7,0.91799999999999993,1630.8572321428555,2.2000000000000002,0.748,1418.4297261904769]
["2009-05-30",{"$f":"'Irrig Diary'!E350","v":0.3},2,0.6,1383.013648809525,2.2999999999999998,0.69,1514.6902023809528,2.7,0.81,1728.7007321428569,2.7,0.81,1631.6672321428555,2.2000000000000002,0.66,1419.089726190477]
["2009-05-31",{"$f":"'Irrig Diary'!E351","v":0.3},2,0.6,1383.6136488095249,2.2999999999999998,0.69,1515.3802023809528,2.7,0.81,1729.5107321428568,2.7,0.81,1632.4772321428554,2.2000000000000002,0.66,1419.7497261904771]
["2009-06-01",{"$f":"'Irrig Diary'!E352","v":0.3},1.4,0.42,1384.0336488095249,1.7,0.51,1515.8902023809528,1.9,0.56999999999999995,1730.0807321428567,1.7,0.51,1632.9872321428554,1.3,0.39,1420.1397261904772]
["2009-06-02",{"$f":"'Irrig Diary'!E353","v":0.3},1.4,0.42,1384.453648809525,1.7,0.51,1516.4002023809528,1.9,0.56999999999999995,1730.6507321428567,1.7,0.51,1633.4972321428554,1.3,0.39,1420.5297261904773]
["2009-06-03",{"$f":"'Irrig Diary'!E354","v":0.3},1.4,0.42,1384.8736488095251,1.7,0.51,1516.9102023809528,1.9,0.56999999999999995,1731.2207321428566,1.7,0.51,1634.0072321428554,1.3,0.39,1420.9197261904774]
["2009-06-04",{"$f":"'Irrig Diary'!E355","v":0.3},1.4,0.42,1385.2936488095252,1.7,0.51,1517.4202023809528,1.9,0.56999999999999995,1731.7907321428565,1.7,0.51,1634.5172321428554,1.3,0.39,1421.3097261904775]
["2009-06-05",{"$f":"'Irrig Diary'!E356","v":0.3},1.4,0.42,1385.7136488095252,1.7,0.51,1517.9302023809528,1.9,0.56999999999999995,1732.3607321428565,1.7,0.51,1635.0272321428554,1.3,0.39,1421.6997261904776]
["2009-06-06",{"$f":"'Irrig Diary'!E357","v":0.3},1.4,0.42,1386.1336488095253,1.7,0.51,1518.4402023809528,1.9,0.56999999999999995,1732.9307321428564,1.7,0.51,1635.5372321428554,1.3,0.39,1422.0897261904777]
["2009-06-07",{"$f":"'Irrig Diary'!E358","v":0},1.4,0,1386.1336488095253,1.7,0,1518.4402023809528,1.9,0,1732.9307321428564,1.7,0,1635.5372321428554,1.3,0,1422.0897261904777]
["2009-06-08",{"$f":"'Irrig Diary'!E359","v":0},1.4,0,1386.1336488095253,1.7,0,1518.4402023809528,1.9,0,1732.9307321428564,1.7,0,1635.5372321428554,1.3,0,1422.0897261904777]
["2009-06-09",{"$f":"'Irrig Diary'!E360","v":0},1.4,0,1386.1336488095253,1.7,0,1518.4402023809528,1.9,0,1732.9307321428564,1.7,0,1635.5372321428554,1.3,0,1422.0897261904777]
["2009-06-10",{"$f":"'Irrig Diary'!E361","v":0},1.4,0,1386.1336488095253,1.7,0,1518.4402023809528,1.9,0,1732.9307321428564,1.7,0,1635.5372321428554,1.3,0,1422.0897261904777]
["2009-06-11",{"$f":"'Irrig Diary'!E362","v":0},1.4,0,1386.1336488095253,1.7,0,1518.4402023809528,1.9,0,1732.9307321428564,1.7,0,1635.5372321428554,1.3,0,1422.0897261904777]
["2009-06-12",{"$f":"'Irrig Diary'!E363","v":0},1.4,0,1386.1336488095253,1.7,0,1518.4402023809528,1.9,0,1732.9307321428564,1.7,0,1635.5372321428554,1.3,0,1422.0897261904777]
["2009-06-13",{"$f":"'Irrig Diary'!E364","v":0},1.4,0,1386.1336488095253,1.7,0,1518.4402023809528,1.9,0,1732.9307321428564,1.7,0,1635.5372321428554,1.3,0,1422.0897261904777]
["2009-06-14",{"$f":"'Irrig Diary'!E365","v":0},1.4,0,1386.1336488095253,1.7,0,1518.4402023809528,1.9,0,1732.9307321428564,1.7,0,1635.5372321428554,1.3,0,1422.0897261904777]
["2009-06-15",{"$f":"'Irrig Diary'!E366","v":0},1.4,0,1386.1336488095253,1.7,0,1518.4402023809528,1.9,0,1732.9307321428564,1.7,0,1635.5372321428554,1.3,0,1422.0897261904777]
["2009-06-16",{"$f":"'Irrig Diary'!E367","v":0},1.4,0,1386.1336488095253,1.7,0,1518.4402023809528,1.9,0,1732.9307321428564,1.7,0,1635.5372321428554,1.3,0,1422.0897261904777]
["2009-06-17",{"$f":"'Irrig Diary'!E368","v":0},1.4,0,1386.1336488095253,1.7,0,1518.4402023809528,1.9,0,1732.9307321428564,1.7,0,1635.5372321428554,1.3,0,1422.0897261904777]
["2009-06-18",{"$f":"'Irrig Diary'!E369","v":0},1.4,0,1386.1336488095253,1.7,0,1518.4402023809528,1.9,0,1732.9307321428564,1.7,0,1635.5372321428554,1.3,0,1422.0897261904777]
["2009-06-19",{"$f":"'Irrig Diary'!E370","v":0},1.4,0,1386.1336488095253,1.7,0,1518.4402023809528,1.9,0,1732.9307321428564,1.7,0,1635.5372321428554,1.3,0,1422.0897261904777]
["2009-06-20",{"$f":"'Irrig Diary'!E371","v":0},1.4,0,1386.1336488095253,1.7,0,1518.4402023809528,1.9,0,1732.9307321428564,1.7,0,1635.5372321428554,1.3,0,1422.0897261904777]
["2009-06-21",{"$f":"'Irrig Diary'!E372","v":0},1.4,0,1386.1336488095253,1.7,0,1518.4402023809528,1.9,0,1732.9307321428564,1.7,0,1635.5372321428554,1.3,0,1422.0897261904777]
["2009-06-22",{"$f":"'Irrig Diary'!E373","v":0},1.4,0,1386.1336488095253,1.7,0,1518.4402023809528,1.9,0,1732.9307321428564,1.7,0,1635.5372321428554,1.3,0,1422.0897261904777]
["2009-06-23",{"$f":"'Irrig Diary'!E374","v":0},1.4,0,1386.1336488095253,1.7,0,1518.4402023809528,1.9,0,1732.9307321428564,1.7,0,1635.5372321428554,1.3,0,1422.0897261904777]
["2009-06-24",{"$f":"'Irrig Diary'!E375","v":0},1.4,0,1386.1336488095253,1.7,0,1518.4402023809528,1.9,0,1732.9307321428564,1.7,0,1635.5372321428554,1.3,0,1422.0897261904777]
["2009-06-25",{"$f":"'Irrig Diary'!E376","v":0},1.4,0,1386.1336488095253,1.7,0,1518.4402023809528,1.9,0,1732.9307321428564,1.7,0,1635.5372321428554,1.3,0,1422.0897261904777]
["2009-06-26",{"$f":"'Irrig Diary'!E377","v":0},1.4,0,1386.1336488095253,1.7,0,1518.4402023809528,1.9,0,1732.9307321428564,1.7,0,1635.5372321428554,1.3,0,1422.0897261904777]
["2009-06-27",{"$f":"'Irrig Diary'!E378","v":0},1.4,0,1386.1336488095253,1.7,0,1518.4402023809528,1.9,0,1732.9307321428564,1.7,0,1635.5372321428554,1.3,0,1422.0897261904777]
["2009-06-28",{"$f":"'Irrig Diary'!E379","v":0},1.4,0,1386.1336488095253,1.7,0,1518.4402023809528,1.9,0,1732.9307321428564,1.7,0,1635.5372321428554,1.3,0,1422.0897261904777]
["2009-06-29",{"$f":"'Irrig Diary'!E380","v":0},1.4,0,1386.1336488095253,1.7,0,1518.4402023809528,1.9,0,1732.9307321428564,1.7,0,1635.5372321428554,1.3,0,1422.0897261904777]
["2009-06-30",{"$f":"'Irrig Diary'!E381","v":0},1.4,0,1386.1336488095253,1.7,0,1518.4402023809528,1.9,0,1732.9307321428564,1.7,0,1635.5372321428554,1.3,0,1422.0897261904777]
["TOTAL","",{"$f":"SUM(C4:C368)","v":1727.6000000000049},{"$f":"SUM(D4:D368)","v":1386.1336488095253},null,{"$f":"SUM(F4:F368)","v":1907.4000000000026},1518.4402023809528,null,{"$f":"SUM(I4:I368)","v":2179.7999999999956},{"$f":"SUM(J4:J368)","v":1732.9307321428564},null,2054.3000000000075,1635.5372321428554,null,{"$f":"SUM(O4:O368)","v":1764.1999999999948},1422.0897261904777]
["TOTAL","ML/Ha",null,{"$f":"D369/100","v":13.861336488095253},null,null,{"$f":"G369/100","v":15.184402023809527},null,null,{"$f":"J369/100","v":17.329307321428566},null,null,{"$f":"M369/100","v":16.355372321428554},null,null,{"$f":"P369/100","v":14.220897261904776}]

{"sheet":"Irrig Diary Summary","index":6,"n_rows":31,"n_cols":15,"rows_kept":31,"cut":false,"hidden":false,"merged":[[1,14,1,28],[3,9,4,10],[3,11,4,12],[3,6,3,8],[1,0,1,12]]}
[]
["IRRIGATION DIARY SUMMARY",null,null,null,null,null,null,null,null,null,null,null,null,null,"NOTES / WORKING PAGE"]
[]
[null,null,"Evap","Plant ","Plant","Irrig ","Cumm Seasonal Water Use",null,null,"Water Meter Reading (KL)",null,"Water Used"]
["Month","Rainfall","Readings","Req","Req","Applied","Actual",{"$f":"IF('Fixed WU Figure'!A6>0,'Fixed WU Figure'!A6,\"\")","v":""},{"$f":"IF(AND('Crop Factor'!C5>0%,'Fixed WU Figure'!A6=0),'Crop Factor'!C9,\"\")","v":15.184402023809527}]
[null,"(mm)","(mm)","(mm)","(hrs)","(hrs)","(ML/Ha)","(ML/Ha)","(ML/Ha)","Start","Finish","(KL)","(ML)"]
["Jul",{"$f":"SUM('Irrig Diary'!G17:G47)","v":0},{"$f":"SUM('Irrig Diary'!H17:H47)","v":0},{"$f":"SUM('Irrig Diary'!I17:I47)","v":0},{"$f":"SUM('Irrig Diary'!K17:K47)","v":0},{"$f":"SUM('Irrig Diary'!M17:M47)","v":0},{"$f":"IF('Irrig Diary'!P$15>0,('Irrig Diary Summary'!F7*'Irrig Diary'!P$15)/100,\"\")","v":0},{"$f":"IF(H$5=\"\",H$5,'Fixed WU Figure'!E12)","v":""},{"$f":"IF(I$5=\"\",\"\",VLOOKUP(Weather_Station,Mthly_Etc,2,FALSE))","v":0},0,0,{"$f":"K7-J7","v":0},{"$f":"L7/1000","v":0}]
["Aug",{"$f":"SUM('Irrig Diary'!G48:G78)","v":0},{"$f":"SUM('Irrig Diary'!H48:H78)","v":0},{"$f":"SUM('Irrig Diary'!I48:I78)","v":0},{"$f":"SUM('Irrig Diary'!K48:K78)","v":0},{"$f":"SUM('Irrig Diary'!M48:M78)","v":0},{"$f":"IF('Irrig Diary'!P$15>0,(('Irrig Diary Summary'!F8*'Irrig Diary'!P$15)/100)+G7,\"\")","v":0},{"$f":"IF(H$5=\"\",H$5,'Fixed WU Figure'!E13)","v":""},{"$f":"IF(I$5=\"\",\"\",VLOOKUP(Weather_Station,Mthly_Etc,3,FALSE))","v":0.22801500000000005},0,0,0,{"$f":"L8/1000","v":0}]
["Sep",{"$f":"SUM('Irrig Diary'!G79:G108)","v":0},{"$f":"SUM('Irrig Diary'!H79:H108)","v":0},{"$f":"SUM('Irrig Diary'!I79:I108)","v":0},{"$f":"SUM('Irrig Diary'!K79:K108)","v":0},{"$f":"SUM('Irrig Diary'!M79:M108)","v":0},{"$f":"IF('Irrig Diary'!P$15>0,(('Irrig Diary Summary'!F9*'Irrig Diary'!P$15)/100)+G8,\"\")","v":0},{"$f":"IF(H$5=\"\",H$5,'Fixed WU Figure'!E14)","v":""},{"$f":"IF(I$5=\"\",\"\",VLOOKUP(Weather_Station,Mthly_Etc,4,FALSE))","v":0.99163999999999985},0,0,0,0]
["Oct",{"$f":"SUM('Irrig Diary'!G109:G139)","v":0},{"$f":"SUM('Irrig Diary'!H109:H139)","v":0},{"$f":"SUM('Irrig Diary'!I109:I139)","v":0},{"$f":"SUM('Irrig Diary'!K109:K139)","v":0},{"$f":"SUM('Irrig Diary'!M109:M139)","v":0},{"$f":"IF('Irrig Diary'!P$15>0,(('Irrig Diary Summary'!F10*'Irrig Diary'!P$15)/100)+G9,\"\")","v":0},{"$f":"IF(H$5=\"\",H$5,'Fixed WU Figure'!E15)","v":""},{"$f":"IF(I$5=\"\",\"\",VLOOKUP(Weather_Station,Mthly_Etc,5,FALSE))","v":2.7778650000000003},0,0,0,0]
["Nov",{"$f":"SUM('Irrig Diary'!G140:G169)","v":0},{"$f":"SUM('Irrig Diary'!H140:H169)","v":0},{"$f":"SUM('Irrig Diary'!I140:I169)","v":0},{"$f":"SUM('Irrig Diary'!K140:K169)","v":0},{"$f":"SUM('Irrig Diary'!M140:M169)","v":0},{"$f":"IF('Irrig Diary'!P$15>0,(('Irrig Diary Summary'!F11*'Irrig Diary'!P$15)/100)+G10,\"\")","v":0},{"$f":"IF(H$5=\"\",H$5,'Fixed WU Figure'!E16)","v":""},{"$f":"IF(I$5=\"\",\"\",VLOOKUP(Weather_Station,Mthly_Etc,6,FALSE))","v":5.1450525000000003},0,0,0,0]
["Dec",{"$f":"SUM('Irrig Diary'!G170:G200)","v":0},{"$f":"SUM('Irrig Diary'!H170:H200)","v":0},{"$f":"SUM('Irrig Diary'!I170:I200)","v":0},{"$f":"SUM('Irrig Diary'!K170:K200)","v":0},{"$f":"SUM('Irrig Diary'!M170:M200)","v":0},{"$f":"IF('Irrig Diary'!P$15>0,(('Irrig Diary Summary'!F12*'Irrig Diary'!P$15)/100)+G11,\"\")","v":0},{"$f":"IF(H$5=\"\",H$5,'Fixed WU Figure'!E17)","v":""},{"$f":"IF(I$5=\"\",\"\",VLOOKUP(Weather_Station,Mthly_Etc,7,FALSE))","v":7.9427399999999988},0,0,0,0]
["Jan",{"$f":"SUM('Irrig Diary'!G201:G231)","v":0},{"$f":"SUM('Irrig Diary'!H201:H231)","v":0},{"$f":"SUM('Irrig Diary'!I201:I231)","v":0},{"$f":"SUM('Irrig Diary'!K201:K231)","v":0},{"$f":"SUM('Irrig Diary'!M201:M231)","v":0},{"$f":"IF('Irrig Diary'!P$15>0,(('Irrig Diary Summary'!F13*'Irrig Diary'!P$15)/100)+G12,\"\")","v":0},{"$f":"IF(H$5=\"\",H$5,'Fixed WU Figure'!E18)","v":""},{"$f":"IF(I$5=\"\",\"\",VLOOKUP(Weather_Station,Mthly_Etc,8,FALSE))","v":10.92099},0,0,0,0]
["Feb",{"$f":"SUM('Irrig Diary'!G232:G260)","v":0},{"$f":"SUM('Irrig Diary'!H232:H260)","v":0},{"$f":"SUM('Irrig Diary'!I232:I260)","v":0},{"$f":"SUM('Irrig Diary'!K232:K260)","v":0},{"$f":"SUM('Irrig Diary'!M232:M260)","v":0},{"$f":"IF('Irrig Diary'!P$15>0,(('Irrig Diary Summary'!F14*'Irrig Diary'!P$15)/100)+G13,\"\")","v":0},{"$f":"IF(H$5=\"\",H$5,'Fixed WU Figure'!E19)","v":""},{"$f":"IF(I$5=\"\",\"\",VLOOKUP(Weather_Station,Mthly_Etc,9,FALSE))","v":12.821489999999999},0,0,0,0]
["Mar",{"$f":"SUM('Irrig Diary'!G261:G291)","v":0},{"$f":"SUM('Irrig Diary'!H261:H291)","v":0},{"$f":"SUM('Irrig Diary'!I261:I291)","v":0},{"$f":"SUM('Irrig Diary'!K261:K291)","v":0},{"$f":"SUM('Irrig Diary'!M261:M291)","v":0},{"$f":"IF('Irrig Diary'!P$15>0,(('Irrig Diary Summary'!F15*'Irrig Diary'!P$15)/100)+G14,\"\")","v":0},{"$f":"IF(H$5=\"\",H$5,'Fixed WU Figure'!E20)","v":""},{"$f":"IF(I$5=\"\",\"\",VLOOKUP(Weather_Station,Mthly_Etc,10,FALSE))","v":14.327864999999999},0,0,0,0]
["Apr",{"$f":"SUM('Irrig Diary'!G292:G321)","v":0},{"$f":"SUM('Irrig Diary'!H292:H321)","v":0},{"$f":"SUM('Irrig Diary'!I292:I321)","v":0},{"$f":"SUM('Irrig Diary'!K292:K321)","v":0},{"$f":"SUM('Irrig Diary'!M292:M321)","v":0},{"$f":"IF('Irrig Diary'!P$15>0,(('Irrig Diary Summary'!F16*'Irrig Diary'!P$15)/100)+G15,\"\")","v":0},{"$f":"IF(H$5=\"\",H$5,'Fixed WU Figure'!E21)","v":""},{"$f":"IF(I$5=\"\",\"\",VLOOKUP(Weather_Station,Mthly_Etc,11,FALSE))","v":14.889365},0,0,0,0]
["May",{"$f":"SUM('Irrig Diary'!G322:G352)","v":0},{"$f":"SUM('Irrig Diary'!H322:H352)","v":0},{"$f":"SUM('Irrig Diary'!I322:I352)","v":0},{"$f":"SUM('Irrig Diary'!K322:K352)","v":0},{"$f":"SUM('Irrig Diary'!M322:M352)","v":0},{"$f":"IF('Irrig Diary'!P$15>0,(('Irrig Diary Summary'!F17*'Irrig Diary'!P$15)/100)+G16,\"\")","v":0},{"$f":"IF(H$5=\"\",H$5,'Fixed WU Figure'!E22)","v":""},{"$f":"IF(I$5=\"\",\"\",VLOOKUP(Weather_Station,Mthly_Etc,12,FALSE))","v":15.153802023809524},0,0,0,0]
["June",{"$f":"SUM('Irrig Diary'!G353:G382)","v":0},{"$f":"SUM('Irrig Diary'!H353:H382)","v":0},{"$f":"SUM('Irrig Diary'!I353:I382)","v":0},{"$f":"SUM('Irrig Diary'!K353:K382)","v":0},{"$f":"SUM('Irrig Diary'!M353:M382)","v":0},{"$f":"IF('Irrig Diary'!P$15>0,(('Irrig Diary Summary'!F18*'Irrig Diary'!P$15)/100)+G17,\"\")","v":0},{"$f":"IF(H$5=\"\",H$5,'Fixed WU Figure'!E23)","v":""},{"$f":"IF(I$5=\"\",\"\",VLOOKUP(Weather_Station,Mthly_Etc,13,FALSE))","v":15.184402023809524},0,0,0,0]
["TOTAL",{"$f":"SUM(B7:B18)","v":0},{"$f":"SUM(C7:C18)","v":0},{"$f":"SUM(D7:D18)","v":0},{"$f":"SUM(E7:E18)","v":0},{"$f":"SUM(F7:F18)","v":0},{"$f":"G18","v":0},{"$f":"H18","v":""},{"$f":"IF(I$5=\"\",\"\",VLOOKUP(Weather_Station,Mthly_Etc,14,FALSE))","v":15.184402023809524},null,null,{"$f":"SUM(L7:L18)","v":0},{"$f":"SUM(M7:M18)","v":0}]
[]
["Volume Conversions",null,null,null,"Flow Conversions"]
["1m3  =","1,000 L",null,null,"1 L/sec =","3.6 m3 / hr"]
["1KL  =","1,000 L"]
["1ML  =","1,000 KL"]
["1mm applied over 1Ha = 10KL"]
["100mm  =","1 ML/Ha"]
[]
["Pressure Conversions"]
["1 psi =","6.9 kPa"]
["1 bar =","100 kPa"]
["1 MHD (metre) =","9.8 kPa"]

{"sheet":"Irrig Diary","index":8,"n_rows":383,"n_cols":17,"rows_kept":383,"cut":false,"hidden":false,"merged":[[1,0,1,13],[15,0,15,2],[1,16,1,31],[12,4,13,4],[12,5,13,5],[12,7,14,7],[12,3,13,3]]}
[]
["IRRIGATION DIARY",null,null,null,null,null,null,null,null,null,null,null,null,null,null,null,"NOTES / WORKING PAGE"]
[]
["Phenological Stage:",null,null,null,null,null,null,"Start Date",null,null,"End Date"]
["Stage 1:","Bud Swell to Early Flowering"]
["Stage 2:","Early Flowering to Petal Fall"]
["Stage 3:","Petall Fall to Early Pit Hardening"]
["Stage 4:","Early Pit Hardening to Early Hull Split"]
["Stage 5:","Early Hull Split until End of Harvest"]
["Stage 6:","End of Harvest to Leaf Drop"]
["Stage 7:","Dormancy (Leaf Drop to Bud Swell)"]
[]
["Date","Day","Phenological ",{"$f":"IF('Crop Factor'!B13=\"Evaporation Pan\",\"Crop Factor (cf)\",\"Crop Co-efficient (Kc)\")","v":"Crop Co-efficient (Kc)"},"Mean 100% cf","Mean 100% Kc","Rainfall",{"$f":"IF('Crop Factor'!B13=\"Evaporation Pan\",\"Evap Reading (mm)\",\"Evapo-transpiration Reading (mm)\")","v":"Evapo-transpiration Reading (mm)"},"Plant Req","Plant Req","Plant Req","Irrig Req","Irrig Applied","Running Tally"]
[null,null,"Stage",null,null,null,"(mm)",null,"(mm)","(mm)","(hrs)","(hrs)","(hrs)","Sur(+)/Def(-)"]
[null,null,null,null,"Kpan=",{"$f":"'Crop Factor'!B11","v":0.7},null,null,"unadj for >12mm",null,null,null,null,"(hrs)","Application Rate:",{"$f":"IF(Setup!C21>0,Setup!C21,IF(Setup!C26>0,Setup!C26,IF(Setup!C33>0,Setup!C33)))","v":1.1608623548922055}]
["SEASONAL TOTAL",null,null,{"$f":"IF(D383>0,D383,\"\")","v":""},"",null,"","","","","","","",""]
["2015-07-01",{"$f":"TEXT(A17,\"ddd\")","v":"Wed"},null,{"$f":"IF('Crop Factor'!C$5>0,IF('Crop Factor'!B$13=\"Evaporation Pan\",'Irrig Diary'!E17*'Crop Factor'!C$5,'Irrig Diary'!F17*'Crop Factor'!C$5),\"N/A\")","v":0},0,{"$f":"(1/F$15)*E17","v":0},null,null,{"$f":"IF(D17=\"N/A\",'Fixed WU Figure'!G$12,D17*H17)","v":0},{"$f":"IF(I17>12,12,I17)","v":0},{"$f":"IF(OR(I17=0,I17=\"N/A\"),0,I17/P$15)","v":0},{"$f":"K17","v":0},null,{"$f":"IF(K17>0,M17-K17,0)","v":0}]
[{"$f":"A17+1","v":"2015-07-02"},{"$f":"TEXT(A18,\"ddd\")","v":"Thu"},null,{"$f":"IF('Crop Factor'!C$5>0,IF('Crop Factor'!B$13=\"Evaporation Pan\",'Irrig Diary'!E18*'Crop Factor'!C$5,'Irrig Diary'!F18*'Crop Factor'!C$5),\"N/A\")","v":0},0,{"$f":"(1/F$15)*E18","v":0},null,null,{"$f":"IF(D18=\"N/A\",'Fixed WU Figure'!G$12,D18*H18)","v":0},{"$f":"IF(I18>12,12,I18)","v":0},0,{"$f":"K18-N17","v":0},null,{"$f":"IF(K18>0,M18-K18+N17,0)","v":0}]
["2015-07-03",{"$f":"TEXT(A19,\"ddd\")","v":"Fri"},null,{"$f":"IF('Crop Factor'!C$5>0,IF('Crop Factor'!B$13=\"Evaporation Pan\",'Irrig Diary'!E19*'Crop Factor'!C$5,'Irrig Diary'!F19*'Crop Factor'!C$5),\"N/A\")","v":0},0,0,null,null,{"$f":"IF(D19=\"N/A\",'Fixed WU Figure'!G$12,D19*H19)","v":0},0,0,{"$f":"K19-N18","v":0},null,{"$f":"IF(K19>0,M19-K19+N18,0)","v":0}]
["2015-07-04","Sat",null,{"$f":"IF('Crop Factor'!C$5>0,IF('Crop Factor'!B$13=\"Evaporation Pan\",'Irrig Diary'!E20*'Crop Factor'!C$5,'Irrig Diary'!F20*'Crop Factor'!C$5),\"N/A\")","v":0},0,0,null,null,{"$f":"IF(D20=\"N/A\",'Fixed WU Figure'!G$12,D20*H20)","v":0},0,0,0,null,0]
["2015-07-05","Sun",null,{"$f":"IF('Crop Factor'!C$5>0,IF('Crop Factor'!B$13=\"Evaporation Pan\",'Irrig Diary'!E21*'Crop Factor'!C$5,'Irrig Diary'!F21*'Crop Factor'!C$5),\"N/A\")","v":0},0,0,null,null,{"$f":"IF(D21=\"N/A\",'Fixed WU Figure'!G$12,D21*H21)","v":0},0,0,0,null,0]
["2015-07-06","Mon",null,{"$f":"IF('Crop Factor'!C$5>0,IF('Crop Factor'!B$13=\"Evaporation Pan\",'Irrig Diary'!E22*'Crop Factor'!C$5,'Irrig Diary'!F22*'Crop Factor'!C$5),\"N/A\")","v":0},0,0,null,null,{"$f":"IF(D22=\"N/A\",'Fixed WU Figure'!G$12,D22*H22)","v":0},0,0,0,null,0]
[{"$f":"A22+1","v":"2015-07-07"},"Tue",null,{"$f":"IF('Crop Factor'!C$5>0,IF('Crop Factor'!B$13=\"Evaporation Pan\",'Irrig Diary'!E23*'Crop Factor'!C$5,'Irrig Diary'!F23*'Crop Factor'!C$5),\"N/A\")","v":0},0,0,null,null,{"$f":"IF(D23=\"N/A\",'Fixed WU Figure'!G$12,D23*H23)","v":0},0,0,{"$f":"K23-N22","v":0},null,{"$f":"IF(K23>0,M23-K23+N22,0)","v":0}]
["2015-07-08","Wed",null,{"$f":"IF('Crop Factor'!C$5>0,IF('Crop Factor'!B$13=\"Evaporation Pan\",'Irrig Diary'!E24*'Crop Factor'!C$5,'Irrig Diary'!F24*'Crop Factor'!C$5),\"N/A\")","v":0},0,0,null,null,{"$f":"IF(D24=\"N/A\",'Fixed WU Figure'!G$12,D24*H24)","v":0},0,0,0,null,0]
["2015-07-09","Thu",null,{"$f":"IF('Crop Factor'!C$5>0,IF('Crop Factor'!B$13=\"Evaporation Pan\",'Irrig Diary'!E25*'Crop Factor'!C$5,'Irrig Diary'!F25*'Crop Factor'!C$5),\"N/A\")","v":0},0,0,null,null,{"$f":"IF(D25=\"N/A\",'Fixed WU Figure'!G$12,D25*H25)","v":0},0,0,0,null,0]
["2015-07-10","Fri",null,{"$f":"IF('Crop Factor'!C$5>0,IF('Crop Factor'!B$13=\"Evaporation Pan\",'Irrig Diary'!E26*'Crop Factor'!C$5,'Irrig Diary'!F26*'Crop Factor'!C$5),\"N/A\")","v":0},0,0,null,null,{"$f":"IF(D26=\"N/A\",'Fixed WU Figure'!G$12,D26*H26)","v":0},0,0,0,null,0]
["2015-07-11","Sat",null,{"$f":"IF('Crop Factor'!C$5>0,IF('Crop Factor'!B$13=\"Evaporation Pan\",'Irrig Diary'!E27*'Crop Factor'!C$5,'Irrig Diary'!F27*'Crop Factor'!C$5),\"N/A\")","v":0},0,0,null,null,{"$f":"IF(D27=\"N/A\",'Fixed WU Figure'!G$12,D27*H27)","v":0},0,0,0,null,0]
["2015-07-12","Sun",null,{"$f":"IF('Crop Factor'!C$5>0,IF('Crop Factor'!B$13=\"Evaporation Pan\",'Irrig Diary'!E28*'Crop Factor'!C$5,'Irrig Diary'!F28*'Crop Factor'!C$5),\"N/A\")","v":0},0,0,null,null,{"$f":"IF(D28=\"N/A\",'Fixed WU Figure'!G$12,D28*H28)","v":0},0,0,0,null,0]
["2015-07-13","Mon",null,{"$f":"IF('Crop Factor'!C$5>0,IF('Crop Factor'!B$13=\"Evaporation Pan\",'Irrig Diary'!E29*'Crop Factor'!C$5,'Irrig Diary'!F29*'Crop Factor'!C$5),\"N/A\")","v":0},0,0,null,null,{"$f":"IF(D29=\"N/A\",'Fixed WU Figure'!G$12,D29*H29)","v":0},0,0,0,null,0]
["2015-07-14","Tue",null,{"$f":"IF('Crop Factor'!C$5>0,IF('Crop Factor'!B$13=\"Evaporation Pan\",'Irrig Diary'!E30*'Crop Factor'!C$5,'Irrig Diary'!F30*'Crop Factor'!C$5),\"N/A\")","v":0},0,0,null,null,{"$f":"IF(D30=\"N/A\",'Fixed WU Figure'!G$12,D30*H30)","v":0},0,0,0,null,0]
["2015-07-15","Wed",null,{"$f":"IF('Crop Factor'!C$5>0,IF('Crop Factor'!B$13=\"Evaporation Pan\",'Irrig Diary'!E31*'Crop Factor'!C$5,'Irrig Diary'!F31*'Crop Factor'!C$5),\"N/A\")","v":0},0,0,null,null,{"$f":"IF(D31=\"N/A\",'Fixed WU Figure'!G$12,D31*H31)","v":0},0,0,0,null,0]
["2015-07-16","Thu",null,{"$f":"IF('Crop Factor'!C$5>0,IF('Crop Factor'!B$13=\"Evaporation Pan\",'Irrig Diary'!E32*'Crop Factor'!C$5,'Irrig Diary'!F32*'Crop Factor'!C$5),\"N/A\")","v":0},0,0,null,null,{"$f":"IF(D32=\"N/A\",'Fixed WU Figure'!G$12,D32*H32)","v":0},0,0,0,null,0]
["2015-07-17","Fri",null,{"$f":"IF('Crop Factor'!C$5>0,IF('Crop Factor'!B$13=\"Evaporation Pan\",'Irrig Diary'!E33*'Crop Factor'!C$5,'Irrig Diary'!F33*'Crop Factor'!C$5),\"N/A\")","v":0},0,0,null,null,{"$f":"IF(D33=\"N/A\",'Fixed WU Figure'!G$12,D33*H33)","v":0},0,0,0,null,0]
["2015-07-18","Sat",null,{"$f":"IF('Crop Factor'!C$5>0,IF('Crop Factor'!B$13=\"Evaporation Pan\",'Irrig Diary'!E34*'Crop Factor'!C$5,'Irrig Diary'!F34*'Crop Factor'!C$5),\"N/A\")","v":0},0,0,null,null,{"$f":"IF(D34=\"N/A\",'Fixed WU Figure'!G$12,D34*H34)","v":0},0,0,0,null,0]
["2015-07-19","Sun",null,{"$f":"IF('Crop Factor'!C$5>0,IF('Crop Factor'!B$13=\"Evaporation Pan\",'Irrig Diary'!E35*'Crop Factor'!C$5,'Irrig Diary'!F35*'Crop Factor'!C$5),\"N/A\")","v":0},0,0,null,null,{"$f":"IF(D35=\"N/A\",'Fixed WU Figure'!G$12,D35*H35)","v":0},0,0,0,null,0]
["2015-07-20","Mon",null,{"$f":"IF('Crop Factor'!C$5>0,IF('Crop Factor'!B$13=\"Evaporation Pan\",'Irrig Diary'!E36*'Crop Factor'!C$5,'Irrig Diary'!F36*'Crop Factor'!C$5),\"N/A\")","v":0},0,0,null,null,{"$f":"IF(D36=\"N/A\",'Fixed WU Figure'!G$12,D36*H36)","v":0},0,0,0,null,0]
["2015-07-21","Tue",null,{"$f":"IF('Crop Factor'!C$5>0,IF('Crop Factor'!B$13=\"Evaporation Pan\",'Irrig Diary'!E37*'Crop Factor'!C$5,'Irrig Diary'!F37*'Crop Factor'!C$5),\"N/A\")","v":0},0,0,null,null,{"$f":"IF(D37=\"N/A\",'Fixed WU Figure'!G$12,D37*H37)","v":0},0,0,0,null,0]
["2015-07-22","Wed",null,{"$f":"IF('Crop Factor'!C$5>0,IF('Crop Factor'!B$13=\"Evaporation Pan\",'Irrig Diary'!E38*'Crop Factor'!C$5,'Irrig Diary'!F38*'Crop Factor'!C$5),\"N/A\")","v":0},0,0,null,null,{"$f":"IF(D38=\"N/A\",'Fixed WU Figure'!G$12,D38*H38)","v":0},0,0,0,null,0]
["2015-07-23","Thu",null,{"$f":"IF('Crop Factor'!C$5>0,IF('Crop Factor'!B$13=\"Evaporation Pan\",'Irrig Diary'!E39*'Crop Factor'!C$5,'Irrig Diary'!F39*'Crop Factor'!C$5),\"N/A\")","v":0},0,0,null,null,{"$f":"IF(D39=\"N/A\",'Fixed WU Figure'!G$12,D39*H39)","v":0},0,0,0,null,0]
["2015-07-24","Fri",null,{"$f":"IF('Crop Factor'!C$5>0,IF('Crop Factor'!B$13=\"Evaporation Pan\",'Irrig Diary'!E40*'Crop Factor'!C$5,'Irrig Diary'!F40*'Crop Factor'!C$5),\"N/A\")","v":0},0,0,null,null,{"$f":"IF(D40=\"N/A\",'Fixed WU Figure'!G$12,D40*H40)","v":0},0,0,0,null,0]
["2015-07-25","Sat",null,{"$f":"IF('Crop Factor'!C$5>0,IF('Crop Factor'!B$13=\"Evaporation Pan\",'Irrig Diary'!E41*'Crop Factor'!C$5,'Irrig Diary'!F41*'Crop Factor'!C$5),\"N/A\")","v":0},0,0,null,null,{"$f":"IF(D41=\"N/A\",'Fixed WU Figure'!G$12,D41*H41)","v":0},0,0,0,null,0]
["2015-07-26","Sun",null,{"$f":"IF('Crop Factor'!C$5>0,IF('Crop Factor'!B$13=\"Evaporation Pan\",'Irrig Diary'!E42*'Crop Factor'!C$5,'Irrig Diary'!F42*'Crop Factor'!C$5),\"N/A\")","v":0},0,0,null,null,{"$f":"IF(D42=\"N/A\",'Fixed WU Figure'!G$12,D42*H42)","v":0},0,0,0,null,0]
["2015-07-27","Mon",null,{"$f":"IF('Crop Factor'!C$5>0,IF('Crop Factor'!B$13=\"Evaporation Pan\",'Irrig Diary'!E43*'Crop Factor'!C$5,'Irrig Diary'!F43*'Crop Factor'!C$5),\"N/A\")","v":0},0,0,null,null,{"$f":"IF(D43=\"N/A\",'Fixed WU Figure'!G$12,D43*H43)","v":0},0,0,0,null,0]
["2015-07-28","Tue",null,{"$f":"IF('Crop Factor'!C$5>0,IF('Crop Factor'!B$13=\"Evaporation Pan\",'Irrig Diary'!E44*'Crop Factor'!C$5,'Irrig Diary'!F44*'Crop Factor'!C$5),\"N/A\")","v":0},0,0,null,null,{"$f":"IF(D44=\"N/A\",'Fixed WU Figure'!G$12,D44*H44)","v":0},0,0,0,null,0]
["2015-07-29","Wed",null,{"$f":"IF('Crop Factor'!C$5>0,IF('Crop Factor'!B$13=\"Evaporation Pan\",'Irrig Diary'!E45*'Crop Factor'!C$5,'Irrig Diary'!F45*'Crop Factor'!C$5),\"N/A\")","v":0},0,0,null,null,{"$f":"IF(D45=\"N/A\",'Fixed WU Figure'!G$12,D45*H45)","v":0},0,0,0,null,0]
["2015-07-30","Thu",null,{"$f":"IF('Crop Factor'!C$5>0,IF('Crop Factor'!B$13=\"Evaporation Pan\",'Irrig Diary'!E46*'Crop Factor'!C$5,'Irrig Diary'!F46*'Crop Factor'!C$5),\"N/A\")","v":0},0,0,null,null,{"$f":"IF(D46=\"N/A\",'Fixed WU Figure'!G$12,D46*H46)","v":0},0,0,0,null,0]
["2015-07-31","Fri",null,{"$f":"IF('Crop Factor'!C$5>0,IF('Crop Factor'!B$13=\"Evaporation Pan\",'Irrig Diary'!E47*'Crop Factor'!C$5,'Irrig Diary'!F47*'Crop Factor'!C$5),\"N/A\")","v":0},0,0,null,null,{"$f":"IF(D47=\"N/A\",'Fixed WU Figure'!G$12,D47*H47)","v":0},0,0,0,null,0]
["2015-08-01","Sat",null,{"$f":"IF('Crop Factor'!C$5>0,IF('Crop Factor'!B$13=\"Evaporation Pan\",'Irrig Diary'!E48*'Crop Factor'!C$5,'Irrig Diary'!F48*'Crop Factor'!C$5),\"N/A\")","v":0},0,0,null,null,{"$f":"IF(D48=\"N/A\",'Fixed WU Figure'!G$13,D48*H48)","v":0},0,0,0,null,0]
["2015-08-02","Sun",null,{"$f":"IF('Crop Factor'!C$5>0,IF('Crop Factor'!B$13=\"Evaporation Pan\",'Irrig Diary'!E49*'Crop Factor'!C$5,'Irrig Diary'!F49*'Crop Factor'!C$5),\"N/A\")","v":0},0,0,null,null,{"$f":"IF(D49=\"N/A\",'Fixed WU Figure'!G$13,D49*H49)","v":0},0,0,0,null,0]
["2015-08-03","Mon",null,{"$f":"IF('Crop Factor'!C$5>0,IF('Crop Factor'!B$13=\"Evaporation Pan\",'Irrig Diary'!E50*'Crop Factor'!C$5,'Irrig Diary'!F50*'Crop Factor'!C$5),\"N/A\")","v":0},0,0,null,null,{"$f":"IF(D50=\"N/A\",'Fixed WU Figure'!G$13,D50*H50)","v":0},0,0,0,null,0]
["2015-08-04","Tue",null,{"$f":"IF('Crop Factor'!C$5>0,IF('Crop Factor'!B$13=\"Evaporation Pan\",'Irrig Diary'!E51*'Crop Factor'!C$5,'Irrig Diary'!F51*'Crop Factor'!C$5),\"N/A\")","v":0},0,0,null,null,{"$f":"IF(D51=\"N/A\",'Fixed WU Figure'!G$13,D51*H51)","v":0},0,0,0,null,0]
["2015-08-05","Wed",null,{"$f":"IF('Crop Factor'!C$5>0,IF('Crop Factor'!B$13=\"Evaporation Pan\",'Irrig Diary'!E52*'Crop Factor'!C$5,'Irrig Diary'!F52*'Crop Factor'!C$5),\"N/A\")","v":0},0,0,null,null,{"$f":"IF(D52=\"N/A\",'Fixed WU Figure'!G$13,D52*H52)","v":0},0,0,0,null,0]
["2015-08-06","Thu",null,{"$f":"IF('Crop Factor'!C$5>0,IF('Crop Factor'!B$13=\"Evaporation Pan\",'Irrig Diary'!E53*'Crop Factor'!C$5,'Irrig Diary'!F53*'Crop Factor'!C$5),\"N/A\")","v":0},0,0,null,null,{"$f":"IF(D53=\"N/A\",'Fixed WU Figure'!G$13,D53*H53)","v":0},0,0,0,null,0]
["2015-08-07","Fri",null,{"$f":"IF('Crop Factor'!C$5>0,IF('Crop Factor'!B$13=\"Evaporation Pan\",'Irrig Diary'!E54*'Crop Factor'!C$5,'Irrig Diary'!F54*'Crop Factor'!C$5),\"N/A\")","v":0},0,0,null,null,{"$f":"IF(D54=\"N/A\",'Fixed WU Figure'!G$13,D54*H54)","v":0},0,0,0,null,0]
["2015-08-08","Sat",null,{"$f":"IF('Crop Factor'!C$5>0,IF('Crop Factor'!B$13=\"Evaporation Pan\",'Irrig Diary'!E55*'Crop Factor'!C$5,'Irrig Diary'!F55*'Crop Factor'!C$5),\"N/A\")","v":0},0,0,null,null,{"$f":"IF(D55=\"N/A\",'Fixed WU Figure'!G$13,D55*H55)","v":0},0,0,0,null,0]
["2015-08-09","Sun",null,{"$f":"IF('Crop Factor'!C$5>0,IF('Crop Factor'!B$13=\"Evaporation Pan\",'Irrig Diary'!E56*'Crop Factor'!C$5,'Irrig Diary'!F56*'Crop Factor'!C$5),\"N/A\")","v":0},0,0,null,null,{"$f":"IF(D56=\"N/A\",'Fixed WU Figure'!G$13,D56*H56)","v":0},0,0,0,null,0]
["2015-08-10","Mon",null,{"$f":"IF('Crop Factor'!C$5>0,IF('Crop Factor'!B$13=\"Evaporation Pan\",'Irrig Diary'!E57*'Crop Factor'!C$5,'Irrig Diary'!F57*'Crop Factor'!C$5),\"N/A\")","v":0},0,0,null,null,{"$f":"IF(D57=\"N/A\",'Fixed WU Figure'!G$13,D57*H57)","v":0},0,0,0,null,0]
["2015-08-11","Tue",null,{"$f":"IF('Crop Factor'!C$5>0,IF('Crop Factor'!B$13=\"Evaporation Pan\",'Irrig Diary'!E58*'Crop Factor'!C$5,'Irrig Diary'!F58*'Crop Factor'!C$5),\"N/A\")","v":0},0,0,null,null,{"$f":"IF(D58=\"N/A\",'Fixed WU Figure'!G$13,D58*H58)","v":0},0,0,0,null,0]
["2015-08-12","Wed",null,{"$f":"IF('Crop Factor'!C$5>0,IF('Crop Factor'!B$13=\"Evaporation Pan\",'Irrig Diary'!E59*'Crop Factor'!C$5,'Irrig Diary'!F59*'Crop Factor'!C$5),\"N/A\")","v":0},0,0,null,null,{"$f":"IF(D59=\"N/A\",'Fixed WU Figure'!G$13,D59*H59)","v":0},0,0,0,null,0]
["2015-08-13","Thu",null,{"$f":"IF('Crop Factor'!C$5>0,IF('Crop Factor'!B$13=\"Evaporation Pan\",'Irrig Diary'!E60*'Crop Factor'!C$5,'Irrig Diary'!F60*'Crop Factor'!C$5),\"N/A\")","v":0.42857142857142855},0.3,0.42857142857142855,null,null,{"$f":"IF(D60=\"N/A\",'Fixed WU Figure'!G$13,D60*H60)","v":0},0,0,0,null,0]
["2015-08-14","Fri",null,{"$f":"IF('Crop Factor'!C$5>0,IF('Crop Factor'!B$13=\"Evaporation Pan\",'Irrig Diary'!E61*'Crop Factor'!C$5,'Irrig Diary'!F61*'Crop Factor'!C$5),\"N/A\")","v":0.42857142857142855},0.3,0.42857142857142855,null,null,{"$f":"IF(D61=\"N/A\",'Fixed WU Figure'!G$13,D61*H61)","v":0},0,0,0,null,0]
["2015-08-15","Sat",null,{"$f":"IF('Crop Factor'!C$5>0,IF('Crop Factor'!B$13=\"Evaporation Pan\",'Irrig Diary'!E62*'Crop Factor'!C$5,'Irrig Diary'!F62*'Crop Factor'!C$5),\"N/A\")","v":0.42857142857142855},0.3,0.42857142857142855,null,null,{"$f":"IF(D62=\"N/A\",'Fixed WU Figure'!G$13,D62*H62)","v":0},0,0,0,null,0]
["2015-08-16","Sun",null,{"$f":"IF('Crop Factor'!C$5>0,IF('Crop Factor'!B$13=\"Evaporation Pan\",'Irrig Diary'!E63*'Crop Factor'!C$5,'Irrig Diary'!F63*'Crop Factor'!C$5),\"N/A\")","v":0.42857142857142855},0.3,0.42857142857142855,null,null,{"$f":"IF(D63=\"N/A\",'Fixed WU Figure'!G$13,D63*H63)","v":0},0,0,0,null,0]
["2015-08-17","Mon",null,{"$f":"IF('Crop Factor'!C$5>0,IF('Crop Factor'!B$13=\"Evaporation Pan\",'Irrig Diary'!E64*'Crop Factor'!C$5,'Irrig Diary'!F64*'Crop Factor'!C$5),\"N/A\")","v":0.57142857142857151},0.4,0.57142857142857151,null,null,{"$f":"IF(D64=\"N/A\",'Fixed WU Figure'!G$13,D64*H64)","v":0},0,0,0,null,0]
["2015-08-18","Tue",null,{"$f":"IF('Crop Factor'!C$5>0,IF('Crop Factor'!B$13=\"Evaporation Pan\",'Irrig Diary'!E65*'Crop Factor'!C$5,'Irrig Diary'!F65*'Crop Factor'!C$5),\"N/A\")","v":0.57142857142857151},0.4,0.57142857142857151,null,null,{"$f":"IF(D65=\"N/A\",'Fixed WU Figure'!G$13,D65*H65)","v":0},0,0,0,null,0]
["2015-08-19","Wed",null,{"$f":"IF('Crop Factor'!C$5>0,IF('Crop Factor'!B$13=\"Evaporation Pan\",'Irrig Diary'!E66*'Crop Factor'!C$5,'Irrig Diary'!F66*'Crop Factor'!C$5),\"N/A\")","v":0.78571428571428581},0.55000000000000004,0.78571428571428581,null,null,{"$f":"IF(D66=\"N/A\",'Fixed WU Figure'!G$13,D66*H66)","v":0},0,0,0,null,0]
["2015-08-20","Thu",null,{"$f":"IF('Crop Factor'!C$5>0,IF('Crop Factor'!B$13=\"Evaporation Pan\",'Irrig Diary'!E67*'Crop Factor'!C$5,'Irrig Diary'!F67*'Crop Factor'!C$5),\"N/A\")","v":0.6785714285714286},0.47499999999999998,0.6785714285714286,null,null,{"$f":"IF(D67=\"N/A\",'Fixed WU Figure'!G$13,D67*H67)","v":0},0,0,0,null,0]
["2015-08-21","Fri",null,{"$f":"IF('Crop Factor'!C$5>0,IF('Crop Factor'!B$13=\"Evaporation Pan\",'Irrig Diary'!E68*'Crop Factor'!C$5,'Irrig Diary'!F68*'Crop Factor'!C$5),\"N/A\")","v":0.68571428571428572},0.48,0.68571428571428572,null,null,{"$f":"IF(D68=\"N/A\",'Fixed WU Figure'!G$13,D68*H68)","v":0},0,0,0,null,0]
["2015-08-22","Sat",null,{"$f":"IF('Crop Factor'!C$5>0,IF('Crop Factor'!B$13=\"Evaporation Pan\",'Irrig Diary'!E69*'Crop Factor'!C$5,'Irrig Diary'!F69*'Crop Factor'!C$5),\"N/A\")","v":0.68571428571428572},0.48,0.68571428571428572,null,null,{"$f":"IF(D69=\"N/A\",'Fixed WU Figure'!G$13,D69*H69)","v":0},0,0,0,null,0]
["2015-08-23","Sun",null,{"$f":"IF('Crop Factor'!C$5>0,IF('Crop Factor'!B$13=\"Evaporation Pan\",'Irrig Diary'!E70*'Crop Factor'!C$5,'Irrig Diary'!F70*'Crop Factor'!C$5),\"N/A\")","v":0.68571428571428572},0.48,0.68571428571428572,null,null,{"$f":"IF(D70=\"N/A\",'Fixed WU Figure'!G$13,D70*H70)","v":0},0,0,0,null,0]
["2015-08-24","Mon",null,{"$f":"IF('Crop Factor'!C$5>0,IF('Crop Factor'!B$13=\"Evaporation Pan\",'Irrig Diary'!E71*'Crop Factor'!C$5,'Irrig Diary'!F71*'Crop Factor'!C$5),\"N/A\")","v":0.68571428571428572},0.48,0.68571428571428572,null,null,{"$f":"IF(D71=\"N/A\",'Fixed WU Figure'!G$13,D71*H71)","v":0},0,0,0,null,0]
["2015-08-25","Tue",null,{"$f":"IF('Crop Factor'!C$5>0,IF('Crop Factor'!B$13=\"Evaporation Pan\",'Irrig Diary'!E72*'Crop Factor'!C$5,'Irrig Diary'!F72*'Crop Factor'!C$5),\"N/A\")","v":0.7142857142857143},0.5,0.7142857142857143,null,null,{"$f":"IF(D72=\"N/A\",'Fixed WU Figure'!G$13,D72*H72)","v":0},0,0,0,null,0]
["2015-08-26","Wed",null,{"$f":"IF('Crop Factor'!C$5>0,IF('Crop Factor'!B$13=\"Evaporation Pan\",'Irrig Diary'!E73*'Crop Factor'!C$5,'Irrig Diary'!F73*'Crop Factor'!C$5),\"N/A\")","v":0.7142857142857143},0.5,0.7142857142857143,null,null,{"$f":"IF(D73=\"N/A\",'Fixed WU Figure'!G$13,D73*H73)","v":0},0,0,0,null,0]
["2015-08-27","Thu",null,{"$f":"IF('Crop Factor'!C$5>0,IF('Crop Factor'!B$13=\"Evaporation Pan\",'Irrig Diary'!E74*'Crop Factor'!C$5,'Irrig Diary'!F74*'Crop Factor'!C$5),\"N/A\")","v":0.7142857142857143},0.5,0.7142857142857143,null,null,{"$f":"IF(D74=\"N/A\",'Fixed WU Figure'!G$13,D74*H74)","v":0},0,0,0,null,0]
["2015-08-28","Fri",null,{"$f":"IF('Crop Factor'!C$5>0,IF('Crop Factor'!B$13=\"Evaporation Pan\",'Irrig Diary'!E75*'Crop Factor'!C$5,'Irrig Diary'!F75*'Crop Factor'!C$5),\"N/A\")","v":0.7142857142857143},0.5,0.7142857142857143,null,null,{"$f":"IF(D75=\"N/A\",'Fixed WU Figure'!G$13,D75*H75)","v":0},0,0,0,null,0]
["2015-08-29","Sat",null,{"$f":"IF('Crop Factor'!C$5>0,IF('Crop Factor'!B$13=\"Evaporation Pan\",'Irrig Diary'!E76*'Crop Factor'!C$5,'Irrig Diary'!F76*'Crop Factor'!C$5),\"N/A\")","v":0.7142857142857143},0.5,0.7142857142857143,null,null,{"$f":"IF(D76=\"N/A\",'Fixed WU Figure'!G$13,D76*H76)","v":0},0,0,0,null,0]
["2015-08-30","Sun",null,{"$f":"IF('Crop Factor'!C$5>0,IF('Crop Factor'!B$13=\"Evaporation Pan\",'Irrig Diary'!E77*'Crop Factor'!C$5,'Irrig Diary'!F77*'Crop Factor'!C$5),\"N/A\")","v":0.7142857142857143},0.5,0.7142857142857143,null,null,{"$f":"IF(D77=\"N/A\",'Fixed WU Figure'!G$13,D77*H77)","v":0},0,0,0,null,0]
["2015-08-31","Mon",null,{"$f":"IF('Crop Factor'!C$5>0,IF('Crop Factor'!B$13=\"Evaporation Pan\",'Irrig Diary'!E78*'Crop Factor'!C$5,'Irrig Diary'!F78*'Crop Factor'!C$5),\"N/A\")","v":0.7142857142857143},0.5,0.7142857142857143,null,null,{"$f":"IF(D78=\"N/A\",'Fixed WU Figure'!G$13,D78*H78)","v":0},0,0,0,null,0]
["2015-09-01","Tue",null,{"$f":"IF('Crop Factor'!C$5>0,IF('Crop Factor'!B$13=\"Evaporation Pan\",'Irrig Diary'!E79*'Crop Factor'!C$5,'Irrig Diary'!F79*'Crop Factor'!C$5),\"N/A\")","v":0.7142857142857143},0.5,0.7142857142857143,null,null,{"$f":"IF(D79=\"N/A\",'Fixed WU Figure'!G$14,D79*H79)","v":0},0,0,0,null,0]
["2015-09-02","Wed",null,{"$f":"IF('Crop Factor'!C$5>0,IF('Crop Factor'!B$13=\"Evaporation Pan\",'Irrig Diary'!E80*'Crop Factor'!C$5,'Irrig Diary'!F80*'Crop Factor'!C$5),\"N/A\")","v":0.7142857142857143},0.5,0.7142857142857143,null,null,{"$f":"IF(D80=\"N/A\",'Fixed WU Figure'!G$14,D80*H80)","v":0},0,0,0,null,0]
["2015-09-03","Thu",null,{"$f":"IF('Crop Factor'!C$5>0,IF('Crop Factor'!B$13=\"Evaporation Pan\",'Irrig Diary'!E81*'Crop Factor'!C$5,'Irrig Diary'!F81*'Crop Factor'!C$5),\"N/A\")","v":0.7142857142857143},0.5,0.7142857142857143,null,null,{"$f":"IF(D81=\"N/A\",'Fixed WU Figure'!G$14,D81*H81)","v":0},0,{"$f":"IF(OR(I81=0,I81=\"N/A\"),0,I81/P$15)","v":0},0,null,0]
[{"$f":"A81+1","v":"2015-09-04"},"Fri",null,{"$f":"IF('Crop Factor'!C$5>0,IF('Crop Factor'!B$13=\"Evaporation Pan\",'Irrig Diary'!E82*'Crop Factor'!C$5,'Irrig Diary'!F82*'Crop Factor'!C$5),\"N/A\")","v":0.7142857142857143},0.5,{"$f":"(1/F$15)*E82","v":0.7142857142857143},null,null,{"$f":"IF(D82=\"N/A\",'Fixed WU Figure'!G$14,D82*H82)","v":0},{"$f":"IF(I82>12,12,I82)","v":0},0,0,null,0]
["2015-09-05",{"$f":"TEXT(A83,\"ddd\")","v":"Sat"},null,{"$f":"IF('Crop Factor'!C$5>0,IF('Crop Factor'!B$13=\"Evaporation Pan\",'Irrig Diary'!E83*'Crop Factor'!C$5,'Irrig Diary'!F83*'Crop Factor'!C$5),\"N/A\")","v":0.7142857142857143},0.5,0.7142857142857143,null,null,{"$f":"IF(D83=\"N/A\",'Fixed WU Figure'!G$14,D83*H83)","v":0},0,0,{"$f":"K83-N82","v":0},null,{"$f":"IF(K83>0,M83-K83+N82,0)","v":0}]
["2015-09-06","Sun",null,{"$f":"IF('Crop Factor'!C$5>0,IF('Crop Factor'!B$13=\"Evaporation Pan\",'Irrig Diary'!E84*'Crop Factor'!C$5,'Irrig Diary'!F84*'Crop Factor'!C$5),\"N/A\")","v":0.76785714285714279},0.53749999999999998,0.76785714285714279,null,null,{"$f":"IF(D84=\"N/A\",'Fixed WU Figure'!G$14,D84*H84)","v":0},0,0,0,null,0]
["2015-09-07","Mon",null,{"$f":"IF('Crop Factor'!C$5>0,IF('Crop Factor'!B$13=\"Evaporation Pan\",'Irrig Diary'!E85*'Crop Factor'!C$5,'Irrig Diary'!F85*'Crop Factor'!C$5),\"N/A\")","v":0.76785714285714279},0.53749999999999998,0.76785714285714279,null,null,{"$f":"IF(D85=\"N/A\",'Fixed WU Figure'!G$14,D85*H85)","v":0},0,0,0,null,0]
["2015-09-08","Tue",null,{"$f":"IF('Crop Factor'!C$5>0,IF('Crop Factor'!B$13=\"Evaporation Pan\",'Irrig Diary'!E86*'Crop Factor'!C$5,'Irrig Diary'!F86*'Crop Factor'!C$5),\"N/A\")","v":0.76785714285714279},0.53749999999999998,0.76785714285714279,null,null,{"$f":"IF(D86=\"N/A\",'Fixed WU Figure'!G$14,D86*H86)","v":0},0,0,0,null,0]
["2015-09-09","Wed",null,{"$f":"IF('Crop Factor'!C$5>0,IF('Crop Factor'!B$13=\"Evaporation Pan\",'Irrig Diary'!E87*'Crop Factor'!C$5,'Irrig Diary'!F87*'Crop Factor'!C$5),\"N/A\")","v":0.76785714285714279},0.53749999999999998,0.76785714285714279,null,null,{"$f":"IF(D87=\"N/A\",'Fixed WU Figure'!G$14,D87*H87)","v":0},0,0,0,null,0]
["2015-09-10","Thu",null,{"$f":"IF('Crop Factor'!C$5>0,IF('Crop Factor'!B$13=\"Evaporation Pan\",'Irrig Diary'!E88*'Crop Factor'!C$5,'Irrig Diary'!F88*'Crop Factor'!C$5),\"N/A\")","v":0.76785714285714279},0.53749999999999998,0.76785714285714279,null,null,{"$f":"IF(D88=\"N/A\",'Fixed WU Figure'!G$14,D88*H88)","v":0},0,0,0,null,0]
["2015-09-11","Fri",null,{"$f":"IF('Crop Factor'!C$5>0,IF('Crop Factor'!B$13=\"Evaporation Pan\",'Irrig Diary'!E89*'Crop Factor'!C$5,'Irrig Diary'!F89*'Crop Factor'!C$5),\"N/A\")","v":0.76785714285714279},0.53749999999999998,0.76785714285714279,null,null,{"$f":"IF(D89=\"N/A\",'Fixed WU Figure'!G$14,D89*H89)","v":0},0,0,0,null,0]
["2015-09-12","Sat",null,{"$f":"IF('Crop Factor'!C$5>0,IF('Crop Factor'!B$13=\"Evaporation Pan\",'Irrig Diary'!E90*'Crop Factor'!C$5,'Irrig Diary'!F90*'Crop Factor'!C$5),\"N/A\")","v":0.76785714285714279},0.53749999999999998,0.76785714285714279,null,null,{"$f":"IF(D90=\"N/A\",'Fixed WU Figure'!G$14,D90*H90)","v":0},0,0,0,null,0]
["2015-09-13","Sun",null,{"$f":"IF('Crop Factor'!C$5>0,IF('Crop Factor'!B$13=\"Evaporation Pan\",'Irrig Diary'!E91*'Crop Factor'!C$5,'Irrig Diary'!F91*'Crop Factor'!C$5),\"N/A\")","v":0.8035714285714286},0.5625,0.8035714285714286,null,null,{"$f":"IF(D91=\"N/A\",'Fixed WU Figure'!G$14,D91*H91)","v":0},0,0,0,null,0]
["2015-09-14","Mon",null,{"$f":"IF('Crop Factor'!C$5>0,IF('Crop Factor'!B$13=\"Evaporation Pan\",'Irrig Diary'!E92*'Crop Factor'!C$5,'Irrig Diary'!F92*'Crop Factor'!C$5),\"N/A\")","v":0.8035714285714286},0.5625,0.8035714285714286,null,null,{"$f":"IF(D92=\"N/A\",'Fixed WU Figure'!G$14,D92*H92)","v":0},0,0,0,null,0]
["2015-09-15","Tue",null,{"$f":"IF('Crop Factor'!C$5>0,IF('Crop Factor'!B$13=\"Evaporation Pan\",'Irrig Diary'!E93*'Crop Factor'!C$5,'Irrig Diary'!F93*'Crop Factor'!C$5),\"N/A\")","v":0.8035714285714286},0.5625,0.8035714285714286,null,null,{"$f":"IF(D93=\"N/A\",'Fixed WU Figure'!G$14,D93*H93)","v":0},0,0,0,null,0]
["2015-09-16","Wed",null,{"$f":"IF('Crop Factor'!C$5>0,IF('Crop Factor'!B$13=\"Evaporation Pan\",'Irrig Diary'!E94*'Crop Factor'!C$5,'Irrig Diary'!F94*'Crop Factor'!C$5),\"N/A\")","v":0.8035714285714286},0.5625,0.8035714285714286,null,null,{"$f":"IF(D94=\"N/A\",'Fixed WU Figure'!G$14,D94*H94)","v":0},0,0,0,null,0]
["2015-09-17","Thu",null,{"$f":"IF('Crop Factor'!C$5>0,IF('Crop Factor'!B$13=\"Evaporation Pan\",'Irrig Diary'!E95*'Crop Factor'!C$5,'Irrig Diary'!F95*'Crop Factor'!C$5),\"N/A\")","v":0.8035714285714286},0.5625,0.8035714285714286,null,null,{"$f":"IF(D95=\"N/A\",'Fixed WU Figure'!G$14,D95*H95)","v":0},0,0,0,null,0]
["2015-09-18","Fri",null,{"$f":"IF('Crop Factor'!C$5>0,IF('Crop Factor'!B$13=\"Evaporation Pan\",'Irrig Diary'!E96*'Crop Factor'!C$5,'Irrig Diary'!F96*'Crop Factor'!C$5),\"N/A\")","v":0.8571428571428571},0.6,0.8571428571428571,null,null,{"$f":"IF(D96=\"N/A\",'Fixed WU Figure'!G$14,D96*H96)","v":0},0,0,0,null,0]
["2015-09-19","Sat",null,{"$f":"IF('Crop Factor'!C$5>0,IF('Crop Factor'!B$13=\"Evaporation Pan\",'Irrig Diary'!E97*'Crop Factor'!C$5,'Irrig Diary'!F97*'Crop Factor'!C$5),\"N/A\")","v":0.9107142857142857},0.63749999999999996,0.9107142857142857,null,null,{"$f":"IF(D97=\"N/A\",'Fixed WU Figure'!G$14,D97*H97)","v":0},0,0,0,null,0]
["2015-09-20","Sun",null,{"$f":"IF('Crop Factor'!C$5>0,IF('Crop Factor'!B$13=\"Evaporation Pan\",'Irrig Diary'!E98*'Crop Factor'!C$5,'Irrig Diary'!F98*'Crop Factor'!C$5),\"N/A\")","v":0.9107142857142857},0.63749999999999996,0.9107142857142857,null,null,{"$f":"IF(D98=\"N/A\",'Fixed WU Figure'!G$14,D98*H98)","v":0},0,0,0,null,0]
["2015-09-21","Mon",null,{"$f":"IF('Crop Factor'!C$5>0,IF('Crop Factor'!B$13=\"Evaporation Pan\",'Irrig Diary'!E99*'Crop Factor'!C$5,'Irrig Diary'!F99*'Crop Factor'!C$5),\"N/A\")","v":0.96428571428571419},0.67499999999999993,0.96428571428571419,null,null,{"$f":"IF(D99=\"N/A\",'Fixed WU Figure'!G$14,D99*H99)","v":0},0,0,0,null,0]
["2015-09-22","Tue",null,{"$f":"IF('Crop Factor'!C$5>0,IF('Crop Factor'!B$13=\"Evaporation Pan\",'Irrig Diary'!E100*'Crop Factor'!C$5,'Irrig Diary'!F100*'Crop Factor'!C$5),\"N/A\")","v":0.96428571428571419},0.67499999999999993,0.96428571428571419,null,null,{"$f":"IF(D100=\"N/A\",'Fixed WU Figure'!G$14,D100*H100)","v":0},0,0,0,null,0]
["2015-09-23","Wed",null,{"$f":"IF('Crop Factor'!C$5>0,IF('Crop Factor'!B$13=\"Evaporation Pan\",'Irrig Diary'!E101*'Crop Factor'!C$5,'Irrig Diary'!F101*'Crop Factor'!C$5),\"N/A\")","v":1.0892857142857142},0.76249999999999996,1.0892857142857142,null,null,{"$f":"IF(D101=\"N/A\",'Fixed WU Figure'!G$14,D101*H101)","v":0},0,0,0,null,0]
["2015-09-24","Thu",null,{"$f":"IF('Crop Factor'!C$5>0,IF('Crop Factor'!B$13=\"Evaporation Pan\",'Irrig Diary'!E102*'Crop Factor'!C$5,'Irrig Diary'!F102*'Crop Factor'!C$5),\"N/A\")","v":1.0892857142857142},0.76249999999999996,1.0892857142857142,null,null,{"$f":"IF(D102=\"N/A\",'Fixed WU Figure'!G$14,D102*H102)","v":0},0,0,0,null,0]
["2015-09-25","Fri",null,{"$f":"IF('Crop Factor'!C$5>0,IF('Crop Factor'!B$13=\"Evaporation Pan\",'Irrig Diary'!E103*'Crop Factor'!C$5,'Irrig Diary'!F103*'Crop Factor'!C$5),\"N/A\")","v":1.1428571428571428},0.79999999999999993,1.1428571428571428,null,null,{"$f":"IF(D103=\"N/A\",'Fixed WU Figure'!G$14,D103*H103)","v":0},0,0,0,null,0]
["2015-09-26","Sat",null,{"$f":"IF('Crop Factor'!C$5>0,IF('Crop Factor'!B$13=\"Evaporation Pan\",'Irrig Diary'!E104*'Crop Factor'!C$5,'Irrig Diary'!F104*'Crop Factor'!C$5),\"N/A\")","v":1.1428571428571428},0.79999999999999993,1.1428571428571428,null,null,{"$f":"IF(D104=\"N/A\",'Fixed WU Figure'!G$14,D104*H104)","v":0},0,0,0,null,0]
["2015-09-27","Sun",null,{"$f":"IF('Crop Factor'!C$5>0,IF('Crop Factor'!B$13=\"Evaporation Pan\",'Irrig Diary'!E105*'Crop Factor'!C$5,'Irrig Diary'!F105*'Crop Factor'!C$5),\"N/A\")","v":1.1428571428571428},0.79999999999999993,1.1428571428571428,null,null,{"$f":"IF(D105=\"N/A\",'Fixed WU Figure'!G$14,D105*H105)","v":0},0,0,0,null,0]
["2015-09-28","Mon",null,{"$f":"IF('Crop Factor'!C$5>0,IF('Crop Factor'!B$13=\"Evaporation Pan\",'Irrig Diary'!E106*'Crop Factor'!C$5,'Irrig Diary'!F106*'Crop Factor'!C$5),\"N/A\")","v":1.1428571428571428},0.79999999999999993,1.1428571428571428,null,null,{"$f":"IF(D106=\"N/A\",'Fixed WU Figure'!G$14,D106*H106)","v":0},0,0,0,null,0]
["2015-09-29","Tue",null,{"$f":"IF('Crop Factor'!C$5>0,IF('Crop Factor'!B$13=\"Evaporation Pan\",'Irrig Diary'!E107*'Crop Factor'!C$5,'Irrig Diary'!F107*'Crop Factor'!C$5),\"N/A\")","v":1.1428571428571428},0.79999999999999993,1.1428571428571428,null,null,{"$f":"IF(D107=\"N/A\",'Fixed WU Figure'!G$14,D107*H107)","v":0},0,0,0,null,0]
["2015-09-30","Wed",null,{"$f":"IF('Crop Factor'!C$5>0,IF('Crop Factor'!B$13=\"Evaporation Pan\",'Irrig Diary'!E108*'Crop Factor'!C$5,'Irrig Diary'!F108*'Crop Factor'!C$5),\"N/A\")","v":1.1428571428571428},0.79999999999999993,1.1428571428571428,null,null,{"$f":"IF(D108=\"N/A\",'Fixed WU Figure'!G$14,D108*H108)","v":0},0,0,0,null,0]
["2015-10-01","Thu",null,{"$f":"IF('Crop Factor'!C$5>0,IF('Crop Factor'!B$13=\"Evaporation Pan\",'Irrig Diary'!E109*'Crop Factor'!C$5,'Irrig Diary'!F109*'Crop Factor'!C$5),\"N/A\")","v":1.1428571428571428},0.79999999999999993,1.1428571428571428,null,null,{"$f":"IF(D109=\"N/A\",'Fixed WU Figure'!G$15,D109*H109)","v":0},0,0,0,null,0]
["2015-10-02","Fri",null,{"$f":"IF('Crop Factor'!C$5>0,IF('Crop Factor'!B$13=\"Evaporation Pan\",'Irrig Diary'!E110*'Crop Factor'!C$5,'Irrig Diary'!F110*'Crop Factor'!C$5),\"N/A\")","v":1.2142857142857142},0.85,1.2142857142857142,null,null,{"$f":"IF(D110=\"N/A\",'Fixed WU Figure'!G$15,D110*H110)","v":0},0,0,0,null,0]
["2015-10-03","Sat",null,{"$f":"IF('Crop Factor'!C$5>0,IF('Crop Factor'!B$13=\"Evaporation Pan\",'Irrig Diary'!E111*'Crop Factor'!C$5,'Irrig Diary'!F111*'Crop Factor'!C$5),\"N/A\")","v":1.25},0.875,1.25,null,null,{"$f":"IF(D111=\"N/A\",'Fixed WU Figure'!G$15,D111*H111)","v":0},0,0,0,null,0]
["2015-10-04","Sun",null,{"$f":"IF('Crop Factor'!C$5>0,IF('Crop Factor'!B$13=\"Evaporation Pan\",'Irrig Diary'!E112*'Crop Factor'!C$5,'Irrig Diary'!F112*'Crop Factor'!C$5),\"N/A\")","v":1.25},0.875,1.25,null,null,{"$f":"IF(D112=\"N/A\",'Fixed WU Figure'!G$15,D112*H112)","v":0},0,0,0,null,0]
["2015-10-05","Mon",null,{"$f":"IF('Crop Factor'!C$5>0,IF('Crop Factor'!B$13=\"Evaporation Pan\",'Irrig Diary'!E113*'Crop Factor'!C$5,'Irrig Diary'!F113*'Crop Factor'!C$5),\"N/A\")","v":1.2857142857142858},0.9,1.2857142857142858,null,null,{"$f":"IF(D113=\"N/A\",'Fixed WU Figure'!G$15,D113*H113)","v":0},0,0,0,null,0]
["2015-10-06","Tue",null,{"$f":"IF('Crop Factor'!C$5>0,IF('Crop Factor'!B$13=\"Evaporation Pan\",'Irrig Diary'!E114*'Crop Factor'!C$5,'Irrig Diary'!F114*'Crop Factor'!C$5),\"N/A\")","v":1.3214285714285716},0.92500000000000004,1.3214285714285716,null,null,{"$f":"IF(D114=\"N/A\",'Fixed WU Figure'!G$15,D114*H114)","v":0},0,0,0,null,0]
["2015-10-07","Wed",null,{"$f":"IF('Crop Factor'!C$5>0,IF('Crop Factor'!B$13=\"Evaporation Pan\",'Irrig Diary'!E115*'Crop Factor'!C$5,'Irrig Diary'!F115*'Crop Factor'!C$5),\"N/A\")","v":1.3214285714285716},0.92500000000000004,1.3214285714285716,null,null,{"$f":"IF(D115=\"N/A\",'Fixed WU Figure'!G$15,D115*H115)","v":0},0,0,0,null,0]
["2015-10-08","Thu",null,{"$f":"IF('Crop Factor'!C$5>0,IF('Crop Factor'!B$13=\"Evaporation Pan\",'Irrig Diary'!E116*'Crop Factor'!C$5,'Irrig Diary'!F116*'Crop Factor'!C$5),\"N/A\")","v":1.3214285714285716},0.92500000000000004,1.3214285714285716,null,null,{"$f":"IF(D116=\"N/A\",'Fixed WU Figure'!G$15,D116*H116)","v":0},0,0,0,null,0]
["2015-10-09","Fri",null,{"$f":"IF('Crop Factor'!C$5>0,IF('Crop Factor'!B$13=\"Evaporation Pan\",'Irrig Diary'!E117*'Crop Factor'!C$5,'Irrig Diary'!F117*'Crop Factor'!C$5),\"N/A\")","v":1.3214285714285716},0.92500000000000004,1.3214285714285716,null,null,{"$f":"IF(D117=\"N/A\",'Fixed WU Figure'!G$15,D117*H117)","v":0},0,0,0,null,0]
["2015-10-10","Sat",null,{"$f":"IF('Crop Factor'!C$5>0,IF('Crop Factor'!B$13=\"Evaporation Pan\",'Irrig Diary'!E118*'Crop Factor'!C$5,'Irrig Diary'!F118*'Crop Factor'!C$5),\"N/A\")","v":1.3214285714285716},0.92500000000000004,1.3214285714285716,null,null,{"$f":"IF(D118=\"N/A\",'Fixed WU Figure'!G$15,D118*H118)","v":0},0,0,0,null,0]
["2015-10-11","Sun",null,{"$f":"IF('Crop Factor'!C$5>0,IF('Crop Factor'!B$13=\"Evaporation Pan\",'Irrig Diary'!E119*'Crop Factor'!C$5,'Irrig Diary'!F119*'Crop Factor'!C$5),\"N/A\")","v":1.3214285714285716},0.92500000000000004,1.3214285714285716,null,null,{"$f":"IF(D119=\"N/A\",'Fixed WU Figure'!G$15,D119*H119)","v":0},0,0,0,null,0]
["2015-10-12","Mon",null,{"$f":"IF('Crop Factor'!C$5>0,IF('Crop Factor'!B$13=\"Evaporation Pan\",'Irrig Diary'!E120*'Crop Factor'!C$5,'Irrig Diary'!F120*'Crop Factor'!C$5),\"N/A\")","v":1.3214285714285716},0.92500000000000004,1.3214285714285716,null,null,{"$f":"IF(D120=\"N/A\",'Fixed WU Figure'!G$15,D120*H120)","v":0},0,0,0,null,0]
["2015-10-13","Tue",null,{"$f":"IF('Crop Factor'!C$5>0,IF('Crop Factor'!B$13=\"Evaporation Pan\",'Irrig Diary'!E121*'Crop Factor'!C$5,'Irrig Diary'!F121*'Crop Factor'!C$5),\"N/A\")","v":1.3928571428571428},0.97499999999999998,1.3928571428571428,null,null,{"$f":"IF(D121=\"N/A\",'Fixed WU Figure'!G$15,D121*H121)","v":0},0,0,0,null,0]
["2015-10-14","Wed",null,{"$f":"IF('Crop Factor'!C$5>0,IF('Crop Factor'!B$13=\"Evaporation Pan\",'Irrig Diary'!E122*'Crop Factor'!C$5,'Irrig Diary'!F122*'Crop Factor'!C$5),\"N/A\")","v":1.3928571428571428},0.97499999999999998,1.3928571428571428,null,null,{"$f":"IF(D122=\"N/A\",'Fixed WU Figure'!G$15,D122*H122)","v":0},0,0,0,null,0]
["2015-10-15","Thu",null,{"$f":"IF('Crop Factor'!C$5>0,IF('Crop Factor'!B$13=\"Evaporation Pan\",'Irrig Diary'!E123*'Crop Factor'!C$5,'Irrig Diary'!F123*'Crop Factor'!C$5),\"N/A\")","v":1.3928571428571428},0.97499999999999998,1.3928571428571428,null,null,{"$f":"IF(D123=\"N/A\",'Fixed WU Figure'!G$15,D123*H123)","v":0},0,0,0,null,0]
["2015-10-16","Fri",null,{"$f":"IF('Crop Factor'!C$5>0,IF('Crop Factor'!B$13=\"Evaporation Pan\",'Irrig Diary'!E124*'Crop Factor'!C$5,'Irrig Diary'!F124*'Crop Factor'!C$5),\"N/A\")","v":1.3928571428571428},0.97499999999999998,1.3928571428571428,null,null,{"$f":"IF(D124=\"N/A\",'Fixed WU Figure'!G$15,D124*H124)","v":0},0,0,0,null,0]
["2015-10-17","Sat",null,{"$f":"IF('Crop Factor'!C$5>0,IF('Crop Factor'!B$13=\"Evaporation Pan\",'Irrig Diary'!E125*'Crop Factor'!C$5,'Irrig Diary'!F125*'Crop Factor'!C$5),\"N/A\")","v":1.4285714285714286},1,1.4285714285714286,null,null,{"$f":"IF(D125=\"N/A\",'Fixed WU Figure'!G$15,D125*H125)","v":0},0,0,0,null,0]
["2015-10-18","Sun",null,{"$f":"IF('Crop Factor'!C$5>0,IF('Crop Factor'!B$13=\"Evaporation Pan\",'Irrig Diary'!E126*'Crop Factor'!C$5,'Irrig Diary'!F126*'Crop Factor'!C$5),\"N/A\")","v":1.4285714285714286},1,1.4285714285714286,null,null,{"$f":"IF(D126=\"N/A\",'Fixed WU Figure'!G$15,D126*H126)","v":0},0,0,0,null,0]
["2015-10-19","Mon",null,{"$f":"IF('Crop Factor'!C$5>0,IF('Crop Factor'!B$13=\"Evaporation Pan\",'Irrig Diary'!E127*'Crop Factor'!C$5,'Irrig Diary'!F127*'Crop Factor'!C$5),\"N/A\")","v":1.4107142857142858},0.98750000000000004,1.4107142857142858,null,null,{"$f":"IF(D127=\"N/A\",'Fixed WU Figure'!G$15,D127*H127)","v":0},0,0,0,null,0]
["2015-10-20","Tue",null,{"$f":"IF('Crop Factor'!C$5>0,IF('Crop Factor'!B$13=\"Evaporation Pan\",'Irrig Diary'!E128*'Crop Factor'!C$5,'Irrig Diary'!F128*'Crop Factor'!C$5),\"N/A\")","v":1.4107142857142858},0.98750000000000004,1.4107142857142858,null,null,{"$f":"IF(D128=\"N/A\",'Fixed WU Figure'!G$15,D128*H128)","v":0},0,0,0,null,0]
["2015-10-21","Wed",null,{"$f":"IF('Crop Factor'!C$5>0,IF('Crop Factor'!B$13=\"Evaporation Pan\",'Irrig Diary'!E129*'Crop Factor'!C$5,'Irrig Diary'!F129*'Crop Factor'!C$5),\"N/A\")","v":1.4464285714285716},1.0125000000000002,1.4464285714285716,null,null,{"$f":"IF(D129=\"N/A\",'Fixed WU Figure'!G$15,D129*H129)","v":0},0,0,0,null,0]
["2015-10-22","Thu",null,{"$f":"IF('Crop Factor'!C$5>0,IF('Crop Factor'!B$13=\"Evaporation Pan\",'Irrig Diary'!E130*'Crop Factor'!C$5,'Irrig Diary'!F130*'Crop Factor'!C$5),\"N/A\")","v":1.4464285714285716},1.0125000000000002,1.4464285714285716,null,null,{"$f":"IF(D130=\"N/A\",'Fixed WU Figure'!G$15,D130*H130)","v":0},0,0,0,null,0]
["2015-10-23","Fri",null,{"$f":"IF('Crop Factor'!C$5>0,IF('Crop Factor'!B$13=\"Evaporation Pan\",'Irrig Diary'!E131*'Crop Factor'!C$5,'Irrig Diary'!F131*'Crop Factor'!C$5),\"N/A\")","v":1.4642857142857144},1.0250000000000001,1.4642857142857144,null,null,{"$f":"IF(D131=\"N/A\",'Fixed WU Figure'!G$15,D131*H131)","v":0},0,0,0,null,0]
["2015-10-24","Sat",null,{"$f":"IF('Crop Factor'!C$5>0,IF('Crop Factor'!B$13=\"Evaporation Pan\",'Irrig Diary'!E132*'Crop Factor'!C$5,'Irrig Diary'!F132*'Crop Factor'!C$5),\"N/A\")","v":1.5},1.05,1.5,null,null,{"$f":"IF(D132=\"N/A\",'Fixed WU Figure'!G$15,D132*H132)","v":0},0,0,0,null,0]
["2015-10-25","Sun",null,{"$f":"IF('Crop Factor'!C$5>0,IF('Crop Factor'!B$13=\"Evaporation Pan\",'Irrig Diary'!E133*'Crop Factor'!C$5,'Irrig Diary'!F133*'Crop Factor'!C$5),\"N/A\")","v":1.535714285714286},1.0750000000000002,1.535714285714286,null,null,{"$f":"IF(D133=\"N/A\",'Fixed WU Figure'!G$15,D133*H133)","v":0},0,0,0,null,0]
["2015-10-26","Mon",null,{"$f":"IF('Crop Factor'!C$5>0,IF('Crop Factor'!B$13=\"Evaporation Pan\",'Irrig Diary'!E134*'Crop Factor'!C$5,'Irrig Diary'!F134*'Crop Factor'!C$5),\"N/A\")","v":1.535714285714286},1.0750000000000002,1.535714285714286,null,null,{"$f":"IF(D134=\"N/A\",'Fixed WU Figure'!G$15,D134*H134)","v":0},0,0,0,null,0]
["2015-10-27","Tue",null,{"$f":"IF('Crop Factor'!C$5>0,IF('Crop Factor'!B$13=\"Evaporation Pan\",'Irrig Diary'!E135*'Crop Factor'!C$5,'Irrig Diary'!F135*'Crop Factor'!C$5),\"N/A\")","v":1.535714285714286},1.0750000000000002,1.535714285714286,null,null,{"$f":"IF(D135=\"N/A\",'Fixed WU Figure'!G$15,D135*H135)","v":0},0,0,0,null,0]
["2015-10-28","Wed",null,{"$f":"IF('Crop Factor'!C$5>0,IF('Crop Factor'!B$13=\"Evaporation Pan\",'Irrig Diary'!E136*'Crop Factor'!C$5,'Irrig Diary'!F136*'Crop Factor'!C$5),\"N/A\")","v":1.535714285714286},1.0750000000000002,1.535714285714286,null,null,{"$f":"IF(D136=\"N/A\",'Fixed WU Figure'!G$15,D136*H136)","v":0},0,0,0,null,0]
["2015-10-29","Thu",null,{"$f":"IF('Crop Factor'!C$5>0,IF('Crop Factor'!B$13=\"Evaporation Pan\",'Irrig Diary'!E137*'Crop Factor'!C$5,'Irrig Diary'!F137*'Crop Factor'!C$5),\"N/A\")","v":1.535714285714286},1.0750000000000002,1.535714285714286,null,null,{"$f":"IF(D137=\"N/A\",'Fixed WU Figure'!G$15,D137*H137)","v":0},0,0,0,null,0]
["2015-10-30","Fri",null,{"$f":"IF('Crop Factor'!C$5>0,IF('Crop Factor'!B$13=\"Evaporation Pan\",'Irrig Diary'!E138*'Crop Factor'!C$5,'Irrig Diary'!F138*'Crop Factor'!C$5),\"N/A\")","v":1.535714285714286},1.0750000000000002,1.535714285714286,null,null,{"$f":"IF(D138=\"N/A\",'Fixed WU Figure'!G$15,D138*H138)","v":0},0,0,0,null,0]
["2015-10-31","Sat",null,{"$f":"IF('Crop Factor'!C$5>0,IF('Crop Factor'!B$13=\"Evaporation Pan\",'Irrig Diary'!E139*'Crop Factor'!C$5,'Irrig Diary'!F139*'Crop Factor'!C$5),\"N/A\")","v":1.535714285714286},1.0750000000000002,1.535714285714286,null,null,{"$f":"IF(D139=\"N/A\",'Fixed WU Figure'!G$15,D139*H139)","v":0},0,0,0,null,0]
["2015-11-01","Sun",null,{"$f":"IF('Crop Factor'!C$5>0,IF('Crop Factor'!B$13=\"Evaporation Pan\",'Irrig Diary'!E140*'Crop Factor'!C$5,'Irrig Diary'!F140*'Crop Factor'!C$5),\"N/A\")","v":1.535714285714286},1.0750000000000002,1.535714285714286,null,null,{"$f":"IF(D140=\"N/A\",'Fixed WU Figure'!G$16,D140*H140)","v":0},0,0,0,null,0]
["2015-11-02","Mon",null,{"$f":"IF('Crop Factor'!C$5>0,IF('Crop Factor'!B$13=\"Evaporation Pan\",'Irrig Diary'!E141*'Crop Factor'!C$5,'Irrig Diary'!F141*'Crop Factor'!C$5),\"N/A\")","v":1.5178571428571432},1.0625000000000002,1.5178571428571432,null,null,{"$f":"IF(D141=\"N/A\",'Fixed WU Figure'!G$16,D141*H141)","v":0},0,0,0,null,0]
["2015-11-03","Tue",null,{"$f":"IF('Crop Factor'!C$5>0,IF('Crop Factor'!B$13=\"Evaporation Pan\",'Irrig Diary'!E142*'Crop Factor'!C$5,'Irrig Diary'!F142*'Crop Factor'!C$5),\"N/A\")","v":1.5000000000000004},1.0500000000000003,1.5000000000000004,null,null,{"$f":"IF(D142=\"N/A\",'Fixed WU Figure'!G$16,D142*H142)","v":0},0,0,0,null,0]
["2015-11-04","Wed",null,{"$f":"IF('Crop Factor'!C$5>0,IF('Crop Factor'!B$13=\"Evaporation Pan\",'Irrig Diary'!E143*'Crop Factor'!C$5,'Irrig Diary'!F143*'Crop Factor'!C$5),\"N/A\")","v":1.5000000000000004},1.0500000000000003,1.5000000000000004,null,null,{"$f":"IF(D143=\"N/A\",'Fixed WU Figure'!G$16,D143*H143)","v":0},0,0,0,null,0]
["2015-11-05","Thu",null,{"$f":"IF('Crop Factor'!C$5>0,IF('Crop Factor'!B$13=\"Evaporation Pan\",'Irrig Diary'!E144*'Crop Factor'!C$5,'Irrig Diary'!F144*'Crop Factor'!C$5),\"N/A\")","v":1.5000000000000004},1.0500000000000003,1.5000000000000004,null,null,{"$f":"IF(D144=\"N/A\",'Fixed WU Figure'!G$16,D144*H144)","v":0},0,0,0,null,0]
["2015-11-06","Fri",null,{"$f":"IF('Crop Factor'!C$5>0,IF('Crop Factor'!B$13=\"Evaporation Pan\",'Irrig Diary'!E145*'Crop Factor'!C$5,'Irrig Diary'!F145*'Crop Factor'!C$5),\"N/A\")","v":1.5178571428571432},1.0625000000000002,1.5178571428571432,null,null,{"$f":"IF(D145=\"N/A\",'Fixed WU Figure'!G$16,D145*H145)","v":0},0,{"$f":"IF(OR(I145=0,I145=\"N/A\"),0,I145/P$15)","v":0},0,null,0]
[{"$f":"A145+1","v":"2015-11-07"},"Sat",null,{"$f":"IF('Crop Factor'!C$5>0,IF('Crop Factor'!B$13=\"Evaporation Pan\",'Irrig Diary'!E146*'Crop Factor'!C$5,'Irrig Diary'!F146*'Crop Factor'!C$5),\"N/A\")","v":1.5178571428571432},1.0625000000000002,{"$f":"(1/F$15)*E146","v":1.5178571428571432},null,null,{"$f":"IF(D146=\"N/A\",'Fixed WU Figure'!G$16,D146*H146)","v":0},{"$f":"IF(I146>12,12,I146)","v":0},0,0,null,0]
["2015-11-08",{"$f":"TEXT(A147,\"ddd\")","v":"Sun"},null,{"$f":"IF('Crop Factor'!C$5>0,IF('Crop Factor'!B$13=\"Evaporation Pan\",'Irrig Diary'!E147*'Crop Factor'!C$5,'Irrig Diary'!F147*'Crop Factor'!C$5),\"N/A\")","v":1.5178571428571432},1.0625000000000002,1.5178571428571432,null,null,{"$f":"IF(D147=\"N/A\",'Fixed WU Figure'!G$16,D147*H147)","v":0},0,0,{"$f":"K147-N146","v":0},null,{"$f":"IF(K147>0,M147-K147+N146,0)","v":0}]
["2015-11-09","Mon",null,{"$f":"IF('Crop Factor'!C$5>0,IF('Crop Factor'!B$13=\"Evaporation Pan\",'Irrig Diary'!E148*'Crop Factor'!C$5,'Irrig Diary'!F148*'Crop Factor'!C$5),\"N/A\")","v":1.5178571428571432},1.0625000000000002,1.5178571428571432,null,null,{"$f":"IF(D148=\"N/A\",'Fixed WU Figure'!G$16,D148*H148)","v":0},0,0,0,null,0]
["2015-11-10","Tue",null,{"$f":"IF('Crop Factor'!C$5>0,IF('Crop Factor'!B$13=\"Evaporation Pan\",'Irrig Diary'!E149*'Crop Factor'!C$5,'Irrig Diary'!F149*'Crop Factor'!C$5),\"N/A\")","v":1.5178571428571432},1.0625000000000002,1.5178571428571432,null,null,{"$f":"IF(D149=\"N/A\",'Fixed WU Figure'!G$16,D149*H149)","v":0},0,0,0,null,0]
["2015-11-11","Wed",null,{"$f":"IF('Crop Factor'!C$5>0,IF('Crop Factor'!B$13=\"Evaporation Pan\",'Irrig Diary'!E150*'Crop Factor'!C$5,'Irrig Diary'!F150*'Crop Factor'!C$5),\"N/A\")","v":1.5178571428571432},1.0625000000000002,1.5178571428571432,null,null,{"$f":"IF(D150=\"N/A\",'Fixed WU Figure'!G$16,D150*H150)","v":0},0,0,0,null,0]
["2015-11-12","Thu",null,{"$f":"IF('Crop Factor'!C$5>0,IF('Crop Factor'!B$13=\"Evaporation Pan\",'Irrig Diary'!E151*'Crop Factor'!C$5,'Irrig Diary'!F151*'Crop Factor'!C$5),\"N/A\")","v":1.5178571428571432},1.0625000000000002,1.5178571428571432,null,null,{"$f":"IF(D151=\"N/A\",'Fixed WU Figure'!G$16,D151*H151)","v":0},0,0,0,null,0]
["2015-11-13","Fri",null,{"$f":"IF('Crop Factor'!C$5>0,IF('Crop Factor'!B$13=\"Evaporation Pan\",'Irrig Diary'!E152*'Crop Factor'!C$5,'Irrig Diary'!F152*'Crop Factor'!C$5),\"N/A\")","v":1.5178571428571432},1.0625000000000002,1.5178571428571432,null,null,{"$f":"IF(D152=\"N/A\",'Fixed WU Figure'!G$16,D152*H152)","v":0},0,0,0,null,0]
["2015-11-14","Sat",null,{"$f":"IF('Crop Factor'!C$5>0,IF('Crop Factor'!B$13=\"Evaporation Pan\",'Irrig Diary'!E153*'Crop Factor'!C$5,'Irrig Diary'!F153*'Crop Factor'!C$5),\"N/A\")","v":1.5178571428571432},1.0625000000000002,1.5178571428571432,null,null,{"$f":"IF(D153=\"N/A\",'Fixed WU Figure'!G$16,D153*H153)","v":0},0,0,0,null,0]
["2015-11-15","Sun",null,{"$f":"IF('Crop Factor'!C$5>0,IF('Crop Factor'!B$13=\"Evaporation Pan\",'Irrig Diary'!E154*'Crop Factor'!C$5,'Irrig Diary'!F154*'Crop Factor'!C$5),\"N/A\")","v":1.5178571428571432},1.0625000000000002,1.5178571428571432,null,null,{"$f":"IF(D154=\"N/A\",'Fixed WU Figure'!G$16,D154*H154)","v":0},0,0,0,null,0]
["2015-11-16","Mon",null,{"$f":"IF('Crop Factor'!C$5>0,IF('Crop Factor'!B$13=\"Evaporation Pan\",'Irrig Diary'!E155*'Crop Factor'!C$5,'Irrig Diary'!F155*'Crop Factor'!C$5),\"N/A\")","v":1.5178571428571432},1.0625000000000002,1.5178571428571432,null,null,{"$f":"IF(D155=\"N/A\",'Fixed WU Figure'!G$16,D155*H155)","v":0},0,0,0,null,0]
["2015-11-17","Tue",null,{"$f":"IF('Crop Factor'!C$5>0,IF('Crop Factor'!B$13=\"Evaporation Pan\",'Irrig Diary'!E156*'Crop Factor'!C$5,'Irrig Diary'!F156*'Crop Factor'!C$5),\"N/A\")","v":1.5178571428571432},1.0625000000000002,1.5178571428571432,null,null,{"$f":"IF(D156=\"N/A\",'Fixed WU Figure'!G$16,D156*H156)","v":0},0,0,0,null,0]
["2015-11-18","Wed",null,{"$f":"IF('Crop Factor'!C$5>0,IF('Crop Factor'!B$13=\"Evaporation Pan\",'Irrig Diary'!E157*'Crop Factor'!C$5,'Irrig Diary'!F157*'Crop Factor'!C$5),\"N/A\")","v":1.5178571428571432},1.0625000000000002,1.5178571428571432,null,null,{"$f":"IF(D157=\"N/A\",'Fixed WU Figure'!G$16,D157*H157)","v":0},0,0,0,null,0]
["2015-11-19","Thu",null,{"$f":"IF('Crop Factor'!C$5>0,IF('Crop Factor'!B$13=\"Evaporation Pan\",'Irrig Diary'!E158*'Crop Factor'!C$5,'Irrig Diary'!F158*'Crop Factor'!C$5),\"N/A\")","v":1.5},1.05,1.5,null,null,{"$f":"IF(D158=\"N/A\",'Fixed WU Figure'!G$16,D158*H158)","v":0},0,0,0,null,0]
["2015-11-20","Fri",null,{"$f":"IF('Crop Factor'!C$5>0,IF('Crop Factor'!B$13=\"Evaporation Pan\",'Irrig Diary'!E159*'Crop Factor'!C$5,'Irrig Diary'!F159*'Crop Factor'!C$5),\"N/A\")","v":1.4821428571428572},1.0375000000000001,1.4821428571428572,null,null,{"$f":"IF(D159=\"N/A\",'Fixed WU Figure'!G$16,D159*H159)","v":0},0,0,0,null,0]
["2015-11-21","Sat",null,{"$f":"IF('Crop Factor'!C$5>0,IF('Crop Factor'!B$13=\"Evaporation Pan\",'Irrig Diary'!E160*'Crop Factor'!C$5,'Irrig Diary'!F160*'Crop Factor'!C$5),\"N/A\")","v":1.4821428571428572},1.0375000000000001,1.4821428571428572,null,null,{"$f":"IF(D160=\"N/A\",'Fixed WU Figure'!G$16,D160*H160)","v":0},0,0,0,null,0]
["2015-11-22","Sun",null,{"$f":"IF('Crop Factor'!C$5>0,IF('Crop Factor'!B$13=\"Evaporation Pan\",'Irrig Diary'!E161*'Crop Factor'!C$5,'Irrig Diary'!F161*'Crop Factor'!C$5),\"N/A\")","v":1.4821428571428572},1.0375000000000001,1.4821428571428572,null,null,{"$f":"IF(D161=\"N/A\",'Fixed WU Figure'!G$16,D161*H161)","v":0},0,0,0,null,0]
["2015-11-23","Mon",null,{"$f":"IF('Crop Factor'!C$5>0,IF('Crop Factor'!B$13=\"Evaporation Pan\",'Irrig Diary'!E162*'Crop Factor'!C$5,'Irrig Diary'!F162*'Crop Factor'!C$5),\"N/A\")","v":1.4821428571428572},1.0375000000000001,1.4821428571428572,null,null,{"$f":"IF(D162=\"N/A\",'Fixed WU Figure'!G$16,D162*H162)","v":0},0,0,0,null,0]
["2015-11-24","Tue",null,{"$f":"IF('Crop Factor'!C$5>0,IF('Crop Factor'!B$13=\"Evaporation Pan\",'Irrig Diary'!E163*'Crop Factor'!C$5,'Irrig Diary'!F163*'Crop Factor'!C$5),\"N/A\")","v":1.4821428571428572},1.0375000000000001,1.4821428571428572,null,null,{"$f":"IF(D163=\"N/A\",'Fixed WU Figure'!G$16,D163*H163)","v":0},0,0,0,null,0]
["2015-11-25","Wed",null,{"$f":"IF('Crop Factor'!C$5>0,IF('Crop Factor'!B$13=\"Evaporation Pan\",'Irrig Diary'!E164*'Crop Factor'!C$5,'Irrig Diary'!F164*'Crop Factor'!C$5),\"N/A\")","v":1.4821428571428572},1.0375000000000001,1.4821428571428572,null,null,{"$f":"IF(D164=\"N/A\",'Fixed WU Figure'!G$16,D164*H164)","v":0},0,0,0,null,0]
["2015-11-26","Thu",null,{"$f":"IF('Crop Factor'!C$5>0,IF('Crop Factor'!B$13=\"Evaporation Pan\",'Irrig Diary'!E165*'Crop Factor'!C$5,'Irrig Diary'!F165*'Crop Factor'!C$5),\"N/A\")","v":1.4821428571428572},1.0375000000000001,1.4821428571428572,null,null,{"$f":"IF(D165=\"N/A\",'Fixed WU Figure'!G$16,D165*H165)","v":0},0,0,0,null,0]
["2015-11-27","Fri",null,{"$f":"IF('Crop Factor'!C$5>0,IF('Crop Factor'!B$13=\"Evaporation Pan\",'Irrig Diary'!E166*'Crop Factor'!C$5,'Irrig Diary'!F166*'Crop Factor'!C$5),\"N/A\")","v":1.4821428571428572},1.0375000000000001,1.4821428571428572,null,null,{"$f":"IF(D166=\"N/A\",'Fixed WU Figure'!G$16,D166*H166)","v":0},0,0,0,null,0]
["2015-11-28","Sat",null,{"$f":"IF('Crop Factor'!C$5>0,IF('Crop Factor'!B$13=\"Evaporation Pan\",'Irrig Diary'!E167*'Crop Factor'!C$5,'Irrig Diary'!F167*'Crop Factor'!C$5),\"N/A\")","v":1.4821428571428572},1.0375000000000001,1.4821428571428572,null,null,{"$f":"IF(D167=\"N/A\",'Fixed WU Figure'!G$16,D167*H167)","v":0},0,0,0,null,0]
["2015-11-29","Sun",null,{"$f":"IF('Crop Factor'!C$5>0,IF('Crop Factor'!B$13=\"Evaporation Pan\",'Irrig Diary'!E168*'Crop Factor'!C$5,'Irrig Diary'!F168*'Crop Factor'!C$5),\"N/A\")","v":1.4821428571428572},1.0375000000000001,1.4821428571428572,null,null,{"$f":"IF(D168=\"N/A\",'Fixed WU Figure'!G$16,D168*H168)","v":0},0,0,0,null,0]
["2015-11-30","Mon",null,{"$f":"IF('Crop Factor'!C$5>0,IF('Crop Factor'!B$13=\"Evaporation Pan\",'Irrig Diary'!E169*'Crop Factor'!C$5,'Irrig Diary'!F169*'Crop Factor'!C$5),\"N/A\")","v":1.4821428571428572},1.0375000000000001,1.4821428571428572,null,null,{"$f":"IF(D169=\"N/A\",'Fixed WU Figure'!G$16,D169*H169)","v":0},0,0,0,null,0]
["2015-12-01","Tue",null,{"$f":"IF('Crop Factor'!C$5>0,IF('Crop Factor'!B$13=\"Evaporation Pan\",'Irrig Diary'!E170*'Crop Factor'!C$5,'Irrig Diary'!F170*'Crop Factor'!C$5),\"N/A\")","v":1.4821428571428572},1.0375000000000001,1.4821428571428572,null,null,{"$f":"IF(D170=\"N/A\",'Fixed WU Figure'!G$17,D170*H170)","v":0},0,0,0,null,0]
["2015-12-02","Wed",null,{"$f":"IF('Crop Factor'!C$5>0,IF('Crop Factor'!B$13=\"Evaporation Pan\",'Irrig Diary'!E171*'Crop Factor'!C$5,'Irrig Diary'!F171*'Crop Factor'!C$5),\"N/A\")","v":1.4821428571428572},1.0375000000000001,1.4821428571428572,null,null,{"$f":"IF(D171=\"N/A\",'Fixed WU Figure'!G$17,D171*H171)","v":0},0,0,0,null,0]
["2015-12-03","Thu",null,{"$f":"IF('Crop Factor'!C$5>0,IF('Crop Factor'!B$13=\"Evaporation Pan\",'Irrig Diary'!E172*'Crop Factor'!C$5,'Irrig Diary'!F172*'Crop Factor'!C$5),\"N/A\")","v":1.4821428571428572},1.0375000000000001,1.4821428571428572,null,null,{"$f":"IF(D172=\"N/A\",'Fixed WU Figure'!G$17,D172*H172)","v":0},0,0,0,null,0]
["2015-12-04","Fri",null,{"$f":"IF('Crop Factor'!C$5>0,IF('Crop Factor'!B$13=\"Evaporation Pan\",'Irrig Diary'!E173*'Crop Factor'!C$5,'Irrig Diary'!F173*'Crop Factor'!C$5),\"N/A\")","v":1.4821428571428572},1.0375000000000001,1.4821428571428572,null,null,{"$f":"IF(D173=\"N/A\",'Fixed WU Figure'!G$17,D173*H173)","v":0},0,0,0,null,0]
["2015-12-05","Sat",null,{"$f":"IF('Crop Factor'!C$5>0,IF('Crop Factor'!B$13=\"Evaporation Pan\",'Irrig Diary'!E174*'Crop Factor'!C$5,'Irrig Diary'!F174*'Crop Factor'!C$5),\"N/A\")","v":1.4821428571428572},1.0375000000000001,1.4821428571428572,null,null,{"$f":"IF(D174=\"N/A\",'Fixed WU Figure'!G$17,D174*H174)","v":0},0,0,0,null,0]
["2015-12-06","Sun",null,{"$f":"IF('Crop Factor'!C$5>0,IF('Crop Factor'!B$13=\"Evaporation Pan\",'Irrig Diary'!E175*'Crop Factor'!C$5,'Irrig Diary'!F175*'Crop Factor'!C$5),\"N/A\")","v":1.4821428571428572},1.0375000000000001,1.4821428571428572,null,null,{"$f":"IF(D175=\"N/A\",'Fixed WU Figure'!G$17,D175*H175)","v":0},0,0,0,null,0]
["2015-12-07","Mon",null,{"$f":"IF('Crop Factor'!C$5>0,IF('Crop Factor'!B$13=\"Evaporation Pan\",'Irrig Diary'!E176*'Crop Factor'!C$5,'Irrig Diary'!F176*'Crop Factor'!C$5),\"N/A\")","v":1.4910714285714286},1.04375,1.4910714285714286,null,null,{"$f":"IF(D176=\"N/A\",'Fixed WU Figure'!G$17,D176*H176)","v":0},0,0,0,null,0]
["2015-12-08","Tue",null,{"$f":"IF('Crop Factor'!C$5>0,IF('Crop Factor'!B$13=\"Evaporation Pan\",'Irrig Diary'!E177*'Crop Factor'!C$5,'Irrig Diary'!F177*'Crop Factor'!C$5),\"N/A\")","v":1.4910714285714286},1.04375,1.4910714285714286,null,null,{"$f":"IF(D177=\"N/A\",'Fixed WU Figure'!G$17,D177*H177)","v":0},0,0,0,null,0]
["2015-12-09","Wed",null,{"$f":"IF('Crop Factor'!C$5>0,IF('Crop Factor'!B$13=\"Evaporation Pan\",'Irrig Diary'!E178*'Crop Factor'!C$5,'Irrig Diary'!F178*'Crop Factor'!C$5),\"N/A\")","v":1.4910714285714286},1.04375,1.4910714285714286,null,null,{"$f":"IF(D178=\"N/A\",'Fixed WU Figure'!G$17,D178*H178)","v":0},0,0,0,null,0]
["2015-12-10","Thu",null,{"$f":"IF('Crop Factor'!C$5>0,IF('Crop Factor'!B$13=\"Evaporation Pan\",'Irrig Diary'!E179*'Crop Factor'!C$5,'Irrig Diary'!F179*'Crop Factor'!C$5),\"N/A\")","v":1.4910714285714286},1.04375,1.4910714285714286,null,null,{"$f":"IF(D179=\"N/A\",'Fixed WU Figure'!G$17,D179*H179)","v":0},0,0,0,null,0]
["2015-12-11","Fri",null,{"$f":"IF('Crop Factor'!C$5>0,IF('Crop Factor'!B$13=\"Evaporation Pan\",'Irrig Diary'!E180*'Crop Factor'!C$5,'Irrig Diary'!F180*'Crop Factor'!C$5),\"N/A\")","v":1.5089285714285714},1.0562499999999999,1.5089285714285714,null,null,{"$f":"IF(D180=\"N/A\",'Fixed WU Figure'!G$17,D180*H180)","v":0},0,0,0,null,0]
["2015-12-12","Sat",null,{"$f":"IF('Crop Factor'!C$5>0,IF('Crop Factor'!B$13=\"Evaporation Pan\",'Irrig Diary'!E181*'Crop Factor'!C$5,'Irrig Diary'!F181*'Crop Factor'!C$5),\"N/A\")","v":1.4910714285714288},1.0437500000000002,1.4910714285714288,null,null,{"$f":"IF(D181=\"N/A\",'Fixed WU Figure'!G$17,D181*H181)","v":0},0,0,0,null,0]
["2015-12-13","Sun",null,{"$f":"IF('Crop Factor'!C$5>0,IF('Crop Factor'!B$13=\"Evaporation Pan\",'Irrig Diary'!E182*'Crop Factor'!C$5,'Irrig Diary'!F182*'Crop Factor'!C$5),\"N/A\")","v":1.4910714285714288},1.0437500000000002,1.4910714285714288,null,null,{"$f":"IF(D182=\"N/A\",'Fixed WU Figure'!G$17,D182*H182)","v":0},0,0,0,null,0]
["2015-12-14","Mon",null,{"$f":"IF('Crop Factor'!C$5>0,IF('Crop Factor'!B$13=\"Evaporation Pan\",'Irrig Diary'!E183*'Crop Factor'!C$5,'Irrig Diary'!F183*'Crop Factor'!C$5),\"N/A\")","v":1.5},1.05,1.5,null,null,{"$f":"IF(D183=\"N/A\",'Fixed WU Figure'!G$17,D183*H183)","v":0},0,0,0,null,0]
["2015-12-15","Tue",null,{"$f":"IF('Crop Factor'!C$5>0,IF('Crop Factor'!B$13=\"Evaporation Pan\",'Irrig Diary'!E184*'Crop Factor'!C$5,'Irrig Diary'!F184*'Crop Factor'!C$5),\"N/A\")","v":1.5},1.05,1.5,null,null,{"$f":"IF(D184=\"N/A\",'Fixed WU Figure'!G$17,D184*H184)","v":0},0,0,0,null,0]
["2015-12-16","Wed",null,{"$f":"IF('Crop Factor'!C$5>0,IF('Crop Factor'!B$13=\"Evaporation Pan\",'Irrig Diary'!E185*'Crop Factor'!C$5,'Irrig Diary'!F185*'Crop Factor'!C$5),\"N/A\")","v":1.5},1.05,1.5,null,null,{"$f":"IF(D185=\"N/A\",'Fixed WU Figure'!G$17,D185*H185)","v":0},0,0,0,null,0]
["2015-12-17","Thu",null,{"$f":"IF('Crop Factor'!C$5>0,IF('Crop Factor'!B$13=\"Evaporation Pan\",'Irrig Diary'!E186*'Crop Factor'!C$5,'Irrig Diary'!F186*'Crop Factor'!C$5),\"N/A\")","v":1.5},1.05,1.5,null,null,{"$f":"IF(D186=\"N/A\",'Fixed WU Figure'!G$17,D186*H186)","v":0},0,0,0,null,0]
["2015-12-18","Fri",null,{"$f":"IF('Crop Factor'!C$5>0,IF('Crop Factor'!B$13=\"Evaporation Pan\",'Irrig Diary'!E187*'Crop Factor'!C$5,'Irrig Diary'!F187*'Crop Factor'!C$5),\"N/A\")","v":1.5},1.05,1.5,null,null,{"$f":"IF(D187=\"N/A\",'Fixed WU Figure'!G$17,D187*H187)","v":0},0,0,0,null,0]
["2015-12-19","Sat",null,{"$f":"IF('Crop Factor'!C$5>0,IF('Crop Factor'!B$13=\"Evaporation Pan\",'Irrig Diary'!E188*'Crop Factor'!C$5,'Irrig Diary'!F188*'Crop Factor'!C$5),\"N/A\")","v":1.5},1.05,1.5,null,null,{"$f":"IF(D188=\"N/A\",'Fixed WU Figure'!G$17,D188*H188)","v":0},0,0,0,null,0]
["2015-12-20","Sun",null,{"$f":"IF('Crop Factor'!C$5>0,IF('Crop Factor'!B$13=\"Evaporation Pan\",'Irrig Diary'!E189*'Crop Factor'!C$5,'Irrig Diary'!F189*'Crop Factor'!C$5),\"N/A\")","v":1.5},1.05,1.5,null,null,{"$f":"IF(D189=\"N/A\",'Fixed WU Figure'!G$17,D189*H189)","v":0},0,0,0,null,0]
["2015-12-21","Mon",null,{"$f":"IF('Crop Factor'!C$5>0,IF('Crop Factor'!B$13=\"Evaporation Pan\",'Irrig Diary'!E190*'Crop Factor'!C$5,'Irrig Diary'!F190*'Crop Factor'!C$5),\"N/A\")","v":1.5178571428571428},1.0625,1.5178571428571428,null,null,{"$f":"IF(D190=\"N/A\",'Fixed WU Figure'!G$17,D190*H190)","v":0},0,0,0,null,0]
["2015-12-22","Tue",null,{"$f":"IF('Crop Factor'!C$5>0,IF('Crop Factor'!B$13=\"Evaporation Pan\",'Irrig Diary'!E191*'Crop Factor'!C$5,'Irrig Diary'!F191*'Crop Factor'!C$5),\"N/A\")","v":1.5178571428571428},1.0625,1.5178571428571428,null,null,{"$f":"IF(D191=\"N/A\",'Fixed WU Figure'!G$17,D191*H191)","v":0},0,0,0,null,0]
["2015-12-23","Wed",null,{"$f":"IF('Crop Factor'!C$5>0,IF('Crop Factor'!B$13=\"Evaporation Pan\",'Irrig Diary'!E192*'Crop Factor'!C$5,'Irrig Diary'!F192*'Crop Factor'!C$5),\"N/A\")","v":1.5178571428571428},1.0625,1.5178571428571428,null,null,{"$f":"IF(D192=\"N/A\",'Fixed WU Figure'!G$17,D192*H192)","v":0},0,0,0,null,0]
["2015-12-24","Thu",null,{"$f":"IF('Crop Factor'!C$5>0,IF('Crop Factor'!B$13=\"Evaporation Pan\",'Irrig Diary'!E193*'Crop Factor'!C$5,'Irrig Diary'!F193*'Crop Factor'!C$5),\"N/A\")","v":1.5178571428571428},1.0625,1.5178571428571428,null,null,{"$f":"IF(D193=\"N/A\",'Fixed WU Figure'!G$17,D193*H193)","v":0},0,0,0,null,0]
["2015-12-25","Fri",null,{"$f":"IF('Crop Factor'!C$5>0,IF('Crop Factor'!B$13=\"Evaporation Pan\",'Irrig Diary'!E194*'Crop Factor'!C$5,'Irrig Diary'!F194*'Crop Factor'!C$5),\"N/A\")","v":1.5178571428571428},1.0625,1.5178571428571428,null,null,{"$f":"IF(D194=\"N/A\",'Fixed WU Figure'!G$17,D194*H194)","v":0},0,0,0,null,0]
["2015-12-26","Sat",null,{"$f":"IF('Crop Factor'!C$5>0,IF('Crop Factor'!B$13=\"Evaporation Pan\",'Irrig Diary'!E195*'Crop Factor'!C$5,'Irrig Diary'!F195*'Crop Factor'!C$5),\"N/A\")","v":1.5178571428571428},1.0625,1.5178571428571428,null,null,{"$f":"IF(D195=\"N/A\",'Fixed WU Figure'!G$17,D195*H195)","v":0},0,0,0,null,0]
["2015-12-27","Sun",null,{"$f":"IF('Crop Factor'!C$5>0,IF('Crop Factor'!B$13=\"Evaporation Pan\",'Irrig Diary'!E196*'Crop Factor'!C$5,'Irrig Diary'!F196*'Crop Factor'!C$5),\"N/A\")","v":1.5178571428571428},1.0625,1.5178571428571428,null,null,{"$f":"IF(D196=\"N/A\",'Fixed WU Figure'!G$17,D196*H196)","v":0},0,0,0,null,0]
["2015-12-28","Mon",null,{"$f":"IF('Crop Factor'!C$5>0,IF('Crop Factor'!B$13=\"Evaporation Pan\",'Irrig Diary'!E197*'Crop Factor'!C$5,'Irrig Diary'!F197*'Crop Factor'!C$5),\"N/A\")","v":1.5},1.05,1.5,null,null,{"$f":"IF(D197=\"N/A\",'Fixed WU Figure'!G$17,D197*H197)","v":0},0,0,0,null,0]
["2015-12-29","Tue",null,{"$f":"IF('Crop Factor'!C$5>0,IF('Crop Factor'!B$13=\"Evaporation Pan\",'Irrig Diary'!E198*'Crop Factor'!C$5,'Irrig Diary'!F198*'Crop Factor'!C$5),\"N/A\")","v":1.5},1.05,1.5,null,null,{"$f":"IF(D198=\"N/A\",'Fixed WU Figure'!G$17,D198*H198)","v":0},0,0,0,null,0]
["2015-12-30","Wed",null,{"$f":"IF('Crop Factor'!C$5>0,IF('Crop Factor'!B$13=\"Evaporation Pan\",'Irrig Diary'!E199*'Crop Factor'!C$5,'Irrig Diary'!F199*'Crop Factor'!C$5),\"N/A\")","v":1.5},1.05,1.5,null,null,{"$f":"IF(D199=\"N/A\",'Fixed WU Figure'!G$17,D199*H199)","v":0},0,0,0,null,0]
["2015-12-31","Thu",null,{"$f":"IF('Crop Factor'!C$5>0,IF('Crop Factor'!B$13=\"Evaporation Pan\",'Irrig Diary'!E200*'Crop Factor'!C$5,'Irrig Diary'!F200*'Crop Factor'!C$5),\"N/A\")","v":1.5},1.05,1.5,null,null,{"$f":"IF(D200=\"N/A\",'Fixed WU Figure'!G$17,D200*H200)","v":0},0,0,0,null,0]
["2016-01-01","Fri",null,{"$f":"IF('Crop Factor'!C$5>0,IF('Crop Factor'!B$13=\"Evaporation Pan\",'Irrig Diary'!E201*'Crop Factor'!C$5,'Irrig Diary'!F201*'Crop Factor'!C$5),\"N/A\")","v":1.5},1.05,1.5,null,null,{"$f":"IF(D201=\"N/A\",'Fixed WU Figure'!G$18,D201*H201)","v":0},0,0,0,null,0]
["2016-01-02","Sat",null,{"$f":"IF('Crop Factor'!C$5>0,IF('Crop Factor'!B$13=\"Evaporation Pan\",'Irrig Diary'!E202*'Crop Factor'!C$5,'Irrig Diary'!F202*'Crop Factor'!C$5),\"N/A\")","v":1.5},1.05,1.5,null,null,{"$f":"IF(D202=\"N/A\",'Fixed WU Figure'!G$18,D202*H202)","v":0},0,0,0,null,0]
["2016-01-03","Sun",null,{"$f":"IF('Crop Factor'!C$5>0,IF('Crop Factor'!B$13=\"Evaporation Pan\",'Irrig Diary'!E203*'Crop Factor'!C$5,'Irrig Diary'!F203*'Crop Factor'!C$5),\"N/A\")","v":1.5},1.05,1.5,null,null,{"$f":"IF(D203=\"N/A\",'Fixed WU Figure'!G$18,D203*H203)","v":0},0,0,0,null,0]
["2016-01-04","Mon",null,{"$f":"IF('Crop Factor'!C$5>0,IF('Crop Factor'!B$13=\"Evaporation Pan\",'Irrig Diary'!E204*'Crop Factor'!C$5,'Irrig Diary'!F204*'Crop Factor'!C$5),\"N/A\")","v":1.5},1.05,1.5,null,null,{"$f":"IF(D204=\"N/A\",'Fixed WU Figure'!G$18,D204*H204)","v":0},0,0,0,null,0]
["2016-01-05","Tue",null,{"$f":"IF('Crop Factor'!C$5>0,IF('Crop Factor'!B$13=\"Evaporation Pan\",'Irrig Diary'!E205*'Crop Factor'!C$5,'Irrig Diary'!F205*'Crop Factor'!C$5),\"N/A\")","v":1.5},1.05,1.5,null,null,{"$f":"IF(D205=\"N/A\",'Fixed WU Figure'!G$18,D205*H205)","v":0},0,0,0,null,0]
["2016-01-06","Wed",null,{"$f":"IF('Crop Factor'!C$5>0,IF('Crop Factor'!B$13=\"Evaporation Pan\",'Irrig Diary'!E206*'Crop Factor'!C$5,'Irrig Diary'!F206*'Crop Factor'!C$5),\"N/A\")","v":1.4642857142857142},1.0249999999999999,1.4642857142857142,null,null,{"$f":"IF(D206=\"N/A\",'Fixed WU Figure'!G$18,D206*H206)","v":0},0,0,0,null,0]
["2016-01-07","Thu",null,{"$f":"IF('Crop Factor'!C$5>0,IF('Crop Factor'!B$13=\"Evaporation Pan\",'Irrig Diary'!E207*'Crop Factor'!C$5,'Irrig Diary'!F207*'Crop Factor'!C$5),\"N/A\")","v":1.4642857142857142},1.0249999999999999,1.4642857142857142,null,null,{"$f":"IF(D207=\"N/A\",'Fixed WU Figure'!G$18,D207*H207)","v":0},0,0,0,null,0]
["2016-01-08","Fri",null,{"$f":"IF('Crop Factor'!C$5>0,IF('Crop Factor'!B$13=\"Evaporation Pan\",'Irrig Diary'!E208*'Crop Factor'!C$5,'Irrig Diary'!F208*'Crop Factor'!C$5),\"N/A\")","v":1.4642857142857142},1.0249999999999999,1.4642857142857142,null,null,{"$f":"IF(D208=\"N/A\",'Fixed WU Figure'!G$18,D208*H208)","v":0},0,0,0,null,0]
["2016-01-09","Sat",null,{"$f":"IF('Crop Factor'!C$5>0,IF('Crop Factor'!B$13=\"Evaporation Pan\",'Irrig Diary'!E209*'Crop Factor'!C$5,'Irrig Diary'!F209*'Crop Factor'!C$5),\"N/A\")","v":1.4642857142857142},1.0249999999999999,1.4642857142857142,null,null,{"$f":"IF(D209=\"N/A\",'Fixed WU Figure'!G$18,D209*H209)","v":0},0,{"$f":"IF(OR(I209=0,I209=\"N/A\"),0,I209/P$15)","v":0},0,null,0]
[{"$f":"A209+1","v":"2016-01-10"},"Sun",null,{"$f":"IF('Crop Factor'!C$5>0,IF('Crop Factor'!B$13=\"Evaporation Pan\",'Irrig Diary'!E210*'Crop Factor'!C$5,'Irrig Diary'!F210*'Crop Factor'!C$5),\"N/A\")","v":1.4642857142857142},1.0249999999999999,{"$f":"(1/F$15)*E210","v":1.4642857142857142},null,null,{"$f":"IF(D210=\"N/A\",'Fixed WU Figure'!G$18,D210*H210)","v":0},{"$f":"IF(I210>12,12,I210)","v":0},0,0,null,0]
["2016-01-11",{"$f":"TEXT(A211,\"ddd\")","v":"Mon"},null,{"$f":"IF('Crop Factor'!C$5>0,IF('Crop Factor'!B$13=\"Evaporation Pan\",'Irrig Diary'!E211*'Crop Factor'!C$5,'Irrig Diary'!F211*'Crop Factor'!C$5),\"N/A\")","v":1.482142857142857},1.0374999999999999,1.482142857142857,null,null,{"$f":"IF(D211=\"N/A\",'Fixed WU Figure'!G$18,D211*H211)","v":0},0,0,{"$f":"K211-N210","v":0},null,{"$f":"IF(K211>0,M211-K211+N210,0)","v":0}]
["2016-01-12","Tue",null,{"$f":"IF('Crop Factor'!C$5>0,IF('Crop Factor'!B$13=\"Evaporation Pan\",'Irrig Diary'!E212*'Crop Factor'!C$5,'Irrig Diary'!F212*'Crop Factor'!C$5),\"N/A\")","v":1.482142857142857},1.0374999999999999,1.482142857142857,null,null,{"$f":"IF(D212=\"N/A\",'Fixed WU Figure'!G$18,D212*H212)","v":0},0,0,0,null,0]
["2016-01-13","Wed",null,{"$f":"IF('Crop Factor'!C$5>0,IF('Crop Factor'!B$13=\"Evaporation Pan\",'Irrig Diary'!E213*'Crop Factor'!C$5,'Irrig Diary'!F213*'Crop Factor'!C$5),\"N/A\")","v":1.482142857142857},1.0374999999999999,1.482142857142857,null,null,{"$f":"IF(D213=\"N/A\",'Fixed WU Figure'!G$18,D213*H213)","v":0},0,0,0,null,0]
["2016-01-14","Thu",null,{"$f":"IF('Crop Factor'!C$5>0,IF('Crop Factor'!B$13=\"Evaporation Pan\",'Irrig Diary'!E214*'Crop Factor'!C$5,'Irrig Diary'!F214*'Crop Factor'!C$5),\"N/A\")","v":1.482142857142857},1.0374999999999999,1.482142857142857,null,null,{"$f":"IF(D214=\"N/A\",'Fixed WU Figure'!G$18,D214*H214)","v":0},0,0,0,null,0]
["2016-01-15","Fri",null,{"$f":"IF('Crop Factor'!C$5>0,IF('Crop Factor'!B$13=\"Evaporation Pan\",'Irrig Diary'!E215*'Crop Factor'!C$5,'Irrig Diary'!F215*'Crop Factor'!C$5),\"N/A\")","v":1.482142857142857},1.0374999999999999,1.482142857142857,null,null,{"$f":"IF(D215=\"N/A\",'Fixed WU Figure'!G$18,D215*H215)","v":0},0,0,0,null,0]
["2016-01-16","Sat",null,{"$f":"IF('Crop Factor'!C$5>0,IF('Crop Factor'!B$13=\"Evaporation Pan\",'Irrig Diary'!E216*'Crop Factor'!C$5,'Irrig Diary'!F216*'Crop Factor'!C$5),\"N/A\")","v":1.482142857142857},1.0374999999999999,1.482142857142857,null,null,{"$f":"IF(D216=\"N/A\",'Fixed WU Figure'!G$18,D216*H216)","v":0},0,0,0,null,0]
["2016-01-17","Sun",null,{"$f":"IF('Crop Factor'!C$5>0,IF('Crop Factor'!B$13=\"Evaporation Pan\",'Irrig Diary'!E217*'Crop Factor'!C$5,'Irrig Diary'!F217*'Crop Factor'!C$5),\"N/A\")","v":1.4464285714285714},1.0125,1.4464285714285714,null,null,{"$f":"IF(D217=\"N/A\",'Fixed WU Figure'!G$18,D217*H217)","v":0},0,0,0,null,0]
["2016-01-18","Mon",null,{"$f":"IF('Crop Factor'!C$5>0,IF('Crop Factor'!B$13=\"Evaporation Pan\",'Irrig Diary'!E218*'Crop Factor'!C$5,'Irrig Diary'!F218*'Crop Factor'!C$5),\"N/A\")","v":1.4464285714285714},1.0125,1.4464285714285714,null,null,{"$f":"IF(D218=\"N/A\",'Fixed WU Figure'!G$18,D218*H218)","v":0},0,0,0,null,0]
["2016-01-19","Tue",null,{"$f":"IF('Crop Factor'!C$5>0,IF('Crop Factor'!B$13=\"Evaporation Pan\",'Irrig Diary'!E219*'Crop Factor'!C$5,'Irrig Diary'!F219*'Crop Factor'!C$5),\"N/A\")","v":1.4464285714285714},1.0125,1.4464285714285714,null,null,{"$f":"IF(D219=\"N/A\",'Fixed WU Figure'!G$18,D219*H219)","v":0},0,0,0,null,0]
["2016-01-20","Wed",null,{"$f":"IF('Crop Factor'!C$5>0,IF('Crop Factor'!B$13=\"Evaporation Pan\",'Irrig Diary'!E220*'Crop Factor'!C$5,'Irrig Diary'!F220*'Crop Factor'!C$5),\"N/A\")","v":1.4464285714285714},1.0125,1.4464285714285714,null,null,{"$f":"IF(D220=\"N/A\",'Fixed WU Figure'!G$18,D220*H220)","v":0},0,0,0,null,0]
["2016-01-21","Thu",null,{"$f":"IF('Crop Factor'!C$5>0,IF('Crop Factor'!B$13=\"Evaporation Pan\",'Irrig Diary'!E221*'Crop Factor'!C$5,'Irrig Diary'!F221*'Crop Factor'!C$5),\"N/A\")","v":1.4285714285714286},1,1.4285714285714286,null,null,{"$f":"IF(D221=\"N/A\",'Fixed WU Figure'!G$18,D221*H221)","v":0},0,0,0,null,0]
["2016-01-22","Fri",null,{"$f":"IF('Crop Factor'!C$5>0,IF('Crop Factor'!B$13=\"Evaporation Pan\",'Irrig Diary'!E222*'Crop Factor'!C$5,'Irrig Diary'!F222*'Crop Factor'!C$5),\"N/A\")","v":1.4285714285714286},1,1.4285714285714286,null,null,{"$f":"IF(D222=\"N/A\",'Fixed WU Figure'!G$18,D222*H222)","v":0},0,0,0,null,0]
["2016-01-23","Sat",null,{"$f":"IF('Crop Factor'!C$5>0,IF('Crop Factor'!B$13=\"Evaporation Pan\",'Irrig Diary'!E223*'Crop Factor'!C$5,'Irrig Diary'!F223*'Crop Factor'!C$5),\"N/A\")","v":1.4285714285714286},1,1.4285714285714286,null,null,{"$f":"IF(D223=\"N/A\",'Fixed WU Figure'!G$18,D223*H223)","v":0},0,0,0,null,0]
["2016-01-24","Sun",null,{"$f":"IF('Crop Factor'!C$5>0,IF('Crop Factor'!B$13=\"Evaporation Pan\",'Irrig Diary'!E224*'Crop Factor'!C$5,'Irrig Diary'!F224*'Crop Factor'!C$5),\"N/A\")","v":1.4285714285714286},1,1.4285714285714286,null,null,{"$f":"IF(D224=\"N/A\",'Fixed WU Figure'!G$18,D224*H224)","v":0},0,0,0,null,0]
["2016-01-25","Mon",null,{"$f":"IF('Crop Factor'!C$5>0,IF('Crop Factor'!B$13=\"Evaporation Pan\",'Irrig Diary'!E225*'Crop Factor'!C$5,'Irrig Diary'!F225*'Crop Factor'!C$5),\"N/A\")","v":1.4107142857142858},0.98750000000000004,1.4107142857142858,null,null,{"$f":"IF(D225=\"N/A\",'Fixed WU Figure'!G$18,D225*H225)","v":0},0,0,0,null,0]
["2016-01-26","Tue",null,{"$f":"IF('Crop Factor'!C$5>0,IF('Crop Factor'!B$13=\"Evaporation Pan\",'Irrig Diary'!E226*'Crop Factor'!C$5,'Irrig Diary'!F226*'Crop Factor'!C$5),\"N/A\")","v":1.4107142857142858},0.98750000000000004,1.4107142857142858,null,null,{"$f":"IF(D226=\"N/A\",'Fixed WU Figure'!G$18,D226*H226)","v":0},0,0,0,null,0]
["2016-01-27","Wed",null,{"$f":"IF('Crop Factor'!C$5>0,IF('Crop Factor'!B$13=\"Evaporation Pan\",'Irrig Diary'!E227*'Crop Factor'!C$5,'Irrig Diary'!F227*'Crop Factor'!C$5),\"N/A\")","v":1.4107142857142858},0.98750000000000004,1.4107142857142858,null,null,{"$f":"IF(D227=\"N/A\",'Fixed WU Figure'!G$18,D227*H227)","v":0},0,0,0,null,0]
["2016-01-28","Thu",null,{"$f":"IF('Crop Factor'!C$5>0,IF('Crop Factor'!B$13=\"Evaporation Pan\",'Irrig Diary'!E228*'Crop Factor'!C$5,'Irrig Diary'!F228*'Crop Factor'!C$5),\"N/A\")","v":1.375},0.96250000000000002,1.375,null,null,{"$f":"IF(D228=\"N/A\",'Fixed WU Figure'!G$18,D228*H228)","v":0},0,0,0,null,0]
["2016-01-29","Fri",null,{"$f":"IF('Crop Factor'!C$5>0,IF('Crop Factor'!B$13=\"Evaporation Pan\",'Irrig Diary'!E229*'Crop Factor'!C$5,'Irrig Diary'!F229*'Crop Factor'!C$5),\"N/A\")","v":1.3214285714285716},0.92500000000000004,1.3214285714285716,null,null,{"$f":"IF(D229=\"N/A\",'Fixed WU Figure'!G$18,D229*H229)","v":0},0,0,0,null,0]
["2016-01-30","Sat",null,{"$f":"IF('Crop Factor'!C$5>0,IF('Crop Factor'!B$13=\"Evaporation Pan\",'Irrig Diary'!E230*'Crop Factor'!C$5,'Irrig Diary'!F230*'Crop Factor'!C$5),\"N/A\")","v":1.3214285714285716},0.92500000000000004,1.3214285714285716,null,null,{"$f":"IF(D230=\"N/A\",'Fixed WU Figure'!G$18,D230*H230)","v":0},0,0,0,null,0]
["2016-01-31","Sun",null,{"$f":"IF('Crop Factor'!C$5>0,IF('Crop Factor'!B$13=\"Evaporation Pan\",'Irrig Diary'!E231*'Crop Factor'!C$5,'Irrig Diary'!F231*'Crop Factor'!C$5),\"N/A\")","v":1.3214285714285716},0.92500000000000004,1.3214285714285716,null,null,{"$f":"IF(D231=\"N/A\",'Fixed WU Figure'!G$18,D231*H231)","v":0},0,0,0,null,0]
["2016-02-01","Mon",null,{"$f":"IF('Crop Factor'!C$5>0,IF('Crop Factor'!B$13=\"Evaporation Pan\",'Irrig Diary'!E232*'Crop Factor'!C$5,'Irrig Diary'!F232*'Crop Factor'!C$5),\"N/A\")","v":1.2857142857142858},0.9,1.2857142857142858,null,null,{"$f":"IF(D232=\"N/A\",'Fixed WU Figure'!G$19,D232*H232)","v":0},0,0,0,null,0]
["2016-02-02","Tue",null,{"$f":"IF('Crop Factor'!C$5>0,IF('Crop Factor'!B$13=\"Evaporation Pan\",'Irrig Diary'!E233*'Crop Factor'!C$5,'Irrig Diary'!F233*'Crop Factor'!C$5),\"N/A\")","v":1.25},0.875,1.25,null,null,{"$f":"IF(D233=\"N/A\",'Fixed WU Figure'!G$19,D233*H233)","v":0},0,0,0,null,0]
["2016-02-03","Wed",null,{"$f":"IF('Crop Factor'!C$5>0,IF('Crop Factor'!B$13=\"Evaporation Pan\",'Irrig Diary'!E234*'Crop Factor'!C$5,'Irrig Diary'!F234*'Crop Factor'!C$5),\"N/A\")","v":1.25},0.875,1.25,null,null,{"$f":"IF(D234=\"N/A\",'Fixed WU Figure'!G$19,D234*H234)","v":0},0,0,0,null,0]
["2016-02-04","Thu",null,{"$f":"IF('Crop Factor'!C$5>0,IF('Crop Factor'!B$13=\"Evaporation Pan\",'Irrig Diary'!E235*'Crop Factor'!C$5,'Irrig Diary'!F235*'Crop Factor'!C$5),\"N/A\")","v":1.2142857142857142},0.85,1.2142857142857142,null,null,{"$f":"IF(D235=\"N/A\",'Fixed WU Figure'!G$19,D235*H235)","v":0},0,{"$f":"IF(OR(I235=0,I235=\"N/A\"),0,I235/P$15)","v":0},0,null,0]
["2016-02-05","Fri",null,{"$f":"IF('Crop Factor'!C$5>0,IF('Crop Factor'!B$13=\"Evaporation Pan\",'Irrig Diary'!E236*'Crop Factor'!C$5,'Irrig Diary'!F236*'Crop Factor'!C$5),\"N/A\")","v":1.2142857142857142},0.85,1.2142857142857142,null,null,{"$f":"IF(D236=\"N/A\",'Fixed WU Figure'!G$19,D236*H236)","v":0},0,0,0,null,0]
["2016-02-06","Sat",null,{"$f":"IF('Crop Factor'!C$5>0,IF('Crop Factor'!B$13=\"Evaporation Pan\",'Irrig Diary'!E237*'Crop Factor'!C$5,'Irrig Diary'!F237*'Crop Factor'!C$5),\"N/A\")","v":1.2142857142857142},0.85,1.2142857142857142,null,null,{"$f":"IF(D237=\"N/A\",'Fixed WU Figure'!G$19,D237*H237)","v":0},0,0,0,null,0]
["2016-02-07","Sun",null,{"$f":"IF('Crop Factor'!C$5>0,IF('Crop Factor'!B$13=\"Evaporation Pan\",'Irrig Diary'!E238*'Crop Factor'!C$5,'Irrig Diary'!F238*'Crop Factor'!C$5),\"N/A\")","v":1.2142857142857142},0.85,1.2142857142857142,null,null,{"$f":"IF(D238=\"N/A\",'Fixed WU Figure'!G$19,D238*H238)","v":0},0,0,0,null,0]
["2016-02-08","Mon",null,{"$f":"IF('Crop Factor'!C$5>0,IF('Crop Factor'!B$13=\"Evaporation Pan\",'Irrig Diary'!E239*'Crop Factor'!C$5,'Irrig Diary'!F239*'Crop Factor'!C$5),\"N/A\")","v":1.2142857142857142},0.85,1.2142857142857142,null,null,{"$f":"IF(D239=\"N/A\",'Fixed WU Figure'!G$19,D239*H239)","v":0},0,0,0,null,0]
["2016-02-09","Tue",null,{"$f":"IF('Crop Factor'!C$5>0,IF('Crop Factor'!B$13=\"Evaporation Pan\",'Irrig Diary'!E240*'Crop Factor'!C$5,'Irrig Diary'!F240*'Crop Factor'!C$5),\"N/A\")","v":1.2142857142857142},0.85,1.2142857142857142,null,null,{"$f":"IF(D240=\"N/A\",'Fixed WU Figure'!G$19,D240*H240)","v":0},0,0,0,null,0]
["2016-02-10","Wed",null,{"$f":"IF('Crop Factor'!C$5>0,IF('Crop Factor'!B$13=\"Evaporation Pan\",'Irrig Diary'!E241*'Crop Factor'!C$5,'Irrig Diary'!F241*'Crop Factor'!C$5),\"N/A\")","v":1.2142857142857142},0.85,1.2142857142857142,null,null,{"$f":"IF(D241=\"N/A\",'Fixed WU Figure'!G$19,D241*H241)","v":0},0,0,0,null,0]
["2016-02-11","Thu",null,{"$f":"IF('Crop Factor'!C$5>0,IF('Crop Factor'!B$13=\"Evaporation Pan\",'Irrig Diary'!E242*'Crop Factor'!C$5,'Irrig Diary'!F242*'Crop Factor'!C$5),\"N/A\")","v":1.2142857142857142},0.85,1.2142857142857142,null,null,{"$f":"IF(D242=\"N/A\",'Fixed WU Figure'!G$19,D242*H242)","v":0},0,0,0,null,0]
["2016-02-12","Fri",null,{"$f":"IF('Crop Factor'!C$5>0,IF('Crop Factor'!B$13=\"Evaporation Pan\",'Irrig Diary'!E243*'Crop Factor'!C$5,'Irrig Diary'!F243*'Crop Factor'!C$5),\"N/A\")","v":1.2142857142857142},0.85,1.2142857142857142,null,null,{"$f":"IF(D243=\"N/A\",'Fixed WU Figure'!G$19,D243*H243)","v":0},0,0,0,null,0]
["2016-02-13","Sat",null,{"$f":"IF('Crop Factor'!C$5>0,IF('Crop Factor'!B$13=\"Evaporation Pan\",'Irrig Diary'!E244*'Crop Factor'!C$5,'Irrig Diary'!F244*'Crop Factor'!C$5),\"N/A\")","v":1.1428571428571428},0.79999999999999993,1.1428571428571428,null,null,{"$f":"IF(D244=\"N/A\",'Fixed WU Figure'!G$19,D244*H244)","v":0},0,0,0,null,0]
["2016-02-14","Sun",null,{"$f":"IF('Crop Factor'!C$5>0,IF('Crop Factor'!B$13=\"Evaporation Pan\",'Irrig Diary'!E245*'Crop Factor'!C$5,'Irrig Diary'!F245*'Crop Factor'!C$5),\"N/A\")","v":1.0714285714285714},0.74999999999999989,1.0714285714285714,null,null,{"$f":"IF(D245=\"N/A\",'Fixed WU Figure'!G$19,D245*H245)","v":0},0,0,0,null,0]
["2016-02-15","Mon",null,{"$f":"IF('Crop Factor'!C$5>0,IF('Crop Factor'!B$13=\"Evaporation Pan\",'Irrig Diary'!E246*'Crop Factor'!C$5,'Irrig Diary'!F246*'Crop Factor'!C$5),\"N/A\")","v":1.0714285714285714},0.74999999999999989,1.0714285714285714,null,null,{"$f":"IF(D246=\"N/A\",'Fixed WU Figure'!G$19,D246*H246)","v":0},0,0,0,null,0]
["2016-02-16","Tue",null,{"$f":"IF('Crop Factor'!C$5>0,IF('Crop Factor'!B$13=\"Evaporation Pan\",'Irrig Diary'!E247*'Crop Factor'!C$5,'Irrig Diary'!F247*'Crop Factor'!C$5),\"N/A\")","v":1.0714285714285714},0.74999999999999989,1.0714285714285714,null,null,{"$f":"IF(D247=\"N/A\",'Fixed WU Figure'!G$19,D247*H247)","v":0},0,0,0,null,0]
["2016-02-17","Wed",null,{"$f":"IF('Crop Factor'!C$5>0,IF('Crop Factor'!B$13=\"Evaporation Pan\",'Irrig Diary'!E248*'Crop Factor'!C$5,'Irrig Diary'!F248*'Crop Factor'!C$5),\"N/A\")","v":1.0714285714285714},0.74999999999999989,1.0714285714285714,null,null,{"$f":"IF(D248=\"N/A\",'Fixed WU Figure'!G$19,D248*H248)","v":0},0,0,0,null,0]
["2016-02-18","Thu",null,{"$f":"IF('Crop Factor'!C$5>0,IF('Crop Factor'!B$13=\"Evaporation Pan\",'Irrig Diary'!E249*'Crop Factor'!C$5,'Irrig Diary'!F249*'Crop Factor'!C$5),\"N/A\")","v":1.107142857142857},0.77499999999999991,1.107142857142857,null,null,{"$f":"IF(D249=\"N/A\",'Fixed WU Figure'!G$19,D249*H249)","v":0},0,0,0,null,0]
["2016-02-19","Fri",null,{"$f":"IF('Crop Factor'!C$5>0,IF('Crop Factor'!B$13=\"Evaporation Pan\",'Irrig Diary'!E250*'Crop Factor'!C$5,'Irrig Diary'!F250*'Crop Factor'!C$5),\"N/A\")","v":1.107142857142857},0.77499999999999991,1.107142857142857,null,null,{"$f":"IF(D250=\"N/A\",'Fixed WU Figure'!G$19,D250*H250)","v":0},0,0,0,null,0]
["2016-02-20","Sat",null,{"$f":"IF('Crop Factor'!C$5>0,IF('Crop Factor'!B$13=\"Evaporation Pan\",'Irrig Diary'!E251*'Crop Factor'!C$5,'Irrig Diary'!F251*'Crop Factor'!C$5),\"N/A\")","v":1.107142857142857},0.77499999999999991,1.107142857142857,null,null,{"$f":"IF(D251=\"N/A\",'Fixed WU Figure'!G$19,D251*H251)","v":0},0,0,0,null,0]
["2016-02-21","Sun",null,{"$f":"IF('Crop Factor'!C$5>0,IF('Crop Factor'!B$13=\"Evaporation Pan\",'Irrig Diary'!E252*'Crop Factor'!C$5,'Irrig Diary'!F252*'Crop Factor'!C$5),\"N/A\")","v":1.107142857142857},0.77499999999999991,1.107142857142857,null,null,{"$f":"IF(D252=\"N/A\",'Fixed WU Figure'!G$19,D252*H252)","v":0},0,0,0,null,0]
["2016-02-22","Mon",null,{"$f":"IF('Crop Factor'!C$5>0,IF('Crop Factor'!B$13=\"Evaporation Pan\",'Irrig Diary'!E253*'Crop Factor'!C$5,'Irrig Diary'!F253*'Crop Factor'!C$5),\"N/A\")","v":1.107142857142857},0.77499999999999991,1.107142857142857,null,null,{"$f":"IF(D253=\"N/A\",'Fixed WU Figure'!G$19,D253*H253)","v":0},0,0,0,null,0]
["2016-02-23","Tue",null,{"$f":"IF('Crop Factor'!C$5>0,IF('Crop Factor'!B$13=\"Evaporation Pan\",'Irrig Diary'!E254*'Crop Factor'!C$5,'Irrig Diary'!F254*'Crop Factor'!C$5),\"N/A\")","v":1.107142857142857},0.77499999999999991,1.107142857142857,null,null,{"$f":"IF(D254=\"N/A\",'Fixed WU Figure'!G$19,D254*H254)","v":0},0,0,0,null,0]
["2016-02-24","Wed",null,{"$f":"IF('Crop Factor'!C$5>0,IF('Crop Factor'!B$13=\"Evaporation Pan\",'Irrig Diary'!E255*'Crop Factor'!C$5,'Irrig Diary'!F255*'Crop Factor'!C$5),\"N/A\")","v":1.107142857142857},0.77499999999999991,1.107142857142857,null,null,{"$f":"IF(D255=\"N/A\",'Fixed WU Figure'!G$19,D255*H255)","v":0},0,0,0,null,0]
["2016-02-25","Thu",null,{"$f":"IF('Crop Factor'!C$5>0,IF('Crop Factor'!B$13=\"Evaporation Pan\",'Irrig Diary'!E256*'Crop Factor'!C$5,'Irrig Diary'!F256*'Crop Factor'!C$5),\"N/A\")","v":1.107142857142857},0.77499999999999991,1.107142857142857,null,null,{"$f":"IF(D256=\"N/A\",'Fixed WU Figure'!G$19,D256*H256)","v":0},0,0,0,null,0]
["2016-02-26","Fri",null,{"$f":"IF('Crop Factor'!C$5>0,IF('Crop Factor'!B$13=\"Evaporation Pan\",'Irrig Diary'!E257*'Crop Factor'!C$5,'Irrig Diary'!F257*'Crop Factor'!C$5),\"N/A\")","v":1.107142857142857},0.77499999999999991,1.107142857142857,null,null,{"$f":"IF(D257=\"N/A\",'Fixed WU Figure'!G$19,D257*H257)","v":0},0,0,0,null,0]
["2016-02-27","Sat",null,{"$f":"IF('Crop Factor'!C$5>0,IF('Crop Factor'!B$13=\"Evaporation Pan\",'Irrig Diary'!E258*'Crop Factor'!C$5,'Irrig Diary'!F258*'Crop Factor'!C$5),\"N/A\")","v":1.107142857142857},0.77499999999999991,1.107142857142857,null,null,{"$f":"IF(D258=\"N/A\",'Fixed WU Figure'!G$19,D258*H258)","v":0},0,0,0,null,0]
["2016-02-28","Sun",null,{"$f":"IF('Crop Factor'!C$5>0,IF('Crop Factor'!B$13=\"Evaporation Pan\",'Irrig Diary'!E259*'Crop Factor'!C$5,'Irrig Diary'!F259*'Crop Factor'!C$5),\"N/A\")","v":1.107142857142857},0.77499999999999991,1.107142857142857,null,null,{"$f":"IF(D259=\"N/A\",'Fixed WU Figure'!G$19,D259*H259)","v":0},0,0,0,null,0]
["2016-02-29","Mon",null,{"$f":"IF('Crop Factor'!C$5>0,IF('Crop Factor'!B$13=\"Evaporation Pan\",'Irrig Diary'!E260*'Crop Factor'!C$5,'Irrig Diary'!F260*'Crop Factor'!C$5),\"N/A\")","v":1.107142857142857},0.77499999999999991,1.107142857142857,null,null,{"$f":"IF(D260=\"N/A\",'Fixed WU Figure'!G$19,D260*H260)","v":0},0,0,0,null,0]
["2016-03-01","Tue",null,{"$f":"IF('Crop Factor'!C$5>0,IF('Crop Factor'!B$13=\"Evaporation Pan\",'Irrig Diary'!E261*'Crop Factor'!C$5,'Irrig Diary'!F261*'Crop Factor'!C$5),\"N/A\")","v":1.107142857142857},0.77499999999999991,1.107142857142857,null,null,{"$f":"IF(D261=\"N/A\",'Fixed WU Figure'!G$20,D261*H261)","v":0},0,0,0,null,0]
["2016-03-02","Wed",null,{"$f":"IF('Crop Factor'!C$5>0,IF('Crop Factor'!B$13=\"Evaporation Pan\",'Irrig Diary'!E262*'Crop Factor'!C$5,'Irrig Diary'!F262*'Crop Factor'!C$5),\"N/A\")","v":1.107142857142857},0.77499999999999991,1.107142857142857,null,null,{"$f":"IF(D262=\"N/A\",'Fixed WU Figure'!G$20,D262*H262)","v":0},0,0,0,null,0]
["2016-03-03","Thu",null,{"$f":"IF('Crop Factor'!C$5>0,IF('Crop Factor'!B$13=\"Evaporation Pan\",'Irrig Diary'!E263*'Crop Factor'!C$5,'Irrig Diary'!F263*'Crop Factor'!C$5),\"N/A\")","v":1.107142857142857},0.77499999999999991,1.107142857142857,null,null,{"$f":"IF(D263=\"N/A\",'Fixed WU Figure'!G$20,D263*H263)","v":0},0,0,0,null,0]
["2016-03-04","Fri",null,{"$f":"IF('Crop Factor'!C$5>0,IF('Crop Factor'!B$13=\"Evaporation Pan\",'Irrig Diary'!E264*'Crop Factor'!C$5,'Irrig Diary'!F264*'Crop Factor'!C$5),\"N/A\")","v":1.107142857142857},0.77499999999999991,1.107142857142857,null,null,{"$f":"IF(D264=\"N/A\",'Fixed WU Figure'!G$20,D264*H264)","v":0},0,0,0,null,0]
["2016-03-05","Sat",null,{"$f":"IF('Crop Factor'!C$5>0,IF('Crop Factor'!B$13=\"Evaporation Pan\",'Irrig Diary'!E265*'Crop Factor'!C$5,'Irrig Diary'!F265*'Crop Factor'!C$5),\"N/A\")","v":1.1428571428571428},0.79999999999999993,1.1428571428571428,null,null,{"$f":"IF(D265=\"N/A\",'Fixed WU Figure'!G$20,D265*H265)","v":0},0,0,0,null,0]
["2016-03-06","Sun",null,{"$f":"IF('Crop Factor'!C$5>0,IF('Crop Factor'!B$13=\"Evaporation Pan\",'Irrig Diary'!E266*'Crop Factor'!C$5,'Irrig Diary'!F266*'Crop Factor'!C$5),\"N/A\")","v":1.1428571428571428},0.79999999999999993,1.1428571428571428,null,null,{"$f":"IF(D266=\"N/A\",'Fixed WU Figure'!G$20,D266*H266)","v":0},0,0,0,null,0]
["2016-03-07","Mon",null,{"$f":"IF('Crop Factor'!C$5>0,IF('Crop Factor'!B$13=\"Evaporation Pan\",'Irrig Diary'!E267*'Crop Factor'!C$5,'Irrig Diary'!F267*'Crop Factor'!C$5),\"N/A\")","v":1.1428571428571428},0.79999999999999993,1.1428571428571428,null,null,{"$f":"IF(D267=\"N/A\",'Fixed WU Figure'!G$20,D267*H267)","v":0},0,0,0,null,0]
["2016-03-08","Tue",null,{"$f":"IF('Crop Factor'!C$5>0,IF('Crop Factor'!B$13=\"Evaporation Pan\",'Irrig Diary'!E268*'Crop Factor'!C$5,'Irrig Diary'!F268*'Crop Factor'!C$5),\"N/A\")","v":1.1428571428571428},0.79999999999999993,1.1428571428571428,null,null,{"$f":"IF(D268=\"N/A\",'Fixed WU Figure'!G$20,D268*H268)","v":0},0,0,0,null,0]
["2016-03-09","Wed",null,{"$f":"IF('Crop Factor'!C$5>0,IF('Crop Factor'!B$13=\"Evaporation Pan\",'Irrig Diary'!E269*'Crop Factor'!C$5,'Irrig Diary'!F269*'Crop Factor'!C$5),\"N/A\")","v":1.1428571428571428},0.79999999999999993,1.1428571428571428,null,null,{"$f":"IF(D269=\"N/A\",'Fixed WU Figure'!G$20,D269*H269)","v":0},0,0,0,null,0]
["2016-03-10","Thu",null,{"$f":"IF('Crop Factor'!C$5>0,IF('Crop Factor'!B$13=\"Evaporation Pan\",'Irrig Diary'!E270*'Crop Factor'!C$5,'Irrig Diary'!F270*'Crop Factor'!C$5),\"N/A\")","v":1.1428571428571428},0.79999999999999993,1.1428571428571428,null,null,{"$f":"IF(D270=\"N/A\",'Fixed WU Figure'!G$20,D270*H270)","v":0},0,0,0,null,0]
["2016-03-11","Fri",null,{"$f":"IF('Crop Factor'!C$5>0,IF('Crop Factor'!B$13=\"Evaporation Pan\",'Irrig Diary'!E271*'Crop Factor'!C$5,'Irrig Diary'!F271*'Crop Factor'!C$5),\"N/A\")","v":1.1428571428571428},0.79999999999999993,1.1428571428571428,null,null,{"$f":"IF(D271=\"N/A\",'Fixed WU Figure'!G$20,D271*H271)","v":0},0,0,0,null,0]
["2016-03-12","Sat",null,{"$f":"IF('Crop Factor'!C$5>0,IF('Crop Factor'!B$13=\"Evaporation Pan\",'Irrig Diary'!E272*'Crop Factor'!C$5,'Irrig Diary'!F272*'Crop Factor'!C$5),\"N/A\")","v":1.125},0.78749999999999998,1.125,null,null,{"$f":"IF(D272=\"N/A\",'Fixed WU Figure'!G$20,D272*H272)","v":0},0,0,0,null,0]
["2016-03-13","Sun",null,{"$f":"IF('Crop Factor'!C$5>0,IF('Crop Factor'!B$13=\"Evaporation Pan\",'Irrig Diary'!E273*'Crop Factor'!C$5,'Irrig Diary'!F273*'Crop Factor'!C$5),\"N/A\")","v":1.1071428571428572},0.77500000000000002,1.1071428571428572,null,null,{"$f":"IF(D273=\"N/A\",'Fixed WU Figure'!G$20,D273*H273)","v":0},0,{"$f":"IF(OR(I273=0,I273=\"N/A\"),0,I273/P$15)","v":0},0,null,0]
[{"$f":"A273+1","v":"2016-03-14"},"Mon",null,{"$f":"IF('Crop Factor'!C$5>0,IF('Crop Factor'!B$13=\"Evaporation Pan\",'Irrig Diary'!E274*'Crop Factor'!C$5,'Irrig Diary'!F274*'Crop Factor'!C$5),\"N/A\")","v":1.0892857142857144},0.76250000000000007,{"$f":"(1/F$15)*E274","v":1.0892857142857144},null,null,{"$f":"IF(D274=\"N/A\",'Fixed WU Figure'!G$20,D274*H274)","v":0},{"$f":"IF(I274>12,12,I274)","v":0},0,0,null,0]
["2016-03-15",{"$f":"TEXT(A275,\"ddd\")","v":"Tue"},null,{"$f":"IF('Crop Factor'!C$5>0,IF('Crop Factor'!B$13=\"Evaporation Pan\",'Irrig Diary'!E275*'Crop Factor'!C$5,'Irrig Diary'!F275*'Crop Factor'!C$5),\"N/A\")","v":1.0892857142857144},0.76250000000000007,1.0892857142857144,null,null,{"$f":"IF(D275=\"N/A\",'Fixed WU Figure'!G$20,D275*H275)","v":0},0,0,{"$f":"K275-N274","v":0},null,{"$f":"IF(K275>0,M275-K275+N274,0)","v":0}]
["2016-03-16","Wed",null,{"$f":"IF('Crop Factor'!C$5>0,IF('Crop Factor'!B$13=\"Evaporation Pan\",'Irrig Diary'!E276*'Crop Factor'!C$5,'Irrig Diary'!F276*'Crop Factor'!C$5),\"N/A\")","v":1.0892857142857144},0.76250000000000007,1.0892857142857144,null,null,{"$f":"IF(D276=\"N/A\",'Fixed WU Figure'!G$20,D276*H276)","v":0},0,0,0,null,0]
["2016-03-17","Thu",null,{"$f":"IF('Crop Factor'!C$5>0,IF('Crop Factor'!B$13=\"Evaporation Pan\",'Irrig Diary'!E277*'Crop Factor'!C$5,'Irrig Diary'!F277*'Crop Factor'!C$5),\"N/A\")","v":1.0892857142857144},0.76250000000000007,1.0892857142857144,null,null,{"$f":"IF(D277=\"N/A\",'Fixed WU Figure'!G$20,D277*H277)","v":0},0,0,0,null,0]
["2016-03-18","Fri",null,{"$f":"IF('Crop Factor'!C$5>0,IF('Crop Factor'!B$13=\"Evaporation Pan\",'Irrig Diary'!E278*'Crop Factor'!C$5,'Irrig Diary'!F278*'Crop Factor'!C$5),\"N/A\")","v":1.0892857142857144},0.76250000000000007,1.0892857142857144,null,null,{"$f":"IF(D278=\"N/A\",'Fixed WU Figure'!G$20,D278*H278)","v":0},0,0,0,null,0]
["2016-03-19","Sat",null,{"$f":"IF('Crop Factor'!C$5>0,IF('Crop Factor'!B$13=\"Evaporation Pan\",'Irrig Diary'!E279*'Crop Factor'!C$5,'Irrig Diary'!F279*'Crop Factor'!C$5),\"N/A\")","v":1.0714285714285714},0.75,1.0714285714285714,null,null,{"$f":"IF(D279=\"N/A\",'Fixed WU Figure'!G$20,D279*H279)","v":0},0,0,0,null,0]
["2016-03-20","Sun",null,{"$f":"IF('Crop Factor'!C$5>0,IF('Crop Factor'!B$13=\"Evaporation Pan\",'Irrig Diary'!E280*'Crop Factor'!C$5,'Irrig Diary'!F280*'Crop Factor'!C$5),\"N/A\")","v":1.0535714285714286},0.73749999999999993,1.0535714285714286,null,null,{"$f":"IF(D280=\"N/A\",'Fixed WU Figure'!G$20,D280*H280)","v":0},0,0,0,null,0]
["2016-03-21","Mon",null,{"$f":"IF('Crop Factor'!C$5>0,IF('Crop Factor'!B$13=\"Evaporation Pan\",'Irrig Diary'!E281*'Crop Factor'!C$5,'Irrig Diary'!F281*'Crop Factor'!C$5),\"N/A\")","v":1.0357142857142856},0.72499999999999987,1.0357142857142856,null,null,{"$f":"IF(D281=\"N/A\",'Fixed WU Figure'!G$20,D281*H281)","v":0},0,0,0,null,0]
["2016-03-22","Tue",null,{"$f":"IF('Crop Factor'!C$5>0,IF('Crop Factor'!B$13=\"Evaporation Pan\",'Irrig Diary'!E282*'Crop Factor'!C$5,'Irrig Diary'!F282*'Crop Factor'!C$5),\"N/A\")","v":1.0357142857142856},0.72499999999999987,1.0357142857142856,null,null,{"$f":"IF(D282=\"N/A\",'Fixed WU Figure'!G$20,D282*H282)","v":0},0,0,0,null,0]
["2016-03-23","Wed",null,{"$f":"IF('Crop Factor'!C$5>0,IF('Crop Factor'!B$13=\"Evaporation Pan\",'Irrig Diary'!E283*'Crop Factor'!C$5,'Irrig Diary'!F283*'Crop Factor'!C$5),\"N/A\")","v":1.0178571428571428},0.71249999999999991,1.0178571428571428,null,null,{"$f":"IF(D283=\"N/A\",'Fixed WU Figure'!G$20,D283*H283)","v":0},0,0,0,null,0]
["2016-03-24","Thu",null,{"$f":"IF('Crop Factor'!C$5>0,IF('Crop Factor'!B$13=\"Evaporation Pan\",'Irrig Diary'!E284*'Crop Factor'!C$5,'Irrig Diary'!F284*'Crop Factor'!C$5),\"N/A\")","v":1.0178571428571428},0.71249999999999991,1.0178571428571428,null,null,{"$f":"IF(D284=\"N/A\",'Fixed WU Figure'!G$20,D284*H284)","v":0},0,0,0,null,0]
["2016-03-25","Fri",null,{"$f":"IF('Crop Factor'!C$5>0,IF('Crop Factor'!B$13=\"Evaporation Pan\",'Irrig Diary'!E285*'Crop Factor'!C$5,'Irrig Diary'!F285*'Crop Factor'!C$5),\"N/A\")","v":0.98214285714285698},0.68749999999999989,0.98214285714285698,null,null,{"$f":"IF(D285=\"N/A\",'Fixed WU Figure'!G$20,D285*H285)","v":0},0,0,0,null,0]
["2016-03-26","Sat",null,{"$f":"IF('Crop Factor'!C$5>0,IF('Crop Factor'!B$13=\"Evaporation Pan\",'Irrig Diary'!E286*'Crop Factor'!C$5,'Irrig Diary'!F286*'Crop Factor'!C$5),\"N/A\")","v":0.96428571428571419},0.67499999999999993,0.96428571428571419,null,null,{"$f":"IF(D286=\"N/A\",'Fixed WU Figure'!G$20,D286*H286)","v":0},0,0,0,null,0]
["2016-03-27","Sun",null,{"$f":"IF('Crop Factor'!C$5>0,IF('Crop Factor'!B$13=\"Evaporation Pan\",'Irrig Diary'!E287*'Crop Factor'!C$5,'Irrig Diary'!F287*'Crop Factor'!C$5),\"N/A\")","v":0.9464285714285714},0.66249999999999998,0.9464285714285714,null,null,{"$f":"IF(D287=\"N/A\",'Fixed WU Figure'!G$20,D287*H287)","v":0},0,0,0,null,0]
["2016-03-28","Mon",null,{"$f":"IF('Crop Factor'!C$5>0,IF('Crop Factor'!B$13=\"Evaporation Pan\",'Irrig Diary'!E288*'Crop Factor'!C$5,'Irrig Diary'!F288*'Crop Factor'!C$5),\"N/A\")","v":0.9285714285714286},0.65,0.9285714285714286,null,null,{"$f":"IF(D288=\"N/A\",'Fixed WU Figure'!G$20,D288*H288)","v":0},0,0,0,null,0]
["2016-03-29","Tue",null,{"$f":"IF('Crop Factor'!C$5>0,IF('Crop Factor'!B$13=\"Evaporation Pan\",'Irrig Diary'!E289*'Crop Factor'!C$5,'Irrig Diary'!F289*'Crop Factor'!C$5),\"N/A\")","v":0.9285714285714286},0.65,0.9285714285714286,null,null,{"$f":"IF(D289=\"N/A\",'Fixed WU Figure'!G$20,D289*H289)","v":0},0,0,0,null,0]
["2016-03-30","Wed",null,{"$f":"IF('Crop Factor'!C$5>0,IF('Crop Factor'!B$13=\"Evaporation Pan\",'Irrig Diary'!E290*'Crop Factor'!C$5,'Irrig Diary'!F290*'Crop Factor'!C$5),\"N/A\")","v":0.9107142857142857},0.63749999999999996,0.9107142857142857,null,null,{"$f":"IF(D290=\"N/A\",'Fixed WU Figure'!G$20,D290*H290)","v":0},0,0,0,null,0]
["2016-03-31","Thu",null,{"$f":"IF('Crop Factor'!C$5>0,IF('Crop Factor'!B$13=\"Evaporation Pan\",'Irrig Diary'!E291*'Crop Factor'!C$5,'Irrig Diary'!F291*'Crop Factor'!C$5),\"N/A\")","v":0.9107142857142857},0.63749999999999996,0.9107142857142857,null,null,{"$f":"IF(D291=\"N/A\",'Fixed WU Figure'!G$20,D291*H291)","v":0},0,0,0,null,0]
["2016-04-01","Fri",null,{"$f":"IF('Crop Factor'!C$5>0,IF('Crop Factor'!B$13=\"Evaporation Pan\",'Irrig Diary'!E292*'Crop Factor'!C$5,'Irrig Diary'!F292*'Crop Factor'!C$5),\"N/A\")","v":0.9107142857142857},0.63749999999999996,0.9107142857142857,null,null,{"$f":"IF(D292=\"N/A\",'Fixed WU Figure'!G$21,D292*H292)","v":0},0,0,0,null,0]
["2016-04-02","Sat",null,{"$f":"IF('Crop Factor'!C$5>0,IF('Crop Factor'!B$13=\"Evaporation Pan\",'Irrig Diary'!E293*'Crop Factor'!C$5,'Irrig Diary'!F293*'Crop Factor'!C$5),\"N/A\")","v":0.83928571428571452},0.58750000000000013,0.83928571428571452,null,null,{"$f":"IF(D293=\"N/A\",'Fixed WU Figure'!G$21,D293*H293)","v":0},0,0,0,null,0]
["2016-04-03","Sun",null,{"$f":"IF('Crop Factor'!C$5>0,IF('Crop Factor'!B$13=\"Evaporation Pan\",'Irrig Diary'!E294*'Crop Factor'!C$5,'Irrig Diary'!F294*'Crop Factor'!C$5),\"N/A\")","v":0.75},0.52500000000000002,0.75,null,null,{"$f":"IF(D294=\"N/A\",'Fixed WU Figure'!G$21,D294*H294)","v":0},0,0,0,null,0]
["2016-04-04","Mon",null,{"$f":"IF('Crop Factor'!C$5>0,IF('Crop Factor'!B$13=\"Evaporation Pan\",'Irrig Diary'!E295*'Crop Factor'!C$5,'Irrig Diary'!F295*'Crop Factor'!C$5),\"N/A\")","v":0.7142857142857143},0.5,0.7142857142857143,null,null,{"$f":"IF(D295=\"N/A\",'Fixed WU Figure'!G$21,D295*H295)","v":0},0,0,0,null,0]
["2016-04-05","Tue",null,{"$f":"IF('Crop Factor'!C$5>0,IF('Crop Factor'!B$13=\"Evaporation Pan\",'Irrig Diary'!E296*'Crop Factor'!C$5,'Irrig Diary'!F296*'Crop Factor'!C$5),\"N/A\")","v":0.7142857142857143},0.5,0.7142857142857143,null,null,{"$f":"IF(D296=\"N/A\",'Fixed WU Figure'!G$21,D296*H296)","v":0},0,0,0,null,0]
["2016-04-06","Wed",null,{"$f":"IF('Crop Factor'!C$5>0,IF('Crop Factor'!B$13=\"Evaporation Pan\",'Irrig Diary'!E297*'Crop Factor'!C$5,'Irrig Diary'!F297*'Crop Factor'!C$5),\"N/A\")","v":0.7142857142857143},0.5,0.7142857142857143,null,null,{"$f":"IF(D297=\"N/A\",'Fixed WU Figure'!G$21,D297*H297)","v":0},0,0,0,null,0]
["2016-04-07","Thu",null,{"$f":"IF('Crop Factor'!C$5>0,IF('Crop Factor'!B$13=\"Evaporation Pan\",'Irrig Diary'!E298*'Crop Factor'!C$5,'Irrig Diary'!F298*'Crop Factor'!C$5),\"N/A\")","v":0.7142857142857143},0.5,0.7142857142857143,null,null,{"$f":"IF(D298=\"N/A\",'Fixed WU Figure'!G$21,D298*H298)","v":0},0,0,0,null,0]
["2016-04-08","Fri",null,{"$f":"IF('Crop Factor'!C$5>0,IF('Crop Factor'!B$13=\"Evaporation Pan\",'Irrig Diary'!E299*'Crop Factor'!C$5,'Irrig Diary'!F299*'Crop Factor'!C$5),\"N/A\")","v":0.7142857142857143},0.5,0.7142857142857143,null,null,{"$f":"IF(D299=\"N/A\",'Fixed WU Figure'!G$21,D299*H299)","v":0},0,0,0,null,0]
["2016-04-09","Sat",null,{"$f":"IF('Crop Factor'!C$5>0,IF('Crop Factor'!B$13=\"Evaporation Pan\",'Irrig Diary'!E300*'Crop Factor'!C$5,'Irrig Diary'!F300*'Crop Factor'!C$5),\"N/A\")","v":0.6964285714285714},0.48749999999999999,0.6964285714285714,null,null,{"$f":"IF(D300=\"N/A\",'Fixed WU Figure'!G$21,D300*H300)","v":0},0,0,0,null,0]
["2016-04-10","Sun",null,{"$f":"IF('Crop Factor'!C$5>0,IF('Crop Factor'!B$13=\"Evaporation Pan\",'Irrig Diary'!E301*'Crop Factor'!C$5,'Irrig Diary'!F301*'Crop Factor'!C$5),\"N/A\")","v":0.6785714285714286},0.47499999999999998,0.6785714285714286,null,null,{"$f":"IF(D301=\"N/A\",'Fixed WU Figure'!G$21,D301*H301)","v":0},0,0,0,null,0]
["2016-04-11","Mon",null,{"$f":"IF('Crop Factor'!C$5>0,IF('Crop Factor'!B$13=\"Evaporation Pan\",'Irrig Diary'!E302*'Crop Factor'!C$5,'Irrig Diary'!F302*'Crop Factor'!C$5),\"N/A\")","v":0.6607142857142857},0.46249999999999997,0.6607142857142857,null,null,{"$f":"IF(D302=\"N/A\",'Fixed WU Figure'!G$21,D302*H302)","v":0},0,0,0,null,0]
["2016-04-12","Tue",null,{"$f":"IF('Crop Factor'!C$5>0,IF('Crop Factor'!B$13=\"Evaporation Pan\",'Irrig Diary'!E303*'Crop Factor'!C$5,'Irrig Diary'!F303*'Crop Factor'!C$5),\"N/A\")","v":0.6607142857142857},0.46249999999999997,0.6607142857142857,null,null,{"$f":"IF(D303=\"N/A\",'Fixed WU Figure'!G$21,D303*H303)","v":0},0,0,0,null,0]
["2016-04-13","Wed",null,{"$f":"IF('Crop Factor'!C$5>0,IF('Crop Factor'!B$13=\"Evaporation Pan\",'Irrig Diary'!E304*'Crop Factor'!C$5,'Irrig Diary'!F304*'Crop Factor'!C$5),\"N/A\")","v":0.6607142857142857},0.46249999999999997,0.6607142857142857,null,null,{"$f":"IF(D304=\"N/A\",'Fixed WU Figure'!G$21,D304*H304)","v":0},0,0,0,null,0]
["2016-04-14","Thu",null,{"$f":"IF('Crop Factor'!C$5>0,IF('Crop Factor'!B$13=\"Evaporation Pan\",'Irrig Diary'!E305*'Crop Factor'!C$5,'Irrig Diary'!F305*'Crop Factor'!C$5),\"N/A\")","v":0.64285714285714279},0.44999999999999996,0.64285714285714279,null,null,{"$f":"IF(D305=\"N/A\",'Fixed WU Figure'!G$21,D305*H305)","v":0},0,0,0,null,0]
["2016-04-15","Fri",null,{"$f":"IF('Crop Factor'!C$5>0,IF('Crop Factor'!B$13=\"Evaporation Pan\",'Irrig Diary'!E306*'Crop Factor'!C$5,'Irrig Diary'!F306*'Crop Factor'!C$5),\"N/A\")","v":0.64285714285714279},0.44999999999999996,0.64285714285714279,null,null,{"$f":"IF(D306=\"N/A\",'Fixed WU Figure'!G$21,D306*H306)","v":0},0,0,0,null,0]
["2016-04-16","Sat",null,{"$f":"IF('Crop Factor'!C$5>0,IF('Crop Factor'!B$13=\"Evaporation Pan\",'Irrig Diary'!E307*'Crop Factor'!C$5,'Irrig Diary'!F307*'Crop Factor'!C$5),\"N/A\")","v":0.62499999999999989},0.43749999999999994,0.62499999999999989,null,null,{"$f":"IF(D307=\"N/A\",'Fixed WU Figure'!G$21,D307*H307)","v":0},0,0,0,null,0]
["2016-04-17","Sun",null,{"$f":"IF('Crop Factor'!C$5>0,IF('Crop Factor'!B$13=\"Evaporation Pan\",'Irrig Diary'!E308*'Crop Factor'!C$5,'Irrig Diary'!F308*'Crop Factor'!C$5),\"N/A\")","v":0.62499999999999989},0.43749999999999994,0.62499999999999989,null,null,{"$f":"IF(D308=\"N/A\",'Fixed WU Figure'!G$21,D308*H308)","v":0},0,0,0,null,0]
["2016-04-18","Mon",null,{"$f":"IF('Crop Factor'!C$5>0,IF('Crop Factor'!B$13=\"Evaporation Pan\",'Irrig Diary'!E309*'Crop Factor'!C$5,'Irrig Diary'!F309*'Crop Factor'!C$5),\"N/A\")","v":0.62499999999999989},0.43749999999999994,0.62499999999999989,null,null,{"$f":"IF(D309=\"N/A\",'Fixed WU Figure'!G$21,D309*H309)","v":0},0,0,0,null,0]
["2016-04-19","Tue",null,{"$f":"IF('Crop Factor'!C$5>0,IF('Crop Factor'!B$13=\"Evaporation Pan\",'Irrig Diary'!E310*'Crop Factor'!C$5,'Irrig Diary'!F310*'Crop Factor'!C$5),\"N/A\")","v":0.62499999999999989},0.43749999999999994,0.62499999999999989,null,null,{"$f":"IF(D310=\"N/A\",'Fixed WU Figure'!G$21,D310*H310)","v":0},0,0,0,null,0]
["2016-04-20","Wed",null,{"$f":"IF('Crop Factor'!C$5>0,IF('Crop Factor'!B$13=\"Evaporation Pan\",'Irrig Diary'!E311*'Crop Factor'!C$5,'Irrig Diary'!F311*'Crop Factor'!C$5),\"N/A\")","v":0.62499999999999989},0.43749999999999994,0.62499999999999989,null,null,{"$f":"IF(D311=\"N/A\",'Fixed WU Figure'!G$21,D311*H311)","v":0},0,0,0,null,0]
["2016-04-21","Thu",null,{"$f":"IF('Crop Factor'!C$5>0,IF('Crop Factor'!B$13=\"Evaporation Pan\",'Irrig Diary'!E312*'Crop Factor'!C$5,'Irrig Diary'!F312*'Crop Factor'!C$5),\"N/A\")","v":0.5892857142857143},0.41249999999999998,0.5892857142857143,null,null,{"$f":"IF(D312=\"N/A\",'Fixed WU Figure'!G$21,D312*H312)","v":0},0,0,0,null,0]
["2016-04-22","Fri",null,{"$f":"IF('Crop Factor'!C$5>0,IF('Crop Factor'!B$13=\"Evaporation Pan\",'Irrig Diary'!E313*'Crop Factor'!C$5,'Irrig Diary'!F313*'Crop Factor'!C$5),\"N/A\")","v":0.5892857142857143},0.41249999999999998,0.5892857142857143,null,null,{"$f":"IF(D313=\"N/A\",'Fixed WU Figure'!G$21,D313*H313)","v":0},0,0,0,null,0]
["2016-04-23","Sat",null,{"$f":"IF('Crop Factor'!C$5>0,IF('Crop Factor'!B$13=\"Evaporation Pan\",'Irrig Diary'!E314*'Crop Factor'!C$5,'Irrig Diary'!F314*'Crop Factor'!C$5),\"N/A\")","v":0.5892857142857143},0.41249999999999998,0.5892857142857143,null,null,{"$f":"IF(D314=\"N/A\",'Fixed WU Figure'!G$21,D314*H314)","v":0},0,0,0,null,0]
["2016-04-24","Sun",null,{"$f":"IF('Crop Factor'!C$5>0,IF('Crop Factor'!B$13=\"Evaporation Pan\",'Irrig Diary'!E315*'Crop Factor'!C$5,'Irrig Diary'!F315*'Crop Factor'!C$5),\"N/A\")","v":0.5892857142857143},0.41249999999999998,0.5892857142857143,null,null,{"$f":"IF(D315=\"N/A\",'Fixed WU Figure'!G$21,D315*H315)","v":0},0,0,0,null,0]
["2016-04-25","Mon",null,{"$f":"IF('Crop Factor'!C$5>0,IF('Crop Factor'!B$13=\"Evaporation Pan\",'Irrig Diary'!E316*'Crop Factor'!C$5,'Irrig Diary'!F316*'Crop Factor'!C$5),\"N/A\")","v":0.5892857142857143},0.41249999999999998,0.5892857142857143,null,null,{"$f":"IF(D316=\"N/A\",'Fixed WU Figure'!G$21,D316*H316)","v":0},0,0,0,null,0]
["2016-04-26","Tue",null,{"$f":"IF('Crop Factor'!C$5>0,IF('Crop Factor'!B$13=\"Evaporation Pan\",'Irrig Diary'!E317*'Crop Factor'!C$5,'Irrig Diary'!F317*'Crop Factor'!C$5),\"N/A\")","v":0.5892857142857143},0.41249999999999998,0.5892857142857143,null,null,{"$f":"IF(D317=\"N/A\",'Fixed WU Figure'!G$21,D317*H317)","v":0},0,0,0,null,0]
["2016-04-27","Wed",null,{"$f":"IF('Crop Factor'!C$5>0,IF('Crop Factor'!B$13=\"Evaporation Pan\",'Irrig Diary'!E318*'Crop Factor'!C$5,'Irrig Diary'!F318*'Crop Factor'!C$5),\"N/A\")","v":0.5892857142857143},0.41249999999999998,0.5892857142857143,null,null,{"$f":"IF(D318=\"N/A\",'Fixed WU Figure'!G$21,D318*H318)","v":0},0,0,0,null,0]
["2016-04-28","Thu",null,{"$f":"IF('Crop Factor'!C$5>0,IF('Crop Factor'!B$13=\"Evaporation Pan\",'Irrig Diary'!E319*'Crop Factor'!C$5,'Irrig Diary'!F319*'Crop Factor'!C$5),\"N/A\")","v":0.5892857142857143},0.41249999999999998,0.5892857142857143,null,null,{"$f":"IF(D319=\"N/A\",'Fixed WU Figure'!G$21,D319*H319)","v":0},0,0,0,null,0]
["2016-04-29","Fri",null,{"$f":"IF('Crop Factor'!C$5>0,IF('Crop Factor'!B$13=\"Evaporation Pan\",'Irrig Diary'!E320*'Crop Factor'!C$5,'Irrig Diary'!F320*'Crop Factor'!C$5),\"N/A\")","v":0.5892857142857143},0.41249999999999998,0.5892857142857143,null,null,{"$f":"IF(D320=\"N/A\",'Fixed WU Figure'!G$21,D320*H320)","v":0},0,0,0,null,0]
["2016-04-30","Sat",null,{"$f":"IF('Crop Factor'!C$5>0,IF('Crop Factor'!B$13=\"Evaporation Pan\",'Irrig Diary'!E321*'Crop Factor'!C$5,'Irrig Diary'!F321*'Crop Factor'!C$5),\"N/A\")","v":0.5892857142857143},0.41249999999999998,0.5892857142857143,null,null,{"$f":"IF(D321=\"N/A\",'Fixed WU Figure'!G$21,D321*H321)","v":0},0,0,0,null,0]
["2016-05-01","Sun",null,{"$f":"IF('Crop Factor'!C$5>0,IF('Crop Factor'!B$13=\"Evaporation Pan\",'Irrig Diary'!E322*'Crop Factor'!C$5,'Irrig Diary'!F322*'Crop Factor'!C$5),\"N/A\")","v":0.61224489795918369},0.42857142857142855,0.61224489795918369,null,null,{"$f":"IF(D322=\"N/A\",'Fixed WU Figure'!G$22,D322*H322)","v":0},0,0,0,null,0]
["2016-05-02","Mon",null,{"$f":"IF('Crop Factor'!C$5>0,IF('Crop Factor'!B$13=\"Evaporation Pan\",'Irrig Diary'!E323*'Crop Factor'!C$5,'Irrig Diary'!F323*'Crop Factor'!C$5),\"N/A\")","v":0.61224489795918369},0.42857142857142855,0.61224489795918369,null,null,{"$f":"IF(D323=\"N/A\",'Fixed WU Figure'!G$22,D323*H323)","v":0},0,0,0,null,0]
["2016-05-03","Tue",null,{"$f":"IF('Crop Factor'!C$5>0,IF('Crop Factor'!B$13=\"Evaporation Pan\",'Irrig Diary'!E324*'Crop Factor'!C$5,'Irrig Diary'!F324*'Crop Factor'!C$5),\"N/A\")","v":0.61224489795918369},0.42857142857142855,0.61224489795918369,null,null,{"$f":"IF(D324=\"N/A\",'Fixed WU Figure'!G$22,D324*H324)","v":0},0,0,0,null,0]
["2016-05-04","Wed",null,{"$f":"IF('Crop Factor'!C$5>0,IF('Crop Factor'!B$13=\"Evaporation Pan\",'Irrig Diary'!E325*'Crop Factor'!C$5,'Irrig Diary'!F325*'Crop Factor'!C$5),\"N/A\")","v":0.61224489795918369},0.42857142857142855,0.61224489795918369,null,null,{"$f":"IF(D325=\"N/A\",'Fixed WU Figure'!G$22,D325*H325)","v":0},0,0,0,null,0]
["2016-05-05","Thu",null,{"$f":"IF('Crop Factor'!C$5>0,IF('Crop Factor'!B$13=\"Evaporation Pan\",'Irrig Diary'!E326*'Crop Factor'!C$5,'Irrig Diary'!F326*'Crop Factor'!C$5),\"N/A\")","v":0.5714285714285714},0.39999999999999997,0.5714285714285714,null,null,{"$f":"IF(D326=\"N/A\",'Fixed WU Figure'!G$22,D326*H326)","v":0},0,0,0,null,0]
["2016-05-06","Fri",null,{"$f":"IF('Crop Factor'!C$5>0,IF('Crop Factor'!B$13=\"Evaporation Pan\",'Irrig Diary'!E327*'Crop Factor'!C$5,'Irrig Diary'!F327*'Crop Factor'!C$5),\"N/A\")","v":0.5714285714285714},0.39999999999999997,0.5714285714285714,null,null,{"$f":"IF(D327=\"N/A\",'Fixed WU Figure'!G$22,D327*H327)","v":0},0,0,0,null,0]
["2016-05-07","Sat",null,{"$f":"IF('Crop Factor'!C$5>0,IF('Crop Factor'!B$13=\"Evaporation Pan\",'Irrig Diary'!E328*'Crop Factor'!C$5,'Irrig Diary'!F328*'Crop Factor'!C$5),\"N/A\")","v":0.5714285714285714},0.39999999999999997,0.5714285714285714,null,null,{"$f":"IF(D328=\"N/A\",'Fixed WU Figure'!G$22,D328*H328)","v":0},0,0,0,null,0]
["2016-05-08","Sun",null,{"$f":"IF('Crop Factor'!C$5>0,IF('Crop Factor'!B$13=\"Evaporation Pan\",'Irrig Diary'!E329*'Crop Factor'!C$5,'Irrig Diary'!F329*'Crop Factor'!C$5),\"N/A\")","v":0.5714285714285714},0.39999999999999997,0.5714285714285714,null,null,{"$f":"IF(D329=\"N/A\",'Fixed WU Figure'!G$22,D329*H329)","v":0},0,0,0,null,0]
["2016-05-09","Mon",null,{"$f":"IF('Crop Factor'!C$5>0,IF('Crop Factor'!B$13=\"Evaporation Pan\",'Irrig Diary'!E330*'Crop Factor'!C$5,'Irrig Diary'!F330*'Crop Factor'!C$5),\"N/A\")","v":0.5714285714285714},0.39999999999999997,0.5714285714285714,null,null,{"$f":"IF(D330=\"N/A\",'Fixed WU Figure'!G$22,D330*H330)","v":0},0,0,0,null,0]
["2016-05-10","Tue",null,{"$f":"IF('Crop Factor'!C$5>0,IF('Crop Factor'!B$13=\"Evaporation Pan\",'Irrig Diary'!E331*'Crop Factor'!C$5,'Irrig Diary'!F331*'Crop Factor'!C$5),\"N/A\")","v":0.5714285714285714},0.39999999999999997,0.5714285714285714,null,null,{"$f":"IF(D331=\"N/A\",'Fixed WU Figure'!G$22,D331*H331)","v":0},0,0,0,null,0]
["2016-05-11","Wed",null,{"$f":"IF('Crop Factor'!C$5>0,IF('Crop Factor'!B$13=\"Evaporation Pan\",'Irrig Diary'!E332*'Crop Factor'!C$5,'Irrig Diary'!F332*'Crop Factor'!C$5),\"N/A\")","v":0.5714285714285714},0.39999999999999997,0.5714285714285714,null,null,{"$f":"IF(D332=\"N/A\",'Fixed WU Figure'!G$22,D332*H332)","v":0},0,0,0,null,0]
["2016-05-12","Thu",null,{"$f":"IF('Crop Factor'!C$5>0,IF('Crop Factor'!B$13=\"Evaporation Pan\",'Irrig Diary'!E333*'Crop Factor'!C$5,'Irrig Diary'!F333*'Crop Factor'!C$5),\"N/A\")","v":0.55102040816326525},0.38571428571428568,0.55102040816326525,null,null,{"$f":"IF(D333=\"N/A\",'Fixed WU Figure'!G$22,D333*H333)","v":0},0,0,0,null,0]
["2016-05-13","Fri",null,{"$f":"IF('Crop Factor'!C$5>0,IF('Crop Factor'!B$13=\"Evaporation Pan\",'Irrig Diary'!E334*'Crop Factor'!C$5,'Irrig Diary'!F334*'Crop Factor'!C$5),\"N/A\")","v":0.51020408163265307},0.35714285714285715,0.51020408163265307,null,null,{"$f":"IF(D334=\"N/A\",'Fixed WU Figure'!G$22,D334*H334)","v":0},0,0,0,null,0]
["2016-05-14","Sat",null,{"$f":"IF('Crop Factor'!C$5>0,IF('Crop Factor'!B$13=\"Evaporation Pan\",'Irrig Diary'!E335*'Crop Factor'!C$5,'Irrig Diary'!F335*'Crop Factor'!C$5),\"N/A\")","v":0.51020408163265307},0.35714285714285715,0.51020408163265307,null,null,{"$f":"IF(D335=\"N/A\",'Fixed WU Figure'!G$22,D335*H335)","v":0},0,0,0,null,0]
["2016-05-15","Sun",null,{"$f":"IF('Crop Factor'!C$5>0,IF('Crop Factor'!B$13=\"Evaporation Pan\",'Irrig Diary'!E336*'Crop Factor'!C$5,'Irrig Diary'!F336*'Crop Factor'!C$5),\"N/A\")","v":0.51020408163265307},0.35714285714285715,0.51020408163265307,null,null,{"$f":"IF(D336=\"N/A\",'Fixed WU Figure'!G$22,D336*H336)","v":0},0,0,0,null,0]
["2016-05-16","Mon",null,{"$f":"IF('Crop Factor'!C$5>0,IF('Crop Factor'!B$13=\"Evaporation Pan\",'Irrig Diary'!E337*'Crop Factor'!C$5,'Irrig Diary'!F337*'Crop Factor'!C$5),\"N/A\")","v":0.52380952380952384},0.3666666666666667,0.52380952380952384,null,null,{"$f":"IF(D337=\"N/A\",'Fixed WU Figure'!G$22,D337*H337)","v":0},0,{"$f":"IF(OR(I337=0,I337=\"N/A\"),0,I337/P$15)","v":0},0,null,0]
[{"$f":"A337+1","v":"2016-05-17"},"Tue",null,{"$f":"IF('Crop Factor'!C$5>0,IF('Crop Factor'!B$13=\"Evaporation Pan\",'Irrig Diary'!E338*'Crop Factor'!C$5,'Irrig Diary'!F338*'Crop Factor'!C$5),\"N/A\")","v":0.52380952380952384},0.3666666666666667,{"$f":"(1/F$15)*E338","v":0.52380952380952384},null,null,{"$f":"IF(D338=\"N/A\",'Fixed WU Figure'!G$22,D338*H338)","v":0},{"$f":"IF(I338>12,12,I338)","v":0},0,0,null,0]
["2016-05-18",{"$f":"TEXT(A339,\"ddd\")","v":"Wed"},null,{"$f":"IF('Crop Factor'!C$5>0,IF('Crop Factor'!B$13=\"Evaporation Pan\",'Irrig Diary'!E339*'Crop Factor'!C$5,'Irrig Diary'!F339*'Crop Factor'!C$5),\"N/A\")","v":0.52380952380952384},0.3666666666666667,0.52380952380952384,null,null,{"$f":"IF(D339=\"N/A\",'Fixed WU Figure'!G$22,D339*H339)","v":0},0,0,{"$f":"K339-N338","v":0},null,{"$f":"IF(K339>0,M339-K339+N338,0)","v":0}]
["2016-05-19","Thu",null,{"$f":"IF('Crop Factor'!C$5>0,IF('Crop Factor'!B$13=\"Evaporation Pan\",'Irrig Diary'!E340*'Crop Factor'!C$5,'Irrig Diary'!F340*'Crop Factor'!C$5),\"N/A\")","v":0.52380952380952384},0.3666666666666667,0.52380952380952384,null,null,{"$f":"IF(D340=\"N/A\",'Fixed WU Figure'!G$22,D340*H340)","v":0},0,0,0,null,0]
["2016-05-20","Fri",null,{"$f":"IF('Crop Factor'!C$5>0,IF('Crop Factor'!B$13=\"Evaporation Pan\",'Irrig Diary'!E341*'Crop Factor'!C$5,'Irrig Diary'!F341*'Crop Factor'!C$5),\"N/A\")","v":0.52380952380952384},0.3666666666666667,0.52380952380952384,null,null,{"$f":"IF(D341=\"N/A\",'Fixed WU Figure'!G$22,D341*H341)","v":0},0,0,0,null,0]
["2016-05-21","Sat",null,{"$f":"IF('Crop Factor'!C$5>0,IF('Crop Factor'!B$13=\"Evaporation Pan\",'Irrig Diary'!E342*'Crop Factor'!C$5,'Irrig Diary'!F342*'Crop Factor'!C$5),\"N/A\")","v":0.47619047619047616},0.33333333333333331,0.47619047619047616,null,null,{"$f":"IF(D342=\"N/A\",'Fixed WU Figure'!G$22,D342*H342)","v":0},0,0,0,null,0]
["2016-05-22","Sun",null,{"$f":"IF('Crop Factor'!C$5>0,IF('Crop Factor'!B$13=\"Evaporation Pan\",'Irrig Diary'!E343*'Crop Factor'!C$5,'Irrig Diary'!F343*'Crop Factor'!C$5),\"N/A\")","v":0.47619047619047616},0.33333333333333331,0.47619047619047616,null,null,{"$f":"IF(D343=\"N/A\",'Fixed WU Figure'!G$22,D343*H343)","v":0},0,0,0,null,0]
["2016-05-23","Mon",null,{"$f":"IF('Crop Factor'!C$5>0,IF('Crop Factor'!B$13=\"Evaporation Pan\",'Irrig Diary'!E344*'Crop Factor'!C$5,'Irrig Diary'!F344*'Crop Factor'!C$5),\"N/A\")","v":0.47619047619047616},0.33333333333333331,0.47619047619047616,null,null,{"$f":"IF(D344=\"N/A\",'Fixed WU Figure'!G$22,D344*H344)","v":0},0,0,0,null,0]
["2016-05-24","Tue",null,{"$f":"IF('Crop Factor'!C$5>0,IF('Crop Factor'!B$13=\"Evaporation Pan\",'Irrig Diary'!E345*'Crop Factor'!C$5,'Irrig Diary'!F345*'Crop Factor'!C$5),\"N/A\")","v":0.47619047619047616},0.33333333333333331,0.47619047619047616,null,null,{"$f":"IF(D345=\"N/A\",'Fixed WU Figure'!G$22,D345*H345)","v":0},0,0,0,null,0]
["2016-05-25","Wed",null,{"$f":"IF('Crop Factor'!C$5>0,IF('Crop Factor'!B$13=\"Evaporation Pan\",'Irrig Diary'!E346*'Crop Factor'!C$5,'Irrig Diary'!F346*'Crop Factor'!C$5),\"N/A\")","v":0.47619047619047616},0.33333333333333331,0.47619047619047616,null,null,{"$f":"IF(D346=\"N/A\",'Fixed WU Figure'!G$22,D346*H346)","v":0},0,0,0,null,0]
["2016-05-26","Thu",null,{"$f":"IF('Crop Factor'!C$5>0,IF('Crop Factor'!B$13=\"Evaporation Pan\",'Irrig Diary'!E347*'Crop Factor'!C$5,'Irrig Diary'!F347*'Crop Factor'!C$5),\"N/A\")","v":0.47619047619047616},0.33333333333333331,0.47619047619047616,null,null,{"$f":"IF(D347=\"N/A\",'Fixed WU Figure'!G$22,D347*H347)","v":0},0,0,0,null,0]
["2016-05-27","Fri",null,{"$f":"IF('Crop Factor'!C$5>0,IF('Crop Factor'!B$13=\"Evaporation Pan\",'Irrig Diary'!E348*'Crop Factor'!C$5,'Irrig Diary'!F348*'Crop Factor'!C$5),\"N/A\")","v":0.48571428571428565},0.33999999999999997,0.48571428571428565,null,null,{"$f":"IF(D348=\"N/A\",'Fixed WU Figure'!G$22,D348*H348)","v":0},0,0,0,null,0]
["2016-05-28","Sat",null,{"$f":"IF('Crop Factor'!C$5>0,IF('Crop Factor'!B$13=\"Evaporation Pan\",'Irrig Diary'!E349*'Crop Factor'!C$5,'Irrig Diary'!F349*'Crop Factor'!C$5),\"N/A\")","v":0.48571428571428565},0.33999999999999997,0.48571428571428565,null,null,{"$f":"IF(D349=\"N/A\",'Fixed WU Figure'!G$22,D349*H349)","v":0},0,0,0,null,0]
["2016-05-29","Sun",null,{"$f":"IF('Crop Factor'!C$5>0,IF('Crop Factor'!B$13=\"Evaporation Pan\",'Irrig Diary'!E350*'Crop Factor'!C$5,'Irrig Diary'!F350*'Crop Factor'!C$5),\"N/A\")","v":0.42857142857142855},0.3,0.42857142857142855,null,null,{"$f":"IF(D350=\"N/A\",'Fixed WU Figure'!G$22,D350*H350)","v":0},0,0,0,null,0]
["2016-05-30","Mon",null,{"$f":"IF('Crop Factor'!C$5>0,IF('Crop Factor'!B$13=\"Evaporation Pan\",'Irrig Diary'!E351*'Crop Factor'!C$5,'Irrig Diary'!F351*'Crop Factor'!C$5),\"N/A\")","v":0.42857142857142855},0.3,0.42857142857142855,null,null,{"$f":"IF(D351=\"N/A\",'Fixed WU Figure'!G$22,D351*H351)","v":0},0,0,0,null,0]
["2016-05-31","Tue",null,{"$f":"IF('Crop Factor'!C$5>0,IF('Crop Factor'!B$13=\"Evaporation Pan\",'Irrig Diary'!E352*'Crop Factor'!C$5,'Irrig Diary'!F352*'Crop Factor'!C$5),\"N/A\")","v":0.42857142857142855},0.3,0.42857142857142855,null,null,{"$f":"IF(D352=\"N/A\",'Fixed WU Figure'!G$22,D352*H352)","v":0},0,0,0,null,0]
["2016-06-01","Wed",null,{"$f":"IF('Crop Factor'!C$5>0,IF('Crop Factor'!B$13=\"Evaporation Pan\",'Irrig Diary'!E353*'Crop Factor'!C$5,'Irrig Diary'!F353*'Crop Factor'!C$5),\"N/A\")","v":0.42857142857142855},0.3,0.42857142857142855,null,null,{"$f":"IF(D353=\"N/A\",'Fixed WU Figure'!G$23,D353*H353)","v":0},0,0,0,null,0]
["2016-06-02","Thu",null,{"$f":"IF('Crop Factor'!C$5>0,IF('Crop Factor'!B$13=\"Evaporation Pan\",'Irrig Diary'!E354*'Crop Factor'!C$5,'Irrig Diary'!F354*'Crop Factor'!C$5),\"N/A\")","v":0.42857142857142855},0.3,0.42857142857142855,null,null,{"$f":"IF(D354=\"N/A\",'Fixed WU Figure'!G$23,D354*H354)","v":0},0,0,0,null,0]
["2016-06-03","Fri",null,{"$f":"IF('Crop Factor'!C$5>0,IF('Crop Factor'!B$13=\"Evaporation Pan\",'Irrig Diary'!E355*'Crop Factor'!C$5,'Irrig Diary'!F355*'Crop Factor'!C$5),\"N/A\")","v":0.42857142857142855},0.3,0.42857142857142855,null,null,{"$f":"IF(D355=\"N/A\",'Fixed WU Figure'!G$23,D355*H355)","v":0},0,0,0,null,0]
["2016-06-04","Sat",null,{"$f":"IF('Crop Factor'!C$5>0,IF('Crop Factor'!B$13=\"Evaporation Pan\",'Irrig Diary'!E356*'Crop Factor'!C$5,'Irrig Diary'!F356*'Crop Factor'!C$5),\"N/A\")","v":0.42857142857142855},0.3,0.42857142857142855,null,null,{"$f":"IF(D356=\"N/A\",'Fixed WU Figure'!G$23,D356*H356)","v":0},0,0,0,null,0]
["2016-06-05","Sun",null,{"$f":"IF('Crop Factor'!C$5>0,IF('Crop Factor'!B$13=\"Evaporation Pan\",'Irrig Diary'!E357*'Crop Factor'!C$5,'Irrig Diary'!F357*'Crop Factor'!C$5),\"N/A\")","v":0.42857142857142855},0.3,0.42857142857142855,null,null,{"$f":"IF(D357=\"N/A\",'Fixed WU Figure'!G$23,D357*H357)","v":0},0,0,0,null,0]
["2016-06-06","Mon",null,{"$f":"IF('Crop Factor'!C$5>0,IF('Crop Factor'!B$13=\"Evaporation Pan\",'Irrig Diary'!E358*'Crop Factor'!C$5,'Irrig Diary'!F358*'Crop Factor'!C$5),\"N/A\")","v":0},0,0,null,null,{"$f":"IF(D358=\"N/A\",'Fixed WU Figure'!G$23,D358*H358)","v":0},0,0,0,null,0]
["2016-06-07","Tue",null,{"$f":"IF('Crop Factor'!C$5>0,IF('Crop Factor'!B$13=\"Evaporation Pan\",'Irrig Diary'!E359*'Crop Factor'!C$5,'Irrig Diary'!F359*'Crop Factor'!C$5),\"N/A\")","v":0},0,0,null,null,{"$f":"IF(D359=\"N/A\",'Fixed WU Figure'!G$23,D359*H359)","v":0},0,0,0,null,0]
["2016-06-08","Wed",null,{"$f":"IF('Crop Factor'!C$5>0,IF('Crop Factor'!B$13=\"Evaporation Pan\",'Irrig Diary'!E360*'Crop Factor'!C$5,'Irrig Diary'!F360*'Crop Factor'!C$5),\"N/A\")","v":0},0,0,null,null,{"$f":"IF(D360=\"N/A\",'Fixed WU Figure'!G$23,D360*H360)","v":0},0,0,0,null,0]
["2016-06-09","Thu",null,{"$f":"IF('Crop Factor'!C$5>0,IF('Crop Factor'!B$13=\"Evaporation Pan\",'Irrig Diary'!E361*'Crop Factor'!C$5,'Irrig Diary'!F361*'Crop Factor'!C$5),\"N/A\")","v":0},0,0,null,null,{"$f":"IF(D361=\"N/A\",'Fixed WU Figure'!G$23,D361*H361)","v":0},0,0,0,null,0]
["2016-06-10","Fri",null,{"$f":"IF('Crop Factor'!C$5>0,IF('Crop Factor'!B$13=\"Evaporation Pan\",'Irrig Diary'!E362*'Crop Factor'!C$5,'Irrig Diary'!F362*'Crop Factor'!C$5),\"N/A\")","v":0},0,0,null,null,{"$f":"IF(D362=\"N/A\",'Fixed WU Figure'!G$23,D362*H362)","v":0},0,0,0,null,0]
["2016-06-11","Sat",null,{"$f":"IF('Crop Factor'!C$5>0,IF('Crop Factor'!B$13=\"Evaporation Pan\",'Irrig Diary'!E363*'Crop Factor'!C$5,'Irrig Diary'!F363*'Crop Factor'!C$5),\"N/A\")","v":0},0,0,null,null,{"$f":"IF(D363=\"N/A\",'Fixed WU Figure'!G$23,D363*H363)","v":0},0,0,0,null,0]
["2016-06-12","Sun",null,{"$f":"IF('Crop Factor'!C$5>0,IF('Crop Factor'!B$13=\"Evaporation Pan\",'Irrig Diary'!E364*'Crop Factor'!C$5,'Irrig Diary'!F364*'Crop Factor'!C$5),\"N/A\")","v":0},0,0,null,null,{"$f":"IF(D364=\"N/A\",'Fixed WU Figure'!G$23,D364*H364)","v":0},0,0,0,null,0]
["2016-06-13","Mon",null,{"$f":"IF('Crop Factor'!C$5>0,IF('Crop Factor'!B$13=\"Evaporation Pan\",'Irrig Diary'!E365*'Crop Factor'!C$5,'Irrig Diary'!F365*'Crop Factor'!C$5),\"N/A\")","v":0},0,0,null,null,{"$f":"IF(D365=\"N/A\",'Fixed WU Figure'!G$23,D365*H365)","v":0},0,0,0,null,0]
["2016-06-14","Tue",null,{"$f":"IF('Crop Factor'!C$5>0,IF('Crop Factor'!B$13=\"Evaporation Pan\",'Irrig Diary'!E366*'Crop Factor'!C$5,'Irrig Diary'!F366*'Crop Factor'!C$5),\"N/A\")","v":0},0,0,null,null,{"$f":"IF(D366=\"N/A\",'Fixed WU Figure'!G$23,D366*H366)","v":0},0,0,0,null,0]
["2016-06-15","Wed",null,{"$f":"IF('Crop Factor'!C$5>0,IF('Crop Factor'!B$13=\"Evaporation Pan\",'Irrig Diary'!E367*'Crop Factor'!C$5,'Irrig Diary'!F367*'Crop Factor'!C$5),\"N/A\")","v":0},0,0,null,null,{"$f":"IF(D367=\"N/A\",'Fixed WU Figure'!G$23,D367*H367)","v":0},0,0,0,null,0]
["2016-06-16","Thu",null,{"$f":"IF('Crop Factor'!C$5>0,IF('Crop Factor'!B$13=\"Evaporation Pan\",'Irrig Diary'!E368*'Crop Factor'!C$5,'Irrig Diary'!F368*'Crop Factor'!C$5),\"N/A\")","v":0},0,0,null,null,{"$f":"IF(D368=\"N/A\",'Fixed WU Figure'!G$23,D368*H368)","v":0},0,0,0,null,0]
["2016-06-17","Fri",null,{"$f":"IF('Crop Factor'!C$5>0,IF('Crop Factor'!B$13=\"Evaporation Pan\",'Irrig Diary'!E369*'Crop Factor'!C$5,'Irrig Diary'!F369*'Crop Factor'!C$5),\"N/A\")","v":0},0,0,null,null,{"$f":"IF(D369=\"N/A\",'Fixed WU Figure'!G$23,D369*H369)","v":0},0,0,0,null,0]
["2016-06-18","Sat",null,{"$f":"IF('Crop Factor'!C$5>0,IF('Crop Factor'!B$13=\"Evaporation Pan\",'Irrig Diary'!E370*'Crop Factor'!C$5,'Irrig Diary'!F370*'Crop Factor'!C$5),\"N/A\")","v":0},0,0,null,null,{"$f":"IF(D370=\"N/A\",'Fixed WU Figure'!G$23,D370*H370)","v":0},0,0,0,null,0]
["2016-06-19","Sun",null,{"$f":"IF('Crop Factor'!C$5>0,IF('Crop Factor'!B$13=\"Evaporation Pan\",'Irrig Diary'!E371*'Crop Factor'!C$5,'Irrig Diary'!F371*'Crop Factor'!C$5),\"N/A\")","v":0},0,0,null,null,{"$f":"IF(D371=\"N/A\",'Fixed WU Figure'!G$23,D371*H371)","v":0},0,0,0,null,0]
["2016-06-20","Mon",null,{"$f":"IF('Crop Factor'!C$5>0,IF('Crop Factor'!B$13=\"Evaporation Pan\",'Irrig Diary'!E372*'Crop Factor'!C$5,'Irrig Diary'!F372*'Crop Factor'!C$5),\"N/A\")","v":0},0,0,null,null,{"$f":"IF(D372=\"N/A\",'Fixed WU Figure'!G$23,D372*H372)","v":0},0,0,0,null,0]
["2016-06-21","Tue",null,{"$f":"IF('Crop Factor'!C$5>0,IF('Crop Factor'!B$13=\"Evaporation Pan\",'Irrig Diary'!E373*'Crop Factor'!C$5,'Irrig Diary'!F373*'Crop Factor'!C$5),\"N/A\")","v":0},0,0,null,null,{"$f":"IF(D373=\"N/A\",'Fixed WU Figure'!G$23,D373*H373)","v":0},0,0,0,null,0]
["2016-06-22","Wed",null,{"$f":"IF('Crop Factor'!C$5>0,IF('Crop Factor'!B$13=\"Evaporation Pan\",'Irrig Diary'!E374*'Crop Factor'!C$5,'Irrig Diary'!F374*'Crop Factor'!C$5),\"N/A\")","v":0},0,0,null,null,{"$f":"IF(D374=\"N/A\",'Fixed WU Figure'!G$23,D374*H374)","v":0},0,0,0,null,0]
["2016-06-23","Thu",null,{"$f":"IF('Crop Factor'!C$5>0,IF('Crop Factor'!B$13=\"Evaporation Pan\",'Irrig Diary'!E375*'Crop Factor'!C$5,'Irrig Diary'!F375*'Crop Factor'!C$5),\"N/A\")","v":0},0,0,null,null,{"$f":"IF(D375=\"N/A\",'Fixed WU Figure'!G$23,D375*H375)","v":0},0,0,0,null,0]
["2016-06-24","Fri",null,{"$f":"IF('Crop Factor'!C$5>0,IF('Crop Factor'!B$13=\"Evaporation Pan\",'Irrig Diary'!E376*'Crop Factor'!C$5,'Irrig Diary'!F376*'Crop Factor'!C$5),\"N/A\")","v":0},0,0,null,null,{"$f":"IF(D376=\"N/A\",'Fixed WU Figure'!G$23,D376*H376)","v":0},0,0,0,null,0]
["2016-06-25","Sat",null,{"$f":"IF('Crop Factor'!C$5>0,IF('Crop Factor'!B$13=\"Evaporation Pan\",'Irrig Diary'!E377*'Crop Factor'!C$5,'Irrig Diary'!F377*'Crop Factor'!C$5),\"N/A\")","v":0},0,0,null,null,{"$f":"IF(D377=\"N/A\",'Fixed WU Figure'!G$23,D377*H377)","v":0},0,0,0,null,0]
["2016-06-26","Sun",null,{"$f":"IF('Crop Factor'!C$5>0,IF('Crop Factor'!B$13=\"Evaporation Pan\",'Irrig Diary'!E378*'Crop Factor'!C$5,'Irrig Diary'!F378*'Crop Factor'!C$5),\"N/A\")","v":0},0,0,null,null,{"$f":"IF(D378=\"N/A\",'Fixed WU Figure'!G$23,D378*H378)","v":0},0,0,0,null,0]
["2016-06-27","Mon",null,{"$f":"IF('Crop Factor'!C$5>0,IF('Crop Factor'!B$13=\"Evaporation Pan\",'Irrig Diary'!E379*'Crop Factor'!C$5,'Irrig Diary'!F379*'Crop Factor'!C$5),\"N/A\")","v":0},0,0,null,null,{"$f":"IF(D379=\"N/A\",'Fixed WU Figure'!G$23,D379*H379)","v":0},0,0,0,null,0]
["2016-06-28","Tue",null,{"$f":"IF('Crop Factor'!C$5>0,IF('Crop Factor'!B$13=\"Evaporation Pan\",'Irrig Diary'!E380*'Crop Factor'!C$5,'Irrig Diary'!F380*'Crop Factor'!C$5),\"N/A\")","v":0},0,0,null,null,{"$f":"IF(D380=\"N/A\",'Fixed WU Figure'!G$23,D380*H380)","v":0},0,0,0,null,0]
["2016-06-29","Wed",null,{"$f":"IF('Crop Factor'!C$5>0,IF('Crop Factor'!B$13=\"Evaporation Pan\",'Irrig Diary'!E381*'Crop Factor'!C$5,'Irrig Diary'!F381*'Crop Factor'!C$5),\"N/A\")","v":0},0,0,null,null,{"$f":"IF(D381=\"N/A\",'Fixed WU Figure'!G$23,D381*H381)","v":0},0,0,0,null,0]
["2016-06-30","Thu",null,{"$f":"IF('Crop Factor'!C$5>0,IF('Crop Factor'!B$13=\"Evaporation Pan\",'Irrig Diary'!E382*'Crop Factor'!C$5,'Irrig Diary'!F382*'Crop Factor'!C$5),\"N/A\")","v":0},0,0,null,null,{"$f":"IF(D382=\"N/A\",'Fixed WU Figure'!G$23,D382*H382)","v":0},0,0,0,null,0]
["TOTAL",null,null,null,null,null,{"$f":"SUM(G17:G382)","v":0},{"$f":"SUM(H17:H382)","v":0},{"$f":"SUM(I17:I382)","v":0},{"$f":"SUM(J17:J382)","v":0},{"$f":"SUM(K17:K382)","v":0},null,{"$f":"SUM(M17:M382)","v":0}]

{"sheet":"Fert Program 1,2,3","index":9,"n_rows":764,"n_cols":36,"rows_kept":764,"cut":false,"hidden":false,"merged":[]}
[]
[]
["Fertiliser Active Percentage:",null,null,null,null,null,null,null,null,null,null,null,null,null,null,null,null,null,null,null,null,null,null,null,null,null,null,null,null,null,"NOTES / WORKING PAGE"]
[]
[null,null,"Ammonium Nitrate","Ammonium Sulphate","Borax","Calcium Nitrate","Copper Sulphate","FertiMix","Iron Chelate","Iron Sulphate","Magnesium Sulphate","Manganese Sulphate","MAP","MKP","Nitric Acid","Phosphoric Acid","Potassium Chloride","Potassium Nitrate","Potassium Sulphate","Sodium Molybdenum","Sulphuric Acid","Urea","Zinc Oxide","Zinc Sulphate"]
[null,null,"NH4NO3","(NH4)2SO4","Na2B4O7.10H2O","Ca(NO3)2","CuSO4.5H2O",null,"EDDHA","FeSO4.7H2O","MgSO4.7H2O","MnSO4.H2O","NH4H2PO4","KH2PO4","HNO3","PO4H3","KCl","KNO3","K2SO4","Na2MoO4","H2SO4","CO(NH2)2","ZnO","ZnSO4.7H2O"]
["N",null,0.33500000000000002,0.21199999999999999,null,0.14000000000000001,null,null,null,null,null,null,0.12,null,0.13,null,null,0.13,null,null,null,0.46]
["P",null,null,null,null,null,null,null,null,null,null,null,0.26,0.23499999999999999,null,0.316,0.5]
["K",null,null,null,null,null,null,null,null,null,null,null,null,0.28699999999999998,null,null,null,0.38329999999999997,0.4]
["S",null,null,0.24299999999999999,null,null,0.128,null,null,0.115,0.13,0.13200000000000001,null,null,null,null,null,null,0.184,null,0.3206,null,null,0.111]
["Na",null,null,null,0.1205,null,null,null,null,null,null,null,null,null,null,null,null,null,null,0.222]
["Ca",null,null,null,null,0.19]
["Mg",null,null,null,null,null,null,null,null,null,0.1]
["Cl"]
["Cu",null,null,null,null,null,0.25]
["Zn",null,null,null,null,null,null,null,null,null,null,null,null,null,null,null,null,null,null,null,null,null,0.65400000000000003,0.22]
["Mn",null,null,null,null,null,null,null,null,null,null,0.33]
["Fe",null,null,null,null,null,null,null,0.06,0.18]
["B",null,null,null,0.113]
["Al"]
["Mo",null,null,null,null,null,null,null,null,null,null,null,null,null,null,null,null,null,null,0.4]
["NO3-",null,1,null,null,2,null,null,null,null,null,null,null,null,1,null,null,1]
["NH4+",null,1,2,null,null,null,null,null,null,null,null,1,null,null,null,null,null,null,null,null,2]
["NO3-:NH4+"]
[]
["Actual Seasonal Fertiliser (Kg) / Hectare (Ha):"]
[]
[null,"Total","Ammonium Nitrate","Ammonium Sulphate","Borax","Calcium Nitrate","Copper Sulphate","FertiMix","Iron Chelate","Iron Sulphate","Magnesium Sulphate","Manganese Sulphate","Mono-Ammonium Phosphate","Mono-Potassium Phosphate","Nitric Acid","Phosphoric Acid","Potassium Chloride","Potassium Nitrate","Potassium Sulphate","Sodium Molybdenum","Sulphuric Acid","Urea","Zinc Oxide","Zinc Sulphate"]
[null,"Kg/Ha","NH4NO3","(NH4)2SO4","Na2B4O7.10H2O","Ca(NO3)2","CuSO4.5H2O",null,"EDDHA","FeSO4.7H2O","MgSO4.7H2O","MnSO4.H2O","NH4H2PO4","KH2PO4","HNO3","PO4H3","KCl","KNO3","K2SO4","Na2MoO4","H2SO4","CO(NH2)2","ZnO","ZnSO4.7H2O"]
["N",{"$f":"SUM(C30:X30)","v":0},{"$f":"C7*(SUM(C$589)/$A$534)","v":0},0,0,0,0,0,0,0,0,0,0,0,0,0,0,0,0,0,0,0,0,0]
["P",{"$f":"SUM(C31:X31)","v":0},{"$f":"C8*(SUM(C$589)/$A$534)","v":0},0,0,0,0,0,0,0,0,0,0,0,0,0,0,0,0,0,0,0,0,0]
["K",{"$f":"SUM(C32:X32)","v":0},{"$f":"C9*(SUM(C$589)/$A$534)","v":0},0,0,0,0,0,0,0,0,0,0,0,0,0,0,0,0,0,0,0,0,0]
["S",{"$f":"SUM(C33:X33)","v":0},{"$f":"C10*(SUM(C$589)/$A$534)","v":0},0,0,0,0,0,0,0,0,0,0,0,0,0,0,0,0,0,0,0,0,0]
["Na",0,{"$f":"C11*(SUM(C$589)/$A$534)","v":0},0,0,0,0,0,0,0,0,0,0,0,0,0,0,0,0,0,0,0,0,0]
["Ca",0,{"$f":"C12*(SUM(C$589)/$A$534)","v":0},0,0,0,0,0,0,0,0,0,0,0,0,0,0,0,0,0,0,0,0,0]
["Mg",0,{"$f":"C13*(SUM(C$589)/$A$534)","v":0},0,0,0,0,0,0,0,0,0,0,0,0,0,0,0,0,0,0,0,0,0]
["Cl",0,{"$f":"C14*(SUM(C$589)/$A$534)","v":0},0,0,0,0,0,0,0,0,0,0,0,0,0,0,0,0,0,0,0,0,0]
["Cu",0,{"$f":"C15*(SUM(C$589)/$A$534)","v":0},0,0,0,0,0,0,0,0,0,0,0,0,0,0,0,0,0,0,0,0,0]
["Zn",0,{"$f":"C16*(SUM(C$589)/$A$534)","v":0},0,0,0,0,0,0,0,0,0,0,0,0,0,0,0,0,0,0,0,0,0]
["Mn",0,{"$f":"C17*(SUM(C$589)/$A$534)","v":0},0,0,0,0,0,0,0,0,0,0,0,0,0,0,0,0,0,0,0,0,0]
["Fe",0,{"$f":"C18*(SUM(C$589)/$A$534)","v":0},0,0,0,0,0,0,0,0,0,0,0,0,0,0,0,0,0,0,0,0,0]
["B",0,{"$f":"C19*(SUM(C$589)/$A$534)","v":0},0,0,0,0,0,0,0,0,0,0,0,0,0,0,0,0,0,0,0,0,0]
["Al",0,{"$f":"C20*(SUM(C$589)/$A$534)","v":0},0,0,0,0,0,0,0,0,0,0,0,0,0,0,0,0,0,0,0,0,0]
["Mo",0,{"$f":"C21*(SUM(C$589)/$A$534)","v":0},0,0,0,0,0,0,0,0,0,0,0,0,0,0,0,0,0,0,0,0,0]
["NO3-",0,{"$f":"C22*(SUM(C$589)/$A$534)","v":0},0,0,0,0,0,0,0,0,0,0,0,0,0,0,0,0,0,0,0,0,0]
["NH4+",0,{"$f":"C23*(SUM(C$589)/$A$534)","v":0},0,0,0,0,0,0,0,0,0,0,0,0,0,0,0,0,0,0,0,0,0]
["NO3-:NH4+",{"$f":"B45/B46","v":{"$error":"#DIV/0!"}}]
[]
["Proposed Seasonal Fertiliser (Kg) / Hectare (Ha):"]
[]
[null,"Total","Ammonium Nitrate","Ammonium Sulphate","Borax","Calcium Nitrate","Copper Sulphate","FertiMix","Iron Chelate","Iron Sulphate","Magnesium Sulphate","Manganese Sulphate","Mono-Ammonium Phosphate","Mono-Potassium Phosphate","Nitric Acid","Phosphoric Acid","Potassium Chloride","Potassium Nitrate","Potassium Sulphate","Sodium Molybdenum","Sulphuric Acid","Urea","Zinc Oxide","Zinc Sulphate"]
[null,"Kg/Ha","NH4NO3","(NH4)2SO4","Na2B4O7.10H2O","Ca(NO3)2","CuSO4.5H2O",null,"EDDHA","FeSO4.7H2O","MgSO4.7H2O","MnSO4.H2O","NH4H2PO4","KH2PO4","HNO3","PO4H3","KCl","KNO3","K2SO4","Na2MoO4","H2SO4","CO(NH2)2","ZnO","ZnSO4.7H2O"]
["N",{"$f":"SUM(C53:X53)","v":0},{"$f":"C7*SUM(C$473)","v":0},{"$f":"D7*SUM(D$473)","v":0},0,0,0,0,0,0,0,0,0,0,0,0,0,0,0,0,0,0,0,0]
["P",{"$f":"SUM(C54:X54)","v":0},{"$f":"C8*SUM(C$473)","v":0},0,0,0,0,0,0,0,0,0,0,0,0,0,0,0,0,0,0,0,0,0]
["K",0,{"$f":"C9*SUM(C$473)","v":0},0,0,0,0,0,0,0,0,0,0,0,0,0,0,0,0,0,0,0,0,0]
["S",0,{"$f":"C10*SUM(C$473)","v":0},0,0,0,0,0,0,0,0,0,0,0,0,0,0,0,0,0,0,0,0,0]
["Na",0,{"$f":"C11*SUM(C$473)","v":0},0,0,0,0,0,0,0,0,0,0,0,0,0,0,0,0,0,0,0,0,0]
["Ca",0,{"$f":"C12*SUM(C$473)","v":0},0,0,0,0,0,0,0,0,0,0,0,0,0,0,0,0,0,0,0,0,0]
["Mg",0,{"$f":"C13*SUM(C$473)","v":0},0,0,0,0,0,0,0,0,0,0,0,0,0,0,0,0,0,0,0,0,0]
["Cl",0,{"$f":"C14*SUM(C$473)","v":0},0,0,0,0,0,0,0,0,0,0,0,0,0,0,0,0,0,0,0,0,0]
["Cu",0,{"$f":"C15*SUM(C$473)","v":0},0,0,0,0,0,0,0,0,0,0,0,0,0,0,0,0,0,0,0,0,0]
["Zn",0,{"$f":"C16*SUM(C$473)","v":0},0,0,0,0,0,0,0,0,0,0,0,0,0,0,0,0,0,0,0,0,0]
["Mn",0,{"$f":"C17*SUM(C$473)","v":0},0,0,0,0,0,0,0,0,0,0,0,0,0,0,0,0,0,0,0,0,0]
["Fe",0,{"$f":"C18*SUM(C$473)","v":0},0,0,0,0,0,0,0,0,0,0,0,0,0,0,0,0,0,0,0,0,0]
["B",0,{"$f":"C19*SUM(C$473)","v":0},0,0,0,0,0,0,0,0,0,0,0,0,0,0,0,0,0,0,0,0,0]
["Al",0,{"$f":"C20*SUM(C$473)","v":0},0,0,0,0,0,0,0,0,0,0,0,0,0,0,0,0,0,0,0,0,0]
["Mo",0,{"$f":"C21*SUM(C$473)","v":0},0,0,0,0,0,0,0,0,0,0,0,0,0,0,0,0,0,0,0,0,0]
["NO3-",0,{"$f":"C22*SUM(C$473)","v":0},{"$f":"D22*SUM(D$473)","v":0},0,0,0,0,0,0,0,0,0,0,0,0,0,0,0,0,0,0,0,0]
["NH4+",0,{"$f":"C23*SUM(C$473)","v":0},0,0,0,0,0,0,0,0,0,0,0,0,0,0,0,0,0,0,0,0,0]
["NO3-:NH4+",{"$f":"B68/B69","v":{"$error":"#DIV/0!"}}]
[]
["Actual Weekly N (Kg) / Hectare (Ha):"]
[]
[null,null,"Ammonium Nitrate","Ammonium Sulphate","Borax","Calcium Nitrate","Copper Sulphate","FertiMix","Iron Chelate","Iron Sulphate","Magnesium Sulphate","Manganese Sulphate","Mono-Ammonium Phosphate","Mono-Potassium Phosphate","Nitric Acid","Phosphoric Acid","Potassium Chloride","Potassium Nitrate","Potassium Sulphate","Sodium Molybdenum","Sulphuric Acid","Urea","Zinc Oxide","Zinc Sulphate","Grower Wkly N","Grower Cumm N",null,"240:400","320:600","320:400"]
[null,null,"NH4NO3","(NH4)2SO4","Na2B4O7.10H2O","Ca(NO3)2","CuSO4.5H2O",null,"EDDHA","FeSO4.7H2O","MgSO4.7H2O","MnSO4.H2O","NH4H2PO4","KH2PO4","HNO3","PO4H3","KCl","KNO3","K2SO4","Na2MoO4","H2SO4","CO(NH2)2","ZnO","ZnSO4.7H2O",null,"TOTAL",null,"TOTAL","TOTAL","TOTAL"]
[{"$f":"A421","v":"2014-07-07"},"Week 1",{"$f":"(C537*C$7)/Setup!$C$10","v":0},{"$f":"(D537*D$7)/Setup!$C$10","v":0},{"$f":"(E537*E$7)/Setup!$C$10","v":0},{"$f":"(F537*F$7)/Setup!$C$10","v":0},{"$f":"(G537*G$7)/Setup!$C$10","v":0},{"$f":"(H537*H$7)/Setup!$C$10","v":0},{"$f":"(I537*I$7)/Setup!$C$10","v":0},{"$f":"(J537*J$7)/Setup!$C$10","v":0},{"$f":"(K537*K$7)/Setup!$C$10","v":0},{"$f":"(L537*L$7)/Setup!$C$10","v":0},{"$f":"(M537*M$7)/Setup!$C$10","v":0},{"$f":"(N537*N$7)/Setup!$C$10","v":0},{"$f":"(O537*O$7)/Setup!$C$10","v":0},{"$f":"(P537*P$7)/Setup!$C$10","v":0},{"$f":"(Q537*Q$7)/Setup!$C$10","v":0},{"$f":"(R537*R$7)/Setup!$C$10","v":0},{"$f":"(S537*S$7)/Setup!$C$10","v":0},{"$f":"(T537*T$7)/Setup!$C$10","v":0},{"$f":"(U537*U$7)/Setup!$C$10","v":0},{"$f":"(V537*V$7)/Setup!$C$10","v":0},{"$f":"(W537*W$7)/Setup!$C$10","v":0},{"$f":"(X537*X$7)/Setup!$C$10","v":0},{"$f":"SUM(C76:X76)","v":0},{"$f":"Y76","v":0},null,0,0,0]
["2014-07-14","Week 2",{"$f":"(C538*C$7)/Setup!$C$10","v":0},{"$f":"(D538*D$7)/Setup!$C$10","v":0},{"$f":"(E538*E$7)/Setup!$C$10","v":0},{"$f":"(F538*F$7)/Setup!$C$10","v":0},{"$f":"(G538*G$7)/Setup!$C$10","v":0},{"$f":"(H538*H$7)/Setup!$C$10","v":0},{"$f":"(I538*I$7)/Setup!$C$10","v":0},{"$f":"(J538*J$7)/Setup!$C$10","v":0},{"$f":"(K538*K$7)/Setup!$C$10","v":0},{"$f":"(L538*L$7)/Setup!$C$10","v":0},{"$f":"(M538*M$7)/Setup!$C$10","v":0},{"$f":"(N538*N$7)/Setup!$C$10","v":0},{"$f":"(O538*O$7)/Setup!$C$10","v":0},{"$f":"(P538*P$7)/Setup!$C$10","v":0},{"$f":"(Q538*Q$7)/Setup!$C$10","v":0},{"$f":"(R538*R$7)/Setup!$C$10","v":0},{"$f":"(S538*S$7)/Setup!$C$10","v":0},{"$f":"(T538*T$7)/Setup!$C$10","v":0},{"$f":"(U538*U$7)/Setup!$C$10","v":0},{"$f":"(V538*V$7)/Setup!$C$10","v":0},{"$f":"(W538*W$7)/Setup!$C$10","v":0},{"$f":"(X538*X$7)/Setup!$C$10","v":0},{"$f":"SUM(C77:X77)","v":0},{"$f":"Z76+Y77","v":0},null,0,0,0]
["2014-07-21","Week 3",{"$f":"(C539*C$7)/Setup!$C$10","v":0},{"$f":"(D539*D$7)/Setup!$C$10","v":0},{"$f":"(E539*E$7)/Setup!$C$10","v":0},{"$f":"(F539*F$7)/Setup!$C$10","v":0},{"$f":"(G539*G$7)/Setup!$C$10","v":0},{"$f":"(H539*H$7)/Setup!$C$10","v":0},{"$f":"(I539*I$7)/Setup!$C$10","v":0},{"$f":"(J539*J$7)/Setup!$C$10","v":0},{"$f":"(K539*K$7)/Setup!$C$10","v":0},{"$f":"(L539*L$7)/Setup!$C$10","v":0},{"$f":"(M539*M$7)/Setup!$C$10","v":0},{"$f":"(N539*N$7)/Setup!$C$10","v":0},{"$f":"(O539*O$7)/Setup!$C$10","v":0},{"$f":"(P539*P$7)/Setup!$C$10","v":0},{"$f":"(Q539*Q$7)/Setup!$C$10","v":0},{"$f":"(R539*R$7)/Setup!$C$10","v":0},{"$f":"(S539*S$7)/Setup!$C$10","v":0},{"$f":"(T539*T$7)/Setup!$C$10","v":0},{"$f":"(U539*U$7)/Setup!$C$10","v":0},{"$f":"(V539*V$7)/Setup!$C$10","v":0},{"$f":"(W539*W$7)/Setup!$C$10","v":0},{"$f":"(X539*X$7)/Setup!$C$10","v":0},0,{"$f":"Z77+Y78","v":0},null,0,0,0]
["2014-07-28","Week 4",{"$f":"(C540*C$7)/Setup!$C$10","v":0},{"$f":"(D540*D$7)/Setup!$C$10","v":0},{"$f":"(E540*E$7)/Setup!$C$10","v":0},{"$f":"(F540*F$7)/Setup!$C$10","v":0},{"$f":"(G540*G$7)/Setup!$C$10","v":0},{"$f":"(H540*H$7)/Setup!$C$10","v":0},{"$f":"(I540*I$7)/Setup!$C$10","v":0},{"$f":"(J540*J$7)/Setup!$C$10","v":0},{"$f":"(K540*K$7)/Setup!$C$10","v":0},{"$f":"(L540*L$7)/Setup!$C$10","v":0},{"$f":"(M540*M$7)/Setup!$C$10","v":0},{"$f":"(N540*N$7)/Setup!$C$10","v":0},{"$f":"(O540*O$7)/Setup!$C$10","v":0},{"$f":"(P540*P$7)/Setup!$C$10","v":0},{"$f":"(Q540*Q$7)/Setup!$C$10","v":0},{"$f":"(R540*R$7)/Setup!$C$10","v":0},{"$f":"(S540*S$7)/Setup!$C$10","v":0},{"$f":"(T540*T$7)/Setup!$C$10","v":0},{"$f":"(U540*U$7)/Setup!$C$10","v":0},{"$f":"(V540*V$7)/Setup!$C$10","v":0},{"$f":"(W540*W$7)/Setup!$C$10","v":0},{"$f":"(X540*X$7)/Setup!$C$10","v":0},0,0,null,16.25,16.25,16.25]
["2014-08-04","Week 5",{"$f":"(C541*C$7)/Setup!$C$10","v":0},{"$f":"(D541*D$7)/Setup!$C$10","v":0},{"$f":"(E541*E$7)/Setup!$C$10","v":0},{"$f":"(F541*F$7)/Setup!$C$10","v":0},{"$f":"(G541*G$7)/Setup!$C$10","v":0},{"$f":"(H541*H$7)/Setup!$C$10","v":0},{"$f":"(I541*I$7)/Setup!$C$10","v":0},{"$f":"(J541*J$7)/Setup!$C$10","v":0},{"$f":"(K541*K$7)/Setup!$C$10","v":0},{"$f":"(L541*L$7)/Setup!$C$10","v":0},{"$f":"(M541*M$7)/Setup!$C$10","v":0},{"$f":"(N541*N$7)/Setup!$C$10","v":0},{"$f":"(O541*O$7)/Setup!$C$10","v":0},{"$f":"(P541*P$7)/Setup!$C$10","v":0},{"$f":"(Q541*Q$7)/Setup!$C$10","v":0},{"$f":"(R541*R$7)/Setup!$C$10","v":0},{"$f":"(S541*S$7)/Setup!$C$10","v":0},{"$f":"(T541*T$7)/Setup!$C$10","v":0},{"$f":"(U541*U$7)/Setup!$C$10","v":0},{"$f":"(V541*V$7)/Setup!$C$10","v":0},{"$f":"(W541*W$7)/Setup!$C$10","v":0},{"$f":"(X541*X$7)/Setup!$C$10","v":0},0,0,null,16.25,16.25,16.25]
["2014-08-11","Week 6",{"$f":"(C542*C$7)/Setup!$C$10","v":0},{"$f":"(D542*D$7)/Setup!$C$10","v":0},{"$f":"(E542*E$7)/Setup!$C$10","v":0},{"$f":"(F542*F$7)/Setup!$C$10","v":0},{"$f":"(G542*G$7)/Setup!$C$10","v":0},{"$f":"(H542*H$7)/Setup!$C$10","v":0},{"$f":"(I542*I$7)/Setup!$C$10","v":0},{"$f":"(J542*J$7)/Setup!$C$10","v":0},{"$f":"(K542*K$7)/Setup!$C$10","v":0},{"$f":"(L542*L$7)/Setup!$C$10","v":0},{"$f":"(M542*M$7)/Setup!$C$10","v":0},{"$f":"(N542*N$7)/Setup!$C$10","v":0},{"$f":"(O542*O$7)/Setup!$C$10","v":0},{"$f":"(P542*P$7)/Setup!$C$10","v":0},{"$f":"(Q542*Q$7)/Setup!$C$10","v":0},{"$f":"(R542*R$7)/Setup!$C$10","v":0},{"$f":"(S542*S$7)/Setup!$C$10","v":0},{"$f":"(T542*T$7)/Setup!$C$10","v":0},{"$f":"(U542*U$7)/Setup!$C$10","v":0},{"$f":"(V542*V$7)/Setup!$C$10","v":0},{"$f":"(W542*W$7)/Setup!$C$10","v":0},{"$f":"(X542*X$7)/Setup!$C$10","v":0},0,0,null,0,0,0]
["2014-08-18","Week 7",{"$f":"(C543*C$7)/Setup!$C$10","v":0},{"$f":"(D543*D$7)/Setup!$C$10","v":0},{"$f":"(E543*E$7)/Setup!$C$10","v":0},{"$f":"(F543*F$7)/Setup!$C$10","v":0},{"$f":"(G543*G$7)/Setup!$C$10","v":0},{"$f":"(H543*H$7)/Setup!$C$10","v":0},{"$f":"(I543*I$7)/Setup!$C$10","v":0},{"$f":"(J543*J$7)/Setup!$C$10","v":0},{"$f":"(K543*K$7)/Setup!$C$10","v":0},{"$f":"(L543*L$7)/Setup!$C$10","v":0},{"$f":"(M543*M$7)/Setup!$C$10","v":0},{"$f":"(N543*N$7)/Setup!$C$10","v":0},{"$f":"(O543*O$7)/Setup!$C$10","v":0},{"$f":"(P543*P$7)/Setup!$C$10","v":0},{"$f":"(Q543*Q$7)/Setup!$C$10","v":0},{"$f":"(R543*R$7)/Setup!$C$10","v":0},{"$f":"(S543*S$7)/Setup!$C$10","v":0},{"$f":"(T543*T$7)/Setup!$C$10","v":0},{"$f":"(U543*U$7)/Setup!$C$10","v":0},{"$f":"(V543*V$7)/Setup!$C$10","v":0},{"$f":"(W543*W$7)/Setup!$C$10","v":0},{"$f":"(X543*X$7)/Setup!$C$10","v":0},0,0,null,0,0,0]
["2014-08-25","Week 8",{"$f":"(C544*C$7)/Setup!$C$10","v":0},{"$f":"(D544*D$7)/Setup!$C$10","v":0},{"$f":"(E544*E$7)/Setup!$C$10","v":0},{"$f":"(F544*F$7)/Setup!$C$10","v":0},{"$f":"(G544*G$7)/Setup!$C$10","v":0},{"$f":"(H544*H$7)/Setup!$C$10","v":0},{"$f":"(I544*I$7)/Setup!$C$10","v":0},{"$f":"(J544*J$7)/Setup!$C$10","v":0},{"$f":"(K544*K$7)/Setup!$C$10","v":0},{"$f":"(L544*L$7)/Setup!$C$10","v":0},{"$f":"(M544*M$7)/Setup!$C$10","v":0},{"$f":"(N544*N$7)/Setup!$C$10","v":0},{"$f":"(O544*O$7)/Setup!$C$10","v":0},{"$f":"(P544*P$7)/Setup!$C$10","v":0},{"$f":"(Q544*Q$7)/Setup!$C$10","v":0},{"$f":"(R544*R$7)/Setup!$C$10","v":0},{"$f":"(S544*S$7)/Setup!$C$10","v":0},{"$f":"(T544*T$7)/Setup!$C$10","v":0},{"$f":"(U544*U$7)/Setup!$C$10","v":0},{"$f":"(V544*V$7)/Setup!$C$10","v":0},{"$f":"(W544*W$7)/Setup!$C$10","v":0},{"$f":"(X544*X$7)/Setup!$C$10","v":0},0,0,null,0,0,0]
["2014-09-01","Week 9",{"$f":"(C545*C$7)/Setup!$C$10","v":0},{"$f":"(D545*D$7)/Setup!$C$10","v":0},{"$f":"(E545*E$7)/Setup!$C$10","v":0},{"$f":"(F545*F$7)/Setup!$C$10","v":0},{"$f":"(G545*G$7)/Setup!$C$10","v":0},{"$f":"(H545*H$7)/Setup!$C$10","v":0},{"$f":"(I545*I$7)/Setup!$C$10","v":0},{"$f":"(J545*J$7)/Setup!$C$10","v":0},{"$f":"(K545*K$7)/Setup!$C$10","v":0},{"$f":"(L545*L$7)/Setup!$C$10","v":0},{"$f":"(M545*M$7)/Setup!$C$10","v":0},{"$f":"(N545*N$7)/Setup!$C$10","v":0},{"$f":"(O545*O$7)/Setup!$C$10","v":0},{"$f":"(P545*P$7)/Setup!$C$10","v":0},{"$f":"(Q545*Q$7)/Setup!$C$10","v":0},{"$f":"(R545*R$7)/Setup!$C$10","v":0},{"$f":"(S545*S$7)/Setup!$C$10","v":0},{"$f":"(T545*T$7)/Setup!$C$10","v":0},{"$f":"(U545*U$7)/Setup!$C$10","v":0},{"$f":"(V545*V$7)/Setup!$C$10","v":0},{"$f":"(W545*W$7)/Setup!$C$10","v":0},{"$f":"(X545*X$7)/Setup!$C$10","v":0},0,0,null,0,0,0]
["2014-09-08","Week 10",{"$f":"(C546*C$7)/Setup!$C$10","v":0},{"$f":"(D546*D$7)/Setup!$C$10","v":0},{"$f":"(E546*E$7)/Setup!$C$10","v":0},{"$f":"(F546*F$7)/Setup!$C$10","v":0},{"$f":"(G546*G$7)/Setup!$C$10","v":0},{"$f":"(H546*H$7)/Setup!$C$10","v":0},{"$f":"(I546*I$7)/Setup!$C$10","v":0},{"$f":"(J546*J$7)/Setup!$C$10","v":0},{"$f":"(K546*K$7)/Setup!$C$10","v":0},{"$f":"(L546*L$7)/Setup!$C$10","v":0},{"$f":"(M546*M$7)/Setup!$C$10","v":0},{"$f":"(N546*N$7)/Setup!$C$10","v":0},{"$f":"(O546*O$7)/Setup!$C$10","v":0},{"$f":"(P546*P$7)/Setup!$C$10","v":0},{"$f":"(Q546*Q$7)/Setup!$C$10","v":0},{"$f":"(R546*R$7)/Setup!$C$10","v":0},{"$f":"(S546*S$7)/Setup!$C$10","v":0},{"$f":"(T546*T$7)/Setup!$C$10","v":0},{"$f":"(U546*U$7)/Setup!$C$10","v":0},{"$f":"(V546*V$7)/Setup!$C$10","v":0},{"$f":"(W546*W$7)/Setup!$C$10","v":0},{"$f":"(X546*X$7)/Setup!$C$10","v":0},0,0,null,6,6,6]
["2014-09-15","Week 11",{"$f":"(C547*C$7)/Setup!$C$10","v":0},{"$f":"(D547*D$7)/Setup!$C$10","v":0},{"$f":"(E547*E$7)/Setup!$C$10","v":0},{"$f":"(F547*F$7)/Setup!$C$10","v":0},{"$f":"(G547*G$7)/Setup!$C$10","v":0},{"$f":"(H547*H$7)/Setup!$C$10","v":0},{"$f":"(I547*I$7)/Setup!$C$10","v":0},{"$f":"(J547*J$7)/Setup!$C$10","v":0},{"$f":"(K547*K$7)/Setup!$C$10","v":0},{"$f":"(L547*L$7)/Setup!$C$10","v":0},{"$f":"(M547*M$7)/Setup!$C$10","v":0},{"$f":"(N547*N$7)/Setup!$C$10","v":0},{"$f":"(O547*O$7)/Setup!$C$10","v":0},{"$f":"(P547*P$7)/Setup!$C$10","v":0},{"$f":"(Q547*Q$7)/Setup!$C$10","v":0},{"$f":"(R547*R$7)/Setup!$C$10","v":0},{"$f":"(S547*S$7)/Setup!$C$10","v":0},{"$f":"(T547*T$7)/Setup!$C$10","v":0},{"$f":"(U547*U$7)/Setup!$C$10","v":0},{"$f":"(V547*V$7)/Setup!$C$10","v":0},{"$f":"(W547*W$7)/Setup!$C$10","v":0},{"$f":"(X547*X$7)/Setup!$C$10","v":0},0,0,null,6,6,6]
["2014-09-22","Week 12",{"$f":"(C548*C$7)/Setup!$C$10","v":0},{"$f":"(D548*D$7)/Setup!$C$10","v":0},{"$f":"(E548*E$7)/Setup!$C$10","v":0},{"$f":"(F548*F$7)/Setup!$C$10","v":0},{"$f":"(G548*G$7)/Setup!$C$10","v":0},{"$f":"(H548*H$7)/Setup!$C$10","v":0},{"$f":"(I548*I$7)/Setup!$C$10","v":0},{"$f":"(J548*J$7)/Setup!$C$10","v":0},{"$f":"(K548*K$7)/Setup!$C$10","v":0},{"$f":"(L548*L$7)/Setup!$C$10","v":0},{"$f":"(M548*M$7)/Setup!$C$10","v":0},{"$f":"(N548*N$7)/Setup!$C$10","v":0},{"$f":"(O548*O$7)/Setup!$C$10","v":0},{"$f":"(P548*P$7)/Setup!$C$10","v":0},{"$f":"(Q548*Q$7)/Setup!$C$10","v":0},{"$f":"(R548*R$7)/Setup!$C$10","v":0},{"$f":"(S548*S$7)/Setup!$C$10","v":0},{"$f":"(T548*T$7)/Setup!$C$10","v":0},{"$f":"(U548*U$7)/Setup!$C$10","v":0},{"$f":"(V548*V$7)/Setup!$C$10","v":0},{"$f":"(W548*W$7)/Setup!$C$10","v":0},{"$f":"(X548*X$7)/Setup!$C$10","v":0},0,0,null,6,6,6]
["2014-09-29","Week 13",{"$f":"(C549*C$7)/Setup!$C$10","v":0},{"$f":"(D549*D$7)/Setup!$C$10","v":0},{"$f":"(E549*E$7)/Setup!$C$10","v":0},{"$f":"(F549*F$7)/Setup!$C$10","v":0},{"$f":"(G549*G$7)/Setup!$C$10","v":0},{"$f":"(H549*H$7)/Setup!$C$10","v":0},{"$f":"(I549*I$7)/Setup!$C$10","v":0},{"$f":"(J549*J$7)/Setup!$C$10","v":0},{"$f":"(K549*K$7)/Setup!$C$10","v":0},{"$f":"(L549*L$7)/Setup!$C$10","v":0},{"$f":"(M549*M$7)/Setup!$C$10","v":0},{"$f":"(N549*N$7)/Setup!$C$10","v":0},{"$f":"(O549*O$7)/Setup!$C$10","v":0},{"$f":"(P549*P$7)/Setup!$C$10","v":0},{"$f":"(Q549*Q$7)/Setup!$C$10","v":0},{"$f":"(R549*R$7)/Setup!$C$10","v":0},{"$f":"(S549*S$7)/Setup!$C$10","v":0},{"$f":"(T549*T$7)/Setup!$C$10","v":0},{"$f":"(U549*U$7)/Setup!$C$10","v":0},{"$f":"(V549*V$7)/Setup!$C$10","v":0},{"$f":"(W549*W$7)/Setup!$C$10","v":0},{"$f":"(X549*X$7)/Setup!$C$10","v":0},0,0,null,19.399999999999999,19.399999999999999,19.399999999999999]
["2014-10-06","Week 14",{"$f":"(C550*C$7)/Setup!$C$10","v":0},{"$f":"(D550*D$7)/Setup!$C$10","v":0},{"$f":"(E550*E$7)/Setup!$C$10","v":0},{"$f":"(F550*F$7)/Setup!$C$10","v":0},{"$f":"(G550*G$7)/Setup!$C$10","v":0},{"$f":"(H550*H$7)/Setup!$C$10","v":0},{"$f":"(I550*I$7)/Setup!$C$10","v":0},{"$f":"(J550*J$7)/Setup!$C$10","v":0},{"$f":"(K550*K$7)/Setup!$C$10","v":0},{"$f":"(L550*L$7)/Setup!$C$10","v":0},{"$f":"(M550*M$7)/Setup!$C$10","v":0},{"$f":"(N550*N$7)/Setup!$C$10","v":0},{"$f":"(O550*O$7)/Setup!$C$10","v":0},{"$f":"(P550*P$7)/Setup!$C$10","v":0},{"$f":"(Q550*Q$7)/Setup!$C$10","v":0},{"$f":"(R550*R$7)/Setup!$C$10","v":0},{"$f":"(S550*S$7)/Setup!$C$10","v":0},{"$f":"(T550*T$7)/Setup!$C$10","v":0},{"$f":"(U550*U$7)/Setup!$C$10","v":0},{"$f":"(V550*V$7)/Setup!$C$10","v":0},{"$f":"(W550*W$7)/Setup!$C$10","v":0},{"$f":"(X550*X$7)/Setup!$C$10","v":0},0,0,null,19.399999999999999,19.399999999999999,19.399999999999999]
["2014-10-13","Week 15",{"$f":"(C551*C$7)/Setup!$C$10","v":0},{"$f":"(D551*D$7)/Setup!$C$10","v":0},{"$f":"(E551*E$7)/Setup!$C$10","v":0},{"$f":"(F551*F$7)/Setup!$C$10","v":0},{"$f":"(G551*G$7)/Setup!$C$10","v":0},{"$f":"(H551*H$7)/Setup!$C$10","v":0},{"$f":"(I551*I$7)/Setup!$C$10","v":0},{"$f":"(J551*J$7)/Setup!$C$10","v":0},{"$f":"(K551*K$7)/Setup!$C$10","v":0},{"$f":"(L551*L$7)/Setup!$C$10","v":0},{"$f":"(M551*M$7)/Setup!$C$10","v":0},{"$f":"(N551*N$7)/Setup!$C$10","v":0},{"$f":"(O551*O$7)/Setup!$C$10","v":0},{"$f":"(P551*P$7)/Setup!$C$10","v":0},{"$f":"(Q551*Q$7)/Setup!$C$10","v":0},{"$f":"(R551*R$7)/Setup!$C$10","v":0},{"$f":"(S551*S$7)/Setup!$C$10","v":0},{"$f":"(T551*T$7)/Setup!$C$10","v":0},{"$f":"(U551*U$7)/Setup!$C$10","v":0},{"$f":"(V551*V$7)/Setup!$C$10","v":0},{"$f":"(W551*W$7)/Setup!$C$10","v":0},{"$f":"(X551*X$7)/Setup!$C$10","v":0},0,0,null,19.399999999999999,19.399999999999999,19.399999999999999]
["2014-10-20","Week 16",{"$f":"(C552*C$7)/Setup!$C$10","v":0},{"$f":"(D552*D$7)/Setup!$C$10","v":0},{"$f":"(E552*E$7)/Setup!$C$10","v":0},{"$f":"(F552*F$7)/Setup!$C$10","v":0},{"$f":"(G552*G$7)/Setup!$C$10","v":0},{"$f":"(H552*H$7)/Setup!$C$10","v":0},{"$f":"(I552*I$7)/Setup!$C$10","v":0},{"$f":"(J552*J$7)/Setup!$C$10","v":0},{"$f":"(K552*K$7)/Setup!$C$10","v":0},{"$f":"(L552*L$7)/Setup!$C$10","v":0},{"$f":"(M552*M$7)/Setup!$C$10","v":0},{"$f":"(N552*N$7)/Setup!$C$10","v":0},{"$f":"(O552*O$7)/Setup!$C$10","v":0},{"$f":"(P552*P$7)/Setup!$C$10","v":0},{"$f":"(Q552*Q$7)/Setup!$C$10","v":0},{"$f":"(R552*R$7)/Setup!$C$10","v":0},{"$f":"(S552*S$7)/Setup!$C$10","v":0},{"$f":"(T552*T$7)/Setup!$C$10","v":0},{"$f":"(U552*U$7)/Setup!$C$10","v":0},{"$f":"(V552*V$7)/Setup!$C$10","v":0},{"$f":"(W552*W$7)/Setup!$C$10","v":0},{"$f":"(X552*X$7)/Setup!$C$10","v":0},0,0,null,19.399999999999999,19.399999999999999,19.399999999999999]
["2014-10-27","Week 17",{"$f":"(C553*C$7)/Setup!$C$10","v":0},{"$f":"(D553*D$7)/Setup!$C$10","v":0},{"$f":"(E553*E$7)/Setup!$C$10","v":0},{"$f":"(F553*F$7)/Setup!$C$10","v":0},{"$f":"(G553*G$7)/Setup!$C$10","v":0},{"$f":"(H553*H$7)/Setup!$C$10","v":0},{"$f":"(I553*I$7)/Setup!$C$10","v":0},{"$f":"(J553*J$7)/Setup!$C$10","v":0},{"$f":"(K553*K$7)/Setup!$C$10","v":0},{"$f":"(L553*L$7)/Setup!$C$10","v":0},{"$f":"(M553*M$7)/Setup!$C$10","v":0},{"$f":"(N553*N$7)/Setup!$C$10","v":0},{"$f":"(O553*O$7)/Setup!$C$10","v":0},{"$f":"(P553*P$7)/Setup!$C$10","v":0},{"$f":"(Q553*Q$7)/Setup!$C$10","v":0},{"$f":"(R553*R$7)/Setup!$C$10","v":0},{"$f":"(S553*S$7)/Setup!$C$10","v":0},{"$f":"(T553*T$7)/Setup!$C$10","v":0},{"$f":"(U553*U$7)/Setup!$C$10","v":0},{"$f":"(V553*V$7)/Setup!$C$10","v":0},{"$f":"(W553*W$7)/Setup!$C$10","v":0},{"$f":"(X553*X$7)/Setup!$C$10","v":0},0,0,null,19.399999999999999,19.399999999999999,19.399999999999999]
["2014-11-03","Week 18",{"$f":"(C554*C$7)/Setup!$C$10","v":0},{"$f":"(D554*D$7)/Setup!$C$10","v":0},{"$f":"(E554*E$7)/Setup!$C$10","v":0},{"$f":"(F554*F$7)/Setup!$C$10","v":0},{"$f":"(G554*G$7)/Setup!$C$10","v":0},{"$f":"(H554*H$7)/Setup!$C$10","v":0},{"$f":"(I554*I$7)/Setup!$C$10","v":0},{"$f":"(J554*J$7)/Setup!$C$10","v":0},{"$f":"(K554*K$7)/Setup!$C$10","v":0},{"$f":"(L554*L$7)/Setup!$C$10","v":0},{"$f":"(M554*M$7)/Setup!$C$10","v":0},{"$f":"(N554*N$7)/Setup!$C$10","v":0},{"$f":"(O554*O$7)/Setup!$C$10","v":0},{"$f":"(P554*P$7)/Setup!$C$10","v":0},{"$f":"(Q554*Q$7)/Setup!$C$10","v":0},{"$f":"(R554*R$7)/Setup!$C$10","v":0},{"$f":"(S554*S$7)/Setup!$C$10","v":0},{"$f":"(T554*T$7)/Setup!$C$10","v":0},{"$f":"(U554*U$7)/Setup!$C$10","v":0},{"$f":"(V554*V$7)/Setup!$C$10","v":0},{"$f":"(W554*W$7)/Setup!$C$10","v":0},{"$f":"(X554*X$7)/Setup!$C$10","v":0},0,0,null,11.025,19.399999999999999,19.399999999999999]
["2014-11-10","Week 19",{"$f":"(C555*C$7)/Setup!$C$10","v":0},{"$f":"(D555*D$7)/Setup!$C$10","v":0},{"$f":"(E555*E$7)/Setup!$C$10","v":0},{"$f":"(F555*F$7)/Setup!$C$10","v":0},{"$f":"(G555*G$7)/Setup!$C$10","v":0},{"$f":"(H555*H$7)/Setup!$C$10","v":0},{"$f":"(I555*I$7)/Setup!$C$10","v":0},{"$f":"(J555*J$7)/Setup!$C$10","v":0},{"$f":"(K555*K$7)/Setup!$C$10","v":0},{"$f":"(L555*L$7)/Setup!$C$10","v":0},{"$f":"(M555*M$7)/Setup!$C$10","v":0},{"$f":"(N555*N$7)/Setup!$C$10","v":0},{"$f":"(O555*O$7)/Setup!$C$10","v":0},{"$f":"(P555*P$7)/Setup!$C$10","v":0},{"$f":"(Q555*Q$7)/Setup!$C$10","v":0},{"$f":"(R555*R$7)/Setup!$C$10","v":0},{"$f":"(S555*S$7)/Setup!$C$10","v":0},{"$f":"(T555*T$7)/Setup!$C$10","v":0},{"$f":"(U555*U$7)/Setup!$C$10","v":0},{"$f":"(V555*V$7)/Setup!$C$10","v":0},{"$f":"(W555*W$7)/Setup!$C$10","v":0},{"$f":"(X555*X$7)/Setup!$C$10","v":0},0,0,null,2.1,19.8,19.8]
["2014-11-17","Week 20",{"$f":"(C556*C$7)/Setup!$C$10","v":0},{"$f":"(D556*D$7)/Setup!$C$10","v":0},{"$f":"(E556*E$7)/Setup!$C$10","v":0},{"$f":"(F556*F$7)/Setup!$C$10","v":0},{"$f":"(G556*G$7)/Setup!$C$10","v":0},{"$f":"(H556*H$7)/Setup!$C$10","v":0},{"$f":"(I556*I$7)/Setup!$C$10","v":0},{"$f":"(J556*J$7)/Setup!$C$10","v":0},{"$f":"(K556*K$7)/Setup!$C$10","v":0},{"$f":"(L556*L$7)/Setup!$C$10","v":0},{"$f":"(M556*M$7)/Setup!$C$10","v":0},{"$f":"(N556*N$7)/Setup!$C$10","v":0},{"$f":"(O556*O$7)/Setup!$C$10","v":0},{"$f":"(P556*P$7)/Setup!$C$10","v":0},{"$f":"(Q556*Q$7)/Setup!$C$10","v":0},{"$f":"(R556*R$7)/Setup!$C$10","v":0},{"$f":"(S556*S$7)/Setup!$C$10","v":0},{"$f":"(T556*T$7)/Setup!$C$10","v":0},{"$f":"(U556*U$7)/Setup!$C$10","v":0},{"$f":"(V556*V$7)/Setup!$C$10","v":0},{"$f":"(W556*W$7)/Setup!$C$10","v":0},{"$f":"(X556*X$7)/Setup!$C$10","v":0},0,0,null,2.1,19.8,19.8]
[{"$f":"A441","v":"2014-11-24"},"Week 21",{"$f":"(C557*C$7)/Setup!$C$10","v":0},{"$f":"(D557*D$7)/Setup!$C$10","v":0},{"$f":"(E557*E$7)/Setup!$C$10","v":0},{"$f":"(F557*F$7)/Setup!$C$10","v":0},{"$f":"(G557*G$7)/Setup!$C$10","v":0},{"$f":"(H557*H$7)/Setup!$C$10","v":0},{"$f":"(I557*I$7)/Setup!$C$10","v":0},{"$f":"(J557*J$7)/Setup!$C$10","v":0},{"$f":"(K557*K$7)/Setup!$C$10","v":0},{"$f":"(L557*L$7)/Setup!$C$10","v":0},{"$f":"(M557*M$7)/Setup!$C$10","v":0},{"$f":"(N557*N$7)/Setup!$C$10","v":0},{"$f":"(O557*O$7)/Setup!$C$10","v":0},{"$f":"(P557*P$7)/Setup!$C$10","v":0},{"$f":"(Q557*Q$7)/Setup!$C$10","v":0},{"$f":"(R557*R$7)/Setup!$C$10","v":0},{"$f":"(S557*S$7)/Setup!$C$10","v":0},{"$f":"(T557*T$7)/Setup!$C$10","v":0},{"$f":"(U557*U$7)/Setup!$C$10","v":0},{"$f":"(V557*V$7)/Setup!$C$10","v":0},{"$f":"(W557*W$7)/Setup!$C$10","v":0},{"$f":"(X557*X$7)/Setup!$C$10","v":0},0,0,null,0,17.3,17.3]
["2014-12-01","Week 22",{"$f":"(C558*C$7)/Setup!$C$10","v":0},{"$f":"(D558*D$7)/Setup!$C$10","v":0},{"$f":"(E558*E$7)/Setup!$C$10","v":0},{"$f":"(F558*F$7)/Setup!$C$10","v":0},{"$f":"(G558*G$7)/Setup!$C$10","v":0},{"$f":"(H558*H$7)/Setup!$C$10","v":0},{"$f":"(I558*I$7)/Setup!$C$10","v":0},{"$f":"(J558*J$7)/Setup!$C$10","v":0},{"$f":"(K558*K$7)/Setup!$C$10","v":0},{"$f":"(L558*L$7)/Setup!$C$10","v":0},{"$f":"(M558*M$7)/Setup!$C$10","v":0},{"$f":"(N558*N$7)/Setup!$C$10","v":0},{"$f":"(O558*O$7)/Setup!$C$10","v":0},{"$f":"(P558*P$7)/Setup!$C$10","v":0},{"$f":"(Q558*Q$7)/Setup!$C$10","v":0},{"$f":"(R558*R$7)/Setup!$C$10","v":0},{"$f":"(S558*S$7)/Setup!$C$10","v":0},{"$f":"(T558*T$7)/Setup!$C$10","v":0},{"$f":"(U558*U$7)/Setup!$C$10","v":0},{"$f":"(V558*V$7)/Setup!$C$10","v":0},{"$f":"(W558*W$7)/Setup!$C$10","v":0},{"$f":"(X558*X$7)/Setup!$C$10","v":0},0,0,null,0,13.8,13.8]
["2014-12-08","Week 23",{"$f":"(C559*C$7)/Setup!$C$10","v":0},{"$f":"(D559*D$7)/Setup!$C$10","v":0},{"$f":"(E559*E$7)/Setup!$C$10","v":0},{"$f":"(F559*F$7)/Setup!$C$10","v":0},{"$f":"(G559*G$7)/Setup!$C$10","v":0},{"$f":"(H559*H$7)/Setup!$C$10","v":0},{"$f":"(I559*I$7)/Setup!$C$10","v":0},{"$f":"(J559*J$7)/Setup!$C$10","v":0},{"$f":"(K559*K$7)/Setup!$C$10","v":0},{"$f":"(L559*L$7)/Setup!$C$10","v":0},{"$f":"(M559*M$7)/Setup!$C$10","v":0},{"$f":"(N559*N$7)/Setup!$C$10","v":0},{"$f":"(O559*O$7)/Setup!$C$10","v":0},{"$f":"(P559*P$7)/Setup!$C$10","v":0},{"$f":"(Q559*Q$7)/Setup!$C$10","v":0},{"$f":"(R559*R$7)/Setup!$C$10","v":0},{"$f":"(S559*S$7)/Setup!$C$10","v":0},{"$f":"(T559*T$7)/Setup!$C$10","v":0},{"$f":"(U559*U$7)/Setup!$C$10","v":0},{"$f":"(V559*V$7)/Setup!$C$10","v":0},{"$f":"(W559*W$7)/Setup!$C$10","v":0},{"$f":"(X559*X$7)/Setup!$C$10","v":0},0,0,null,0,4.6000000000000005,4.6000000000000005]
["2014-12-15","Week 24",{"$f":"(C560*C$7)/Setup!$C$10","v":0},{"$f":"(D560*D$7)/Setup!$C$10","v":0},{"$f":"(E560*E$7)/Setup!$C$10","v":0},{"$f":"(F560*F$7)/Setup!$C$10","v":0},{"$f":"(G560*G$7)/Setup!$C$10","v":0},{"$f":"(H560*H$7)/Setup!$C$10","v":0},{"$f":"(I560*I$7)/Setup!$C$10","v":0},{"$f":"(J560*J$7)/Setup!$C$10","v":0},{"$f":"(K560*K$7)/Setup!$C$10","v":0},{"$f":"(L560*L$7)/Setup!$C$10","v":0},{"$f":"(M560*M$7)/Setup!$C$10","v":0},{"$f":"(N560*N$7)/Setup!$C$10","v":0},{"$f":"(O560*O$7)/Setup!$C$10","v":0},{"$f":"(P560*P$7)/Setup!$C$10","v":0},{"$f":"(Q560*Q$7)/Setup!$C$10","v":0},{"$f":"(R560*R$7)/Setup!$C$10","v":0},{"$f":"(S560*S$7)/Setup!$C$10","v":0},{"$f":"(T560*T$7)/Setup!$C$10","v":0},{"$f":"(U560*U$7)/Setup!$C$10","v":0},{"$f":"(V560*V$7)/Setup!$C$10","v":0},{"$f":"(W560*W$7)/Setup!$C$10","v":0},{"$f":"(X560*X$7)/Setup!$C$10","v":0},0,0,null,0,0,0]
["2014-12-22","Week 25",{"$f":"(C561*C$7)/Setup!$C$10","v":0},{"$f":"(D561*D$7)/Setup!$C$10","v":0},{"$f":"(E561*E$7)/Setup!$C$10","v":0},{"$f":"(F561*F$7)/Setup!$C$10","v":0},{"$f":"(G561*G$7)/Setup!$C$10","v":0},{"$f":"(H561*H$7)/Setup!$C$10","v":0},{"$f":"(I561*I$7)/Setup!$C$10","v":0},{"$f":"(J561*J$7)/Setup!$C$10","v":0},{"$f":"(K561*K$7)/Setup!$C$10","v":0},{"$f":"(L561*L$7)/Setup!$C$10","v":0},{"$f":"(M561*M$7)/Setup!$C$10","v":0},{"$f":"(N561*N$7)/Setup!$C$10","v":0},{"$f":"(O561*O$7)/Setup!$C$10","v":0},{"$f":"(P561*P$7)/Setup!$C$10","v":0},{"$f":"(Q561*Q$7)/Setup!$C$10","v":0},{"$f":"(R561*R$7)/Setup!$C$10","v":0},{"$f":"(S561*S$7)/Setup!$C$10","v":0},{"$f":"(T561*T$7)/Setup!$C$10","v":0},{"$f":"(U561*U$7)/Setup!$C$10","v":0},{"$f":"(V561*V$7)/Setup!$C$10","v":0},{"$f":"(W561*W$7)/Setup!$C$10","v":0},{"$f":"(X561*X$7)/Setup!$C$10","v":0},0,0,null,0,0,0]
["2014-12-29","Week 26",{"$f":"(C562*C$7)/Setup!$C$10","v":0},{"$f":"(D562*D$7)/Setup!$C$10","v":0},{"$f":"(E562*E$7)/Setup!$C$10","v":0},{"$f":"(F562*F$7)/Setup!$C$10","v":0},{"$f":"(G562*G$7)/Setup!$C$10","v":0},{"$f":"(H562*H$7)/Setup!$C$10","v":0},{"$f":"(I562*I$7)/Setup!$C$10","v":0},{"$f":"(J562*J$7)/Setup!$C$10","v":0},{"$f":"(K562*K$7)/Setup!$C$10","v":0},{"$f":"(L562*L$7)/Setup!$C$10","v":0},{"$f":"(M562*M$7)/Setup!$C$10","v":0},{"$f":"(N562*N$7)/Setup!$C$10","v":0},{"$f":"(O562*O$7)/Setup!$C$10","v":0},{"$f":"(P562*P$7)/Setup!$C$10","v":0},{"$f":"(Q562*Q$7)/Setup!$C$10","v":0},{"$f":"(R562*R$7)/Setup!$C$10","v":0},{"$f":"(S562*S$7)/Setup!$C$10","v":0},{"$f":"(T562*T$7)/Setup!$C$10","v":0},{"$f":"(U562*U$7)/Setup!$C$10","v":0},{"$f":"(V562*V$7)/Setup!$C$10","v":0},{"$f":"(W562*W$7)/Setup!$C$10","v":0},{"$f":"(X562*X$7)/Setup!$C$10","v":0},0,0,null,0,0,0]
["2015-01-05","Week 27",{"$f":"(C563*C$7)/Setup!$C$10","v":0},{"$f":"(D563*D$7)/Setup!$C$10","v":0},{"$f":"(E563*E$7)/Setup!$C$10","v":0},{"$f":"(F563*F$7)/Setup!$C$10","v":0},{"$f":"(G563*G$7)/Setup!$C$10","v":0},{"$f":"(H563*H$7)/Setup!$C$10","v":0},{"$f":"(I563*I$7)/Setup!$C$10","v":0},{"$f":"(J563*J$7)/Setup!$C$10","v":0},{"$f":"(K563*K$7)/Setup!$C$10","v":0},{"$f":"(L563*L$7)/Setup!$C$10","v":0},{"$f":"(M563*M$7)/Setup!$C$10","v":0},{"$f":"(N563*N$7)/Setup!$C$10","v":0},{"$f":"(O563*O$7)/Setup!$C$10","v":0},{"$f":"(P563*P$7)/Setup!$C$10","v":0},{"$f":"(Q563*Q$7)/Setup!$C$10","v":0},{"$f":"(R563*R$7)/Setup!$C$10","v":0},{"$f":"(S563*S$7)/Setup!$C$10","v":0},{"$f":"(T563*T$7)/Setup!$C$10","v":0},{"$f":"(U563*U$7)/Setup!$C$10","v":0},{"$f":"(V563*V$7)/Setup!$C$10","v":0},{"$f":"(W563*W$7)/Setup!$C$10","v":0},{"$f":"(X563*X$7)/Setup!$C$10","v":0},0,0,null,0,0,0]
["2015-01-12","Week 28",{"$f":"(C564*C$7)/Setup!$C$10","v":0},{"$f":"(D564*D$7)/Setup!$C$10","v":0},{"$f":"(E564*E$7)/Setup!$C$10","v":0},{"$f":"(F564*F$7)/Setup!$C$10","v":0},{"$f":"(G564*G$7)/Setup!$C$10","v":0},{"$f":"(H564*H$7)/Setup!$C$10","v":0},{"$f":"(I564*I$7)/Setup!$C$10","v":0},{"$f":"(J564*J$7)/Setup!$C$10","v":0},{"$f":"(K564*K$7)/Setup!$C$10","v":0},{"$f":"(L564*L$7)/Setup!$C$10","v":0},{"$f":"(M564*M$7)/Setup!$C$10","v":0},{"$f":"(N564*N$7)/Setup!$C$10","v":0},{"$f":"(O564*O$7)/Setup!$C$10","v":0},{"$f":"(P564*P$7)/Setup!$C$10","v":0},{"$f":"(Q564*Q$7)/Setup!$C$10","v":0},{"$f":"(R564*R$7)/Setup!$C$10","v":0},{"$f":"(S564*S$7)/Setup!$C$10","v":0},{"$f":"(T564*T$7)/Setup!$C$10","v":0},{"$f":"(U564*U$7)/Setup!$C$10","v":0},{"$f":"(V564*V$7)/Setup!$C$10","v":0},{"$f":"(W564*W$7)/Setup!$C$10","v":0},{"$f":"(X564*X$7)/Setup!$C$10","v":0},0,0,null,0,0,0]
["2015-01-19","Week 29",{"$f":"(C565*C$7)/Setup!$C$10","v":0},{"$f":"(D565*D$7)/Setup!$C$10","v":0},{"$f":"(E565*E$7)/Setup!$C$10","v":0},{"$f":"(F565*F$7)/Setup!$C$10","v":0},{"$f":"(G565*G$7)/Setup!$C$10","v":0},{"$f":"(H565*H$7)/Setup!$C$10","v":0},{"$f":"(I565*I$7)/Setup!$C$10","v":0},{"$f":"(J565*J$7)/Setup!$C$10","v":0},{"$f":"(K565*K$7)/Setup!$C$10","v":0},{"$f":"(L565*L$7)/Setup!$C$10","v":0},{"$f":"(M565*M$7)/Setup!$C$10","v":0},{"$f":"(N565*N$7)/Setup!$C$10","v":0},{"$f":"(O565*O$7)/Setup!$C$10","v":0},{"$f":"(P565*P$7)/Setup!$C$10","v":0},{"$f":"(Q565*Q$7)/Setup!$C$10","v":0},{"$f":"(R565*R$7)/Setup!$C$10","v":0},{"$f":"(S565*S$7)/Setup!$C$10","v":0},{"$f":"(T565*T$7)/Setup!$C$10","v":0},{"$f":"(U565*U$7)/Setup!$C$10","v":0},{"$f":"(V565*V$7)/Setup!$C$10","v":0},{"$f":"(W565*W$7)/Setup!$C$10","v":0},{"$f":"(X565*X$7)/Setup!$C$10","v":0},0,0,null,0,0,0]
["2015-01-26","Week 30",{"$f":"(C566*C$7)/Setup!$C$10","v":0},{"$f":"(D566*D$7)/Setup!$C$10","v":0},{"$f":"(E566*E$7)/Setup!$C$10","v":0},{"$f":"(F566*F$7)/Setup!$C$10","v":0},{"$f":"(G566*G$7)/Setup!$C$10","v":0},{"$f":"(H566*H$7)/Setup!$C$10","v":0},{"$f":"(I566*I$7)/Setup!$C$10","v":0},{"$f":"(J566*J$7)/Setup!$C$10","v":0},{"$f":"(K566*K$7)/Setup!$C$10","v":0},{"$f":"(L566*L$7)/Setup!$C$10","v":0},{"$f":"(M566*M$7)/Setup!$C$10","v":0},{"$f":"(N566*N$7)/Setup!$C$10","v":0},{"$f":"(O566*O$7)/Setup!$C$10","v":0},{"$f":"(P566*P$7)/Setup!$C$10","v":0},{"$f":"(Q566*Q$7)/Setup!$C$10","v":0},{"$f":"(R566*R$7)/Setup!$C$10","v":0},{"$f":"(S566*S$7)/Setup!$C$10","v":0},{"$f":"(T566*T$7)/Setup!$C$10","v":0},{"$f":"(U566*U$7)/Setup!$C$10","v":0},{"$f":"(V566*V$7)/Setup!$C$10","v":0},{"$f":"(W566*W$7)/Setup!$C$10","v":0},{"$f":"(X566*X$7)/Setup!$C$10","v":0},{"$f":"SUM(C105:X105)","v":0},0,null,0,0,0]
["2015-02-02","Week 31",{"$f":"(C567*C$7)/Setup!$C$10","v":0},{"$f":"(D567*D$7)/Setup!$C$10","v":0},{"$f":"(E567*E$7)/Setup!$C$10","v":0},{"$f":"(F567*F$7)/Setup!$C$10","v":0},{"$f":"(G567*G$7)/Setup!$C$10","v":0},{"$f":"(H567*H$7)/Setup!$C$10","v":0},{"$f":"(I567*I$7)/Setup!$C$10","v":0},{"$f":"(J567*J$7)/Setup!$C$10","v":0},{"$f":"(K567*K$7)/Setup!$C$10","v":0},{"$f":"(L567*L$7)/Setup!$C$10","v":0},{"$f":"(M567*M$7)/Setup!$C$10","v":0},{"$f":"(N567*N$7)/Setup!$C$10","v":0},{"$f":"(O567*O$7)/Setup!$C$10","v":0},{"$f":"(P567*P$7)/Setup!$C$10","v":0},{"$f":"(Q567*Q$7)/Setup!$C$10","v":0},{"$f":"(R567*R$7)/Setup!$C$10","v":0},{"$f":"(S567*S$7)/Setup!$C$10","v":0},{"$f":"(T567*T$7)/Setup!$C$10","v":0},{"$f":"(U567*U$7)/Setup!$C$10","v":0},{"$f":"(V567*V$7)/Setup!$C$10","v":0},{"$f":"(W567*W$7)/Setup!$C$10","v":0},{"$f":"(X567*X$7)/Setup!$C$10","v":0},0,0,null,0,0,0]
["2015-02-09","Week 32",{"$f":"(C568*C$7)/Setup!$C$10","v":0},{"$f":"(D568*D$7)/Setup!$C$10","v":0},{"$f":"(E568*E$7)/Setup!$C$10","v":0},{"$f":"(F568*F$7)/Setup!$C$10","v":0},{"$f":"(G568*G$7)/Setup!$C$10","v":0},{"$f":"(H568*H$7)/Setup!$C$10","v":0},{"$f":"(I568*I$7)/Setup!$C$10","v":0},{"$f":"(J568*J$7)/Setup!$C$10","v":0},{"$f":"(K568*K$7)/Setup!$C$10","v":0},{"$f":"(L568*L$7)/Setup!$C$10","v":0},{"$f":"(M568*M$7)/Setup!$C$10","v":0},{"$f":"(N568*N$7)/Setup!$C$10","v":0},{"$f":"(O568*O$7)/Setup!$C$10","v":0},{"$f":"(P568*P$7)/Setup!$C$10","v":0},{"$f":"(Q568*Q$7)/Setup!$C$10","v":0},{"$f":"(R568*R$7)/Setup!$C$10","v":0},{"$f":"(S568*S$7)/Setup!$C$10","v":0},{"$f":"(T568*T$7)/Setup!$C$10","v":0},{"$f":"(U568*U$7)/Setup!$C$10","v":0},{"$f":"(V568*V$7)/Setup!$C$10","v":0},{"$f":"(W568*W$7)/Setup!$C$10","v":0},{"$f":"(X568*X$7)/Setup!$C$10","v":0},0,0,null,0,0,0]
["2015-02-16","Week 33",{"$f":"(C569*C$7)/Setup!$C$10","v":0},{"$f":"(D569*D$7)/Setup!$C$10","v":0},{"$f":"(E569*E$7)/Setup!$C$10","v":0},{"$f":"(F569*F$7)/Setup!$C$10","v":0},{"$f":"(G569*G$7)/Setup!$C$10","v":0},{"$f":"(H569*H$7)/Setup!$C$10","v":0},{"$f":"(I569*I$7)/Setup!$C$10","v":0},{"$f":"(J569*J$7)/Setup!$C$10","v":0},{"$f":"(K569*K$7)/Setup!$C$10","v":0},{"$f":"(L569*L$7)/Setup!$C$10","v":0},{"$f":"(M569*M$7)/Setup!$C$10","v":0},{"$f":"(N569*N$7)/Setup!$C$10","v":0},{"$f":"(O569*O$7)/Setup!$C$10","v":0},{"$f":"(P569*P$7)/Setup!$C$10","v":0},{"$f":"(Q569*Q$7)/Setup!$C$10","v":0},{"$f":"(R569*R$7)/Setup!$C$10","v":0},{"$f":"(S569*S$7)/Setup!$C$10","v":0},{"$f":"(T569*T$7)/Setup!$C$10","v":0},{"$f":"(U569*U$7)/Setup!$C$10","v":0},{"$f":"(V569*V$7)/Setup!$C$10","v":0},{"$f":"(W569*W$7)/Setup!$C$10","v":0},{"$f":"(X569*X$7)/Setup!$C$10","v":0},0,0,null,0,0,0]
["2015-02-23","Week 34",{"$f":"(C570*C$7)/Setup!$C$10","v":0},{"$f":"(D570*D$7)/Setup!$C$10","v":0},{"$f":"(E570*E$7)/Setup!$C$10","v":0},{"$f":"(F570*F$7)/Setup!$C$10","v":0},{"$f":"(G570*G$7)/Setup!$C$10","v":0},{"$f":"(H570*H$7)/Setup!$C$10","v":0},{"$f":"(I570*I$7)/Setup!$C$10","v":0},{"$f":"(J570*J$7)/Setup!$C$10","v":0},{"$f":"(K570*K$7)/Setup!$C$10","v":0},{"$f":"(L570*L$7)/Setup!$C$10","v":0},{"$f":"(M570*M$7)/Setup!$C$10","v":0},{"$f":"(N570*N$7)/Setup!$C$10","v":0},{"$f":"(O570*O$7)/Setup!$C$10","v":0},{"$f":"(P570*P$7)/Setup!$C$10","v":0},{"$f":"(Q570*Q$7)/Setup!$C$10","v":0},{"$f":"(R570*R$7)/Setup!$C$10","v":0},{"$f":"(S570*S$7)/Setup!$C$10","v":0},{"$f":"(T570*T$7)/Setup!$C$10","v":0},{"$f":"(U570*U$7)/Setup!$C$10","v":0},{"$f":"(V570*V$7)/Setup!$C$10","v":0},{"$f":"(W570*W$7)/Setup!$C$10","v":0},{"$f":"(X570*X$7)/Setup!$C$10","v":0},0,0,null,0,0,0]
["2015-03-02","Week 35",{"$f":"(C571*C$7)/Setup!$C$10","v":0},{"$f":"(D571*D$7)/Setup!$C$10","v":0},{"$f":"(E571*E$7)/Setup!$C$10","v":0},{"$f":"(F571*F$7)/Setup!$C$10","v":0},{"$f":"(G571*G$7)/Setup!$C$10","v":0},{"$f":"(H571*H$7)/Setup!$C$10","v":0},{"$f":"(I571*I$7)/Setup!$C$10","v":0},{"$f":"(J571*J$7)/Setup!$C$10","v":0},{"$f":"(K571*K$7)/Setup!$C$10","v":0},{"$f":"(L571*L$7)/Setup!$C$10","v":0},{"$f":"(M571*M$7)/Setup!$C$10","v":0},{"$f":"(N571*N$7)/Setup!$C$10","v":0},{"$f":"(O571*O$7)/Setup!$C$10","v":0},{"$f":"(P571*P$7)/Setup!$C$10","v":0},{"$f":"(Q571*Q$7)/Setup!$C$10","v":0},{"$f":"(R571*R$7)/Setup!$C$10","v":0},{"$f":"(S571*S$7)/Setup!$C$10","v":0},{"$f":"(T571*T$7)/Setup!$C$10","v":0},{"$f":"(U571*U$7)/Setup!$C$10","v":0},{"$f":"(V571*V$7)/Setup!$C$10","v":0},{"$f":"(W571*W$7)/Setup!$C$10","v":0},{"$f":"(X571*X$7)/Setup!$C$10","v":0},0,0,null,0,0,0]
["2015-03-09","Week 36",{"$f":"(C572*C$7)/Setup!$C$10","v":0},{"$f":"(D572*D$7)/Setup!$C$10","v":0},{"$f":"(E572*E$7)/Setup!$C$10","v":0},{"$f":"(F572*F$7)/Setup!$C$10","v":0},{"$f":"(G572*G$7)/Setup!$C$10","v":0},{"$f":"(H572*H$7)/Setup!$C$10","v":0},{"$f":"(I572*I$7)/Setup!$C$10","v":0},{"$f":"(J572*J$7)/Setup!$C$10","v":0},{"$f":"(K572*K$7)/Setup!$C$10","v":0},{"$f":"(L572*L$7)/Setup!$C$10","v":0},{"$f":"(M572*M$7)/Setup!$C$10","v":0},{"$f":"(N572*N$7)/Setup!$C$10","v":0},{"$f":"(O572*O$7)/Setup!$C$10","v":0},{"$f":"(P572*P$7)/Setup!$C$10","v":0},{"$f":"(Q572*Q$7)/Setup!$C$10","v":0},{"$f":"(R572*R$7)/Setup!$C$10","v":0},{"$f":"(S572*S$7)/Setup!$C$10","v":0},{"$f":"(T572*T$7)/Setup!$C$10","v":0},{"$f":"(U572*U$7)/Setup!$C$10","v":0},{"$f":"(V572*V$7)/Setup!$C$10","v":0},{"$f":"(W572*W$7)/Setup!$C$10","v":0},{"$f":"(X572*X$7)/Setup!$C$10","v":0},0,0,null,0,0,0]
["2015-03-16","Week 37",{"$f":"(C573*C$7)/Setup!$C$10","v":0},{"$f":"(D573*D$7)/Setup!$C$10","v":0},{"$f":"(E573*E$7)/Setup!$C$10","v":0},{"$f":"(F573*F$7)/Setup!$C$10","v":0},{"$f":"(G573*G$7)/Setup!$C$10","v":0},{"$f":"(H573*H$7)/Setup!$C$10","v":0},{"$f":"(I573*I$7)/Setup!$C$10","v":0},{"$f":"(J573*J$7)/Setup!$C$10","v":0},{"$f":"(K573*K$7)/Setup!$C$10","v":0},{"$f":"(L573*L$7)/Setup!$C$10","v":0},{"$f":"(M573*M$7)/Setup!$C$10","v":0},{"$f":"(N573*N$7)/Setup!$C$10","v":0},{"$f":"(O573*O$7)/Setup!$C$10","v":0},{"$f":"(P573*P$7)/Setup!$C$10","v":0},{"$f":"(Q573*Q$7)/Setup!$C$10","v":0},{"$f":"(R573*R$7)/Setup!$C$10","v":0},{"$f":"(S573*S$7)/Setup!$C$10","v":0},{"$f":"(T573*T$7)/Setup!$C$10","v":0},{"$f":"(U573*U$7)/Setup!$C$10","v":0},{"$f":"(V573*V$7)/Setup!$C$10","v":0},{"$f":"(W573*W$7)/Setup!$C$10","v":0},{"$f":"(X573*X$7)/Setup!$C$10","v":0},0,0,null,0,0,0]
["2015-03-23","Week 38",{"$f":"(C574*C$7)/Setup!$C$10","v":0},{"$f":"(D574*D$7)/Setup!$C$10","v":0},{"$f":"(E574*E$7)/Setup!$C$10","v":0},{"$f":"(F574*F$7)/Setup!$C$10","v":0},{"$f":"(G574*G$7)/Setup!$C$10","v":0},{"$f":"(H574*H$7)/Setup!$C$10","v":0},{"$f":"(I574*I$7)/Setup!$C$10","v":0},{"$f":"(J574*J$7)/Setup!$C$10","v":0},{"$f":"(K574*K$7)/Setup!$C$10","v":0},{"$f":"(L574*L$7)/Setup!$C$10","v":0},{"$f":"(M574*M$7)/Setup!$C$10","v":0},{"$f":"(N574*N$7)/Setup!$C$10","v":0},{"$f":"(O574*O$7)/Setup!$C$10","v":0},{"$f":"(P574*P$7)/Setup!$C$10","v":0},{"$f":"(Q574*Q$7)/Setup!$C$10","v":0},{"$f":"(R574*R$7)/Setup!$C$10","v":0},{"$f":"(S574*S$7)/Setup!$C$10","v":0},{"$f":"(T574*T$7)/Setup!$C$10","v":0},{"$f":"(U574*U$7)/Setup!$C$10","v":0},{"$f":"(V574*V$7)/Setup!$C$10","v":0},{"$f":"(W574*W$7)/Setup!$C$10","v":0},{"$f":"(X574*X$7)/Setup!$C$10","v":0},0,0,null,20.240000000000002,20.240000000000002,20.240000000000002]
["2015-03-30","Week 39",{"$f":"(C575*C$7)/Setup!$C$10","v":0},{"$f":"(D575*D$7)/Setup!$C$10","v":0},{"$f":"(E575*E$7)/Setup!$C$10","v":0},{"$f":"(F575*F$7)/Setup!$C$10","v":0},{"$f":"(G575*G$7)/Setup!$C$10","v":0},{"$f":"(H575*H$7)/Setup!$C$10","v":0},{"$f":"(I575*I$7)/Setup!$C$10","v":0},{"$f":"(J575*J$7)/Setup!$C$10","v":0},{"$f":"(K575*K$7)/Setup!$C$10","v":0},{"$f":"(L575*L$7)/Setup!$C$10","v":0},{"$f":"(M575*M$7)/Setup!$C$10","v":0},{"$f":"(N575*N$7)/Setup!$C$10","v":0},{"$f":"(O575*O$7)/Setup!$C$10","v":0},{"$f":"(P575*P$7)/Setup!$C$10","v":0},{"$f":"(Q575*Q$7)/Setup!$C$10","v":0},{"$f":"(R575*R$7)/Setup!$C$10","v":0},{"$f":"(S575*S$7)/Setup!$C$10","v":0},{"$f":"(T575*T$7)/Setup!$C$10","v":0},{"$f":"(U575*U$7)/Setup!$C$10","v":0},{"$f":"(V575*V$7)/Setup!$C$10","v":0},{"$f":"(W575*W$7)/Setup!$C$10","v":0},{"$f":"(X575*X$7)/Setup!$C$10","v":0},0,0,null,19.78,19.78,19.78]
["2015-04-06","Week 40",{"$f":"(C576*C$7)/Setup!$C$10","v":0},{"$f":"(D576*D$7)/Setup!$C$10","v":0},{"$f":"(E576*E$7)/Setup!$C$10","v":0},{"$f":"(F576*F$7)/Setup!$C$10","v":0},{"$f":"(G576*G$7)/Setup!$C$10","v":0},{"$f":"(H576*H$7)/Setup!$C$10","v":0},{"$f":"(I576*I$7)/Setup!$C$10","v":0},{"$f":"(J576*J$7)/Setup!$C$10","v":0},{"$f":"(K576*K$7)/Setup!$C$10","v":0},{"$f":"(L576*L$7)/Setup!$C$10","v":0},{"$f":"(M576*M$7)/Setup!$C$10","v":0},{"$f":"(N576*N$7)/Setup!$C$10","v":0},{"$f":"(O576*O$7)/Setup!$C$10","v":0},{"$f":"(P576*P$7)/Setup!$C$10","v":0},{"$f":"(Q576*Q$7)/Setup!$C$10","v":0},{"$f":"(R576*R$7)/Setup!$C$10","v":0},{"$f":"(S576*S$7)/Setup!$C$10","v":0},{"$f":"(T576*T$7)/Setup!$C$10","v":0},{"$f":"(U576*U$7)/Setup!$C$10","v":0},{"$f":"(V576*V$7)/Setup!$C$10","v":0},{"$f":"(W576*W$7)/Setup!$C$10","v":0},{"$f":"(X576*X$7)/Setup!$C$10","v":0},0,0,null,18.86,18.86,18.86]
[{"$f":"A461","v":"2015-04-13"},"Week 41",{"$f":"(C577*C$7)/Setup!$C$10","v":0},{"$f":"(D577*D$7)/Setup!$C$10","v":0},{"$f":"(E577*E$7)/Setup!$C$10","v":0},{"$f":"(F577*F$7)/Setup!$C$10","v":0},{"$f":"(G577*G$7)/Setup!$C$10","v":0},{"$f":"(H577*H$7)/Setup!$C$10","v":0},{"$f":"(I577*I$7)/Setup!$C$10","v":0},{"$f":"(J577*J$7)/Setup!$C$10","v":0},{"$f":"(K577*K$7)/Setup!$C$10","v":0},{"$f":"(L577*L$7)/Setup!$C$10","v":0},{"$f":"(M577*M$7)/Setup!$C$10","v":0},{"$f":"(N577*N$7)/Setup!$C$10","v":0},{"$f":"(O577*O$7)/Setup!$C$10","v":0},{"$f":"(P577*P$7)/Setup!$C$10","v":0},{"$f":"(Q577*Q$7)/Setup!$C$10","v":0},{"$f":"(R577*R$7)/Setup!$C$10","v":0},{"$f":"(S577*S$7)/Setup!$C$10","v":0},{"$f":"(T577*T$7)/Setup!$C$10","v":0},{"$f":"(U577*U$7)/Setup!$C$10","v":0},{"$f":"(V577*V$7)/Setup!$C$10","v":0},{"$f":"(W577*W$7)/Setup!$C$10","v":0},{"$f":"(X577*X$7)/Setup!$C$10","v":0},0,0,null,18.86,18.86,18.86]
["2015-04-20","Week 42",{"$f":"(C578*C$7)/Setup!$C$10","v":0},{"$f":"(D578*D$7)/Setup!$C$10","v":0},{"$f":"(E578*E$7)/Setup!$C$10","v":0},{"$f":"(F578*F$7)/Setup!$C$10","v":0},{"$f":"(G578*G$7)/Setup!$C$10","v":0},{"$f":"(H578*H$7)/Setup!$C$10","v":0},{"$f":"(I578*I$7)/Setup!$C$10","v":0},{"$f":"(J578*J$7)/Setup!$C$10","v":0},{"$f":"(K578*K$7)/Setup!$C$10","v":0},{"$f":"(L578*L$7)/Setup!$C$10","v":0},{"$f":"(M578*M$7)/Setup!$C$10","v":0},{"$f":"(N578*N$7)/Setup!$C$10","v":0},{"$f":"(O578*O$7)/Setup!$C$10","v":0},{"$f":"(P578*P$7)/Setup!$C$10","v":0},{"$f":"(Q578*Q$7)/Setup!$C$10","v":0},{"$f":"(R578*R$7)/Setup!$C$10","v":0},{"$f":"(S578*S$7)/Setup!$C$10","v":0},{"$f":"(T578*T$7)/Setup!$C$10","v":0},{"$f":"(U578*U$7)/Setup!$C$10","v":0},{"$f":"(V578*V$7)/Setup!$C$10","v":0},{"$f":"(W578*W$7)/Setup!$C$10","v":0},{"$f":"(X578*X$7)/Setup!$C$10","v":0},0,0,null,0,0,0]
["2015-04-27","Week 43",{"$f":"(C579*C$7)/Setup!$C$10","v":0},{"$f":"(D579*D$7)/Setup!$C$10","v":0},{"$f":"(E579*E$7)/Setup!$C$10","v":0},{"$f":"(F579*F$7)/Setup!$C$10","v":0},{"$f":"(G579*G$7)/Setup!$C$10","v":0},{"$f":"(H579*H$7)/Setup!$C$10","v":0},{"$f":"(I579*I$7)/Setup!$C$10","v":0},{"$f":"(J579*J$7)/Setup!$C$10","v":0},{"$f":"(K579*K$7)/Setup!$C$10","v":0},{"$f":"(L579*L$7)/Setup!$C$10","v":0},{"$f":"(M579*M$7)/Setup!$C$10","v":0},{"$f":"(N579*N$7)/Setup!$C$10","v":0},{"$f":"(O579*O$7)/Setup!$C$10","v":0},{"$f":"(P579*P$7)/Setup!$C$10","v":0},{"$f":"(Q579*Q$7)/Setup!$C$10","v":0},{"$f":"(R579*R$7)/Setup!$C$10","v":0},{"$f":"(S579*S$7)/Setup!$C$10","v":0},{"$f":"(T579*T$7)/Setup!$C$10","v":0},{"$f":"(U579*U$7)/Setup!$C$10","v":0},{"$f":"(V579*V$7)/Setup!$C$10","v":0},{"$f":"(W579*W$7)/Setup!$C$10","v":0},{"$f":"(X579*X$7)/Setup!$C$10","v":0},0,0,null,0,0,0]
["2015-05-04","Week 44",{"$f":"(C580*C$7)/Setup!$C$10","v":0},{"$f":"(D580*D$7)/Setup!$C$10","v":0},{"$f":"(E580*E$7)/Setup!$C$10","v":0},{"$f":"(F580*F$7)/Setup!$C$10","v":0},{"$f":"(G580*G$7)/Setup!$C$10","v":0},{"$f":"(H580*H$7)/Setup!$C$10","v":0},{"$f":"(I580*I$7)/Setup!$C$10","v":0},{"$f":"(J580*J$7)/Setup!$C$10","v":0},{"$f":"(K580*K$7)/Setup!$C$10","v":0},{"$f":"(L580*L$7)/Setup!$C$10","v":0},{"$f":"(M580*M$7)/Setup!$C$10","v":0},{"$f":"(N580*N$7)/Setup!$C$10","v":0},{"$f":"(O580*O$7)/Setup!$C$10","v":0},{"$f":"(P580*P$7)/Setup!$C$10","v":0},{"$f":"(Q580*Q$7)/Setup!$C$10","v":0},{"$f":"(R580*R$7)/Setup!$C$10","v":0},{"$f":"(S580*S$7)/Setup!$C$10","v":0},{"$f":"(T580*T$7)/Setup!$C$10","v":0},{"$f":"(U580*U$7)/Setup!$C$10","v":0},{"$f":"(V580*V$7)/Setup!$C$10","v":0},{"$f":"(W580*W$7)/Setup!$C$10","v":0},{"$f":"(X580*X$7)/Setup!$C$10","v":0},0,0,null,0,0,0]
["2015-05-11","Week 45",{"$f":"(C581*C$7)/Setup!$C$10","v":0},{"$f":"(D581*D$7)/Setup!$C$10","v":0},{"$f":"(E581*E$7)/Setup!$C$10","v":0},{"$f":"(F581*F$7)/Setup!$C$10","v":0},{"$f":"(G581*G$7)/Setup!$C$10","v":0},{"$f":"(H581*H$7)/Setup!$C$10","v":0},{"$f":"(I581*I$7)/Setup!$C$10","v":0},{"$f":"(J581*J$7)/Setup!$C$10","v":0},{"$f":"(K581*K$7)/Setup!$C$10","v":0},{"$f":"(L581*L$7)/Setup!$C$10","v":0},{"$f":"(M581*M$7)/Setup!$C$10","v":0},{"$f":"(N581*N$7)/Setup!$C$10","v":0},{"$f":"(O581*O$7)/Setup!$C$10","v":0},{"$f":"(P581*P$7)/Setup!$C$10","v":0},{"$f":"(Q581*Q$7)/Setup!$C$10","v":0},{"$f":"(R581*R$7)/Setup!$C$10","v":0},{"$f":"(S581*S$7)/Setup!$C$10","v":0},{"$f":"(T581*T$7)/Setup!$C$10","v":0},{"$f":"(U581*U$7)/Setup!$C$10","v":0},{"$f":"(V581*V$7)/Setup!$C$10","v":0},{"$f":"(W581*W$7)/Setup!$C$10","v":0},{"$f":"(X581*X$7)/Setup!$C$10","v":0},0,0,null,0,0,0]
["2015-05-18","Week 46",{"$f":"(C582*C$7)/Setup!$C$10","v":0},{"$f":"(D582*D$7)/Setup!$C$10","v":0},{"$f":"(E582*E$7)/Setup!$C$10","v":0},{"$f":"(F582*F$7)/Setup!$C$10","v":0},{"$f":"(G582*G$7)/Setup!$C$10","v":0},{"$f":"(H582*H$7)/Setup!$C$10","v":0},{"$f":"(I582*I$7)/Setup!$C$10","v":0},{"$f":"(J582*J$7)/Setup!$C$10","v":0},{"$f":"(K582*K$7)/Setup!$C$10","v":0},{"$f":"(L582*L$7)/Setup!$C$10","v":0},{"$f":"(M582*M$7)/Setup!$C$10","v":0},{"$f":"(N582*N$7)/Setup!$C$10","v":0},{"$f":"(O582*O$7)/Setup!$C$10","v":0},{"$f":"(P582*P$7)/Setup!$C$10","v":0},{"$f":"(Q582*Q$7)/Setup!$C$10","v":0},{"$f":"(R582*R$7)/Setup!$C$10","v":0},{"$f":"(S582*S$7)/Setup!$C$10","v":0},{"$f":"(T582*T$7)/Setup!$C$10","v":0},{"$f":"(U582*U$7)/Setup!$C$10","v":0},{"$f":"(V582*V$7)/Setup!$C$10","v":0},{"$f":"(W582*W$7)/Setup!$C$10","v":0},{"$f":"(X582*X$7)/Setup!$C$10","v":0},0,0,null,0,0,0]
["2015-05-25","Week 47",{"$f":"(C583*C$7)/Setup!$C$10","v":0},{"$f":"(D583*D$7)/Setup!$C$10","v":0},{"$f":"(E583*E$7)/Setup!$C$10","v":0},{"$f":"(F583*F$7)/Setup!$C$10","v":0},{"$f":"(G583*G$7)/Setup!$C$10","v":0},{"$f":"(H583*H$7)/Setup!$C$10","v":0},{"$f":"(I583*I$7)/Setup!$C$10","v":0},{"$f":"(J583*J$7)/Setup!$C$10","v":0},{"$f":"(K583*K$7)/Setup!$C$10","v":0},{"$f":"(L583*L$7)/Setup!$C$10","v":0},{"$f":"(M583*M$7)/Setup!$C$10","v":0},{"$f":"(N583*N$7)/Setup!$C$10","v":0},{"$f":"(O583*O$7)/Setup!$C$10","v":0},{"$f":"(P583*P$7)/Setup!$C$10","v":0},{"$f":"(Q583*Q$7)/Setup!$C$10","v":0},{"$f":"(R583*R$7)/Setup!$C$10","v":0},{"$f":"(S583*S$7)/Setup!$C$10","v":0},{"$f":"(T583*T$7)/Setup!$C$10","v":0},{"$f":"(U583*U$7)/Setup!$C$10","v":0},{"$f":"(V583*V$7)/Setup!$C$10","v":0},{"$f":"(W583*W$7)/Setup!$C$10","v":0},{"$f":"(X583*X$7)/Setup!$C$10","v":0},0,0,null,0,0,0]
["2015-06-01","Week 48",{"$f":"(C584*C$7)/Setup!$C$10","v":0},{"$f":"(D584*D$7)/Setup!$C$10","v":0},{"$f":"(E584*E$7)/Setup!$C$10","v":0},{"$f":"(F584*F$7)/Setup!$C$10","v":0},{"$f":"(G584*G$7)/Setup!$C$10","v":0},{"$f":"(H584*H$7)/Setup!$C$10","v":0},{"$f":"(I584*I$7)/Setup!$C$10","v":0},{"$f":"(J584*J$7)/Setup!$C$10","v":0},{"$f":"(K584*K$7)/Setup!$C$10","v":0},{"$f":"(L584*L$7)/Setup!$C$10","v":0},{"$f":"(M584*M$7)/Setup!$C$10","v":0},{"$f":"(N584*N$7)/Setup!$C$10","v":0},{"$f":"(O584*O$7)/Setup!$C$10","v":0},{"$f":"(P584*P$7)/Setup!$C$10","v":0},{"$f":"(Q584*Q$7)/Setup!$C$10","v":0},{"$f":"(R584*R$7)/Setup!$C$10","v":0},{"$f":"(S584*S$7)/Setup!$C$10","v":0},{"$f":"(T584*T$7)/Setup!$C$10","v":0},{"$f":"(U584*U$7)/Setup!$C$10","v":0},{"$f":"(V584*V$7)/Setup!$C$10","v":0},{"$f":"(W584*W$7)/Setup!$C$10","v":0},{"$f":"(X584*X$7)/Setup!$C$10","v":0},0,0,null,0,0,0]
["2015-06-08","Week 49",{"$f":"(C585*C$7)/Setup!$C$10","v":0},{"$f":"(D585*D$7)/Setup!$C$10","v":0},{"$f":"(E585*E$7)/Setup!$C$10","v":0},{"$f":"(F585*F$7)/Setup!$C$10","v":0},{"$f":"(G585*G$7)/Setup!$C$10","v":0},{"$f":"(H585*H$7)/Setup!$C$10","v":0},{"$f":"(I585*I$7)/Setup!$C$10","v":0},{"$f":"(J585*J$7)/Setup!$C$10","v":0},{"$f":"(K585*K$7)/Setup!$C$10","v":0},{"$f":"(L585*L$7)/Setup!$C$10","v":0},{"$f":"(M585*M$7)/Setup!$C$10","v":0},{"$f":"(N585*N$7)/Setup!$C$10","v":0},{"$f":"(O585*O$7)/Setup!$C$10","v":0},{"$f":"(P585*P$7)/Setup!$C$10","v":0},{"$f":"(Q585*Q$7)/Setup!$C$10","v":0},{"$f":"(R585*R$7)/Setup!$C$10","v":0},{"$f":"(S585*S$7)/Setup!$C$10","v":0},{"$f":"(T585*T$7)/Setup!$C$10","v":0},{"$f":"(U585*U$7)/Setup!$C$10","v":0},{"$f":"(V585*V$7)/Setup!$C$10","v":0},{"$f":"(W585*W$7)/Setup!$C$10","v":0},{"$f":"(X585*X$7)/Setup!$C$10","v":0},0,0,null,0,0,0]
["2015-06-15","Week 50",{"$f":"(C586*C$7)/Setup!$C$10","v":0},{"$f":"(D586*D$7)/Setup!$C$10","v":0},{"$f":"(E586*E$7)/Setup!$C$10","v":0},{"$f":"(F586*F$7)/Setup!$C$10","v":0},{"$f":"(G586*G$7)/Setup!$C$10","v":0},{"$f":"(H586*H$7)/Setup!$C$10","v":0},{"$f":"(I586*I$7)/Setup!$C$10","v":0},{"$f":"(J586*J$7)/Setup!$C$10","v":0},{"$f":"(K586*K$7)/Setup!$C$10","v":0},{"$f":"(L586*L$7)/Setup!$C$10","v":0},{"$f":"(M586*M$7)/Setup!$C$10","v":0},{"$f":"(N586*N$7)/Setup!$C$10","v":0},{"$f":"(O586*O$7)/Setup!$C$10","v":0},{"$f":"(P586*P$7)/Setup!$C$10","v":0},{"$f":"(Q586*Q$7)/Setup!$C$10","v":0},{"$f":"(R586*R$7)/Setup!$C$10","v":0},{"$f":"(S586*S$7)/Setup!$C$10","v":0},{"$f":"(T586*T$7)/Setup!$C$10","v":0},{"$f":"(U586*U$7)/Setup!$C$10","v":0},{"$f":"(V586*V$7)/Setup!$C$10","v":0},{"$f":"(W586*W$7)/Setup!$C$10","v":0},{"$f":"(X586*X$7)/Setup!$C$10","v":0},0,0,null,0,0,0]
["2015-06-22","Week 51",{"$f":"(C587*C$7)/Setup!$C$10","v":0},{"$f":"(D587*D$7)/Setup!$C$10","v":0},{"$f":"(E587*E$7)/Setup!$C$10","v":0},{"$f":"(F587*F$7)/Setup!$C$10","v":0},{"$f":"(G587*G$7)/Setup!$C$10","v":0},{"$f":"(H587*H$7)/Setup!$C$10","v":0},{"$f":"(I587*I$7)/Setup!$C$10","v":0},{"$f":"(J587*J$7)/Setup!$C$10","v":0},{"$f":"(K587*K$7)/Setup!$C$10","v":0},{"$f":"(L587*L$7)/Setup!$C$10","v":0},{"$f":"(M587*M$7)/Setup!$C$10","v":0},{"$f":"(N587*N$7)/Setup!$C$10","v":0},{"$f":"(O587*O$7)/Setup!$C$10","v":0},{"$f":"(P587*P$7)/Setup!$C$10","v":0},{"$f":"(Q587*Q$7)/Setup!$C$10","v":0},{"$f":"(R587*R$7)/Setup!$C$10","v":0},{"$f":"(S587*S$7)/Setup!$C$10","v":0},{"$f":"(T587*T$7)/Setup!$C$10","v":0},{"$f":"(U587*U$7)/Setup!$C$10","v":0},{"$f":"(V587*V$7)/Setup!$C$10","v":0},{"$f":"(W587*W$7)/Setup!$C$10","v":0},{"$f":"(X587*X$7)/Setup!$C$10","v":0},0,0,null,0,0,0]
["2015-06-29","Week 52",{"$f":"(C588*C$7)/Setup!$C$10","v":0},{"$f":"(D588*D$7)/Setup!$C$10","v":0},{"$f":"(E588*E$7)/Setup!$C$10","v":0},{"$f":"(F588*F$7)/Setup!$C$10","v":0},{"$f":"(G588*G$7)/Setup!$C$10","v":0},{"$f":"(H588*H$7)/Setup!$C$10","v":0},{"$f":"(I588*I$7)/Setup!$C$10","v":0},{"$f":"(J588*J$7)/Setup!$C$10","v":0},{"$f":"(K588*K$7)/Setup!$C$10","v":0},{"$f":"(L588*L$7)/Setup!$C$10","v":0},{"$f":"(M588*M$7)/Setup!$C$10","v":0},{"$f":"(N588*N$7)/Setup!$C$10","v":0},{"$f":"(O588*O$7)/Setup!$C$10","v":0},{"$f":"(P588*P$7)/Setup!$C$10","v":0},{"$f":"(Q588*Q$7)/Setup!$C$10","v":0},{"$f":"(R588*R$7)/Setup!$C$10","v":0},{"$f":"(S588*S$7)/Setup!$C$10","v":0},{"$f":"(T588*T$7)/Setup!$C$10","v":0},{"$f":"(U588*U$7)/Setup!$C$10","v":0},{"$f":"(V588*V$7)/Setup!$C$10","v":0},{"$f":"(W588*W$7)/Setup!$C$10","v":0},{"$f":"(X588*X$7)/Setup!$C$10","v":0},0,0,null,0,0,0]
[null,null,null,null,null,null,null,null,null,null,null,null,null,null,null,null,null,null,null,null,null,null,null,null,null,null,null,{"$f":"SUM(AB76:AB127)","v":240.46500000000003},{"$f":"SUM(AC76:AC127)","v":319.94000000000005},{"$f":"SUM(AD76:AD127)","v":319.94000000000005}]
[]
["Actual Weekly P (Kg) / Hectare (Ha):"]
[]
[null,null,"Ammonium Nitrate","Ammonium Sulphate","Borax","Calcium Nitrate","Copper Sulphate","FertiMix","Iron Chelate","Iron Sulphate","Magnesium Sulphate","Manganese Sulphate","Mono-Ammonium Phosphate","Mono-Potassium Phosphate","Nitric Acid","Phosphoric Acid","Potassium Chloride","Potassium Nitrate","Potassium Sulphate","Sodium Molybdenum","Sulphuric Acid","Urea","Zinc Oxide","Zinc Sulphate","Grower Wkly P","Grower Cumm P",null,"240:400","320:600","320:400"]
[null,null,"NH4NO3","(NH4)2SO4","Na2B4O7.10H2O","Ca(NO3)2","CuSO4.5H2O",null,"EDDHA","FeSO4.7H2O","MgSO4.7H2O","MnSO4.H2O","NH4H2PO4","KH2PO4","HNO3","PO4H3","KCl","KNO3","K2SO4","Na2MoO4","H2SO4","CO(NH2)2","ZnO","ZnSO4.7H2O",null,"TOTAL",null,"TOTAL","TOTAL","TOTAL"]
[{"$f":"A421","v":"2014-07-07"},"Week 1",{"$f":"(C537*C$8)/Setup!$C$10","v":0},{"$f":"(D537*D$8)/Setup!$C$10","v":0},{"$f":"(E537*E$8)/Setup!$C$10","v":0},{"$f":"(F537*F$8)/Setup!$C$10","v":0},{"$f":"(G537*G$8)/Setup!$C$10","v":0},{"$f":"(H537*H$8)/Setup!$C$10","v":0},{"$f":"(I537*I$8)/Setup!$C$10","v":0},{"$f":"(J537*J$8)/Setup!$C$10","v":0},{"$f":"(K537*K$8)/Setup!$C$10","v":0},{"$f":"(L537*L$8)/Setup!$C$10","v":0},{"$f":"(M537*M$8)/Setup!$C$10","v":0},{"$f":"(N537*N$8)/Setup!$C$10","v":0},{"$f":"(O537*O$8)/Setup!$C$10","v":0},{"$f":"(P537*P$8)/Setup!$C$10","v":0},{"$f":"(Q537*Q$8)/Setup!$C$10","v":0},{"$f":"(R537*R$8)/Setup!$C$10","v":0},{"$f":"(S537*S$8)/Setup!$C$10","v":0},{"$f":"(T537*T$8)/Setup!$C$10","v":0},{"$f":"(U537*U$8)/Setup!$C$10","v":0},{"$f":"(V537*V$8)/Setup!$C$10","v":0},{"$f":"(W537*W$8)/Setup!$C$10","v":0},{"$f":"(X537*X$8)/Setup!$C$10","v":0},{"$f":"SUM(C134:X134)","v":0},{"$f":"Y134","v":0},null,0,0,0]
["2014-07-14","Week 2",{"$f":"(C538*C$8)/Setup!$C$10","v":0},{"$f":"(D538*D$8)/Setup!$C$10","v":0},{"$f":"(E538*E$8)/Setup!$C$10","v":0},{"$f":"(F538*F$8)/Setup!$C$10","v":0},{"$f":"(G538*G$8)/Setup!$C$10","v":0},{"$f":"(H538*H$8)/Setup!$C$10","v":0},{"$f":"(I538*I$8)/Setup!$C$10","v":0},{"$f":"(J538*J$8)/Setup!$C$10","v":0},{"$f":"(K538*K$8)/Setup!$C$10","v":0},{"$f":"(L538*L$8)/Setup!$C$10","v":0},{"$f":"(M538*M$8)/Setup!$C$10","v":0},{"$f":"(N538*N$8)/Setup!$C$10","v":0},{"$f":"(O538*O$8)/Setup!$C$10","v":0},{"$f":"(P538*P$8)/Setup!$C$10","v":0},{"$f":"(Q538*Q$8)/Setup!$C$10","v":0},{"$f":"(R538*R$8)/Setup!$C$10","v":0},{"$f":"(S538*S$8)/Setup!$C$10","v":0},{"$f":"(T538*T$8)/Setup!$C$10","v":0},{"$f":"(U538*U$8)/Setup!$C$10","v":0},{"$f":"(V538*V$8)/Setup!$C$10","v":0},{"$f":"(W538*W$8)/Setup!$C$10","v":0},{"$f":"(X538*X$8)/Setup!$C$10","v":0},{"$f":"SUM(C135:X135)","v":0},{"$f":"Z134+Y135","v":0},null,0,0,0]
["2014-07-21","Week 3",{"$f":"(C539*C$8)/Setup!$C$10","v":0},{"$f":"(D539*D$8)/Setup!$C$10","v":0},{"$f":"(E539*E$8)/Setup!$C$10","v":0},{"$f":"(F539*F$8)/Setup!$C$10","v":0},{"$f":"(G539*G$8)/Setup!$C$10","v":0},{"$f":"(H539*H$8)/Setup!$C$10","v":0},{"$f":"(I539*I$8)/Setup!$C$10","v":0},{"$f":"(J539*J$8)/Setup!$C$10","v":0},{"$f":"(K539*K$8)/Setup!$C$10","v":0},{"$f":"(L539*L$8)/Setup!$C$10","v":0},{"$f":"(M539*M$8)/Setup!$C$10","v":0},{"$f":"(N539*N$8)/Setup!$C$10","v":0},{"$f":"(O539*O$8)/Setup!$C$10","v":0},{"$f":"(P539*P$8)/Setup!$C$10","v":0},{"$f":"(Q539*Q$8)/Setup!$C$10","v":0},{"$f":"(R539*R$8)/Setup!$C$10","v":0},{"$f":"(S539*S$8)/Setup!$C$10","v":0},{"$f":"(T539*T$8)/Setup!$C$10","v":0},{"$f":"(U539*U$8)/Setup!$C$10","v":0},{"$f":"(V539*V$8)/Setup!$C$10","v":0},{"$f":"(W539*W$8)/Setup!$C$10","v":0},{"$f":"(X539*X$8)/Setup!$C$10","v":0},0,{"$f":"Z135+Y136","v":0},null,0,0,0]
["2014-07-28","Week 4",{"$f":"(C540*C$8)/Setup!$C$10","v":0},{"$f":"(D540*D$8)/Setup!$C$10","v":0},{"$f":"(E540*E$8)/Setup!$C$10","v":0},{"$f":"(F540*F$8)/Setup!$C$10","v":0},{"$f":"(G540*G$8)/Setup!$C$10","v":0},{"$f":"(H540*H$8)/Setup!$C$10","v":0},{"$f":"(I540*I$8)/Setup!$C$10","v":0},{"$f":"(J540*J$8)/Setup!$C$10","v":0},{"$f":"(K540*K$8)/Setup!$C$10","v":0},{"$f":"(L540*L$8)/Setup!$C$10","v":0},{"$f":"(M540*M$8)/Setup!$C$10","v":0},{"$f":"(N540*N$8)/Setup!$C$10","v":0},{"$f":"(O540*O$8)/Setup!$C$10","v":0},{"$f":"(P540*P$8)/Setup!$C$10","v":0},{"$f":"(Q540*Q$8)/Setup!$C$10","v":0},{"$f":"(R540*R$8)/Setup!$C$10","v":0},{"$f":"(S540*S$8)/Setup!$C$10","v":0},{"$f":"(T540*T$8)/Setup!$C$10","v":0},{"$f":"(U540*U$8)/Setup!$C$10","v":0},{"$f":"(V540*V$8)/Setup!$C$10","v":0},{"$f":"(W540*W$8)/Setup!$C$10","v":0},{"$f":"(X540*X$8)/Setup!$C$10","v":0},0,0,null,0,0,0]
["2014-08-04","Week 5",{"$f":"(C541*C$8)/Setup!$C$10","v":0},{"$f":"(D541*D$8)/Setup!$C$10","v":0},{"$f":"(E541*E$8)/Setup!$C$10","v":0},{"$f":"(F541*F$8)/Setup!$C$10","v":0},{"$f":"(G541*G$8)/Setup!$C$10","v":0},{"$f":"(H541*H$8)/Setup!$C$10","v":0},{"$f":"(I541*I$8)/Setup!$C$10","v":0},{"$f":"(J541*J$8)/Setup!$C$10","v":0},{"$f":"(K541*K$8)/Setup!$C$10","v":0},{"$f":"(L541*L$8)/Setup!$C$10","v":0},{"$f":"(M541*M$8)/Setup!$C$10","v":0},{"$f":"(N541*N$8)/Setup!$C$10","v":0},{"$f":"(O541*O$8)/Setup!$C$10","v":0},{"$f":"(P541*P$8)/Setup!$C$10","v":0},{"$f":"(Q541*Q$8)/Setup!$C$10","v":0},{"$f":"(R541*R$8)/Setup!$C$10","v":0},{"$f":"(S541*S$8)/Setup!$C$10","v":0},{"$f":"(T541*T$8)/Setup!$C$10","v":0},{"$f":"(U541*U$8)/Setup!$C$10","v":0},{"$f":"(V541*V$8)/Setup!$C$10","v":0},{"$f":"(W541*W$8)/Setup!$C$10","v":0},{"$f":"(X541*X$8)/Setup!$C$10","v":0},0,0,null,0,0,0]
["2014-08-11","Week 6",{"$f":"(C542*C$8)/Setup!$C$10","v":0},{"$f":"(D542*D$8)/Setup!$C$10","v":0},{"$f":"(E542*E$8)/Setup!$C$10","v":0},{"$f":"(F542*F$8)/Setup!$C$10","v":0},{"$f":"(G542*G$8)/Setup!$C$10","v":0},{"$f":"(H542*H$8)/Setup!$C$10","v":0},{"$f":"(I542*I$8)/Setup!$C$10","v":0},{"$f":"(J542*J$8)/Setup!$C$10","v":0},{"$f":"(K542*K$8)/Setup!$C$10","v":0},{"$f":"(L542*L$8)/Setup!$C$10","v":0},{"$f":"(M542*M$8)/Setup!$C$10","v":0},{"$f":"(N542*N$8)/Setup!$C$10","v":0},{"$f":"(O542*O$8)/Setup!$C$10","v":0},{"$f":"(P542*P$8)/Setup!$C$10","v":0},{"$f":"(Q542*Q$8)/Setup!$C$10","v":0},{"$f":"(R542*R$8)/Setup!$C$10","v":0},{"$f":"(S542*S$8)/Setup!$C$10","v":0},{"$f":"(T542*T$8)/Setup!$C$10","v":0},{"$f":"(U542*U$8)/Setup!$C$10","v":0},{"$f":"(V542*V$8)/Setup!$C$10","v":0},{"$f":"(W542*W$8)/Setup!$C$10","v":0},{"$f":"(X542*X$8)/Setup!$C$10","v":0},0,0,null,0,0,0]
["2014-08-18","Week 7",{"$f":"(C543*C$8)/Setup!$C$10","v":0},{"$f":"(D543*D$8)/Setup!$C$10","v":0},{"$f":"(E543*E$8)/Setup!$C$10","v":0},{"$f":"(F543*F$8)/Setup!$C$10","v":0},{"$f":"(G543*G$8)/Setup!$C$10","v":0},{"$f":"(H543*H$8)/Setup!$C$10","v":0},{"$f":"(I543*I$8)/Setup!$C$10","v":0},{"$f":"(J543*J$8)/Setup!$C$10","v":0},{"$f":"(K543*K$8)/Setup!$C$10","v":0},{"$f":"(L543*L$8)/Setup!$C$10","v":0},{"$f":"(M543*M$8)/Setup!$C$10","v":0},{"$f":"(N543*N$8)/Setup!$C$10","v":0},{"$f":"(O543*O$8)/Setup!$C$10","v":0},{"$f":"(P543*P$8)/Setup!$C$10","v":0},{"$f":"(Q543*Q$8)/Setup!$C$10","v":0},{"$f":"(R543*R$8)/Setup!$C$10","v":0},{"$f":"(S543*S$8)/Setup!$C$10","v":0},{"$f":"(T543*T$8)/Setup!$C$10","v":0},{"$f":"(U543*U$8)/Setup!$C$10","v":0},{"$f":"(V543*V$8)/Setup!$C$10","v":0},{"$f":"(W543*W$8)/Setup!$C$10","v":0},{"$f":"(X543*X$8)/Setup!$C$10","v":0},0,0,null,0,0,0]
["2014-08-25","Week 8",{"$f":"(C544*C$8)/Setup!$C$10","v":0},{"$f":"(D544*D$8)/Setup!$C$10","v":0},{"$f":"(E544*E$8)/Setup!$C$10","v":0},{"$f":"(F544*F$8)/Setup!$C$10","v":0},{"$f":"(G544*G$8)/Setup!$C$10","v":0},{"$f":"(H544*H$8)/Setup!$C$10","v":0},{"$f":"(I544*I$8)/Setup!$C$10","v":0},{"$f":"(J544*J$8)/Setup!$C$10","v":0},{"$f":"(K544*K$8)/Setup!$C$10","v":0},{"$f":"(L544*L$8)/Setup!$C$10","v":0},{"$f":"(M544*M$8)/Setup!$C$10","v":0},{"$f":"(N544*N$8)/Setup!$C$10","v":0},{"$f":"(O544*O$8)/Setup!$C$10","v":0},{"$f":"(P544*P$8)/Setup!$C$10","v":0},{"$f":"(Q544*Q$8)/Setup!$C$10","v":0},{"$f":"(R544*R$8)/Setup!$C$10","v":0},{"$f":"(S544*S$8)/Setup!$C$10","v":0},{"$f":"(T544*T$8)/Setup!$C$10","v":0},{"$f":"(U544*U$8)/Setup!$C$10","v":0},{"$f":"(V544*V$8)/Setup!$C$10","v":0},{"$f":"(W544*W$8)/Setup!$C$10","v":0},{"$f":"(X544*X$8)/Setup!$C$10","v":0},0,0,null,0,0,0]
["2014-09-01","Week 9",{"$f":"(C545*C$8)/Setup!$C$10","v":0},{"$f":"(D545*D$8)/Setup!$C$10","v":0},{"$f":"(E545*E$8)/Setup!$C$10","v":0},{"$f":"(F545*F$8)/Setup!$C$10","v":0},{"$f":"(G545*G$8)/Setup!$C$10","v":0},{"$f":"(H545*H$8)/Setup!$C$10","v":0},{"$f":"(I545*I$8)/Setup!$C$10","v":0},{"$f":"(J545*J$8)/Setup!$C$10","v":0},{"$f":"(K545*K$8)/Setup!$C$10","v":0},{"$f":"(L545*L$8)/Setup!$C$10","v":0},{"$f":"(M545*M$8)/Setup!$C$10","v":0},{"$f":"(N545*N$8)/Setup!$C$10","v":0},{"$f":"(O545*O$8)/Setup!$C$10","v":0},{"$f":"(P545*P$8)/Setup!$C$10","v":0},{"$f":"(Q545*Q$8)/Setup!$C$10","v":0},{"$f":"(R545*R$8)/Setup!$C$10","v":0},{"$f":"(S545*S$8)/Setup!$C$10","v":0},{"$f":"(T545*T$8)/Setup!$C$10","v":0},{"$f":"(U545*U$8)/Setup!$C$10","v":0},{"$f":"(V545*V$8)/Setup!$C$10","v":0},{"$f":"(W545*W$8)/Setup!$C$10","v":0},{"$f":"(X545*X$8)/Setup!$C$10","v":0},0,0,null,0,0,0]
["2014-09-08","Week 10",{"$f":"(C546*C$8)/Setup!$C$10","v":0},{"$f":"(D546*D$8)/Setup!$C$10","v":0},{"$f":"(E546*E$8)/Setup!$C$10","v":0},{"$f":"(F546*F$8)/Setup!$C$10","v":0},{"$f":"(G546*G$8)/Setup!$C$10","v":0},{"$f":"(H546*H$8)/Setup!$C$10","v":0},{"$f":"(I546*I$8)/Setup!$C$10","v":0},{"$f":"(J546*J$8)/Setup!$C$10","v":0},{"$f":"(K546*K$8)/Setup!$C$10","v":0},{"$f":"(L546*L$8)/Setup!$C$10","v":0},{"$f":"(M546*M$8)/Setup!$C$10","v":0},{"$f":"(N546*N$8)/Setup!$C$10","v":0},{"$f":"(O546*O$8)/Setup!$C$10","v":0},{"$f":"(P546*P$8)/Setup!$C$10","v":0},{"$f":"(Q546*Q$8)/Setup!$C$10","v":0},{"$f":"(R546*R$8)/Setup!$C$10","v":0},{"$f":"(S546*S$8)/Setup!$C$10","v":0},{"$f":"(T546*T$8)/Setup!$C$10","v":0},{"$f":"(U546*U$8)/Setup!$C$10","v":0},{"$f":"(V546*V$8)/Setup!$C$10","v":0},{"$f":"(W546*W$8)/Setup!$C$10","v":0},{"$f":"(X546*X$8)/Setup!$C$10","v":0},0,0,null,4.55,4.55,4.55]
["2014-09-15","Week 11",{"$f":"(C547*C$8)/Setup!$C$10","v":0},{"$f":"(D547*D$8)/Setup!$C$10","v":0},{"$f":"(E547*E$8)/Setup!$C$10","v":0},{"$f":"(F547*F$8)/Setup!$C$10","v":0},{"$f":"(G547*G$8)/Setup!$C$10","v":0},{"$f":"(H547*H$8)/Setup!$C$10","v":0},{"$f":"(I547*I$8)/Setup!$C$10","v":0},{"$f":"(J547*J$8)/Setup!$C$10","v":0},{"$f":"(K547*K$8)/Setup!$C$10","v":0},{"$f":"(L547*L$8)/Setup!$C$10","v":0},{"$f":"(M547*M$8)/Setup!$C$10","v":0},{"$f":"(N547*N$8)/Setup!$C$10","v":0},{"$f":"(O547*O$8)/Setup!$C$10","v":0},{"$f":"(P547*P$8)/Setup!$C$10","v":0},{"$f":"(Q547*Q$8)/Setup!$C$10","v":0},{"$f":"(R547*R$8)/Setup!$C$10","v":0},{"$f":"(S547*S$8)/Setup!$C$10","v":0},{"$f":"(T547*T$8)/Setup!$C$10","v":0},{"$f":"(U547*U$8)/Setup!$C$10","v":0},{"$f":"(V547*V$8)/Setup!$C$10","v":0},{"$f":"(W547*W$8)/Setup!$C$10","v":0},{"$f":"(X547*X$8)/Setup!$C$10","v":0},0,0,null,4.55,4.55,4.55]
["2014-09-22","Week 12",{"$f":"(C548*C$8)/Setup!$C$10","v":0},{"$f":"(D548*D$8)/Setup!$C$10","v":0},{"$f":"(E548*E$8)/Setup!$C$10","v":0},{"$f":"(F548*F$8)/Setup!$C$10","v":0},{"$f":"(G548*G$8)/Setup!$C$10","v":0},{"$f":"(H548*H$8)/Setup!$C$10","v":0},{"$f":"(I548*I$8)/Setup!$C$10","v":0},{"$f":"(J548*J$8)/Setup!$C$10","v":0},{"$f":"(K548*K$8)/Setup!$C$10","v":0},{"$f":"(L548*L$8)/Setup!$C$10","v":0},{"$f":"(M548*M$8)/Setup!$C$10","v":0},{"$f":"(N548*N$8)/Setup!$C$10","v":0},{"$f":"(O548*O$8)/Setup!$C$10","v":0},{"$f":"(P548*P$8)/Setup!$C$10","v":0},{"$f":"(Q548*Q$8)/Setup!$C$10","v":0},{"$f":"(R548*R$8)/Setup!$C$10","v":0},{"$f":"(S548*S$8)/Setup!$C$10","v":0},{"$f":"(T548*T$8)/Setup!$C$10","v":0},{"$f":"(U548*U$8)/Setup!$C$10","v":0},{"$f":"(V548*V$8)/Setup!$C$10","v":0},{"$f":"(W548*W$8)/Setup!$C$10","v":0},{"$f":"(X548*X$8)/Setup!$C$10","v":0},0,0,null,4.55,4.55,4.55]
["2014-09-29","Week 13",{"$f":"(C549*C$8)/Setup!$C$10","v":0},{"$f":"(D549*D$8)/Setup!$C$10","v":0},{"$f":"(E549*E$8)/Setup!$C$10","v":0},{"$f":"(F549*F$8)/Setup!$C$10","v":0},{"$f":"(G549*G$8)/Setup!$C$10","v":0},{"$f":"(H549*H$8)/Setup!$C$10","v":0},{"$f":"(I549*I$8)/Setup!$C$10","v":0},{"$f":"(J549*J$8)/Setup!$C$10","v":0},{"$f":"(K549*K$8)/Setup!$C$10","v":0},{"$f":"(L549*L$8)/Setup!$C$10","v":0},{"$f":"(M549*M$8)/Setup!$C$10","v":0},{"$f":"(N549*N$8)/Setup!$C$10","v":0},{"$f":"(O549*O$8)/Setup!$C$10","v":0},{"$f":"(P549*P$8)/Setup!$C$10","v":0},{"$f":"(Q549*Q$8)/Setup!$C$10","v":0},{"$f":"(R549*R$8)/Setup!$C$10","v":0},{"$f":"(S549*S$8)/Setup!$C$10","v":0},{"$f":"(T549*T$8)/Setup!$C$10","v":0},{"$f":"(U549*U$8)/Setup!$C$10","v":0},{"$f":"(V549*V$8)/Setup!$C$10","v":0},{"$f":"(W549*W$8)/Setup!$C$10","v":0},{"$f":"(X549*X$8)/Setup!$C$10","v":0},0,0,null,4.55,4.55,4.55]
["2014-10-06","Week 14",{"$f":"(C550*C$8)/Setup!$C$10","v":0},{"$f":"(D550*D$8)/Setup!$C$10","v":0},{"$f":"(E550*E$8)/Setup!$C$10","v":0},{"$f":"(F550*F$8)/Setup!$C$10","v":0},{"$f":"(G550*G$8)/Setup!$C$10","v":0},{"$f":"(H550*H$8)/Setup!$C$10","v":0},{"$f":"(I550*I$8)/Setup!$C$10","v":0},{"$f":"(J550*J$8)/Setup!$C$10","v":0},{"$f":"(K550*K$8)/Setup!$C$10","v":0},{"$f":"(L550*L$8)/Setup!$C$10","v":0},{"$f":"(M550*M$8)/Setup!$C$10","v":0},{"$f":"(N550*N$8)/Setup!$C$10","v":0},{"$f":"(O550*O$8)/Setup!$C$10","v":0},{"$f":"(P550*P$8)/Setup!$C$10","v":0},{"$f":"(Q550*Q$8)/Setup!$C$10","v":0},{"$f":"(R550*R$8)/Setup!$C$10","v":0},{"$f":"(S550*S$8)/Setup!$C$10","v":0},{"$f":"(T550*T$8)/Setup!$C$10","v":0},{"$f":"(U550*U$8)/Setup!$C$10","v":0},{"$f":"(V550*V$8)/Setup!$C$10","v":0},{"$f":"(W550*W$8)/Setup!$C$10","v":0},{"$f":"(X550*X$8)/Setup!$C$10","v":0},0,0,null,4.55,4.55,4.55]
["2014-10-13","Week 15",{"$f":"(C551*C$8)/Setup!$C$10","v":0},{"$f":"(D551*D$8)/Setup!$C$10","v":0},{"$f":"(E551*E$8)/Setup!$C$10","v":0},{"$f":"(F551*F$8)/Setup!$C$10","v":0},{"$f":"(G551*G$8)/Setup!$C$10","v":0},{"$f":"(H551*H$8)/Setup!$C$10","v":0},{"$f":"(I551*I$8)/Setup!$C$10","v":0},{"$f":"(J551*J$8)/Setup!$C$10","v":0},{"$f":"(K551*K$8)/Setup!$C$10","v":0},{"$f":"(L551*L$8)/Setup!$C$10","v":0},{"$f":"(M551*M$8)/Setup!$C$10","v":0},{"$f":"(N551*N$8)/Setup!$C$10","v":0},{"$f":"(O551*O$8)/Setup!$C$10","v":0},{"$f":"(P551*P$8)/Setup!$C$10","v":0},{"$f":"(Q551*Q$8)/Setup!$C$10","v":0},{"$f":"(R551*R$8)/Setup!$C$10","v":0},{"$f":"(S551*S$8)/Setup!$C$10","v":0},{"$f":"(T551*T$8)/Setup!$C$10","v":0},{"$f":"(U551*U$8)/Setup!$C$10","v":0},{"$f":"(V551*V$8)/Setup!$C$10","v":0},{"$f":"(W551*W$8)/Setup!$C$10","v":0},{"$f":"(X551*X$8)/Setup!$C$10","v":0},0,0,null,4.55,4.55,4.55]
["2014-10-20","Week 16",{"$f":"(C552*C$8)/Setup!$C$10","v":0},{"$f":"(D552*D$8)/Setup!$C$10","v":0},{"$f":"(E552*E$8)/Setup!$C$10","v":0},{"$f":"(F552*F$8)/Setup!$C$10","v":0},{"$f":"(G552*G$8)/Setup!$C$10","v":0},{"$f":"(H552*H$8)/Setup!$C$10","v":0},{"$f":"(I552*I$8)/Setup!$C$10","v":0},{"$f":"(J552*J$8)/Setup!$C$10","v":0},{"$f":"(K552*K$8)/Setup!$C$10","v":0},{"$f":"(L552*L$8)/Setup!$C$10","v":0},{"$f":"(M552*M$8)/Setup!$C$10","v":0},{"$f":"(N552*N$8)/Setup!$C$10","v":0},{"$f":"(O552*O$8)/Setup!$C$10","v":0},{"$f":"(P552*P$8)/Setup!$C$10","v":0},{"$f":"(Q552*Q$8)/Setup!$C$10","v":0},{"$f":"(R552*R$8)/Setup!$C$10","v":0},{"$f":"(S552*S$8)/Setup!$C$10","v":0},{"$f":"(T552*T$8)/Setup!$C$10","v":0},{"$f":"(U552*U$8)/Setup!$C$10","v":0},{"$f":"(V552*V$8)/Setup!$C$10","v":0},{"$f":"(W552*W$8)/Setup!$C$10","v":0},{"$f":"(X552*X$8)/Setup!$C$10","v":0},0,0,null,4.55,4.55,4.55]
["2014-10-27","Week 17",{"$f":"(C553*C$8)/Setup!$C$10","v":0},{"$f":"(D553*D$8)/Setup!$C$10","v":0},{"$f":"(E553*E$8)/Setup!$C$10","v":0},{"$f":"(F553*F$8)/Setup!$C$10","v":0},{"$f":"(G553*G$8)/Setup!$C$10","v":0},{"$f":"(H553*H$8)/Setup!$C$10","v":0},{"$f":"(I553*I$8)/Setup!$C$10","v":0},{"$f":"(J553*J$8)/Setup!$C$10","v":0},{"$f":"(K553*K$8)/Setup!$C$10","v":0},{"$f":"(L553*L$8)/Setup!$C$10","v":0},{"$f":"(M553*M$8)/Setup!$C$10","v":0},{"$f":"(N553*N$8)/Setup!$C$10","v":0},{"$f":"(O553*O$8)/Setup!$C$10","v":0},{"$f":"(P553*P$8)/Setup!$C$10","v":0},{"$f":"(Q553*Q$8)/Setup!$C$10","v":0},{"$f":"(R553*R$8)/Setup!$C$10","v":0},{"$f":"(S553*S$8)/Setup!$C$10","v":0},{"$f":"(T553*T$8)/Setup!$C$10","v":0},{"$f":"(U553*U$8)/Setup!$C$10","v":0},{"$f":"(V553*V$8)/Setup!$C$10","v":0},{"$f":"(W553*W$8)/Setup!$C$10","v":0},{"$f":"(X553*X$8)/Setup!$C$10","v":0},0,0,null,4.55,4.55,4.55]
["2014-11-03","Week 18",{"$f":"(C554*C$8)/Setup!$C$10","v":0},{"$f":"(D554*D$8)/Setup!$C$10","v":0},{"$f":"(E554*E$8)/Setup!$C$10","v":0},{"$f":"(F554*F$8)/Setup!$C$10","v":0},{"$f":"(G554*G$8)/Setup!$C$10","v":0},{"$f":"(H554*H$8)/Setup!$C$10","v":0},{"$f":"(I554*I$8)/Setup!$C$10","v":0},{"$f":"(J554*J$8)/Setup!$C$10","v":0},{"$f":"(K554*K$8)/Setup!$C$10","v":0},{"$f":"(L554*L$8)/Setup!$C$10","v":0},{"$f":"(M554*M$8)/Setup!$C$10","v":0},{"$f":"(N554*N$8)/Setup!$C$10","v":0},{"$f":"(O554*O$8)/Setup!$C$10","v":0},{"$f":"(P554*P$8)/Setup!$C$10","v":0},{"$f":"(Q554*Q$8)/Setup!$C$10","v":0},{"$f":"(R554*R$8)/Setup!$C$10","v":0},{"$f":"(S554*S$8)/Setup!$C$10","v":0},{"$f":"(T554*T$8)/Setup!$C$10","v":0},{"$f":"(U554*U$8)/Setup!$C$10","v":0},{"$f":"(V554*V$8)/Setup!$C$10","v":0},{"$f":"(W554*W$8)/Setup!$C$10","v":0},{"$f":"(X554*X$8)/Setup!$C$10","v":0},0,0,null,4.55,4.55,4.55]
["2014-11-10","Week 19",{"$f":"(C555*C$8)/Setup!$C$10","v":0},{"$f":"(D555*D$8)/Setup!$C$10","v":0},{"$f":"(E555*E$8)/Setup!$C$10","v":0},{"$f":"(F555*F$8)/Setup!$C$10","v":0},{"$f":"(G555*G$8)/Setup!$C$10","v":0},{"$f":"(H555*H$8)/Setup!$C$10","v":0},{"$f":"(I555*I$8)/Setup!$C$10","v":0},{"$f":"(J555*J$8)/Setup!$C$10","v":0},{"$f":"(K555*K$8)/Setup!$C$10","v":0},{"$f":"(L555*L$8)/Setup!$C$10","v":0},{"$f":"(M555*M$8)/Setup!$C$10","v":0},{"$f":"(N555*N$8)/Setup!$C$10","v":0},{"$f":"(O555*O$8)/Setup!$C$10","v":0},{"$f":"(P555*P$8)/Setup!$C$10","v":0},{"$f":"(Q555*Q$8)/Setup!$C$10","v":0},{"$f":"(R555*R$8)/Setup!$C$10","v":0},{"$f":"(S555*S$8)/Setup!$C$10","v":0},{"$f":"(T555*T$8)/Setup!$C$10","v":0},{"$f":"(U555*U$8)/Setup!$C$10","v":0},{"$f":"(V555*V$8)/Setup!$C$10","v":0},{"$f":"(W555*W$8)/Setup!$C$10","v":0},{"$f":"(X555*X$8)/Setup!$C$10","v":0},0,0,null,4.55,4.55,4.55]
["2014-11-17","Week 20",{"$f":"(C556*C$8)/Setup!$C$10","v":0},{"$f":"(D556*D$8)/Setup!$C$10","v":0},{"$f":"(E556*E$8)/Setup!$C$10","v":0},{"$f":"(F556*F$8)/Setup!$C$10","v":0},{"$f":"(G556*G$8)/Setup!$C$10","v":0},{"$f":"(H556*H$8)/Setup!$C$10","v":0},{"$f":"(I556*I$8)/Setup!$C$10","v":0},{"$f":"(J556*J$8)/Setup!$C$10","v":0},{"$f":"(K556*K$8)/Setup!$C$10","v":0},{"$f":"(L556*L$8)/Setup!$C$10","v":0},{"$f":"(M556*M$8)/Setup!$C$10","v":0},{"$f":"(N556*N$8)/Setup!$C$10","v":0},{"$f":"(O556*O$8)/Setup!$C$10","v":0},{"$f":"(P556*P$8)/Setup!$C$10","v":0},{"$f":"(Q556*Q$8)/Setup!$C$10","v":0},{"$f":"(R556*R$8)/Setup!$C$10","v":0},{"$f":"(S556*S$8)/Setup!$C$10","v":0},{"$f":"(T556*T$8)/Setup!$C$10","v":0},{"$f":"(U556*U$8)/Setup!$C$10","v":0},{"$f":"(V556*V$8)/Setup!$C$10","v":0},{"$f":"(W556*W$8)/Setup!$C$10","v":0},{"$f":"(X556*X$8)/Setup!$C$10","v":0},0,0,null,4.55,4.55,4.55]
[{"$f":"A441","v":"2014-11-24"},"Week 21",{"$f":"(C557*C$8)/Setup!$C$10","v":0},{"$f":"(D557*D$8)/Setup!$C$10","v":0},{"$f":"(E557*E$8)/Setup!$C$10","v":0},{"$f":"(F557*F$8)/Setup!$C$10","v":0},{"$f":"(G557*G$8)/Setup!$C$10","v":0},{"$f":"(H557*H$8)/Setup!$C$10","v":0},{"$f":"(I557*I$8)/Setup!$C$10","v":0},{"$f":"(J557*J$8)/Setup!$C$10","v":0},{"$f":"(K557*K$8)/Setup!$C$10","v":0},{"$f":"(L557*L$8)/Setup!$C$10","v":0},{"$f":"(M557*M$8)/Setup!$C$10","v":0},{"$f":"(N557*N$8)/Setup!$C$10","v":0},{"$f":"(O557*O$8)/Setup!$C$10","v":0},{"$f":"(P557*P$8)/Setup!$C$10","v":0},{"$f":"(Q557*Q$8)/Setup!$C$10","v":0},{"$f":"(R557*R$8)/Setup!$C$10","v":0},{"$f":"(S557*S$8)/Setup!$C$10","v":0},{"$f":"(T557*T$8)/Setup!$C$10","v":0},{"$f":"(U557*U$8)/Setup!$C$10","v":0},{"$f":"(V557*V$8)/Setup!$C$10","v":0},{"$f":"(W557*W$8)/Setup!$C$10","v":0},{"$f":"(X557*X$8)/Setup!$C$10","v":0},0,0,null,0,0,0]
["2014-12-01","Week 22",{"$f":"(C558*C$8)/Setup!$C$10","v":0},{"$f":"(D558*D$8)/Setup!$C$10","v":0},{"$f":"(E558*E$8)/Setup!$C$10","v":0},{"$f":"(F558*F$8)/Setup!$C$10","v":0},{"$f":"(G558*G$8)/Setup!$C$10","v":0},{"$f":"(H558*H$8)/Setup!$C$10","v":0},{"$f":"(I558*I$8)/Setup!$C$10","v":0},{"$f":"(J558*J$8)/Setup!$C$10","v":0},{"$f":"(K558*K$8)/Setup!$C$10","v":0},{"$f":"(L558*L$8)/Setup!$C$10","v":0},{"$f":"(M558*M$8)/Setup!$C$10","v":0},{"$f":"(N558*N$8)/Setup!$C$10","v":0},{"$f":"(O558*O$8)/Setup!$C$10","v":0},{"$f":"(P558*P$8)/Setup!$C$10","v":0},{"$f":"(Q558*Q$8)/Setup!$C$10","v":0},{"$f":"(R558*R$8)/Setup!$C$10","v":0},{"$f":"(S558*S$8)/Setup!$C$10","v":0},{"$f":"(T558*T$8)/Setup!$C$10","v":0},{"$f":"(U558*U$8)/Setup!$C$10","v":0},{"$f":"(V558*V$8)/Setup!$C$10","v":0},{"$f":"(W558*W$8)/Setup!$C$10","v":0},{"$f":"(X558*X$8)/Setup!$C$10","v":0},0,0,null,0,0,0]
["2014-12-08","Week 23",{"$f":"(C559*C$8)/Setup!$C$10","v":0},{"$f":"(D559*D$8)/Setup!$C$10","v":0},{"$f":"(E559*E$8)/Setup!$C$10","v":0},{"$f":"(F559*F$8)/Setup!$C$10","v":0},{"$f":"(G559*G$8)/Setup!$C$10","v":0},{"$f":"(H559*H$8)/Setup!$C$10","v":0},{"$f":"(I559*I$8)/Setup!$C$10","v":0},{"$f":"(J559*J$8)/Setup!$C$10","v":0},{"$f":"(K559*K$8)/Setup!$C$10","v":0},{"$f":"(L559*L$8)/Setup!$C$10","v":0},{"$f":"(M559*M$8)/Setup!$C$10","v":0},{"$f":"(N559*N$8)/Setup!$C$10","v":0},{"$f":"(O559*O$8)/Setup!$C$10","v":0},{"$f":"(P559*P$8)/Setup!$C$10","v":0},{"$f":"(Q559*Q$8)/Setup!$C$10","v":0},{"$f":"(R559*R$8)/Setup!$C$10","v":0},{"$f":"(S559*S$8)/Setup!$C$10","v":0},{"$f":"(T559*T$8)/Setup!$C$10","v":0},{"$f":"(U559*U$8)/Setup!$C$10","v":0},{"$f":"(V559*V$8)/Setup!$C$10","v":0},{"$f":"(W559*W$8)/Setup!$C$10","v":0},{"$f":"(X559*X$8)/Setup!$C$10","v":0},0,0,null,0,0,0]
["2014-12-15","Week 24",{"$f":"(C560*C$8)/Setup!$C$10","v":0},{"$f":"(D560*D$8)/Setup!$C$10","v":0},{"$f":"(E560*E$8)/Setup!$C$10","v":0},{"$f":"(F560*F$8)/Setup!$C$10","v":0},{"$f":"(G560*G$8)/Setup!$C$10","v":0},{"$f":"(H560*H$8)/Setup!$C$10","v":0},{"$f":"(I560*I$8)/Setup!$C$10","v":0},{"$f":"(J560*J$8)/Setup!$C$10","v":0},{"$f":"(K560*K$8)/Setup!$C$10","v":0},{"$f":"(L560*L$8)/Setup!$C$10","v":0},{"$f":"(M560*M$8)/Setup!$C$10","v":0},{"$f":"(N560*N$8)/Setup!$C$10","v":0},{"$f":"(O560*O$8)/Setup!$C$10","v":0},{"$f":"(P560*P$8)/Setup!$C$10","v":0},{"$f":"(Q560*Q$8)/Setup!$C$10","v":0},{"$f":"(R560*R$8)/Setup!$C$10","v":0},{"$f":"(S560*S$8)/Setup!$C$10","v":0},{"$f":"(T560*T$8)/Setup!$C$10","v":0},{"$f":"(U560*U$8)/Setup!$C$10","v":0},{"$f":"(V560*V$8)/Setup!$C$10","v":0},{"$f":"(W560*W$8)/Setup!$C$10","v":0},{"$f":"(X560*X$8)/Setup!$C$10","v":0},0,0,null,0,0,0]
["2014-12-22","Week 25",{"$f":"(C561*C$8)/Setup!$C$10","v":0},{"$f":"(D561*D$8)/Setup!$C$10","v":0},{"$f":"(E561*E$8)/Setup!$C$10","v":0},{"$f":"(F561*F$8)/Setup!$C$10","v":0},{"$f":"(G561*G$8)/Setup!$C$10","v":0},{"$f":"(H561*H$8)/Setup!$C$10","v":0},{"$f":"(I561*I$8)/Setup!$C$10","v":0},{"$f":"(J561*J$8)/Setup!$C$10","v":0},{"$f":"(K561*K$8)/Setup!$C$10","v":0},{"$f":"(L561*L$8)/Setup!$C$10","v":0},{"$f":"(M561*M$8)/Setup!$C$10","v":0},{"$f":"(N561*N$8)/Setup!$C$10","v":0},{"$f":"(O561*O$8)/Setup!$C$10","v":0},{"$f":"(P561*P$8)/Setup!$C$10","v":0},{"$f":"(Q561*Q$8)/Setup!$C$10","v":0},{"$f":"(R561*R$8)/Setup!$C$10","v":0},{"$f":"(S561*S$8)/Setup!$C$10","v":0},{"$f":"(T561*T$8)/Setup!$C$10","v":0},{"$f":"(U561*U$8)/Setup!$C$10","v":0},{"$f":"(V561*V$8)/Setup!$C$10","v":0},{"$f":"(W561*W$8)/Setup!$C$10","v":0},{"$f":"(X561*X$8)/Setup!$C$10","v":0},0,0,null,0,0,0]
["2014-12-29","Week 26",{"$f":"(C562*C$8)/Setup!$C$10","v":0},{"$f":"(D562*D$8)/Setup!$C$10","v":0},{"$f":"(E562*E$8)/Setup!$C$10","v":0},{"$f":"(F562*F$8)/Setup!$C$10","v":0},{"$f":"(G562*G$8)/Setup!$C$10","v":0},{"$f":"(H562*H$8)/Setup!$C$10","v":0},{"$f":"(I562*I$8)/Setup!$C$10","v":0},{"$f":"(J562*J$8)/Setup!$C$10","v":0},{"$f":"(K562*K$8)/Setup!$C$10","v":0},{"$f":"(L562*L$8)/Setup!$C$10","v":0},{"$f":"(M562*M$8)/Setup!$C$10","v":0},{"$f":"(N562*N$8)/Setup!$C$10","v":0},{"$f":"(O562*O$8)/Setup!$C$10","v":0},{"$f":"(P562*P$8)/Setup!$C$10","v":0},{"$f":"(Q562*Q$8)/Setup!$C$10","v":0},{"$f":"(R562*R$8)/Setup!$C$10","v":0},{"$f":"(S562*S$8)/Setup!$C$10","v":0},{"$f":"(T562*T$8)/Setup!$C$10","v":0},{"$f":"(U562*U$8)/Setup!$C$10","v":0},{"$f":"(V562*V$8)/Setup!$C$10","v":0},{"$f":"(W562*W$8)/Setup!$C$10","v":0},{"$f":"(X562*X$8)/Setup!$C$10","v":0},0,0,null,0,0,0]
["2015-01-05","Week 27",{"$f":"(C563*C$8)/Setup!$C$10","v":0},{"$f":"(D563*D$8)/Setup!$C$10","v":0},{"$f":"(E563*E$8)/Setup!$C$10","v":0},{"$f":"(F563*F$8)/Setup!$C$10","v":0},{"$f":"(G563*G$8)/Setup!$C$10","v":0},{"$f":"(H563*H$8)/Setup!$C$10","v":0},{"$f":"(I563*I$8)/Setup!$C$10","v":0},{"$f":"(J563*J$8)/Setup!$C$10","v":0},{"$f":"(K563*K$8)/Setup!$C$10","v":0},{"$f":"(L563*L$8)/Setup!$C$10","v":0},{"$f":"(M563*M$8)/Setup!$C$10","v":0},{"$f":"(N563*N$8)/Setup!$C$10","v":0},{"$f":"(O563*O$8)/Setup!$C$10","v":0},{"$f":"(P563*P$8)/Setup!$C$10","v":0},{"$f":"(Q563*Q$8)/Setup!$C$10","v":0},{"$f":"(R563*R$8)/Setup!$C$10","v":0},{"$f":"(S563*S$8)/Setup!$C$10","v":0},{"$f":"(T563*T$8)/Setup!$C$10","v":0},{"$f":"(U563*U$8)/Setup!$C$10","v":0},{"$f":"(V563*V$8)/Setup!$C$10","v":0},{"$f":"(W563*W$8)/Setup!$C$10","v":0},{"$f":"(X563*X$8)/Setup!$C$10","v":0},0,0,null,0,0,0]
["2015-01-12","Week 28",{"$f":"(C564*C$8)/Setup!$C$10","v":0},{"$f":"(D564*D$8)/Setup!$C$10","v":0},{"$f":"(E564*E$8)/Setup!$C$10","v":0},{"$f":"(F564*F$8)/Setup!$C$10","v":0},{"$f":"(G564*G$8)/Setup!$C$10","v":0},{"$f":"(H564*H$8)/Setup!$C$10","v":0},{"$f":"(I564*I$8)/Setup!$C$10","v":0},{"$f":"(J564*J$8)/Setup!$C$10","v":0},{"$f":"(K564*K$8)/Setup!$C$10","v":0},{"$f":"(L564*L$8)/Setup!$C$10","v":0},{"$f":"(M564*M$8)/Setup!$C$10","v":0},{"$f":"(N564*N$8)/Setup!$C$10","v":0},{"$f":"(O564*O$8)/Setup!$C$10","v":0},{"$f":"(P564*P$8)/Setup!$C$10","v":0},{"$f":"(Q564*Q$8)/Setup!$C$10","v":0},{"$f":"(R564*R$8)/Setup!$C$10","v":0},{"$f":"(S564*S$8)/Setup!$C$10","v":0},{"$f":"(T564*T$8)/Setup!$C$10","v":0},{"$f":"(U564*U$8)/Setup!$C$10","v":0},{"$f":"(V564*V$8)/Setup!$C$10","v":0},{"$f":"(W564*W$8)/Setup!$C$10","v":0},{"$f":"(X564*X$8)/Setup!$C$10","v":0},0,0,null,0,0,0]
["2015-01-19","Week 29",{"$f":"(C565*C$8)/Setup!$C$10","v":0},{"$f":"(D565*D$8)/Setup!$C$10","v":0},{"$f":"(E565*E$8)/Setup!$C$10","v":0},{"$f":"(F565*F$8)/Setup!$C$10","v":0},{"$f":"(G565*G$8)/Setup!$C$10","v":0},{"$f":"(H565*H$8)/Setup!$C$10","v":0},{"$f":"(I565*I$8)/Setup!$C$10","v":0},{"$f":"(J565*J$8)/Setup!$C$10","v":0},{"$f":"(K565*K$8)/Setup!$C$10","v":0},{"$f":"(L565*L$8)/Setup!$C$10","v":0},{"$f":"(M565*M$8)/Setup!$C$10","v":0},{"$f":"(N565*N$8)/Setup!$C$10","v":0},{"$f":"(O565*O$8)/Setup!$C$10","v":0},{"$f":"(P565*P$8)/Setup!$C$10","v":0},{"$f":"(Q565*Q$8)/Setup!$C$10","v":0},{"$f":"(R565*R$8)/Setup!$C$10","v":0},{"$f":"(S565*S$8)/Setup!$C$10","v":0},{"$f":"(T565*T$8)/Setup!$C$10","v":0},{"$f":"(U565*U$8)/Setup!$C$10","v":0},{"$f":"(V565*V$8)/Setup!$C$10","v":0},{"$f":"(W565*W$8)/Setup!$C$10","v":0},{"$f":"(X565*X$8)/Setup!$C$10","v":0},0,0,null,0,0,0]
["2015-01-26","Week 30",{"$f":"(C566*C$8)/Setup!$C$10","v":0},{"$f":"(D566*D$8)/Setup!$C$10","v":0},{"$f":"(E566*E$8)/Setup!$C$10","v":0},{"$f":"(F566*F$8)/Setup!$C$10","v":0},{"$f":"(G566*G$8)/Setup!$C$10","v":0},{"$f":"(H566*H$8)/Setup!$C$10","v":0},{"$f":"(I566*I$8)/Setup!$C$10","v":0},{"$f":"(J566*J$8)/Setup!$C$10","v":0},{"$f":"(K566*K$8)/Setup!$C$10","v":0},{"$f":"(L566*L$8)/Setup!$C$10","v":0},{"$f":"(M566*M$8)/Setup!$C$10","v":0},{"$f":"(N566*N$8)/Setup!$C$10","v":0},{"$f":"(O566*O$8)/Setup!$C$10","v":0},{"$f":"(P566*P$8)/Setup!$C$10","v":0},{"$f":"(Q566*Q$8)/Setup!$C$10","v":0},{"$f":"(R566*R$8)/Setup!$C$10","v":0},{"$f":"(S566*S$8)/Setup!$C$10","v":0},{"$f":"(T566*T$8)/Setup!$C$10","v":0},{"$f":"(U566*U$8)/Setup!$C$10","v":0},{"$f":"(V566*V$8)/Setup!$C$10","v":0},{"$f":"(W566*W$8)/Setup!$C$10","v":0},{"$f":"(X566*X$8)/Setup!$C$10","v":0},{"$f":"SUM(C163:X163)","v":0},0,null,0,0,0]
["2015-02-02","Week 31",{"$f":"(C567*C$8)/Setup!$C$10","v":0},{"$f":"(D567*D$8)/Setup!$C$10","v":0},{"$f":"(E567*E$8)/Setup!$C$10","v":0},{"$f":"(F567*F$8)/Setup!$C$10","v":0},{"$f":"(G567*G$8)/Setup!$C$10","v":0},{"$f":"(H567*H$8)/Setup!$C$10","v":0},{"$f":"(I567*I$8)/Setup!$C$10","v":0},{"$f":"(J567*J$8)/Setup!$C$10","v":0},{"$f":"(K567*K$8)/Setup!$C$10","v":0},{"$f":"(L567*L$8)/Setup!$C$10","v":0},{"$f":"(M567*M$8)/Setup!$C$10","v":0},{"$f":"(N567*N$8)/Setup!$C$10","v":0},{"$f":"(O567*O$8)/Setup!$C$10","v":0},{"$f":"(P567*P$8)/Setup!$C$10","v":0},{"$f":"(Q567*Q$8)/Setup!$C$10","v":0},{"$f":"(R567*R$8)/Setup!$C$10","v":0},{"$f":"(S567*S$8)/Setup!$C$10","v":0},{"$f":"(T567*T$8)/Setup!$C$10","v":0},{"$f":"(U567*U$8)/Setup!$C$10","v":0},{"$f":"(V567*V$8)/Setup!$C$10","v":0},{"$f":"(W567*W$8)/Setup!$C$10","v":0},{"$f":"(X567*X$8)/Setup!$C$10","v":0},{"$f":"SUM(C164:X164)","v":0},0,null,0,0,0]
["2015-02-09","Week 32",{"$f":"(C568*C$8)/Setup!$C$10","v":0},{"$f":"(D568*D$8)/Setup!$C$10","v":0},{"$f":"(E568*E$8)/Setup!$C$10","v":0},{"$f":"(F568*F$8)/Setup!$C$10","v":0},{"$f":"(G568*G$8)/Setup!$C$10","v":0},{"$f":"(H568*H$8)/Setup!$C$10","v":0},{"$f":"(I568*I$8)/Setup!$C$10","v":0},{"$f":"(J568*J$8)/Setup!$C$10","v":0},{"$f":"(K568*K$8)/Setup!$C$10","v":0},{"$f":"(L568*L$8)/Setup!$C$10","v":0},{"$f":"(M568*M$8)/Setup!$C$10","v":0},{"$f":"(N568*N$8)/Setup!$C$10","v":0},{"$f":"(O568*O$8)/Setup!$C$10","v":0},{"$f":"(P568*P$8)/Setup!$C$10","v":0},{"$f":"(Q568*Q$8)/Setup!$C$10","v":0},{"$f":"(R568*R$8)/Setup!$C$10","v":0},{"$f":"(S568*S$8)/Setup!$C$10","v":0},{"$f":"(T568*T$8)/Setup!$C$10","v":0},{"$f":"(U568*U$8)/Setup!$C$10","v":0},{"$f":"(V568*V$8)/Setup!$C$10","v":0},{"$f":"(W568*W$8)/Setup!$C$10","v":0},{"$f":"(X568*X$8)/Setup!$C$10","v":0},0,0,null,0,0,0]
["2015-02-16","Week 33",{"$f":"(C569*C$8)/Setup!$C$10","v":0},{"$f":"(D569*D$8)/Setup!$C$10","v":0},{"$f":"(E569*E$8)/Setup!$C$10","v":0},{"$f":"(F569*F$8)/Setup!$C$10","v":0},{"$f":"(G569*G$8)/Setup!$C$10","v":0},{"$f":"(H569*H$8)/Setup!$C$10","v":0},{"$f":"(I569*I$8)/Setup!$C$10","v":0},{"$f":"(J569*J$8)/Setup!$C$10","v":0},{"$f":"(K569*K$8)/Setup!$C$10","v":0},{"$f":"(L569*L$8)/Setup!$C$10","v":0},{"$f":"(M569*M$8)/Setup!$C$10","v":0},{"$f":"(N569*N$8)/Setup!$C$10","v":0},{"$f":"(O569*O$8)/Setup!$C$10","v":0},{"$f":"(P569*P$8)/Setup!$C$10","v":0},{"$f":"(Q569*Q$8)/Setup!$C$10","v":0},{"$f":"(R569*R$8)/Setup!$C$10","v":0},{"$f":"(S569*S$8)/Setup!$C$10","v":0},{"$f":"(T569*T$8)/Setup!$C$10","v":0},{"$f":"(U569*U$8)/Setup!$C$10","v":0},{"$f":"(V569*V$8)/Setup!$C$10","v":0},{"$f":"(W569*W$8)/Setup!$C$10","v":0},{"$f":"(X569*X$8)/Setup!$C$10","v":0},0,0,null,0,0,0]
["2015-02-23","Week 34",{"$f":"(C570*C$8)/Setup!$C$10","v":0},{"$f":"(D570*D$8)/Setup!$C$10","v":0},{"$f":"(E570*E$8)/Setup!$C$10","v":0},{"$f":"(F570*F$8)/Setup!$C$10","v":0},{"$f":"(G570*G$8)/Setup!$C$10","v":0},{"$f":"(H570*H$8)/Setup!$C$10","v":0},{"$f":"(I570*I$8)/Setup!$C$10","v":0},{"$f":"(J570*J$8)/Setup!$C$10","v":0},{"$f":"(K570*K$8)/Setup!$C$10","v":0},{"$f":"(L570*L$8)/Setup!$C$10","v":0},{"$f":"(M570*M$8)/Setup!$C$10","v":0},{"$f":"(N570*N$8)/Setup!$C$10","v":0},{"$f":"(O570*O$8)/Setup!$C$10","v":0},{"$f":"(P570*P$8)/Setup!$C$10","v":0},{"$f":"(Q570*Q$8)/Setup!$C$10","v":0},{"$f":"(R570*R$8)/Setup!$C$10","v":0},{"$f":"(S570*S$8)/Setup!$C$10","v":0},{"$f":"(T570*T$8)/Setup!$C$10","v":0},{"$f":"(U570*U$8)/Setup!$C$10","v":0},{"$f":"(V570*V$8)/Setup!$C$10","v":0},{"$f":"(W570*W$8)/Setup!$C$10","v":0},{"$f":"(X570*X$8)/Setup!$C$10","v":0},0,0,null,0,0,0]
["2015-03-02","Week 35",{"$f":"(C571*C$8)/Setup!$C$10","v":0},{"$f":"(D571*D$8)/Setup!$C$10","v":0},{"$f":"(E571*E$8)/Setup!$C$10","v":0},{"$f":"(F571*F$8)/Setup!$C$10","v":0},{"$f":"(G571*G$8)/Setup!$C$10","v":0},{"$f":"(H571*H$8)/Setup!$C$10","v":0},{"$f":"(I571*I$8)/Setup!$C$10","v":0},{"$f":"(J571*J$8)/Setup!$C$10","v":0},{"$f":"(K571*K$8)/Setup!$C$10","v":0},{"$f":"(L571*L$8)/Setup!$C$10","v":0},{"$f":"(M571*M$8)/Setup!$C$10","v":0},{"$f":"(N571*N$8)/Setup!$C$10","v":0},{"$f":"(O571*O$8)/Setup!$C$10","v":0},{"$f":"(P571*P$8)/Setup!$C$10","v":0},{"$f":"(Q571*Q$8)/Setup!$C$10","v":0},{"$f":"(R571*R$8)/Setup!$C$10","v":0},{"$f":"(S571*S$8)/Setup!$C$10","v":0},{"$f":"(T571*T$8)/Setup!$C$10","v":0},{"$f":"(U571*U$8)/Setup!$C$10","v":0},{"$f":"(V571*V$8)/Setup!$C$10","v":0},{"$f":"(W571*W$8)/Setup!$C$10","v":0},{"$f":"(X571*X$8)/Setup!$C$10","v":0},0,0,null,0,0,0]
["2015-03-09","Week 36",{"$f":"(C572*C$8)/Setup!$C$10","v":0},{"$f":"(D572*D$8)/Setup!$C$10","v":0},{"$f":"(E572*E$8)/Setup!$C$10","v":0},{"$f":"(F572*F$8)/Setup!$C$10","v":0},{"$f":"(G572*G$8)/Setup!$C$10","v":0},{"$f":"(H572*H$8)/Setup!$C$10","v":0},{"$f":"(I572*I$8)/Setup!$C$10","v":0},{"$f":"(J572*J$8)/Setup!$C$10","v":0},{"$f":"(K572*K$8)/Setup!$C$10","v":0},{"$f":"(L572*L$8)/Setup!$C$10","v":0},{"$f":"(M572*M$8)/Setup!$C$10","v":0},{"$f":"(N572*N$8)/Setup!$C$10","v":0},{"$f":"(O572*O$8)/Setup!$C$10","v":0},{"$f":"(P572*P$8)/Setup!$C$10","v":0},{"$f":"(Q572*Q$8)/Setup!$C$10","v":0},{"$f":"(R572*R$8)/Setup!$C$10","v":0},{"$f":"(S572*S$8)/Setup!$C$10","v":0},{"$f":"(T572*T$8)/Setup!$C$10","v":0},{"$f":"(U572*U$8)/Setup!$C$10","v":0},{"$f":"(V572*V$8)/Setup!$C$10","v":0},{"$f":"(W572*W$8)/Setup!$C$10","v":0},{"$f":"(X572*X$8)/Setup!$C$10","v":0},0,0,null,0,0,0]
["2015-03-16","Week 37",{"$f":"(C573*C$8)/Setup!$C$10","v":0},{"$f":"(D573*D$8)/Setup!$C$10","v":0},{"$f":"(E573*E$8)/Setup!$C$10","v":0},{"$f":"(F573*F$8)/Setup!$C$10","v":0},{"$f":"(G573*G$8)/Setup!$C$10","v":0},{"$f":"(H573*H$8)/Setup!$C$10","v":0},{"$f":"(I573*I$8)/Setup!$C$10","v":0},{"$f":"(J573*J$8)/Setup!$C$10","v":0},{"$f":"(K573*K$8)/Setup!$C$10","v":0},{"$f":"(L573*L$8)/Setup!$C$10","v":0},{"$f":"(M573*M$8)/Setup!$C$10","v":0},{"$f":"(N573*N$8)/Setup!$C$10","v":0},{"$f":"(O573*O$8)/Setup!$C$10","v":0},{"$f":"(P573*P$8)/Setup!$C$10","v":0},{"$f":"(Q573*Q$8)/Setup!$C$10","v":0},{"$f":"(R573*R$8)/Setup!$C$10","v":0},{"$f":"(S573*S$8)/Setup!$C$10","v":0},{"$f":"(T573*T$8)/Setup!$C$10","v":0},{"$f":"(U573*U$8)/Setup!$C$10","v":0},{"$f":"(V573*V$8)/Setup!$C$10","v":0},{"$f":"(W573*W$8)/Setup!$C$10","v":0},{"$f":"(X573*X$8)/Setup!$C$10","v":0},0,0,null,0,0,0]
["2015-03-23","Week 38",{"$f":"(C574*C$8)/Setup!$C$10","v":0},{"$f":"(D574*D$8)/Setup!$C$10","v":0},{"$f":"(E574*E$8)/Setup!$C$10","v":0},{"$f":"(F574*F$8)/Setup!$C$10","v":0},{"$f":"(G574*G$8)/Setup!$C$10","v":0},{"$f":"(H574*H$8)/Setup!$C$10","v":0},{"$f":"(I574*I$8)/Setup!$C$10","v":0},{"$f":"(J574*J$8)/Setup!$C$10","v":0},{"$f":"(K574*K$8)/Setup!$C$10","v":0},{"$f":"(L574*L$8)/Setup!$C$10","v":0},{"$f":"(M574*M$8)/Setup!$C$10","v":0},{"$f":"(N574*N$8)/Setup!$C$10","v":0},{"$f":"(O574*O$8)/Setup!$C$10","v":0},{"$f":"(P574*P$8)/Setup!$C$10","v":0},{"$f":"(Q574*Q$8)/Setup!$C$10","v":0},{"$f":"(R574*R$8)/Setup!$C$10","v":0},{"$f":"(S574*S$8)/Setup!$C$10","v":0},{"$f":"(T574*T$8)/Setup!$C$10","v":0},{"$f":"(U574*U$8)/Setup!$C$10","v":0},{"$f":"(V574*V$8)/Setup!$C$10","v":0},{"$f":"(W574*W$8)/Setup!$C$10","v":0},{"$f":"(X574*X$8)/Setup!$C$10","v":0},0,0,null,0,0,0]
["2015-03-30","Week 39",{"$f":"(C575*C$8)/Setup!$C$10","v":0},{"$f":"(D575*D$8)/Setup!$C$10","v":0},{"$f":"(E575*E$8)/Setup!$C$10","v":0},{"$f":"(F575*F$8)/Setup!$C$10","v":0},{"$f":"(G575*G$8)/Setup!$C$10","v":0},{"$f":"(H575*H$8)/Setup!$C$10","v":0},{"$f":"(I575*I$8)/Setup!$C$10","v":0},{"$f":"(J575*J$8)/Setup!$C$10","v":0},{"$f":"(K575*K$8)/Setup!$C$10","v":0},{"$f":"(L575*L$8)/Setup!$C$10","v":0},{"$f":"(M575*M$8)/Setup!$C$10","v":0},{"$f":"(N575*N$8)/Setup!$C$10","v":0},{"$f":"(O575*O$8)/Setup!$C$10","v":0},{"$f":"(P575*P$8)/Setup!$C$10","v":0},{"$f":"(Q575*Q$8)/Setup!$C$10","v":0},{"$f":"(R575*R$8)/Setup!$C$10","v":0},{"$f":"(S575*S$8)/Setup!$C$10","v":0},{"$f":"(T575*T$8)/Setup!$C$10","v":0},{"$f":"(U575*U$8)/Setup!$C$10","v":0},{"$f":"(V575*V$8)/Setup!$C$10","v":0},{"$f":"(W575*W$8)/Setup!$C$10","v":0},{"$f":"(X575*X$8)/Setup!$C$10","v":0},0,0,null,0,0,0]
["2015-04-06","Week 40",{"$f":"(C576*C$8)/Setup!$C$10","v":0},{"$f":"(D576*D$8)/Setup!$C$10","v":0},{"$f":"(E576*E$8)/Setup!$C$10","v":0},{"$f":"(F576*F$8)/Setup!$C$10","v":0},{"$f":"(G576*G$8)/Setup!$C$10","v":0},{"$f":"(H576*H$8)/Setup!$C$10","v":0},{"$f":"(I576*I$8)/Setup!$C$10","v":0},{"$f":"(J576*J$8)/Setup!$C$10","v":0},{"$f":"(K576*K$8)/Setup!$C$10","v":0},{"$f":"(L576*L$8)/Setup!$C$10","v":0},{"$f":"(M576*M$8)/Setup!$C$10","v":0},{"$f":"(N576*N$8)/Setup!$C$10","v":0},{"$f":"(O576*O$8)/Setup!$C$10","v":0},{"$f":"(P576*P$8)/Setup!$C$10","v":0},{"$f":"(Q576*Q$8)/Setup!$C$10","v":0},{"$f":"(R576*R$8)/Setup!$C$10","v":0},{"$f":"(S576*S$8)/Setup!$C$10","v":0},{"$f":"(T576*T$8)/Setup!$C$10","v":0},{"$f":"(U576*U$8)/Setup!$C$10","v":0},{"$f":"(V576*V$8)/Setup!$C$10","v":0},{"$f":"(W576*W$8)/Setup!$C$10","v":0},{"$f":"(X576*X$8)/Setup!$C$10","v":0},0,0,null,0,0,0]
[{"$f":"A461","v":"2015-04-13"},"Week 41",{"$f":"(C577*C$8)/Setup!$C$10","v":0},{"$f":"(D577*D$8)/Setup!$C$10","v":0},{"$f":"(E577*E$8)/Setup!$C$10","v":0},{"$f":"(F577*F$8)/Setup!$C$10","v":0},{"$f":"(G577*G$8)/Setup!$C$10","v":0},{"$f":"(H577*H$8)/Setup!$C$10","v":0},{"$f":"(I577*I$8)/Setup!$C$10","v":0},{"$f":"(J577*J$8)/Setup!$C$10","v":0},{"$f":"(K577*K$8)/Setup!$C$10","v":0},{"$f":"(L577*L$8)/Setup!$C$10","v":0},{"$f":"(M577*M$8)/Setup!$C$10","v":0},{"$f":"(N577*N$8)/Setup!$C$10","v":0},{"$f":"(O577*O$8)/Setup!$C$10","v":0},{"$f":"(P577*P$8)/Setup!$C$10","v":0},{"$f":"(Q577*Q$8)/Setup!$C$10","v":0},{"$f":"(R577*R$8)/Setup!$C$10","v":0},{"$f":"(S577*S$8)/Setup!$C$10","v":0},{"$f":"(T577*T$8)/Setup!$C$10","v":0},{"$f":"(U577*U$8)/Setup!$C$10","v":0},{"$f":"(V577*V$8)/Setup!$C$10","v":0},{"$f":"(W577*W$8)/Setup!$C$10","v":0},{"$f":"(X577*X$8)/Setup!$C$10","v":0},0,0,null,0,0,0]
["2015-04-20","Week 42",{"$f":"(C578*C$8)/Setup!$C$10","v":0},{"$f":"(D578*D$8)/Setup!$C$10","v":0},{"$f":"(E578*E$8)/Setup!$C$10","v":0},{"$f":"(F578*F$8)/Setup!$C$10","v":0},{"$f":"(G578*G$8)/Setup!$C$10","v":0},{"$f":"(H578*H$8)/Setup!$C$10","v":0},{"$f":"(I578*I$8)/Setup!$C$10","v":0},{"$f":"(J578*J$8)/Setup!$C$10","v":0},{"$f":"(K578*K$8)/Setup!$C$10","v":0},{"$f":"(L578*L$8)/Setup!$C$10","v":0},{"$f":"(M578*M$8)/Setup!$C$10","v":0},{"$f":"(N578*N$8)/Setup!$C$10","v":0},{"$f":"(O578*O$8)/Setup!$C$10","v":0},{"$f":"(P578*P$8)/Setup!$C$10","v":0},{"$f":"(Q578*Q$8)/Setup!$C$10","v":0},{"$f":"(R578*R$8)/Setup!$C$10","v":0},{"$f":"(S578*S$8)/Setup!$C$10","v":0},{"$f":"(T578*T$8)/Setup!$C$10","v":0},{"$f":"(U578*U$8)/Setup!$C$10","v":0},{"$f":"(V578*V$8)/Setup!$C$10","v":0},{"$f":"(W578*W$8)/Setup!$C$10","v":0},{"$f":"(X578*X$8)/Setup!$C$10","v":0},0,0,null,0,0,0]
["2015-04-27","Week 43",{"$f":"(C579*C$8)/Setup!$C$10","v":0},{"$f":"(D579*D$8)/Setup!$C$10","v":0},{"$f":"(E579*E$8)/Setup!$C$10","v":0},{"$f":"(F579*F$8)/Setup!$C$10","v":0},{"$f":"(G579*G$8)/Setup!$C$10","v":0},{"$f":"(H579*H$8)/Setup!$C$10","v":0},{"$f":"(I579*I$8)/Setup!$C$10","v":0},{"$f":"(J579*J$8)/Setup!$C$10","v":0},{"$f":"(K579*K$8)/Setup!$C$10","v":0},{"$f":"(L579*L$8)/Setup!$C$10","v":0},{"$f":"(M579*M$8)/Setup!$C$10","v":0},{"$f":"(N579*N$8)/Setup!$C$10","v":0},{"$f":"(O579*O$8)/Setup!$C$10","v":0},{"$f":"(P579*P$8)/Setup!$C$10","v":0},{"$f":"(Q579*Q$8)/Setup!$C$10","v":0},{"$f":"(R579*R$8)/Setup!$C$10","v":0},{"$f":"(S579*S$8)/Setup!$C$10","v":0},{"$f":"(T579*T$8)/Setup!$C$10","v":0},{"$f":"(U579*U$8)/Setup!$C$10","v":0},{"$f":"(V579*V$8)/Setup!$C$10","v":0},{"$f":"(W579*W$8)/Setup!$C$10","v":0},{"$f":"(X579*X$8)/Setup!$C$10","v":0},0,0,null,0,0,0]
["2015-05-04","Week 44",{"$f":"(C580*C$8)/Setup!$C$10","v":0},{"$f":"(D580*D$8)/Setup!$C$10","v":0},{"$f":"(E580*E$8)/Setup!$C$10","v":0},{"$f":"(F580*F$8)/Setup!$C$10","v":0},{"$f":"(G580*G$8)/Setup!$C$10","v":0},{"$f":"(H580*H$8)/Setup!$C$10","v":0},{"$f":"(I580*I$8)/Setup!$C$10","v":0},{"$f":"(J580*J$8)/Setup!$C$10","v":0},{"$f":"(K580*K$8)/Setup!$C$10","v":0},{"$f":"(L580*L$8)/Setup!$C$10","v":0},{"$f":"(M580*M$8)/Setup!$C$10","v":0},{"$f":"(N580*N$8)/Setup!$C$10","v":0},{"$f":"(O580*O$8)/Setup!$C$10","v":0},{"$f":"(P580*P$8)/Setup!$C$10","v":0},{"$f":"(Q580*Q$8)/Setup!$C$10","v":0},{"$f":"(R580*R$8)/Setup!$C$10","v":0},{"$f":"(S580*S$8)/Setup!$C$10","v":0},{"$f":"(T580*T$8)/Setup!$C$10","v":0},{"$f":"(U580*U$8)/Setup!$C$10","v":0},{"$f":"(V580*V$8)/Setup!$C$10","v":0},{"$f":"(W580*W$8)/Setup!$C$10","v":0},{"$f":"(X580*X$8)/Setup!$C$10","v":0},0,0,null,0,0,0]
["2015-05-11","Week 45",{"$f":"(C581*C$8)/Setup!$C$10","v":0},{"$f":"(D581*D$8)/Setup!$C$10","v":0},{"$f":"(E581*E$8)/Setup!$C$10","v":0},{"$f":"(F581*F$8)/Setup!$C$10","v":0},{"$f":"(G581*G$8)/Setup!$C$10","v":0},{"$f":"(H581*H$8)/Setup!$C$10","v":0},{"$f":"(I581*I$8)/Setup!$C$10","v":0},{"$f":"(J581*J$8)/Setup!$C$10","v":0},{"$f":"(K581*K$8)/Setup!$C$10","v":0},{"$f":"(L581*L$8)/Setup!$C$10","v":0},{"$f":"(M581*M$8)/Setup!$C$10","v":0},{"$f":"(N581*N$8)/Setup!$C$10","v":0},{"$f":"(O581*O$8)/Setup!$C$10","v":0},{"$f":"(P581*P$8)/Setup!$C$10","v":0},{"$f":"(Q581*Q$8)/Setup!$C$10","v":0},{"$f":"(R581*R$8)/Setup!$C$10","v":0},{"$f":"(S581*S$8)/Setup!$C$10","v":0},{"$f":"(T581*T$8)/Setup!$C$10","v":0},{"$f":"(U581*U$8)/Setup!$C$10","v":0},{"$f":"(V581*V$8)/Setup!$C$10","v":0},{"$f":"(W581*W$8)/Setup!$C$10","v":0},{"$f":"(X581*X$8)/Setup!$C$10","v":0},0,0,null,0,0,0]
["2015-05-18","Week 46",{"$f":"(C582*C$8)/Setup!$C$10","v":0},{"$f":"(D582*D$8)/Setup!$C$10","v":0},{"$f":"(E582*E$8)/Setup!$C$10","v":0},{"$f":"(F582*F$8)/Setup!$C$10","v":0},{"$f":"(G582*G$8)/Setup!$C$10","v":0},{"$f":"(H582*H$8)/Setup!$C$10","v":0},{"$f":"(I582*I$8)/Setup!$C$10","v":0},{"$f":"(J582*J$8)/Setup!$C$10","v":0},{"$f":"(K582*K$8)/Setup!$C$10","v":0},{"$f":"(L582*L$8)/Setup!$C$10","v":0},{"$f":"(M582*M$8)/Setup!$C$10","v":0},{"$f":"(N582*N$8)/Setup!$C$10","v":0},{"$f":"(O582*O$8)/Setup!$C$10","v":0},{"$f":"(P582*P$8)/Setup!$C$10","v":0},{"$f":"(Q582*Q$8)/Setup!$C$10","v":0},{"$f":"(R582*R$8)/Setup!$C$10","v":0},{"$f":"(S582*S$8)/Setup!$C$10","v":0},{"$f":"(T582*T$8)/Setup!$C$10","v":0},{"$f":"(U582*U$8)/Setup!$C$10","v":0},{"$f":"(V582*V$8)/Setup!$C$10","v":0},{"$f":"(W582*W$8)/Setup!$C$10","v":0},{"$f":"(X582*X$8)/Setup!$C$10","v":0},0,0,null,0,0,0]
["2015-05-25","Week 47",{"$f":"(C583*C$8)/Setup!$C$10","v":0},{"$f":"(D583*D$8)/Setup!$C$10","v":0},{"$f":"(E583*E$8)/Setup!$C$10","v":0},{"$f":"(F583*F$8)/Setup!$C$10","v":0},{"$f":"(G583*G$8)/Setup!$C$10","v":0},{"$f":"(H583*H$8)/Setup!$C$10","v":0},{"$f":"(I583*I$8)/Setup!$C$10","v":0},{"$f":"(J583*J$8)/Setup!$C$10","v":0},{"$f":"(K583*K$8)/Setup!$C$10","v":0},{"$f":"(L583*L$8)/Setup!$C$10","v":0},{"$f":"(M583*M$8)/Setup!$C$10","v":0},{"$f":"(N583*N$8)/Setup!$C$10","v":0},{"$f":"(O583*O$8)/Setup!$C$10","v":0},{"$f":"(P583*P$8)/Setup!$C$10","v":0},{"$f":"(Q583*Q$8)/Setup!$C$10","v":0},{"$f":"(R583*R$8)/Setup!$C$10","v":0},{"$f":"(S583*S$8)/Setup!$C$10","v":0},{"$f":"(T583*T$8)/Setup!$C$10","v":0},{"$f":"(U583*U$8)/Setup!$C$10","v":0},{"$f":"(V583*V$8)/Setup!$C$10","v":0},{"$f":"(W583*W$8)/Setup!$C$10","v":0},{"$f":"(X583*X$8)/Setup!$C$10","v":0},0,0,null,0,0,0]
["2015-06-01","Week 48",{"$f":"(C584*C$8)/Setup!$C$10","v":0},{"$f":"(D584*D$8)/Setup!$C$10","v":0},{"$f":"(E584*E$8)/Setup!$C$10","v":0},{"$f":"(F584*F$8)/Setup!$C$10","v":0},{"$f":"(G584*G$8)/Setup!$C$10","v":0},{"$f":"(H584*H$8)/Setup!$C$10","v":0},{"$f":"(I584*I$8)/Setup!$C$10","v":0},{"$f":"(J584*J$8)/Setup!$C$10","v":0},{"$f":"(K584*K$8)/Setup!$C$10","v":0},{"$f":"(L584*L$8)/Setup!$C$10","v":0},{"$f":"(M584*M$8)/Setup!$C$10","v":0},{"$f":"(N584*N$8)/Setup!$C$10","v":0},{"$f":"(O584*O$8)/Setup!$C$10","v":0},{"$f":"(P584*P$8)/Setup!$C$10","v":0},{"$f":"(Q584*Q$8)/Setup!$C$10","v":0},{"$f":"(R584*R$8)/Setup!$C$10","v":0},{"$f":"(S584*S$8)/Setup!$C$10","v":0},{"$f":"(T584*T$8)/Setup!$C$10","v":0},{"$f":"(U584*U$8)/Setup!$C$10","v":0},{"$f":"(V584*V$8)/Setup!$C$10","v":0},{"$f":"(W584*W$8)/Setup!$C$10","v":0},{"$f":"(X584*X$8)/Setup!$C$10","v":0},0,0,null,0,0,0]
["2015-06-08","Week 49",{"$f":"(C585*C$8)/Setup!$C$10","v":0},{"$f":"(D585*D$8)/Setup!$C$10","v":0},{"$f":"(E585*E$8)/Setup!$C$10","v":0},{"$f":"(F585*F$8)/Setup!$C$10","v":0},{"$f":"(G585*G$8)/Setup!$C$10","v":0},{"$f":"(H585*H$8)/Setup!$C$10","v":0},{"$f":"(I585*I$8)/Setup!$C$10","v":0},{"$f":"(J585*J$8)/Setup!$C$10","v":0},{"$f":"(K585*K$8)/Setup!$C$10","v":0},{"$f":"(L585*L$8)/Setup!$C$10","v":0},{"$f":"(M585*M$8)/Setup!$C$10","v":0},{"$f":"(N585*N$8)/Setup!$C$10","v":0},{"$f":"(O585*O$8)/Setup!$C$10","v":0},{"$f":"(P585*P$8)/Setup!$C$10","v":0},{"$f":"(Q585*Q$8)/Setup!$C$10","v":0},{"$f":"(R585*R$8)/Setup!$C$10","v":0},{"$f":"(S585*S$8)/Setup!$C$10","v":0},{"$f":"(T585*T$8)/Setup!$C$10","v":0},{"$f":"(U585*U$8)/Setup!$C$10","v":0},{"$f":"(V585*V$8)/Setup!$C$10","v":0},{"$f":"(W585*W$8)/Setup!$C$10","v":0},{"$f":"(X585*X$8)/Setup!$C$10","v":0},0,0,null,0,0,0]
["2015-06-15","Week 50",{"$f":"(C586*C$8)/Setup!$C$10","v":0},{"$f":"(D586*D$8)/Setup!$C$10","v":0},{"$f":"(E586*E$8)/Setup!$C$10","v":0},{"$f":"(F586*F$8)/Setup!$C$10","v":0},{"$f":"(G586*G$8)/Setup!$C$10","v":0},{"$f":"(H586*H$8)/Setup!$C$10","v":0},{"$f":"(I586*I$8)/Setup!$C$10","v":0},{"$f":"(J586*J$8)/Setup!$C$10","v":0},{"$f":"(K586*K$8)/Setup!$C$10","v":0},{"$f":"(L586*L$8)/Setup!$C$10","v":0},{"$f":"(M586*M$8)/Setup!$C$10","v":0},{"$f":"(N586*N$8)/Setup!$C$10","v":0},{"$f":"(O586*O$8)/Setup!$C$10","v":0},{"$f":"(P586*P$8)/Setup!$C$10","v":0},{"$f":"(Q586*Q$8)/Setup!$C$10","v":0},{"$f":"(R586*R$8)/Setup!$C$10","v":0},{"$f":"(S586*S$8)/Setup!$C$10","v":0},{"$f":"(T586*T$8)/Setup!$C$10","v":0},{"$f":"(U586*U$8)/Setup!$C$10","v":0},{"$f":"(V586*V$8)/Setup!$C$10","v":0},{"$f":"(W586*W$8)/Setup!$C$10","v":0},{"$f":"(X586*X$8)/Setup!$C$10","v":0},0,0,null,0,0,0]
["2015-06-22","Week 51",{"$f":"(C587*C$8)/Setup!$C$10","v":0},{"$f":"(D587*D$8)/Setup!$C$10","v":0},{"$f":"(E587*E$8)/Setup!$C$10","v":0},{"$f":"(F587*F$8)/Setup!$C$10","v":0},{"$f":"(G587*G$8)/Setup!$C$10","v":0},{"$f":"(H587*H$8)/Setup!$C$10","v":0},{"$f":"(I587*I$8)/Setup!$C$10","v":0},{"$f":"(J587*J$8)/Setup!$C$10","v":0},{"$f":"(K587*K$8)/Setup!$C$10","v":0},{"$f":"(L587*L$8)/Setup!$C$10","v":0},{"$f":"(M587*M$8)/Setup!$C$10","v":0},{"$f":"(N587*N$8)/Setup!$C$10","v":0},{"$f":"(O587*O$8)/Setup!$C$10","v":0},{"$f":"(P587*P$8)/Setup!$C$10","v":0},{"$f":"(Q587*Q$8)/Setup!$C$10","v":0},{"$f":"(R587*R$8)/Setup!$C$10","v":0},{"$f":"(S587*S$8)/Setup!$C$10","v":0},{"$f":"(T587*T$8)/Setup!$C$10","v":0},{"$f":"(U587*U$8)/Setup!$C$10","v":0},{"$f":"(V587*V$8)/Setup!$C$10","v":0},{"$f":"(W587*W$8)/Setup!$C$10","v":0},{"$f":"(X587*X$8)/Setup!$C$10","v":0},0,0,null,0,0,0]
["2015-06-29","Week 52",{"$f":"(C588*C$8)/Setup!$C$10","v":0},{"$f":"(D588*D$8)/Setup!$C$10","v":0},{"$f":"(E588*E$8)/Setup!$C$10","v":0},{"$f":"(F588*F$8)/Setup!$C$10","v":0},{"$f":"(G588*G$8)/Setup!$C$10","v":0},{"$f":"(H588*H$8)/Setup!$C$10","v":0},{"$f":"(I588*I$8)/Setup!$C$10","v":0},{"$f":"(J588*J$8)/Setup!$C$10","v":0},{"$f":"(K588*K$8)/Setup!$C$10","v":0},{"$f":"(L588*L$8)/Setup!$C$10","v":0},{"$f":"(M588*M$8)/Setup!$C$10","v":0},{"$f":"(N588*N$8)/Setup!$C$10","v":0},{"$f":"(O588*O$8)/Setup!$C$10","v":0},{"$f":"(P588*P$8)/Setup!$C$10","v":0},{"$f":"(Q588*Q$8)/Setup!$C$10","v":0},{"$f":"(R588*R$8)/Setup!$C$10","v":0},{"$f":"(S588*S$8)/Setup!$C$10","v":0},{"$f":"(T588*T$8)/Setup!$C$10","v":0},{"$f":"(U588*U$8)/Setup!$C$10","v":0},{"$f":"(V588*V$8)/Setup!$C$10","v":0},{"$f":"(W588*W$8)/Setup!$C$10","v":0},{"$f":"(X588*X$8)/Setup!$C$10","v":0},0,0,null,0,0,0]
[null,null,null,null,null,null,null,null,null,null,null,null,null,null,null,null,null,null,null,null,null,null,null,null,null,null,null,{"$f":"SUM(AB134:AB185)","v":50.04999999999999},{"$f":"SUM(AC134:AC185)","v":50.04999999999999},{"$f":"SUM(AD134:AD185)","v":50.04999999999999}]
[]
["Actual Weekly K (Kg) / Hectare (Ha):"]
[]
[null,null,"Ammonium Nitrate","Ammonium Sulphate","Borax","Calcium Nitrate","Copper Sulphate","FertiMix","Iron Chelate","Iron Sulphate","Magnesium Sulphate","Manganese Sulphate","Mono-Ammonium Phosphate","Mono-Potassium Phosphate","Nitric Acid","Phosphoric Acid","Potassium Chloride","Potassium Nitrate","Potassium Sulphate","Sodium Molybdenum","Sulphuric Acid","Urea","Zinc Oxide","Zinc Sulphate","Grower Wkly K","Grower Cumm K",null,"240:400","320:600","320:400"]
[null,null,"NH4NO3","(NH4)2SO4","Na2B4O7.10H2O","Ca(NO3)2","CuSO4.5H2O",null,"EDDHA","FeSO4.7H2O","MgSO4.7H2O","MnSO4.H2O","NH4H2PO4","KH2PO4","HNO3","PO4H3","KCl","KNO3","K2SO4","Na2MoO4","H2SO4","CO(NH2)2","ZnO","ZnSO4.7H2O",null,"TOTAL",null,"TOTAL","TOTAL","TOTAL"]
[{"$f":"A421","v":"2014-07-07"},"Week 1",{"$f":"(C537*C$9)/Setup!$C$10","v":0},{"$f":"(D537*D$9)/Setup!$C$10","v":0},{"$f":"(E537*E$9)/Setup!$C$10","v":0},{"$f":"(F537*F$9)/Setup!$C$10","v":0},{"$f":"(G537*G$9)/Setup!$C$10","v":0},{"$f":"(H537*H$9)/Setup!$C$10","v":0},{"$f":"(I537*I$9)/Setup!$C$10","v":0},{"$f":"(J537*J$9)/Setup!$C$10","v":0},{"$f":"(K537*K$9)/Setup!$C$10","v":0},{"$f":"(L537*L$9)/Setup!$C$10","v":0},{"$f":"(M537*M$9)/Setup!$C$10","v":0},{"$f":"(N537*N$9)/Setup!$C$10","v":0},{"$f":"(O537*O$9)/Setup!$C$10","v":0},{"$f":"(P537*P$9)/Setup!$C$10","v":0},{"$f":"(Q537*Q$9)/Setup!$C$10","v":0},{"$f":"(R537*R$9)/Setup!$C$10","v":0},{"$f":"(S537*S$9)/Setup!$C$10","v":0},{"$f":"(T537*T$9)/Setup!$C$10","v":0},{"$f":"(U537*U$9)/Setup!$C$10","v":0},{"$f":"(V537*V$9)/Setup!$C$10","v":0},{"$f":"(W537*W$9)/Setup!$C$10","v":0},{"$f":"(X537*X$9)/Setup!$C$10","v":0},{"$f":"SUM(C192:X192)","v":0},{"$f":"Y192","v":0},null,0,0,0]
["2014-07-14","Week 2",{"$f":"(C538*C$9)/Setup!$C$10","v":0},{"$f":"(D538*D$9)/Setup!$C$10","v":0},{"$f":"(E538*E$9)/Setup!$C$10","v":0},{"$f":"(F538*F$9)/Setup!$C$10","v":0},{"$f":"(G538*G$9)/Setup!$C$10","v":0},{"$f":"(H538*H$9)/Setup!$C$10","v":0},{"$f":"(I538*I$9)/Setup!$C$10","v":0},{"$f":"(J538*J$9)/Setup!$C$10","v":0},{"$f":"(K538*K$9)/Setup!$C$10","v":0},{"$f":"(L538*L$9)/Setup!$C$10","v":0},{"$f":"(M538*M$9)/Setup!$C$10","v":0},{"$f":"(N538*N$9)/Setup!$C$10","v":0},{"$f":"(O538*O$9)/Setup!$C$10","v":0},{"$f":"(P538*P$9)/Setup!$C$10","v":0},{"$f":"(Q538*Q$9)/Setup!$C$10","v":0},{"$f":"(R538*R$9)/Setup!$C$10","v":0},{"$f":"(S538*S$9)/Setup!$C$10","v":0},{"$f":"(T538*T$9)/Setup!$C$10","v":0},{"$f":"(U538*U$9)/Setup!$C$10","v":0},{"$f":"(V538*V$9)/Setup!$C$10","v":0},{"$f":"(W538*W$9)/Setup!$C$10","v":0},{"$f":"(X538*X$9)/Setup!$C$10","v":0},{"$f":"SUM(C193:X193)","v":0},{"$f":"Z192+Y193","v":0},null,0,0,0]
["2014-07-21","Week 3",{"$f":"(C539*C$9)/Setup!$C$10","v":0},{"$f":"(D539*D$9)/Setup!$C$10","v":0},{"$f":"(E539*E$9)/Setup!$C$10","v":0},{"$f":"(F539*F$9)/Setup!$C$10","v":0},{"$f":"(G539*G$9)/Setup!$C$10","v":0},{"$f":"(H539*H$9)/Setup!$C$10","v":0},{"$f":"(I539*I$9)/Setup!$C$10","v":0},{"$f":"(J539*J$9)/Setup!$C$10","v":0},{"$f":"(K539*K$9)/Setup!$C$10","v":0},{"$f":"(L539*L$9)/Setup!$C$10","v":0},{"$f":"(M539*M$9)/Setup!$C$10","v":0},{"$f":"(N539*N$9)/Setup!$C$10","v":0},{"$f":"(O539*O$9)/Setup!$C$10","v":0},{"$f":"(P539*P$9)/Setup!$C$10","v":0},{"$f":"(Q539*Q$9)/Setup!$C$10","v":0},{"$f":"(R539*R$9)/Setup!$C$10","v":0},{"$f":"(S539*S$9)/Setup!$C$10","v":0},{"$f":"(T539*T$9)/Setup!$C$10","v":0},{"$f":"(U539*U$9)/Setup!$C$10","v":0},{"$f":"(V539*V$9)/Setup!$C$10","v":0},{"$f":"(W539*W$9)/Setup!$C$10","v":0},{"$f":"(X539*X$9)/Setup!$C$10","v":0},0,{"$f":"Z193+Y194","v":0},null,0,0,0]
["2014-07-28","Week 4",{"$f":"(C540*C$9)/Setup!$C$10","v":0},{"$f":"(D540*D$9)/Setup!$C$10","v":0},{"$f":"(E540*E$9)/Setup!$C$10","v":0},{"$f":"(F540*F$9)/Setup!$C$10","v":0},{"$f":"(G540*G$9)/Setup!$C$10","v":0},{"$f":"(H540*H$9)/Setup!$C$10","v":0},{"$f":"(I540*I$9)/Setup!$C$10","v":0},{"$f":"(J540*J$9)/Setup!$C$10","v":0},{"$f":"(K540*K$9)/Setup!$C$10","v":0},{"$f":"(L540*L$9)/Setup!$C$10","v":0},{"$f":"(M540*M$9)/Setup!$C$10","v":0},{"$f":"(N540*N$9)/Setup!$C$10","v":0},{"$f":"(O540*O$9)/Setup!$C$10","v":0},{"$f":"(P540*P$9)/Setup!$C$10","v":0},{"$f":"(Q540*Q$9)/Setup!$C$10","v":0},{"$f":"(R540*R$9)/Setup!$C$10","v":0},{"$f":"(S540*S$9)/Setup!$C$10","v":0},{"$f":"(T540*T$9)/Setup!$C$10","v":0},{"$f":"(U540*U$9)/Setup!$C$10","v":0},{"$f":"(V540*V$9)/Setup!$C$10","v":0},{"$f":"(W540*W$9)/Setup!$C$10","v":0},{"$f":"(X540*X$9)/Setup!$C$10","v":0},0,0,null,47.912499999999994,47.912499999999994,47.912499999999994]
["2014-08-04","Week 5",{"$f":"(C541*C$9)/Setup!$C$10","v":0},{"$f":"(D541*D$9)/Setup!$C$10","v":0},{"$f":"(E541*E$9)/Setup!$C$10","v":0},{"$f":"(F541*F$9)/Setup!$C$10","v":0},{"$f":"(G541*G$9)/Setup!$C$10","v":0},{"$f":"(H541*H$9)/Setup!$C$10","v":0},{"$f":"(I541*I$9)/Setup!$C$10","v":0},{"$f":"(J541*J$9)/Setup!$C$10","v":0},{"$f":"(K541*K$9)/Setup!$C$10","v":0},{"$f":"(L541*L$9)/Setup!$C$10","v":0},{"$f":"(M541*M$9)/Setup!$C$10","v":0},{"$f":"(N541*N$9)/Setup!$C$10","v":0},{"$f":"(O541*O$9)/Setup!$C$10","v":0},{"$f":"(P541*P$9)/Setup!$C$10","v":0},{"$f":"(Q541*Q$9)/Setup!$C$10","v":0},{"$f":"(R541*R$9)/Setup!$C$10","v":0},{"$f":"(S541*S$9)/Setup!$C$10","v":0},{"$f":"(T541*T$9)/Setup!$C$10","v":0},{"$f":"(U541*U$9)/Setup!$C$10","v":0},{"$f":"(V541*V$9)/Setup!$C$10","v":0},{"$f":"(W541*W$9)/Setup!$C$10","v":0},{"$f":"(X541*X$9)/Setup!$C$10","v":0},0,0,null,47.912499999999994,47.912499999999994,47.912499999999994]
["2014-08-11","Week 6",{"$f":"(C542*C$9)/Setup!$C$10","v":0},{"$f":"(D542*D$9)/Setup!$C$10","v":0},{"$f":"(E542*E$9)/Setup!$C$10","v":0},{"$f":"(F542*F$9)/Setup!$C$10","v":0},{"$f":"(G542*G$9)/Setup!$C$10","v":0},{"$f":"(H542*H$9)/Setup!$C$10","v":0},{"$f":"(I542*I$9)/Setup!$C$10","v":0},{"$f":"(J542*J$9)/Setup!$C$10","v":0},{"$f":"(K542*K$9)/Setup!$C$10","v":0},{"$f":"(L542*L$9)/Setup!$C$10","v":0},{"$f":"(M542*M$9)/Setup!$C$10","v":0},{"$f":"(N542*N$9)/Setup!$C$10","v":0},{"$f":"(O542*O$9)/Setup!$C$10","v":0},{"$f":"(P542*P$9)/Setup!$C$10","v":0},{"$f":"(Q542*Q$9)/Setup!$C$10","v":0},{"$f":"(R542*R$9)/Setup!$C$10","v":0},{"$f":"(S542*S$9)/Setup!$C$10","v":0},{"$f":"(T542*T$9)/Setup!$C$10","v":0},{"$f":"(U542*U$9)/Setup!$C$10","v":0},{"$f":"(V542*V$9)/Setup!$C$10","v":0},{"$f":"(W542*W$9)/Setup!$C$10","v":0},{"$f":"(X542*X$9)/Setup!$C$10","v":0},0,0,null,0,0,0]
["2014-08-18","Week 7",{"$f":"(C543*C$9)/Setup!$C$10","v":0},{"$f":"(D543*D$9)/Setup!$C$10","v":0},{"$f":"(E543*E$9)/Setup!$C$10","v":0},{"$f":"(F543*F$9)/Setup!$C$10","v":0},{"$f":"(G543*G$9)/Setup!$C$10","v":0},{"$f":"(H543*H$9)/Setup!$C$10","v":0},{"$f":"(I543*I$9)/Setup!$C$10","v":0},{"$f":"(J543*J$9)/Setup!$C$10","v":0},{"$f":"(K543*K$9)/Setup!$C$10","v":0},{"$f":"(L543*L$9)/Setup!$C$10","v":0},{"$f":"(M543*M$9)/Setup!$C$10","v":0},{"$f":"(N543*N$9)/Setup!$C$10","v":0},{"$f":"(O543*O$9)/Setup!$C$10","v":0},{"$f":"(P543*P$9)/Setup!$C$10","v":0},{"$f":"(Q543*Q$9)/Setup!$C$10","v":0},{"$f":"(R543*R$9)/Setup!$C$10","v":0},{"$f":"(S543*S$9)/Setup!$C$10","v":0},{"$f":"(T543*T$9)/Setup!$C$10","v":0},{"$f":"(U543*U$9)/Setup!$C$10","v":0},{"$f":"(V543*V$9)/Setup!$C$10","v":0},{"$f":"(W543*W$9)/Setup!$C$10","v":0},{"$f":"(X543*X$9)/Setup!$C$10","v":0},0,0,null,0,0,0]
["2014-08-25","Week 8",{"$f":"(C544*C$9)/Setup!$C$10","v":0},{"$f":"(D544*D$9)/Setup!$C$10","v":0},{"$f":"(E544*E$9)/Setup!$C$10","v":0},{"$f":"(F544*F$9)/Setup!$C$10","v":0},{"$f":"(G544*G$9)/Setup!$C$10","v":0},{"$f":"(H544*H$9)/Setup!$C$10","v":0},{"$f":"(I544*I$9)/Setup!$C$10","v":0},{"$f":"(J544*J$9)/Setup!$C$10","v":0},{"$f":"(K544*K$9)/Setup!$C$10","v":0},{"$f":"(L544*L$9)/Setup!$C$10","v":0},{"$f":"(M544*M$9)/Setup!$C$10","v":0},{"$f":"(N544*N$9)/Setup!$C$10","v":0},{"$f":"(O544*O$9)/Setup!$C$10","v":0},{"$f":"(P544*P$9)/Setup!$C$10","v":0},{"$f":"(Q544*Q$9)/Setup!$C$10","v":0},{"$f":"(R544*R$9)/Setup!$C$10","v":0},{"$f":"(S544*S$9)/Setup!$C$10","v":0},{"$f":"(T544*T$9)/Setup!$C$10","v":0},{"$f":"(U544*U$9)/Setup!$C$10","v":0},{"$f":"(V544*V$9)/Setup!$C$10","v":0},{"$f":"(W544*W$9)/Setup!$C$10","v":0},{"$f":"(X544*X$9)/Setup!$C$10","v":0},0,0,null,0,0,0]
["2014-09-01","Week 9",{"$f":"(C545*C$9)/Setup!$C$10","v":0},{"$f":"(D545*D$9)/Setup!$C$10","v":0},{"$f":"(E545*E$9)/Setup!$C$10","v":0},{"$f":"(F545*F$9)/Setup!$C$10","v":0},{"$f":"(G545*G$9)/Setup!$C$10","v":0},{"$f":"(H545*H$9)/Setup!$C$10","v":0},{"$f":"(I545*I$9)/Setup!$C$10","v":0},{"$f":"(J545*J$9)/Setup!$C$10","v":0},{"$f":"(K545*K$9)/Setup!$C$10","v":0},{"$f":"(L545*L$9)/Setup!$C$10","v":0},{"$f":"(M545*M$9)/Setup!$C$10","v":0},{"$f":"(N545*N$9)/Setup!$C$10","v":0},{"$f":"(O545*O$9)/Setup!$C$10","v":0},{"$f":"(P545*P$9)/Setup!$C$10","v":0},{"$f":"(Q545*Q$9)/Setup!$C$10","v":0},{"$f":"(R545*R$9)/Setup!$C$10","v":0},{"$f":"(S545*S$9)/Setup!$C$10","v":0},{"$f":"(T545*T$9)/Setup!$C$10","v":0},{"$f":"(U545*U$9)/Setup!$C$10","v":0},{"$f":"(V545*V$9)/Setup!$C$10","v":0},{"$f":"(W545*W$9)/Setup!$C$10","v":0},{"$f":"(X545*X$9)/Setup!$C$10","v":0},0,0,null,0,0,0]
["2014-09-08","Week 10",{"$f":"(C546*C$9)/Setup!$C$10","v":0},{"$f":"(D546*D$9)/Setup!$C$10","v":0},{"$f":"(E546*E$9)/Setup!$C$10","v":0},{"$f":"(F546*F$9)/Setup!$C$10","v":0},{"$f":"(G546*G$9)/Setup!$C$10","v":0},{"$f":"(H546*H$9)/Setup!$C$10","v":0},{"$f":"(I546*I$9)/Setup!$C$10","v":0},{"$f":"(J546*J$9)/Setup!$C$10","v":0},{"$f":"(K546*K$9)/Setup!$C$10","v":0},{"$f":"(L546*L$9)/Setup!$C$10","v":0},{"$f":"(M546*M$9)/Setup!$C$10","v":0},{"$f":"(N546*N$9)/Setup!$C$10","v":0},{"$f":"(O546*O$9)/Setup!$C$10","v":0},{"$f":"(P546*P$9)/Setup!$C$10","v":0},{"$f":"(Q546*Q$9)/Setup!$C$10","v":0},{"$f":"(R546*R$9)/Setup!$C$10","v":0},{"$f":"(S546*S$9)/Setup!$C$10","v":0},{"$f":"(T546*T$9)/Setup!$C$10","v":0},{"$f":"(U546*U$9)/Setup!$C$10","v":0},{"$f":"(V546*V$9)/Setup!$C$10","v":0},{"$f":"(W546*W$9)/Setup!$C$10","v":0},{"$f":"(X546*X$9)/Setup!$C$10","v":0},0,0,null,11.498999999999999,11.498999999999999,11.498999999999999]
["2014-09-15","Week 11",{"$f":"(C547*C$9)/Setup!$C$10","v":0},{"$f":"(D547*D$9)/Setup!$C$10","v":0},{"$f":"(E547*E$9)/Setup!$C$10","v":0},{"$f":"(F547*F$9)/Setup!$C$10","v":0},{"$f":"(G547*G$9)/Setup!$C$10","v":0},{"$f":"(H547*H$9)/Setup!$C$10","v":0},{"$f":"(I547*I$9)/Setup!$C$10","v":0},{"$f":"(J547*J$9)/Setup!$C$10","v":0},{"$f":"(K547*K$9)/Setup!$C$10","v":0},{"$f":"(L547*L$9)/Setup!$C$10","v":0},{"$f":"(M547*M$9)/Setup!$C$10","v":0},{"$f":"(N547*N$9)/Setup!$C$10","v":0},{"$f":"(O547*O$9)/Setup!$C$10","v":0},{"$f":"(P547*P$9)/Setup!$C$10","v":0},{"$f":"(Q547*Q$9)/Setup!$C$10","v":0},{"$f":"(R547*R$9)/Setup!$C$10","v":0},{"$f":"(S547*S$9)/Setup!$C$10","v":0},{"$f":"(T547*T$9)/Setup!$C$10","v":0},{"$f":"(U547*U$9)/Setup!$C$10","v":0},{"$f":"(V547*V$9)/Setup!$C$10","v":0},{"$f":"(W547*W$9)/Setup!$C$10","v":0},{"$f":"(X547*X$9)/Setup!$C$10","v":0},0,0,null,11.498999999999999,11.498999999999999,11.498999999999999]
["2014-09-22","Week 12",{"$f":"(C548*C$9)/Setup!$C$10","v":0},{"$f":"(D548*D$9)/Setup!$C$10","v":0},{"$f":"(E548*E$9)/Setup!$C$10","v":0},{"$f":"(F548*F$9)/Setup!$C$10","v":0},{"$f":"(G548*G$9)/Setup!$C$10","v":0},{"$f":"(H548*H$9)/Setup!$C$10","v":0},{"$f":"(I548*I$9)/Setup!$C$10","v":0},{"$f":"(J548*J$9)/Setup!$C$10","v":0},{"$f":"(K548*K$9)/Setup!$C$10","v":0},{"$f":"(L548*L$9)/Setup!$C$10","v":0},{"$f":"(M548*M$9)/Setup!$C$10","v":0},{"$f":"(N548*N$9)/Setup!$C$10","v":0},{"$f":"(O548*O$9)/Setup!$C$10","v":0},{"$f":"(P548*P$9)/Setup!$C$10","v":0},{"$f":"(Q548*Q$9)/Setup!$C$10","v":0},{"$f":"(R548*R$9)/Setup!$C$10","v":0},{"$f":"(S548*S$9)/Setup!$C$10","v":0},{"$f":"(T548*T$9)/Setup!$C$10","v":0},{"$f":"(U548*U$9)/Setup!$C$10","v":0},{"$f":"(V548*V$9)/Setup!$C$10","v":0},{"$f":"(W548*W$9)/Setup!$C$10","v":0},{"$f":"(X548*X$9)/Setup!$C$10","v":0},0,0,null,11.498999999999999,11.498999999999999,11.498999999999999]
["2014-09-29","Week 13",{"$f":"(C549*C$9)/Setup!$C$10","v":0},{"$f":"(D549*D$9)/Setup!$C$10","v":0},{"$f":"(E549*E$9)/Setup!$C$10","v":0},{"$f":"(F549*F$9)/Setup!$C$10","v":0},{"$f":"(G549*G$9)/Setup!$C$10","v":0},{"$f":"(H549*H$9)/Setup!$C$10","v":0},{"$f":"(I549*I$9)/Setup!$C$10","v":0},{"$f":"(J549*J$9)/Setup!$C$10","v":0},{"$f":"(K549*K$9)/Setup!$C$10","v":0},{"$f":"(L549*L$9)/Setup!$C$10","v":0},{"$f":"(M549*M$9)/Setup!$C$10","v":0},{"$f":"(N549*N$9)/Setup!$C$10","v":0},{"$f":"(O549*O$9)/Setup!$C$10","v":0},{"$f":"(P549*P$9)/Setup!$C$10","v":0},{"$f":"(Q549*Q$9)/Setup!$C$10","v":0},{"$f":"(R549*R$9)/Setup!$C$10","v":0},{"$f":"(S549*S$9)/Setup!$C$10","v":0},{"$f":"(T549*T$9)/Setup!$C$10","v":0},{"$f":"(U549*U$9)/Setup!$C$10","v":0},{"$f":"(V549*V$9)/Setup!$C$10","v":0},{"$f":"(W549*W$9)/Setup!$C$10","v":0},{"$f":"(X549*X$9)/Setup!$C$10","v":0},0,0,null,26.298999999999999,28.698999999999998,15.498999999999999]
["2014-10-06","Week 14",{"$f":"(C550*C$9)/Setup!$C$10","v":0},{"$f":"(D550*D$9)/Setup!$C$10","v":0},{"$f":"(E550*E$9)/Setup!$C$10","v":0},{"$f":"(F550*F$9)/Setup!$C$10","v":0},{"$f":"(G550*G$9)/Setup!$C$10","v":0},{"$f":"(H550*H$9)/Setup!$C$10","v":0},{"$f":"(I550*I$9)/Setup!$C$10","v":0},{"$f":"(J550*J$9)/Setup!$C$10","v":0},{"$f":"(K550*K$9)/Setup!$C$10","v":0},{"$f":"(L550*L$9)/Setup!$C$10","v":0},{"$f":"(M550*M$9)/Setup!$C$10","v":0},{"$f":"(N550*N$9)/Setup!$C$10","v":0},{"$f":"(O550*O$9)/Setup!$C$10","v":0},{"$f":"(P550*P$9)/Setup!$C$10","v":0},{"$f":"(Q550*Q$9)/Setup!$C$10","v":0},{"$f":"(R550*R$9)/Setup!$C$10","v":0},{"$f":"(S550*S$9)/Setup!$C$10","v":0},{"$f":"(T550*T$9)/Setup!$C$10","v":0},{"$f":"(U550*U$9)/Setup!$C$10","v":0},{"$f":"(V550*V$9)/Setup!$C$10","v":0},{"$f":"(W550*W$9)/Setup!$C$10","v":0},{"$f":"(X550*X$9)/Setup!$C$10","v":0},0,0,null,26.298999999999999,28.698999999999998,15.498999999999999]
["2014-10-13","Week 15",{"$f":"(C551*C$9)/Setup!$C$10","v":0},{"$f":"(D551*D$9)/Setup!$C$10","v":0},{"$f":"(E551*E$9)/Setup!$C$10","v":0},{"$f":"(F551*F$9)/Setup!$C$10","v":0},{"$f":"(G551*G$9)/Setup!$C$10","v":0},{"$f":"(H551*H$9)/Setup!$C$10","v":0},{"$f":"(I551*I$9)/Setup!$C$10","v":0},{"$f":"(J551*J$9)/Setup!$C$10","v":0},{"$f":"(K551*K$9)/Setup!$C$10","v":0},{"$f":"(L551*L$9)/Setup!$C$10","v":0},{"$f":"(M551*M$9)/Setup!$C$10","v":0},{"$f":"(N551*N$9)/Setup!$C$10","v":0},{"$f":"(O551*O$9)/Setup!$C$10","v":0},{"$f":"(P551*P$9)/Setup!$C$10","v":0},{"$f":"(Q551*Q$9)/Setup!$C$10","v":0},{"$f":"(R551*R$9)/Setup!$C$10","v":0},{"$f":"(S551*S$9)/Setup!$C$10","v":0},{"$f":"(T551*T$9)/Setup!$C$10","v":0},{"$f":"(U551*U$9)/Setup!$C$10","v":0},{"$f":"(V551*V$9)/Setup!$C$10","v":0},{"$f":"(W551*W$9)/Setup!$C$10","v":0},{"$f":"(X551*X$9)/Setup!$C$10","v":0},0,0,null,26.298999999999999,28.698999999999998,15.498999999999999]
["2014-10-20","Week 16",{"$f":"(C552*C$9)/Setup!$C$10","v":0},{"$f":"(D552*D$9)/Setup!$C$10","v":0},{"$f":"(E552*E$9)/Setup!$C$10","v":0},{"$f":"(F552*F$9)/Setup!$C$10","v":0},{"$f":"(G552*G$9)/Setup!$C$10","v":0},{"$f":"(H552*H$9)/Setup!$C$10","v":0},{"$f":"(I552*I$9)/Setup!$C$10","v":0},{"$f":"(J552*J$9)/Setup!$C$10","v":0},{"$f":"(K552*K$9)/Setup!$C$10","v":0},{"$f":"(L552*L$9)/Setup!$C$10","v":0},{"$f":"(M552*M$9)/Setup!$C$10","v":0},{"$f":"(N552*N$9)/Setup!$C$10","v":0},{"$f":"(O552*O$9)/Setup!$C$10","v":0},{"$f":"(P552*P$9)/Setup!$C$10","v":0},{"$f":"(Q552*Q$9)/Setup!$C$10","v":0},{"$f":"(R552*R$9)/Setup!$C$10","v":0},{"$f":"(S552*S$9)/Setup!$C$10","v":0},{"$f":"(T552*T$9)/Setup!$C$10","v":0},{"$f":"(U552*U$9)/Setup!$C$10","v":0},{"$f":"(V552*V$9)/Setup!$C$10","v":0},{"$f":"(W552*W$9)/Setup!$C$10","v":0},{"$f":"(X552*X$9)/Setup!$C$10","v":0},0,0,null,26.298999999999999,28.698999999999998,15.498999999999999]
["2014-10-27","Week 17",{"$f":"(C553*C$9)/Setup!$C$10","v":0},{"$f":"(D553*D$9)/Setup!$C$10","v":0},{"$f":"(E553*E$9)/Setup!$C$10","v":0},{"$f":"(F553*F$9)/Setup!$C$10","v":0},{"$f":"(G553*G$9)/Setup!$C$10","v":0},{"$f":"(H553*H$9)/Setup!$C$10","v":0},{"$f":"(I553*I$9)/Setup!$C$10","v":0},{"$f":"(J553*J$9)/Setup!$C$10","v":0},{"$f":"(K553*K$9)/Setup!$C$10","v":0},{"$f":"(L553*L$9)/Setup!$C$10","v":0},{"$f":"(M553*M$9)/Setup!$C$10","v":0},{"$f":"(N553*N$9)/Setup!$C$10","v":0},{"$f":"(O553*O$9)/Setup!$C$10","v":0},{"$f":"(P553*P$9)/Setup!$C$10","v":0},{"$f":"(Q553*Q$9)/Setup!$C$10","v":0},{"$f":"(R553*R$9)/Setup!$C$10","v":0},{"$f":"(S553*S$9)/Setup!$C$10","v":0},{"$f":"(T553*T$9)/Setup!$C$10","v":0},{"$f":"(U553*U$9)/Setup!$C$10","v":0},{"$f":"(V553*V$9)/Setup!$C$10","v":0},{"$f":"(W553*W$9)/Setup!$C$10","v":0},{"$f":"(X553*X$9)/Setup!$C$10","v":0},0,0,null,24.298999999999999,28.698999999999998,15.498999999999999]
["2014-11-03","Week 18",{"$f":"(C554*C$9)/Setup!$C$10","v":0},{"$f":"(D554*D$9)/Setup!$C$10","v":0},{"$f":"(E554*E$9)/Setup!$C$10","v":0},{"$f":"(F554*F$9)/Setup!$C$10","v":0},{"$f":"(G554*G$9)/Setup!$C$10","v":0},{"$f":"(H554*H$9)/Setup!$C$10","v":0},{"$f":"(I554*I$9)/Setup!$C$10","v":0},{"$f":"(J554*J$9)/Setup!$C$10","v":0},{"$f":"(K554*K$9)/Setup!$C$10","v":0},{"$f":"(L554*L$9)/Setup!$C$10","v":0},{"$f":"(M554*M$9)/Setup!$C$10","v":0},{"$f":"(N554*N$9)/Setup!$C$10","v":0},{"$f":"(O554*O$9)/Setup!$C$10","v":0},{"$f":"(P554*P$9)/Setup!$C$10","v":0},{"$f":"(Q554*Q$9)/Setup!$C$10","v":0},{"$f":"(R554*R$9)/Setup!$C$10","v":0},{"$f":"(S554*S$9)/Setup!$C$10","v":0},{"$f":"(T554*T$9)/Setup!$C$10","v":0},{"$f":"(U554*U$9)/Setup!$C$10","v":0},{"$f":"(V554*V$9)/Setup!$C$10","v":0},{"$f":"(W554*W$9)/Setup!$C$10","v":0},{"$f":"(X554*X$9)/Setup!$C$10","v":0},0,0,null,11.498999999999999,28.698999999999998,15.498999999999999]
["2014-11-10","Week 19",{"$f":"(C555*C$9)/Setup!$C$10","v":0},{"$f":"(D555*D$9)/Setup!$C$10","v":0},{"$f":"(E555*E$9)/Setup!$C$10","v":0},{"$f":"(F555*F$9)/Setup!$C$10","v":0},{"$f":"(G555*G$9)/Setup!$C$10","v":0},{"$f":"(H555*H$9)/Setup!$C$10","v":0},{"$f":"(I555*I$9)/Setup!$C$10","v":0},{"$f":"(J555*J$9)/Setup!$C$10","v":0},{"$f":"(K555*K$9)/Setup!$C$10","v":0},{"$f":"(L555*L$9)/Setup!$C$10","v":0},{"$f":"(M555*M$9)/Setup!$C$10","v":0},{"$f":"(N555*N$9)/Setup!$C$10","v":0},{"$f":"(O555*O$9)/Setup!$C$10","v":0},{"$f":"(P555*P$9)/Setup!$C$10","v":0},{"$f":"(Q555*Q$9)/Setup!$C$10","v":0},{"$f":"(R555*R$9)/Setup!$C$10","v":0},{"$f":"(S555*S$9)/Setup!$C$10","v":0},{"$f":"(T555*T$9)/Setup!$C$10","v":0},{"$f":"(U555*U$9)/Setup!$C$10","v":0},{"$f":"(V555*V$9)/Setup!$C$10","v":0},{"$f":"(W555*W$9)/Setup!$C$10","v":0},{"$f":"(X555*X$9)/Setup!$C$10","v":0},0,0,null,0,28.698999999999998,15.498999999999999]
["2014-11-17","Week 20",{"$f":"(C556*C$9)/Setup!$C$10","v":0},{"$f":"(D556*D$9)/Setup!$C$10","v":0},{"$f":"(E556*E$9)/Setup!$C$10","v":0},{"$f":"(F556*F$9)/Setup!$C$10","v":0},{"$f":"(G556*G$9)/Setup!$C$10","v":0},{"$f":"(H556*H$9)/Setup!$C$10","v":0},{"$f":"(I556*I$9)/Setup!$C$10","v":0},{"$f":"(J556*J$9)/Setup!$C$10","v":0},{"$f":"(K556*K$9)/Setup!$C$10","v":0},{"$f":"(L556*L$9)/Setup!$C$10","v":0},{"$f":"(M556*M$9)/Setup!$C$10","v":0},{"$f":"(N556*N$9)/Setup!$C$10","v":0},{"$f":"(O556*O$9)/Setup!$C$10","v":0},{"$f":"(P556*P$9)/Setup!$C$10","v":0},{"$f":"(Q556*Q$9)/Setup!$C$10","v":0},{"$f":"(R556*R$9)/Setup!$C$10","v":0},{"$f":"(S556*S$9)/Setup!$C$10","v":0},{"$f":"(T556*T$9)/Setup!$C$10","v":0},{"$f":"(U556*U$9)/Setup!$C$10","v":0},{"$f":"(V556*V$9)/Setup!$C$10","v":0},{"$f":"(W556*W$9)/Setup!$C$10","v":0},{"$f":"(X556*X$9)/Setup!$C$10","v":0},0,0,null,0,28.698999999999998,15.498999999999999]
[{"$f":"A441","v":"2014-11-24"},"Week 21",{"$f":"(C557*C$9)/Setup!$C$10","v":0},{"$f":"(D557*D$9)/Setup!$C$10","v":0},{"$f":"(E557*E$9)/Setup!$C$10","v":0},{"$f":"(F557*F$9)/Setup!$C$10","v":0},{"$f":"(G557*G$9)/Setup!$C$10","v":0},{"$f":"(H557*H$9)/Setup!$C$10","v":0},{"$f":"(I557*I$9)/Setup!$C$10","v":0},{"$f":"(J557*J$9)/Setup!$C$10","v":0},{"$f":"(K557*K$9)/Setup!$C$10","v":0},{"$f":"(L557*L$9)/Setup!$C$10","v":0},{"$f":"(M557*M$9)/Setup!$C$10","v":0},{"$f":"(N557*N$9)/Setup!$C$10","v":0},{"$f":"(O557*O$9)/Setup!$C$10","v":0},{"$f":"(P557*P$9)/Setup!$C$10","v":0},{"$f":"(Q557*Q$9)/Setup!$C$10","v":0},{"$f":"(R557*R$9)/Setup!$C$10","v":0},{"$f":"(S557*S$9)/Setup!$C$10","v":0},{"$f":"(T557*T$9)/Setup!$C$10","v":0},{"$f":"(U557*U$9)/Setup!$C$10","v":0},{"$f":"(V557*V$9)/Setup!$C$10","v":0},{"$f":"(W557*W$9)/Setup!$C$10","v":0},{"$f":"(X557*X$9)/Setup!$C$10","v":0},0,0,null,0,28.698999999999998,15.498999999999999]
["2014-12-01","Week 22",{"$f":"(C558*C$9)/Setup!$C$10","v":0},{"$f":"(D558*D$9)/Setup!$C$10","v":0},{"$f":"(E558*E$9)/Setup!$C$10","v":0},{"$f":"(F558*F$9)/Setup!$C$10","v":0},{"$f":"(G558*G$9)/Setup!$C$10","v":0},{"$f":"(H558*H$9)/Setup!$C$10","v":0},{"$f":"(I558*I$9)/Setup!$C$10","v":0},{"$f":"(J558*J$9)/Setup!$C$10","v":0},{"$f":"(K558*K$9)/Setup!$C$10","v":0},{"$f":"(L558*L$9)/Setup!$C$10","v":0},{"$f":"(M558*M$9)/Setup!$C$10","v":0},{"$f":"(N558*N$9)/Setup!$C$10","v":0},{"$f":"(O558*O$9)/Setup!$C$10","v":0},{"$f":"(P558*P$9)/Setup!$C$10","v":0},{"$f":"(Q558*Q$9)/Setup!$C$10","v":0},{"$f":"(R558*R$9)/Setup!$C$10","v":0},{"$f":"(S558*S$9)/Setup!$C$10","v":0},{"$f":"(T558*T$9)/Setup!$C$10","v":0},{"$f":"(U558*U$9)/Setup!$C$10","v":0},{"$f":"(V558*V$9)/Setup!$C$10","v":0},{"$f":"(W558*W$9)/Setup!$C$10","v":0},{"$f":"(X558*X$9)/Setup!$C$10","v":0},0,0,null,0,17.2,1.2000000000000002]
["2014-12-08","Week 23",{"$f":"(C559*C$9)/Setup!$C$10","v":0},{"$f":"(D559*D$9)/Setup!$C$10","v":0},{"$f":"(E559*E$9)/Setup!$C$10","v":0},{"$f":"(F559*F$9)/Setup!$C$10","v":0},{"$f":"(G559*G$9)/Setup!$C$10","v":0},{"$f":"(H559*H$9)/Setup!$C$10","v":0},{"$f":"(I559*I$9)/Setup!$C$10","v":0},{"$f":"(J559*J$9)/Setup!$C$10","v":0},{"$f":"(K559*K$9)/Setup!$C$10","v":0},{"$f":"(L559*L$9)/Setup!$C$10","v":0},{"$f":"(M559*M$9)/Setup!$C$10","v":0},{"$f":"(N559*N$9)/Setup!$C$10","v":0},{"$f":"(O559*O$9)/Setup!$C$10","v":0},{"$f":"(P559*P$9)/Setup!$C$10","v":0},{"$f":"(Q559*Q$9)/Setup!$C$10","v":0},{"$f":"(R559*R$9)/Setup!$C$10","v":0},{"$f":"(S559*S$9)/Setup!$C$10","v":0},{"$f":"(T559*T$9)/Setup!$C$10","v":0},{"$f":"(U559*U$9)/Setup!$C$10","v":0},{"$f":"(V559*V$9)/Setup!$C$10","v":0},{"$f":"(W559*W$9)/Setup!$C$10","v":0},{"$f":"(X559*X$9)/Setup!$C$10","v":0},0,0,null,0,17.2,0]
["2014-12-15","Week 24",{"$f":"(C560*C$9)/Setup!$C$10","v":0},{"$f":"(D560*D$9)/Setup!$C$10","v":0},{"$f":"(E560*E$9)/Setup!$C$10","v":0},{"$f":"(F560*F$9)/Setup!$C$10","v":0},{"$f":"(G560*G$9)/Setup!$C$10","v":0},{"$f":"(H560*H$9)/Setup!$C$10","v":0},{"$f":"(I560*I$9)/Setup!$C$10","v":0},{"$f":"(J560*J$9)/Setup!$C$10","v":0},{"$f":"(K560*K$9)/Setup!$C$10","v":0},{"$f":"(L560*L$9)/Setup!$C$10","v":0},{"$f":"(M560*M$9)/Setup!$C$10","v":0},{"$f":"(N560*N$9)/Setup!$C$10","v":0},{"$f":"(O560*O$9)/Setup!$C$10","v":0},{"$f":"(P560*P$9)/Setup!$C$10","v":0},{"$f":"(Q560*Q$9)/Setup!$C$10","v":0},{"$f":"(R560*R$9)/Setup!$C$10","v":0},{"$f":"(S560*S$9)/Setup!$C$10","v":0},{"$f":"(T560*T$9)/Setup!$C$10","v":0},{"$f":"(U560*U$9)/Setup!$C$10","v":0},{"$f":"(V560*V$9)/Setup!$C$10","v":0},{"$f":"(W560*W$9)/Setup!$C$10","v":0},{"$f":"(X560*X$9)/Setup!$C$10","v":0},0,0,null,0,17.2,0]
["2014-12-22","Week 25",{"$f":"(C561*C$9)/Setup!$C$10","v":0},{"$f":"(D561*D$9)/Setup!$C$10","v":0},{"$f":"(E561*E$9)/Setup!$C$10","v":0},{"$f":"(F561*F$9)/Setup!$C$10","v":0},{"$f":"(G561*G$9)/Setup!$C$10","v":0},{"$f":"(H561*H$9)/Setup!$C$10","v":0},{"$f":"(I561*I$9)/Setup!$C$10","v":0},{"$f":"(J561*J$9)/Setup!$C$10","v":0},{"$f":"(K561*K$9)/Setup!$C$10","v":0},{"$f":"(L561*L$9)/Setup!$C$10","v":0},{"$f":"(M561*M$9)/Setup!$C$10","v":0},{"$f":"(N561*N$9)/Setup!$C$10","v":0},{"$f":"(O561*O$9)/Setup!$C$10","v":0},{"$f":"(P561*P$9)/Setup!$C$10","v":0},{"$f":"(Q561*Q$9)/Setup!$C$10","v":0},{"$f":"(R561*R$9)/Setup!$C$10","v":0},{"$f":"(S561*S$9)/Setup!$C$10","v":0},{"$f":"(T561*T$9)/Setup!$C$10","v":0},{"$f":"(U561*U$9)/Setup!$C$10","v":0},{"$f":"(V561*V$9)/Setup!$C$10","v":0},{"$f":"(W561*W$9)/Setup!$C$10","v":0},{"$f":"(X561*X$9)/Setup!$C$10","v":0},0,0,null,0,17.2,0]
["2014-12-29","Week 26",{"$f":"(C562*C$9)/Setup!$C$10","v":0},{"$f":"(D562*D$9)/Setup!$C$10","v":0},{"$f":"(E562*E$9)/Setup!$C$10","v":0},{"$f":"(F562*F$9)/Setup!$C$10","v":0},{"$f":"(G562*G$9)/Setup!$C$10","v":0},{"$f":"(H562*H$9)/Setup!$C$10","v":0},{"$f":"(I562*I$9)/Setup!$C$10","v":0},{"$f":"(J562*J$9)/Setup!$C$10","v":0},{"$f":"(K562*K$9)/Setup!$C$10","v":0},{"$f":"(L562*L$9)/Setup!$C$10","v":0},{"$f":"(M562*M$9)/Setup!$C$10","v":0},{"$f":"(N562*N$9)/Setup!$C$10","v":0},{"$f":"(O562*O$9)/Setup!$C$10","v":0},{"$f":"(P562*P$9)/Setup!$C$10","v":0},{"$f":"(Q562*Q$9)/Setup!$C$10","v":0},{"$f":"(R562*R$9)/Setup!$C$10","v":0},{"$f":"(S562*S$9)/Setup!$C$10","v":0},{"$f":"(T562*T$9)/Setup!$C$10","v":0},{"$f":"(U562*U$9)/Setup!$C$10","v":0},{"$f":"(V562*V$9)/Setup!$C$10","v":0},{"$f":"(W562*W$9)/Setup!$C$10","v":0},{"$f":"(X562*X$9)/Setup!$C$10","v":0},0,0,null,0,14,0]
["2015-01-05","Week 27",{"$f":"(C563*C$9)/Setup!$C$10","v":0},{"$f":"(D563*D$9)/Setup!$C$10","v":0},{"$f":"(E563*E$9)/Setup!$C$10","v":0},{"$f":"(F563*F$9)/Setup!$C$10","v":0},{"$f":"(G563*G$9)/Setup!$C$10","v":0},{"$f":"(H563*H$9)/Setup!$C$10","v":0},{"$f":"(I563*I$9)/Setup!$C$10","v":0},{"$f":"(J563*J$9)/Setup!$C$10","v":0},{"$f":"(K563*K$9)/Setup!$C$10","v":0},{"$f":"(L563*L$9)/Setup!$C$10","v":0},{"$f":"(M563*M$9)/Setup!$C$10","v":0},{"$f":"(N563*N$9)/Setup!$C$10","v":0},{"$f":"(O563*O$9)/Setup!$C$10","v":0},{"$f":"(P563*P$9)/Setup!$C$10","v":0},{"$f":"(Q563*Q$9)/Setup!$C$10","v":0},{"$f":"(R563*R$9)/Setup!$C$10","v":0},{"$f":"(S563*S$9)/Setup!$C$10","v":0},{"$f":"(T563*T$9)/Setup!$C$10","v":0},{"$f":"(U563*U$9)/Setup!$C$10","v":0},{"$f":"(V563*V$9)/Setup!$C$10","v":0},{"$f":"(W563*W$9)/Setup!$C$10","v":0},{"$f":"(X563*X$9)/Setup!$C$10","v":0},0,0,null,0,0,0]
["2015-01-12","Week 28",{"$f":"(C564*C$9)/Setup!$C$10","v":0},{"$f":"(D564*D$9)/Setup!$C$10","v":0},{"$f":"(E564*E$9)/Setup!$C$10","v":0},{"$f":"(F564*F$9)/Setup!$C$10","v":0},{"$f":"(G564*G$9)/Setup!$C$10","v":0},{"$f":"(H564*H$9)/Setup!$C$10","v":0},{"$f":"(I564*I$9)/Setup!$C$10","v":0},{"$f":"(J564*J$9)/Setup!$C$10","v":0},{"$f":"(K564*K$9)/Setup!$C$10","v":0},{"$f":"(L564*L$9)/Setup!$C$10","v":0},{"$f":"(M564*M$9)/Setup!$C$10","v":0},{"$f":"(N564*N$9)/Setup!$C$10","v":0},{"$f":"(O564*O$9)/Setup!$C$10","v":0},{"$f":"(P564*P$9)/Setup!$C$10","v":0},{"$f":"(Q564*Q$9)/Setup!$C$10","v":0},{"$f":"(R564*R$9)/Setup!$C$10","v":0},{"$f":"(S564*S$9)/Setup!$C$10","v":0},{"$f":"(T564*T$9)/Setup!$C$10","v":0},{"$f":"(U564*U$9)/Setup!$C$10","v":0},{"$f":"(V564*V$9)/Setup!$C$10","v":0},{"$f":"(W564*W$9)/Setup!$C$10","v":0},{"$f":"(X564*X$9)/Setup!$C$10","v":0},0,0,null,0,0,0]
["2015-01-19","Week 29",{"$f":"(C565*C$9)/Setup!$C$10","v":0},{"$f":"(D565*D$9)/Setup!$C$10","v":0},{"$f":"(E565*E$9)/Setup!$C$10","v":0},{"$f":"(F565*F$9)/Setup!$C$10","v":0},{"$f":"(G565*G$9)/Setup!$C$10","v":0},{"$f":"(H565*H$9)/Setup!$C$10","v":0},{"$f":"(I565*I$9)/Setup!$C$10","v":0},{"$f":"(J565*J$9)/Setup!$C$10","v":0},{"$f":"(K565*K$9)/Setup!$C$10","v":0},{"$f":"(L565*L$9)/Setup!$C$10","v":0},{"$f":"(M565*M$9)/Setup!$C$10","v":0},{"$f":"(N565*N$9)/Setup!$C$10","v":0},{"$f":"(O565*O$9)/Setup!$C$10","v":0},{"$f":"(P565*P$9)/Setup!$C$10","v":0},{"$f":"(Q565*Q$9)/Setup!$C$10","v":0},{"$f":"(R565*R$9)/Setup!$C$10","v":0},{"$f":"(S565*S$9)/Setup!$C$10","v":0},{"$f":"(T565*T$9)/Setup!$C$10","v":0},{"$f":"(U565*U$9)/Setup!$C$10","v":0},{"$f":"(V565*V$9)/Setup!$C$10","v":0},{"$f":"(W565*W$9)/Setup!$C$10","v":0},{"$f":"(X565*X$9)/Setup!$C$10","v":0},0,0,null,0,0,0]
["2015-01-26","Week 30",{"$f":"(C566*C$9)/Setup!$C$10","v":0},{"$f":"(D566*D$9)/Setup!$C$10","v":0},{"$f":"(E566*E$9)/Setup!$C$10","v":0},{"$f":"(F566*F$9)/Setup!$C$10","v":0},{"$f":"(G566*G$9)/Setup!$C$10","v":0},{"$f":"(H566*H$9)/Setup!$C$10","v":0},{"$f":"(I566*I$9)/Setup!$C$10","v":0},{"$f":"(J566*J$9)/Setup!$C$10","v":0},{"$f":"(K566*K$9)/Setup!$C$10","v":0},{"$f":"(L566*L$9)/Setup!$C$10","v":0},{"$f":"(M566*M$9)/Setup!$C$10","v":0},{"$f":"(N566*N$9)/Setup!$C$10","v":0},{"$f":"(O566*O$9)/Setup!$C$10","v":0},{"$f":"(P566*P$9)/Setup!$C$10","v":0},{"$f":"(Q566*Q$9)/Setup!$C$10","v":0},{"$f":"(R566*R$9)/Setup!$C$10","v":0},{"$f":"(S566*S$9)/Setup!$C$10","v":0},{"$f":"(T566*T$9)/Setup!$C$10","v":0},{"$f":"(U566*U$9)/Setup!$C$10","v":0},{"$f":"(V566*V$9)/Setup!$C$10","v":0},{"$f":"(W566*W$9)/Setup!$C$10","v":0},{"$f":"(X566*X$9)/Setup!$C$10","v":0},{"$f":"SUM(C221:X221)","v":0},0,null,0,0,0]
["2015-02-02","Week 31",{"$f":"(C567*C$9)/Setup!$C$10","v":0},{"$f":"(D567*D$9)/Setup!$C$10","v":0},{"$f":"(E567*E$9)/Setup!$C$10","v":0},{"$f":"(F567*F$9)/Setup!$C$10","v":0},{"$f":"(G567*G$9)/Setup!$C$10","v":0},{"$f":"(H567*H$9)/Setup!$C$10","v":0},{"$f":"(I567*I$9)/Setup!$C$10","v":0},{"$f":"(J567*J$9)/Setup!$C$10","v":0},{"$f":"(K567*K$9)/Setup!$C$10","v":0},{"$f":"(L567*L$9)/Setup!$C$10","v":0},{"$f":"(M567*M$9)/Setup!$C$10","v":0},{"$f":"(N567*N$9)/Setup!$C$10","v":0},{"$f":"(O567*O$9)/Setup!$C$10","v":0},{"$f":"(P567*P$9)/Setup!$C$10","v":0},{"$f":"(Q567*Q$9)/Setup!$C$10","v":0},{"$f":"(R567*R$9)/Setup!$C$10","v":0},{"$f":"(S567*S$9)/Setup!$C$10","v":0},{"$f":"(T567*T$9)/Setup!$C$10","v":0},{"$f":"(U567*U$9)/Setup!$C$10","v":0},{"$f":"(V567*V$9)/Setup!$C$10","v":0},{"$f":"(W567*W$9)/Setup!$C$10","v":0},{"$f":"(X567*X$9)/Setup!$C$10","v":0},{"$f":"SUM(C222:X222)","v":0},0,null,0,0,0]
["2015-02-09","Week 32",{"$f":"(C568*C$9)/Setup!$C$10","v":0},{"$f":"(D568*D$9)/Setup!$C$10","v":0},{"$f":"(E568*E$9)/Setup!$C$10","v":0},{"$f":"(F568*F$9)/Setup!$C$10","v":0},{"$f":"(G568*G$9)/Setup!$C$10","v":0},{"$f":"(H568*H$9)/Setup!$C$10","v":0},{"$f":"(I568*I$9)/Setup!$C$10","v":0},{"$f":"(J568*J$9)/Setup!$C$10","v":0},{"$f":"(K568*K$9)/Setup!$C$10","v":0},{"$f":"(L568*L$9)/Setup!$C$10","v":0},{"$f":"(M568*M$9)/Setup!$C$10","v":0},{"$f":"(N568*N$9)/Setup!$C$10","v":0},{"$f":"(O568*O$9)/Setup!$C$10","v":0},{"$f":"(P568*P$9)/Setup!$C$10","v":0},{"$f":"(Q568*Q$9)/Setup!$C$10","v":0},{"$f":"(R568*R$9)/Setup!$C$10","v":0},{"$f":"(S568*S$9)/Setup!$C$10","v":0},{"$f":"(T568*T$9)/Setup!$C$10","v":0},{"$f":"(U568*U$9)/Setup!$C$10","v":0},{"$f":"(V568*V$9)/Setup!$C$10","v":0},{"$f":"(W568*W$9)/Setup!$C$10","v":0},{"$f":"(X568*X$9)/Setup!$C$10","v":0},0,0,null,0,0,0]
["2015-02-16","Week 33",{"$f":"(C569*C$9)/Setup!$C$10","v":0},{"$f":"(D569*D$9)/Setup!$C$10","v":0},{"$f":"(E569*E$9)/Setup!$C$10","v":0},{"$f":"(F569*F$9)/Setup!$C$10","v":0},{"$f":"(G569*G$9)/Setup!$C$10","v":0},{"$f":"(H569*H$9)/Setup!$C$10","v":0},{"$f":"(I569*I$9)/Setup!$C$10","v":0},{"$f":"(J569*J$9)/Setup!$C$10","v":0},{"$f":"(K569*K$9)/Setup!$C$10","v":0},{"$f":"(L569*L$9)/Setup!$C$10","v":0},{"$f":"(M569*M$9)/Setup!$C$10","v":0},{"$f":"(N569*N$9)/Setup!$C$10","v":0},{"$f":"(O569*O$9)/Setup!$C$10","v":0},{"$f":"(P569*P$9)/Setup!$C$10","v":0},{"$f":"(Q569*Q$9)/Setup!$C$10","v":0},{"$f":"(R569*R$9)/Setup!$C$10","v":0},{"$f":"(S569*S$9)/Setup!$C$10","v":0},{"$f":"(T569*T$9)/Setup!$C$10","v":0},{"$f":"(U569*U$9)/Setup!$C$10","v":0},{"$f":"(V569*V$9)/Setup!$C$10","v":0},{"$f":"(W569*W$9)/Setup!$C$10","v":0},{"$f":"(X569*X$9)/Setup!$C$10","v":0},0,0,null,0,0,0]
["2015-02-23","Week 34",{"$f":"(C570*C$9)/Setup!$C$10","v":0},{"$f":"(D570*D$9)/Setup!$C$10","v":0},{"$f":"(E570*E$9)/Setup!$C$10","v":0},{"$f":"(F570*F$9)/Setup!$C$10","v":0},{"$f":"(G570*G$9)/Setup!$C$10","v":0},{"$f":"(H570*H$9)/Setup!$C$10","v":0},{"$f":"(I570*I$9)/Setup!$C$10","v":0},{"$f":"(J570*J$9)/Setup!$C$10","v":0},{"$f":"(K570*K$9)/Setup!$C$10","v":0},{"$f":"(L570*L$9)/Setup!$C$10","v":0},{"$f":"(M570*M$9)/Setup!$C$10","v":0},{"$f":"(N570*N$9)/Setup!$C$10","v":0},{"$f":"(O570*O$9)/Setup!$C$10","v":0},{"$f":"(P570*P$9)/Setup!$C$10","v":0},{"$f":"(Q570*Q$9)/Setup!$C$10","v":0},{"$f":"(R570*R$9)/Setup!$C$10","v":0},{"$f":"(S570*S$9)/Setup!$C$10","v":0},{"$f":"(T570*T$9)/Setup!$C$10","v":0},{"$f":"(U570*U$9)/Setup!$C$10","v":0},{"$f":"(V570*V$9)/Setup!$C$10","v":0},{"$f":"(W570*W$9)/Setup!$C$10","v":0},{"$f":"(X570*X$9)/Setup!$C$10","v":0},0,0,null,0,0,0]
["2015-03-02","Week 35",{"$f":"(C571*C$9)/Setup!$C$10","v":0},{"$f":"(D571*D$9)/Setup!$C$10","v":0},{"$f":"(E571*E$9)/Setup!$C$10","v":0},{"$f":"(F571*F$9)/Setup!$C$10","v":0},{"$f":"(G571*G$9)/Setup!$C$10","v":0},{"$f":"(H571*H$9)/Setup!$C$10","v":0},{"$f":"(I571*I$9)/Setup!$C$10","v":0},{"$f":"(J571*J$9)/Setup!$C$10","v":0},{"$f":"(K571*K$9)/Setup!$C$10","v":0},{"$f":"(L571*L$9)/Setup!$C$10","v":0},{"$f":"(M571*M$9)/Setup!$C$10","v":0},{"$f":"(N571*N$9)/Setup!$C$10","v":0},{"$f":"(O571*O$9)/Setup!$C$10","v":0},{"$f":"(P571*P$9)/Setup!$C$10","v":0},{"$f":"(Q571*Q$9)/Setup!$C$10","v":0},{"$f":"(R571*R$9)/Setup!$C$10","v":0},{"$f":"(S571*S$9)/Setup!$C$10","v":0},{"$f":"(T571*T$9)/Setup!$C$10","v":0},{"$f":"(U571*U$9)/Setup!$C$10","v":0},{"$f":"(V571*V$9)/Setup!$C$10","v":0},{"$f":"(W571*W$9)/Setup!$C$10","v":0},{"$f":"(X571*X$9)/Setup!$C$10","v":0},0,0,null,0,0,0]
["2015-03-09","Week 36",{"$f":"(C572*C$9)/Setup!$C$10","v":0},{"$f":"(D572*D$9)/Setup!$C$10","v":0},{"$f":"(E572*E$9)/Setup!$C$10","v":0},{"$f":"(F572*F$9)/Setup!$C$10","v":0},{"$f":"(G572*G$9)/Setup!$C$10","v":0},{"$f":"(H572*H$9)/Setup!$C$10","v":0},{"$f":"(I572*I$9)/Setup!$C$10","v":0},{"$f":"(J572*J$9)/Setup!$C$10","v":0},{"$f":"(K572*K$9)/Setup!$C$10","v":0},{"$f":"(L572*L$9)/Setup!$C$10","v":0},{"$f":"(M572*M$9)/Setup!$C$10","v":0},{"$f":"(N572*N$9)/Setup!$C$10","v":0},{"$f":"(O572*O$9)/Setup!$C$10","v":0},{"$f":"(P572*P$9)/Setup!$C$10","v":0},{"$f":"(Q572*Q$9)/Setup!$C$10","v":0},{"$f":"(R572*R$9)/Setup!$C$10","v":0},{"$f":"(S572*S$9)/Setup!$C$10","v":0},{"$f":"(T572*T$9)/Setup!$C$10","v":0},{"$f":"(U572*U$9)/Setup!$C$10","v":0},{"$f":"(V572*V$9)/Setup!$C$10","v":0},{"$f":"(W572*W$9)/Setup!$C$10","v":0},{"$f":"(X572*X$9)/Setup!$C$10","v":0},0,0,null,0,0,0]
["2015-03-16","Week 37",{"$f":"(C573*C$9)/Setup!$C$10","v":0},{"$f":"(D573*D$9)/Setup!$C$10","v":0},{"$f":"(E573*E$9)/Setup!$C$10","v":0},{"$f":"(F573*F$9)/Setup!$C$10","v":0},{"$f":"(G573*G$9)/Setup!$C$10","v":0},{"$f":"(H573*H$9)/Setup!$C$10","v":0},{"$f":"(I573*I$9)/Setup!$C$10","v":0},{"$f":"(J573*J$9)/Setup!$C$10","v":0},{"$f":"(K573*K$9)/Setup!$C$10","v":0},{"$f":"(L573*L$9)/Setup!$C$10","v":0},{"$f":"(M573*M$9)/Setup!$C$10","v":0},{"$f":"(N573*N$9)/Setup!$C$10","v":0},{"$f":"(O573*O$9)/Setup!$C$10","v":0},{"$f":"(P573*P$9)/Setup!$C$10","v":0},{"$f":"(Q573*Q$9)/Setup!$C$10","v":0},{"$f":"(R573*R$9)/Setup!$C$10","v":0},{"$f":"(S573*S$9)/Setup!$C$10","v":0},{"$f":"(T573*T$9)/Setup!$C$10","v":0},{"$f":"(U573*U$9)/Setup!$C$10","v":0},{"$f":"(V573*V$9)/Setup!$C$10","v":0},{"$f":"(W573*W$9)/Setup!$C$10","v":0},{"$f":"(X573*X$9)/Setup!$C$10","v":0},0,0,null,0,0,0]
["2015-03-23","Week 38",{"$f":"(C574*C$9)/Setup!$C$10","v":0},{"$f":"(D574*D$9)/Setup!$C$10","v":0},{"$f":"(E574*E$9)/Setup!$C$10","v":0},{"$f":"(F574*F$9)/Setup!$C$10","v":0},{"$f":"(G574*G$9)/Setup!$C$10","v":0},{"$f":"(H574*H$9)/Setup!$C$10","v":0},{"$f":"(I574*I$9)/Setup!$C$10","v":0},{"$f":"(J574*J$9)/Setup!$C$10","v":0},{"$f":"(K574*K$9)/Setup!$C$10","v":0},{"$f":"(L574*L$9)/Setup!$C$10","v":0},{"$f":"(M574*M$9)/Setup!$C$10","v":0},{"$f":"(N574*N$9)/Setup!$C$10","v":0},{"$f":"(O574*O$9)/Setup!$C$10","v":0},{"$f":"(P574*P$9)/Setup!$C$10","v":0},{"$f":"(Q574*Q$9)/Setup!$C$10","v":0},{"$f":"(R574*R$9)/Setup!$C$10","v":0},{"$f":"(S574*S$9)/Setup!$C$10","v":0},{"$f":"(T574*T$9)/Setup!$C$10","v":0},{"$f":"(U574*U$9)/Setup!$C$10","v":0},{"$f":"(V574*V$9)/Setup!$C$10","v":0},{"$f":"(W574*W$9)/Setup!$C$10","v":0},{"$f":"(X574*X$9)/Setup!$C$10","v":0},0,0,null,32.800000000000004,32.800000000000004,32.800000000000004]
["2015-03-30","Week 39",{"$f":"(C575*C$9)/Setup!$C$10","v":0},{"$f":"(D575*D$9)/Setup!$C$10","v":0},{"$f":"(E575*E$9)/Setup!$C$10","v":0},{"$f":"(F575*F$9)/Setup!$C$10","v":0},{"$f":"(G575*G$9)/Setup!$C$10","v":0},{"$f":"(H575*H$9)/Setup!$C$10","v":0},{"$f":"(I575*I$9)/Setup!$C$10","v":0},{"$f":"(J575*J$9)/Setup!$C$10","v":0},{"$f":"(K575*K$9)/Setup!$C$10","v":0},{"$f":"(L575*L$9)/Setup!$C$10","v":0},{"$f":"(M575*M$9)/Setup!$C$10","v":0},{"$f":"(N575*N$9)/Setup!$C$10","v":0},{"$f":"(O575*O$9)/Setup!$C$10","v":0},{"$f":"(P575*P$9)/Setup!$C$10","v":0},{"$f":"(Q575*Q$9)/Setup!$C$10","v":0},{"$f":"(R575*R$9)/Setup!$C$10","v":0},{"$f":"(S575*S$9)/Setup!$C$10","v":0},{"$f":"(T575*T$9)/Setup!$C$10","v":0},{"$f":"(U575*U$9)/Setup!$C$10","v":0},{"$f":"(V575*V$9)/Setup!$C$10","v":0},{"$f":"(W575*W$9)/Setup!$C$10","v":0},{"$f":"(X575*X$9)/Setup!$C$10","v":0},0,0,null,32,32,32]
["2015-04-06","Week 40",{"$f":"(C576*C$9)/Setup!$C$10","v":0},{"$f":"(D576*D$9)/Setup!$C$10","v":0},{"$f":"(E576*E$9)/Setup!$C$10","v":0},{"$f":"(F576*F$9)/Setup!$C$10","v":0},{"$f":"(G576*G$9)/Setup!$C$10","v":0},{"$f":"(H576*H$9)/Setup!$C$10","v":0},{"$f":"(I576*I$9)/Setup!$C$10","v":0},{"$f":"(J576*J$9)/Setup!$C$10","v":0},{"$f":"(K576*K$9)/Setup!$C$10","v":0},{"$f":"(L576*L$9)/Setup!$C$10","v":0},{"$f":"(M576*M$9)/Setup!$C$10","v":0},{"$f":"(N576*N$9)/Setup!$C$10","v":0},{"$f":"(O576*O$9)/Setup!$C$10","v":0},{"$f":"(P576*P$9)/Setup!$C$10","v":0},{"$f":"(Q576*Q$9)/Setup!$C$10","v":0},{"$f":"(R576*R$9)/Setup!$C$10","v":0},{"$f":"(S576*S$9)/Setup!$C$10","v":0},{"$f":"(T576*T$9)/Setup!$C$10","v":0},{"$f":"(U576*U$9)/Setup!$C$10","v":0},{"$f":"(V576*V$9)/Setup!$C$10","v":0},{"$f":"(W576*W$9)/Setup!$C$10","v":0},{"$f":"(X576*X$9)/Setup!$C$10","v":0},0,0,null,32,32,32]
[{"$f":"A461","v":"2015-04-13"},"Week 41",{"$f":"(C577*C$9)/Setup!$C$10","v":0},{"$f":"(D577*D$9)/Setup!$C$10","v":0},{"$f":"(E577*E$9)/Setup!$C$10","v":0},{"$f":"(F577*F$9)/Setup!$C$10","v":0},{"$f":"(G577*G$9)/Setup!$C$10","v":0},{"$f":"(H577*H$9)/Setup!$C$10","v":0},{"$f":"(I577*I$9)/Setup!$C$10","v":0},{"$f":"(J577*J$9)/Setup!$C$10","v":0},{"$f":"(K577*K$9)/Setup!$C$10","v":0},{"$f":"(L577*L$9)/Setup!$C$10","v":0},{"$f":"(M577*M$9)/Setup!$C$10","v":0},{"$f":"(N577*N$9)/Setup!$C$10","v":0},{"$f":"(O577*O$9)/Setup!$C$10","v":0},{"$f":"(P577*P$9)/Setup!$C$10","v":0},{"$f":"(Q577*Q$9)/Setup!$C$10","v":0},{"$f":"(R577*R$9)/Setup!$C$10","v":0},{"$f":"(S577*S$9)/Setup!$C$10","v":0},{"$f":"(T577*T$9)/Setup!$C$10","v":0},{"$f":"(U577*U$9)/Setup!$C$10","v":0},{"$f":"(V577*V$9)/Setup!$C$10","v":0},{"$f":"(W577*W$9)/Setup!$C$10","v":0},{"$f":"(X577*X$9)/Setup!$C$10","v":0},0,0,null,32,32,32]
["2015-04-20","Week 42",{"$f":"(C578*C$9)/Setup!$C$10","v":0},{"$f":"(D578*D$9)/Setup!$C$10","v":0},{"$f":"(E578*E$9)/Setup!$C$10","v":0},{"$f":"(F578*F$9)/Setup!$C$10","v":0},{"$f":"(G578*G$9)/Setup!$C$10","v":0},{"$f":"(H578*H$9)/Setup!$C$10","v":0},{"$f":"(I578*I$9)/Setup!$C$10","v":0},{"$f":"(J578*J$9)/Setup!$C$10","v":0},{"$f":"(K578*K$9)/Setup!$C$10","v":0},{"$f":"(L578*L$9)/Setup!$C$10","v":0},{"$f":"(M578*M$9)/Setup!$C$10","v":0},{"$f":"(N578*N$9)/Setup!$C$10","v":0},{"$f":"(O578*O$9)/Setup!$C$10","v":0},{"$f":"(P578*P$9)/Setup!$C$10","v":0},{"$f":"(Q578*Q$9)/Setup!$C$10","v":0},{"$f":"(R578*R$9)/Setup!$C$10","v":0},{"$f":"(S578*S$9)/Setup!$C$10","v":0},{"$f":"(T578*T$9)/Setup!$C$10","v":0},{"$f":"(U578*U$9)/Setup!$C$10","v":0},{"$f":"(V578*V$9)/Setup!$C$10","v":0},{"$f":"(W578*W$9)/Setup!$C$10","v":0},{"$f":"(X578*X$9)/Setup!$C$10","v":0},0,0,null,0,0,0]
["2015-04-27","Week 43",{"$f":"(C579*C$9)/Setup!$C$10","v":0},{"$f":"(D579*D$9)/Setup!$C$10","v":0},{"$f":"(E579*E$9)/Setup!$C$10","v":0},{"$f":"(F579*F$9)/Setup!$C$10","v":0},{"$f":"(G579*G$9)/Setup!$C$10","v":0},{"$f":"(H579*H$9)/Setup!$C$10","v":0},{"$f":"(I579*I$9)/Setup!$C$10","v":0},{"$f":"(J579*J$9)/Setup!$C$10","v":0},{"$f":"(K579*K$9)/Setup!$C$10","v":0},{"$f":"(L579*L$9)/Setup!$C$10","v":0},{"$f":"(M579*M$9)/Setup!$C$10","v":0},{"$f":"(N579*N$9)/Setup!$C$10","v":0},{"$f":"(O579*O$9)/Setup!$C$10","v":0},{"$f":"(P579*P$9)/Setup!$C$10","v":0},{"$f":"(Q579*Q$9)/Setup!$C$10","v":0},{"$f":"(R579*R$9)/Setup!$C$10","v":0},{"$f":"(S579*S$9)/Setup!$C$10","v":0},{"$f":"(T579*T$9)/Setup!$C$10","v":0},{"$f":"(U579*U$9)/Setup!$C$10","v":0},{"$f":"(V579*V$9)/Setup!$C$10","v":0},{"$f":"(W579*W$9)/Setup!$C$10","v":0},{"$f":"(X579*X$9)/Setup!$C$10","v":0},0,0,null,0,0,0]
["2015-05-04","Week 44",{"$f":"(C580*C$9)/Setup!$C$10","v":0},{"$f":"(D580*D$9)/Setup!$C$10","v":0},{"$f":"(E580*E$9)/Setup!$C$10","v":0},{"$f":"(F580*F$9)/Setup!$C$10","v":0},{"$f":"(G580*G$9)/Setup!$C$10","v":0},{"$f":"(H580*H$9)/Setup!$C$10","v":0},{"$f":"(I580*I$9)/Setup!$C$10","v":0},{"$f":"(J580*J$9)/Setup!$C$10","v":0},{"$f":"(K580*K$9)/Setup!$C$10","v":0},{"$f":"(L580*L$9)/Setup!$C$10","v":0},{"$f":"(M580*M$9)/Setup!$C$10","v":0},{"$f":"(N580*N$9)/Setup!$C$10","v":0},{"$f":"(O580*O$9)/Setup!$C$10","v":0},{"$f":"(P580*P$9)/Setup!$C$10","v":0},{"$f":"(Q580*Q$9)/Setup!$C$10","v":0},{"$f":"(R580*R$9)/Setup!$C$10","v":0},{"$f":"(S580*S$9)/Setup!$C$10","v":0},{"$f":"(T580*T$9)/Setup!$C$10","v":0},{"$f":"(U580*U$9)/Setup!$C$10","v":0},{"$f":"(V580*V$9)/Setup!$C$10","v":0},{"$f":"(W580*W$9)/Setup!$C$10","v":0},{"$f":"(X580*X$9)/Setup!$C$10","v":0},0,0,null,0,0,0]
["2015-05-11","Week 45",{"$f":"(C581*C$9)/Setup!$C$10","v":0},{"$f":"(D581*D$9)/Setup!$C$10","v":0},{"$f":"(E581*E$9)/Setup!$C$10","v":0},{"$f":"(F581*F$9)/Setup!$C$10","v":0},{"$f":"(G581*G$9)/Setup!$C$10","v":0},{"$f":"(H581*H$9)/Setup!$C$10","v":0},{"$f":"(I581*I$9)/Setup!$C$10","v":0},{"$f":"(J581*J$9)/Setup!$C$10","v":0},{"$f":"(K581*K$9)/Setup!$C$10","v":0},{"$f":"(L581*L$9)/Setup!$C$10","v":0},{"$f":"(M581*M$9)/Setup!$C$10","v":0},{"$f":"(N581*N$9)/Setup!$C$10","v":0},{"$f":"(O581*O$9)/Setup!$C$10","v":0},{"$f":"(P581*P$9)/Setup!$C$10","v":0},{"$f":"(Q581*Q$9)/Setup!$C$10","v":0},{"$f":"(R581*R$9)/Setup!$C$10","v":0},{"$f":"(S581*S$9)/Setup!$C$10","v":0},{"$f":"(T581*T$9)/Setup!$C$10","v":0},{"$f":"(U581*U$9)/Setup!$C$10","v":0},{"$f":"(V581*V$9)/Setup!$C$10","v":0},{"$f":"(W581*W$9)/Setup!$C$10","v":0},{"$f":"(X581*X$9)/Setup!$C$10","v":0},0,0,null,0,0,0]
["2015-05-18","Week 46",{"$f":"(C582*C$9)/Setup!$C$10","v":0},{"$f":"(D582*D$9)/Setup!$C$10","v":0},{"$f":"(E582*E$9)/Setup!$C$10","v":0},{"$f":"(F582*F$9)/Setup!$C$10","v":0},{"$f":"(G582*G$9)/Setup!$C$10","v":0},{"$f":"(H582*H$9)/Setup!$C$10","v":0},{"$f":"(I582*I$9)/Setup!$C$10","v":0},{"$f":"(J582*J$9)/Setup!$C$10","v":0},{"$f":"(K582*K$9)/Setup!$C$10","v":0},{"$f":"(L582*L$9)/Setup!$C$10","v":0},{"$f":"(M582*M$9)/Setup!$C$10","v":0},{"$f":"(N582*N$9)/Setup!$C$10","v":0},{"$f":"(O582*O$9)/Setup!$C$10","v":0},{"$f":"(P582*P$9)/Setup!$C$10","v":0},{"$f":"(Q582*Q$9)/Setup!$C$10","v":0},{"$f":"(R582*R$9)/Setup!$C$10","v":0},{"$f":"(S582*S$9)/Setup!$C$10","v":0},{"$f":"(T582*T$9)/Setup!$C$10","v":0},{"$f":"(U582*U$9)/Setup!$C$10","v":0},{"$f":"(V582*V$9)/Setup!$C$10","v":0},{"$f":"(W582*W$9)/Setup!$C$10","v":0},{"$f":"(X582*X$9)/Setup!$C$10","v":0},0,0,null,0,0,0]
["2015-05-25","Week 47",{"$f":"(C583*C$9)/Setup!$C$10","v":0},{"$f":"(D583*D$9)/Setup!$C$10","v":0},{"$f":"(E583*E$9)/Setup!$C$10","v":0},{"$f":"(F583*F$9)/Setup!$C$10","v":0},{"$f":"(G583*G$9)/Setup!$C$10","v":0},{"$f":"(H583*H$9)/Setup!$C$10","v":0},{"$f":"(I583*I$9)/Setup!$C$10","v":0},{"$f":"(J583*J$9)/Setup!$C$10","v":0},{"$f":"(K583*K$9)/Setup!$C$10","v":0},{"$f":"(L583*L$9)/Setup!$C$10","v":0},{"$f":"(M583*M$9)/Setup!$C$10","v":0},{"$f":"(N583*N$9)/Setup!$C$10","v":0},{"$f":"(O583*O$9)/Setup!$C$10","v":0},{"$f":"(P583*P$9)/Setup!$C$10","v":0},{"$f":"(Q583*Q$9)/Setup!$C$10","v":0},{"$f":"(R583*R$9)/Setup!$C$10","v":0},{"$f":"(S583*S$9)/Setup!$C$10","v":0},{"$f":"(T583*T$9)/Setup!$C$10","v":0},{"$f":"(U583*U$9)/Setup!$C$10","v":0},{"$f":"(V583*V$9)/Setup!$C$10","v":0},{"$f":"(W583*W$9)/Setup!$C$10","v":0},{"$f":"(X583*X$9)/Setup!$C$10","v":0},0,0,null,0,0,0]
["2015-06-01","Week 48",{"$f":"(C584*C$9)/Setup!$C$10","v":0},{"$f":"(D584*D$9)/Setup!$C$10","v":0},{"$f":"(E584*E$9)/Setup!$C$10","v":0},{"$f":"(F584*F$9)/Setup!$C$10","v":0},{"$f":"(G584*G$9)/Setup!$C$10","v":0},{"$f":"(H584*H$9)/Setup!$C$10","v":0},{"$f":"(I584*I$9)/Setup!$C$10","v":0},{"$f":"(J584*J$9)/Setup!$C$10","v":0},{"$f":"(K584*K$9)/Setup!$C$10","v":0},{"$f":"(L584*L$9)/Setup!$C$10","v":0},{"$f":"(M584*M$9)/Setup!$C$10","v":0},{"$f":"(N584*N$9)/Setup!$C$10","v":0},{"$f":"(O584*O$9)/Setup!$C$10","v":0},{"$f":"(P584*P$9)/Setup!$C$10","v":0},{"$f":"(Q584*Q$9)/Setup!$C$10","v":0},{"$f":"(R584*R$9)/Setup!$C$10","v":0},{"$f":"(S584*S$9)/Setup!$C$10","v":0},{"$f":"(T584*T$9)/Setup!$C$10","v":0},{"$f":"(U584*U$9)/Setup!$C$10","v":0},{"$f":"(V584*V$9)/Setup!$C$10","v":0},{"$f":"(W584*W$9)/Setup!$C$10","v":0},{"$f":"(X584*X$9)/Setup!$C$10","v":0},0,0,null,0,0,0]
["2015-06-08","Week 49",{"$f":"(C585*C$9)/Setup!$C$10","v":0},{"$f":"(D585*D$9)/Setup!$C$10","v":0},{"$f":"(E585*E$9)/Setup!$C$10","v":0},{"$f":"(F585*F$9)/Setup!$C$10","v":0},{"$f":"(G585*G$9)/Setup!$C$10","v":0},{"$f":"(H585*H$9)/Setup!$C$10","v":0},{"$f":"(I585*I$9)/Setup!$C$10","v":0},{"$f":"(J585*J$9)/Setup!$C$10","v":0},{"$f":"(K585*K$9)/Setup!$C$10","v":0},{"$f":"(L585*L$9)/Setup!$C$10","v":0},{"$f":"(M585*M$9)/Setup!$C$10","v":0},{"$f":"(N585*N$9)/Setup!$C$10","v":0},{"$f":"(O585*O$9)/Setup!$C$10","v":0},{"$f":"(P585*P$9)/Setup!$C$10","v":0},{"$f":"(Q585*Q$9)/Setup!$C$10","v":0},{"$f":"(R585*R$9)/Setup!$C$10","v":0},{"$f":"(S585*S$9)/Setup!$C$10","v":0},{"$f":"(T585*T$9)/Setup!$C$10","v":0},{"$f":"(U585*U$9)/Setup!$C$10","v":0},{"$f":"(V585*V$9)/Setup!$C$10","v":0},{"$f":"(W585*W$9)/Setup!$C$10","v":0},{"$f":"(X585*X$9)/Setup!$C$10","v":0},0,0,null,0,0,0]
["2015-06-15","Week 50",{"$f":"(C586*C$9)/Setup!$C$10","v":0},{"$f":"(D586*D$9)/Setup!$C$10","v":0},{"$f":"(E586*E$9)/Setup!$C$10","v":0},{"$f":"(F586*F$9)/Setup!$C$10","v":0},{"$f":"(G586*G$9)/Setup!$C$10","v":0},{"$f":"(H586*H$9)/Setup!$C$10","v":0},{"$f":"(I586*I$9)/Setup!$C$10","v":0},{"$f":"(J586*J$9)/Setup!$C$10","v":0},{"$f":"(K586*K$9)/Setup!$C$10","v":0},{"$f":"(L586*L$9)/Setup!$C$10","v":0},{"$f":"(M586*M$9)/Setup!$C$10","v":0},{"$f":"(N586*N$9)/Setup!$C$10","v":0},{"$f":"(O586*O$9)/Setup!$C$10","v":0},{"$f":"(P586*P$9)/Setup!$C$10","v":0},{"$f":"(Q586*Q$9)/Setup!$C$10","v":0},{"$f":"(R586*R$9)/Setup!$C$10","v":0},{"$f":"(S586*S$9)/Setup!$C$10","v":0},{"$f":"(T586*T$9)/Setup!$C$10","v":0},{"$f":"(U586*U$9)/Setup!$C$10","v":0},{"$f":"(V586*V$9)/Setup!$C$10","v":0},{"$f":"(W586*W$9)/Setup!$C$10","v":0},{"$f":"(X586*X$9)/Setup!$C$10","v":0},0,0,null,0,0,0]
["2015-06-22","Week 51",{"$f":"(C587*C$9)/Setup!$C$10","v":0},{"$f":"(D587*D$9)/Setup!$C$10","v":0},{"$f":"(E587*E$9)/Setup!$C$10","v":0},{"$f":"(F587*F$9)/Setup!$C$10","v":0},{"$f":"(G587*G$9)/Setup!$C$10","v":0},{"$f":"(H587*H$9)/Setup!$C$10","v":0},{"$f":"(I587*I$9)/Setup!$C$10","v":0},{"$f":"(J587*J$9)/Setup!$C$10","v":0},{"$f":"(K587*K$9)/Setup!$C$10","v":0},{"$f":"(L587*L$9)/Setup!$C$10","v":0},{"$f":"(M587*M$9)/Setup!$C$10","v":0},{"$f":"(N587*N$9)/Setup!$C$10","v":0},{"$f":"(O587*O$9)/Setup!$C$10","v":0},{"$f":"(P587*P$9)/Setup!$C$10","v":0},{"$f":"(Q587*Q$9)/Setup!$C$10","v":0},{"$f":"(R587*R$9)/Setup!$C$10","v":0},{"$f":"(S587*S$9)/Setup!$C$10","v":0},{"$f":"(T587*T$9)/Setup!$C$10","v":0},{"$f":"(U587*U$9)/Setup!$C$10","v":0},{"$f":"(V587*V$9)/Setup!$C$10","v":0},{"$f":"(W587*W$9)/Setup!$C$10","v":0},{"$f":"(X587*X$9)/Setup!$C$10","v":0},0,0,null,0,0,0]
["2015-06-29","Week 52",{"$f":"(C588*C$9)/Setup!$C$10","v":0},{"$f":"(D588*D$9)/Setup!$C$10","v":0},{"$f":"(E588*E$9)/Setup!$C$10","v":0},{"$f":"(F588*F$9)/Setup!$C$10","v":0},{"$f":"(G588*G$9)/Setup!$C$10","v":0},{"$f":"(H588*H$9)/Setup!$C$10","v":0},{"$f":"(I588*I$9)/Setup!$C$10","v":0},{"$f":"(J588*J$9)/Setup!$C$10","v":0},{"$f":"(K588*K$9)/Setup!$C$10","v":0},{"$f":"(L588*L$9)/Setup!$C$10","v":0},{"$f":"(M588*M$9)/Setup!$C$10","v":0},{"$f":"(N588*N$9)/Setup!$C$10","v":0},{"$f":"(O588*O$9)/Setup!$C$10","v":0},{"$f":"(P588*P$9)/Setup!$C$10","v":0},{"$f":"(Q588*Q$9)/Setup!$C$10","v":0},{"$f":"(R588*R$9)/Setup!$C$10","v":0},{"$f":"(S588*S$9)/Setup!$C$10","v":0},{"$f":"(T588*T$9)/Setup!$C$10","v":0},{"$f":"(U588*U$9)/Setup!$C$10","v":0},{"$f":"(V588*V$9)/Setup!$C$10","v":0},{"$f":"(W588*W$9)/Setup!$C$10","v":0},{"$f":"(X588*X$9)/Setup!$C$10","v":0},0,0,null,0,0,0]
[null,null,null,null,null,null,null,null,null,null,null,null,null,null,null,null,null,null,null,null,null,null,null,null,null,null,null,{"$f":"SUM(AB192:AB243)","v":400.11600000000004},{"$f":"SUM(AC192:AC243)","v":600.21299999999997},{"$f":"SUM(AD192:AD243)","v":399.81299999999993}]
[]
["Proposed Weekly N (Kg) / Hectare (Ha):"]
[]
[null,null,"Ammonium Nitrate","Ammonium Sulphate","Borax","Calcium Nitrate","Copper Sulphate","FertiMix","Iron Chelate","Iron Sulphate","Magnesium Sulphate","Manganese Sulphate","Mono-Ammonium Phosphate","Mono-Potassium Phosphate","Nitric Acid","Phosphoric Acid","Potassium Chloride","Potassium Nitrate","Potassium Sulphate","Sodium Molybdenum","Sulphuric Acid","Urea","Zinc Oxide","Zinc Sulphate"]
[null,null,"NH4NO3","(NH4)2SO4","Na2B4O7.10H2O","Ca(NO3)2","CuSO4.5H2O",null,"EDDHA","FeSO4.7H2O","MgSO4.7H2O","MnSO4.H2O","NH4H2PO4","KH2PO4","HNO3","PO4H3","KCl","KNO3","K2SO4","Na2MoO4","H2SO4","CO(NH2)2","ZnO","ZnSO4.7H2O",null,"TOTAL","N/week"]
[{"$f":"A421","v":"2014-07-07"},"Week 1",{"$f":"(C479*C$7)/Setup!$C$10","v":{"$error":"#VALUE!"}},{"$f":"(D479*D$7)/Setup!$C$10","v":{"$error":"#VALUE!"}},{"$f":"(E479*E$7)/Setup!$C$10","v":{"$error":"#VALUE!"}},{"$f":"(F479*F$7)/Setup!$C$10","v":{"$error":"#VALUE!"}},{"$f":"(G479*G$7)/Setup!$C$10","v":{"$error":"#VALUE!"}},{"$f":"(H479*H$7)/Setup!$C$10","v":{"$error":"#VALUE!"}},{"$f":"(I479*I$7)/Setup!$C$10","v":{"$error":"#VALUE!"}},{"$f":"(J479*J$7)/Setup!$C$10","v":{"$error":"#VALUE!"}},{"$f":"(K479*K$7)/Setup!$C$10","v":{"$error":"#VALUE!"}},{"$f":"(L479*L$7)/Setup!$C$10","v":{"$error":"#VALUE!"}},{"$f":"(M479*M$7)/Setup!$C$10","v":{"$error":"#VALUE!"}},{"$f":"(N479*N$7)/Setup!$C$10","v":{"$error":"#VALUE!"}},{"$f":"(O479*O$7)/Setup!$C$10","v":{"$error":"#VALUE!"}},{"$f":"(P479*P$7)/Setup!$C$10","v":{"$error":"#VALUE!"}},{"$f":"(Q479*Q$7)/Setup!$C$10","v":{"$error":"#VALUE!"}},{"$f":"(R479*R$7)/Setup!$C$10","v":{"$error":"#VALUE!"}},{"$f":"(S479*S$7)/Setup!$C$10","v":{"$error":"#VALUE!"}},{"$f":"(T479*T$7)/Setup!$C$10","v":{"$error":"#VALUE!"}},{"$f":"(U479*U$7)/Setup!$C$10","v":{"$error":"#VALUE!"}},{"$f":"(V479*V$7)/Setup!$C$10","v":{"$error":"#VALUE!"}},{"$f":"(W479*W$7)/Setup!$C$10","v":{"$error":"#VALUE!"}},{"$f":"(X479*X$7)/Setup!$C$10","v":{"$error":"#VALUE!"}},null,{"$f":"SUM(C250:X250)","v":{"$error":"#VALUE!"}},{"$f":"SUM(C250:X250)","v":{"$error":"#VALUE!"}}]
["2014-07-14","Week 2",{"$f":"(C480*C$7)/Setup!$C$10","v":{"$error":"#VALUE!"}},{"$f":"(D480*D$7)/Setup!$C$10","v":{"$error":"#VALUE!"}},{"$f":"(E480*E$7)/Setup!$C$10","v":{"$error":"#VALUE!"}},{"$f":"(F480*F$7)/Setup!$C$10","v":{"$error":"#VALUE!"}},{"$f":"(G480*G$7)/Setup!$C$10","v":{"$error":"#VALUE!"}},{"$f":"(H480*H$7)/Setup!$C$10","v":{"$error":"#VALUE!"}},{"$f":"(I480*I$7)/Setup!$C$10","v":{"$error":"#VALUE!"}},{"$f":"(J480*J$7)/Setup!$C$10","v":{"$error":"#VALUE!"}},{"$f":"(K480*K$7)/Setup!$C$10","v":{"$error":"#VALUE!"}},{"$f":"(L480*L$7)/Setup!$C$10","v":{"$error":"#VALUE!"}},{"$f":"(M480*M$7)/Setup!$C$10","v":{"$error":"#VALUE!"}},{"$f":"(N480*N$7)/Setup!$C$10","v":{"$error":"#VALUE!"}},{"$f":"(O480*O$7)/Setup!$C$10","v":{"$error":"#VALUE!"}},{"$f":"(P480*P$7)/Setup!$C$10","v":{"$error":"#VALUE!"}},{"$f":"(Q480*Q$7)/Setup!$C$10","v":{"$error":"#VALUE!"}},{"$f":"(R480*R$7)/Setup!$C$10","v":{"$error":"#VALUE!"}},{"$f":"(S480*S$7)/Setup!$C$10","v":{"$error":"#VALUE!"}},{"$f":"(T480*T$7)/Setup!$C$10","v":{"$error":"#VALUE!"}},{"$f":"(U480*U$7)/Setup!$C$10","v":{"$error":"#VALUE!"}},{"$f":"(V480*V$7)/Setup!$C$10","v":{"$error":"#VALUE!"}},{"$f":"(W480*W$7)/Setup!$C$10","v":{"$error":"#VALUE!"}},{"$f":"(X480*X$7)/Setup!$C$10","v":{"$error":"#VALUE!"}},null,{"$f":"SUM(C251:X251)+Z250","v":{"$error":"#VALUE!"}},{"$f":"SUM(C251:X251)","v":{"$error":"#VALUE!"}}]
["2014-07-21","Week 3",{"$f":"(C481*C$7)/Setup!$C$10","v":{"$error":"#VALUE!"}},{"$f":"(D481*D$7)/Setup!$C$10","v":{"$error":"#VALUE!"}},{"$f":"(E481*E$7)/Setup!$C$10","v":{"$error":"#VALUE!"}},{"$f":"(F481*F$7)/Setup!$C$10","v":{"$error":"#VALUE!"}},{"$f":"(G481*G$7)/Setup!$C$10","v":{"$error":"#VALUE!"}},{"$f":"(H481*H$7)/Setup!$C$10","v":{"$error":"#VALUE!"}},{"$f":"(I481*I$7)/Setup!$C$10","v":{"$error":"#VALUE!"}},{"$f":"(J481*J$7)/Setup!$C$10","v":{"$error":"#VALUE!"}},{"$f":"(K481*K$7)/Setup!$C$10","v":{"$error":"#VALUE!"}},{"$f":"(L481*L$7)/Setup!$C$10","v":{"$error":"#VALUE!"}},{"$f":"(M481*M$7)/Setup!$C$10","v":{"$error":"#VALUE!"}},{"$f":"(N481*N$7)/Setup!$C$10","v":{"$error":"#VALUE!"}},{"$f":"(O481*O$7)/Setup!$C$10","v":{"$error":"#VALUE!"}},{"$f":"(P481*P$7)/Setup!$C$10","v":{"$error":"#VALUE!"}},{"$f":"(Q481*Q$7)/Setup!$C$10","v":{"$error":"#VALUE!"}},{"$f":"(R481*R$7)/Setup!$C$10","v":{"$error":"#VALUE!"}},{"$f":"(S481*S$7)/Setup!$C$10","v":{"$error":"#VALUE!"}},{"$f":"(T481*T$7)/Setup!$C$10","v":{"$error":"#VALUE!"}},{"$f":"(U481*U$7)/Setup!$C$10","v":{"$error":"#VALUE!"}},{"$f":"(V481*V$7)/Setup!$C$10","v":{"$error":"#VALUE!"}},{"$f":"(W481*W$7)/Setup!$C$10","v":{"$error":"#VALUE!"}},{"$f":"(X481*X$7)/Setup!$C$10","v":{"$error":"#VALUE!"}},null,{"$error":"#VALUE!"},{"$error":"#VALUE!"}]
["2014-07-28","Week 4",{"$f":"(C482*C$7)/Setup!$C$10","v":{"$error":"#VALUE!"}},{"$f":"(D482*D$7)/Setup!$C$10","v":{"$error":"#VALUE!"}},{"$f":"(E482*E$7)/Setup!$C$10","v":{"$error":"#VALUE!"}},{"$f":"(F482*F$7)/Setup!$C$10","v":{"$error":"#VALUE!"}},{"$f":"(G482*G$7)/Setup!$C$10","v":{"$error":"#VALUE!"}},{"$f":"(H482*H$7)/Setup!$C$10","v":{"$error":"#VALUE!"}},{"$f":"(I482*I$7)/Setup!$C$10","v":{"$error":"#VALUE!"}},{"$f":"(J482*J$7)/Setup!$C$10","v":{"$error":"#VALUE!"}},{"$f":"(K482*K$7)/Setup!$C$10","v":{"$error":"#VALUE!"}},{"$f":"(L482*L$7)/Setup!$C$10","v":{"$error":"#VALUE!"}},{"$f":"(M482*M$7)/Setup!$C$10","v":{"$error":"#VALUE!"}},{"$f":"(N482*N$7)/Setup!$C$10","v":{"$error":"#VALUE!"}},{"$f":"(O482*O$7)/Setup!$C$10","v":{"$error":"#VALUE!"}},{"$f":"(P482*P$7)/Setup!$C$10","v":{"$error":"#VALUE!"}},{"$f":"(Q482*Q$7)/Setup!$C$10","v":{"$error":"#VALUE!"}},{"$f":"(R482*R$7)/Setup!$C$10","v":{"$error":"#VALUE!"}},{"$f":"(S482*S$7)/Setup!$C$10","v":{"$error":"#VALUE!"}},{"$f":"(T482*T$7)/Setup!$C$10","v":{"$error":"#VALUE!"}},{"$f":"(U482*U$7)/Setup!$C$10","v":{"$error":"#VALUE!"}},{"$f":"(V482*V$7)/Setup!$C$10","v":{"$error":"#VALUE!"}},{"$f":"(W482*W$7)/Setup!$C$10","v":{"$error":"#VALUE!"}},{"$f":"(X482*X$7)/Setup!$C$10","v":{"$error":"#VALUE!"}},null,{"$f":"SUM(C253:X253)+Z252","v":{"$error":"#VALUE!"}},{"$error":"#VALUE!"}]
["2014-08-04","Week 5",{"$f":"(C483*C$7)/Setup!$C$10","v":{"$error":"#VALUE!"}},{"$f":"(D483*D$7)/Setup!$C$10","v":{"$error":"#VALUE!"}},{"$f":"(E483*E$7)/Setup!$C$10","v":{"$error":"#VALUE!"}},{"$f":"(F483*F$7)/Setup!$C$10","v":{"$error":"#VALUE!"}},{"$f":"(G483*G$7)/Setup!$C$10","v":{"$error":"#VALUE!"}},{"$f":"(H483*H$7)/Setup!$C$10","v":{"$error":"#VALUE!"}},{"$f":"(I483*I$7)/Setup!$C$10","v":{"$error":"#VALUE!"}},{"$f":"(J483*J$7)/Setup!$C$10","v":{"$error":"#VALUE!"}},{"$f":"(K483*K$7)/Setup!$C$10","v":{"$error":"#VALUE!"}},{"$f":"(L483*L$7)/Setup!$C$10","v":{"$error":"#VALUE!"}},{"$f":"(M483*M$7)/Setup!$C$10","v":{"$error":"#VALUE!"}},{"$f":"(N483*N$7)/Setup!$C$10","v":{"$error":"#VALUE!"}},{"$f":"(O483*O$7)/Setup!$C$10","v":{"$error":"#VALUE!"}},{"$f":"(P483*P$7)/Setup!$C$10","v":{"$error":"#VALUE!"}},{"$f":"(Q483*Q$7)/Setup!$C$10","v":{"$error":"#VALUE!"}},{"$f":"(R483*R$7)/Setup!$C$10","v":{"$error":"#VALUE!"}},{"$f":"(S483*S$7)/Setup!$C$10","v":{"$error":"#VALUE!"}},{"$f":"(T483*T$7)/Setup!$C$10","v":{"$error":"#VALUE!"}},{"$f":"(U483*U$7)/Setup!$C$10","v":{"$error":"#VALUE!"}},{"$f":"(V483*V$7)/Setup!$C$10","v":{"$error":"#VALUE!"}},{"$f":"(W483*W$7)/Setup!$C$10","v":{"$error":"#VALUE!"}},{"$f":"(X483*X$7)/Setup!$C$10","v":{"$error":"#VALUE!"}},null,{"$error":"#VALUE!"},{"$error":"#VALUE!"}]
["2014-08-11","Week 6",{"$f":"(C484*C$7)/Setup!$C$10","v":{"$error":"#VALUE!"}},{"$f":"(D484*D$7)/Setup!$C$10","v":{"$error":"#VALUE!"}},{"$f":"(E484*E$7)/Setup!$C$10","v":{"$error":"#VALUE!"}},{"$f":"(F484*F$7)/Setup!$C$10","v":{"$error":"#VALUE!"}},{"$f":"(G484*G$7)/Setup!$C$10","v":{"$error":"#VALUE!"}},{"$f":"(H484*H$7)/Setup!$C$10","v":{"$error":"#VALUE!"}},{"$f":"(I484*I$7)/Setup!$C$10","v":{"$error":"#VALUE!"}},{"$f":"(J484*J$7)/Setup!$C$10","v":{"$error":"#VALUE!"}},{"$f":"(K484*K$7)/Setup!$C$10","v":{"$error":"#VALUE!"}},{"$f":"(L484*L$7)/Setup!$C$10","v":{"$error":"#VALUE!"}},{"$f":"(M484*M$7)/Setup!$C$10","v":{"$error":"#VALUE!"}},{"$f":"(N484*N$7)/Setup!$C$10","v":{"$error":"#VALUE!"}},{"$f":"(O484*O$7)/Setup!$C$10","v":{"$error":"#VALUE!"}},{"$f":"(P484*P$7)/Setup!$C$10","v":{"$error":"#VALUE!"}},{"$f":"(Q484*Q$7)/Setup!$C$10","v":{"$error":"#VALUE!"}},{"$f":"(R484*R$7)/Setup!$C$10","v":{"$error":"#VALUE!"}},{"$f":"(S484*S$7)/Setup!$C$10","v":{"$error":"#VALUE!"}},{"$f":"(T484*T$7)/Setup!$C$10","v":{"$error":"#VALUE!"}},{"$f":"(U484*U$7)/Setup!$C$10","v":{"$error":"#VALUE!"}},{"$f":"(V484*V$7)/Setup!$C$10","v":{"$error":"#VALUE!"}},{"$f":"(W484*W$7)/Setup!$C$10","v":{"$error":"#VALUE!"}},{"$f":"(X484*X$7)/Setup!$C$10","v":{"$error":"#VALUE!"}},null,{"$error":"#VALUE!"},{"$error":"#VALUE!"}]
["2014-08-18","Week 7",{"$f":"(C485*C$7)/Setup!$C$10","v":{"$error":"#VALUE!"}},{"$f":"(D485*D$7)/Setup!$C$10","v":{"$error":"#VALUE!"}},{"$f":"(E485*E$7)/Setup!$C$10","v":{"$error":"#VALUE!"}},{"$f":"(F485*F$7)/Setup!$C$10","v":{"$error":"#VALUE!"}},{"$f":"(G485*G$7)/Setup!$C$10","v":{"$error":"#VALUE!"}},{"$f":"(H485*H$7)/Setup!$C$10","v":{"$error":"#VALUE!"}},{"$f":"(I485*I$7)/Setup!$C$10","v":{"$error":"#VALUE!"}},{"$f":"(J485*J$7)/Setup!$C$10","v":{"$error":"#VALUE!"}},{"$f":"(K485*K$7)/Setup!$C$10","v":{"$error":"#VALUE!"}},{"$f":"(L485*L$7)/Setup!$C$10","v":{"$error":"#VALUE!"}},{"$f":"(M485*M$7)/Setup!$C$10","v":{"$error":"#VALUE!"}},{"$f":"(N485*N$7)/Setup!$C$10","v":{"$error":"#VALUE!"}},{"$f":"(O485*O$7)/Setup!$C$10","v":{"$error":"#VALUE!"}},{"$f":"(P485*P$7)/Setup!$C$10","v":{"$error":"#VALUE!"}},{"$f":"(Q485*Q$7)/Setup!$C$10","v":{"$error":"#VALUE!"}},{"$f":"(R485*R$7)/Setup!$C$10","v":{"$error":"#VALUE!"}},{"$f":"(S485*S$7)/Setup!$C$10","v":{"$error":"#VALUE!"}},{"$f":"(T485*T$7)/Setup!$C$10","v":{"$error":"#VALUE!"}},{"$f":"(U485*U$7)/Setup!$C$10","v":{"$error":"#VALUE!"}},{"$f":"(V485*V$7)/Setup!$C$10","v":{"$error":"#VALUE!"}},{"$f":"(W485*W$7)/Setup!$C$10","v":{"$error":"#VALUE!"}},{"$f":"(X485*X$7)/Setup!$C$10","v":{"$error":"#VALUE!"}},null,{"$error":"#VALUE!"},{"$error":"#VALUE!"}]
["2014-08-25","Week 8",{"$f":"(C486*C$7)/Setup!$C$10","v":{"$error":"#VALUE!"}},{"$f":"(D486*D$7)/Setup!$C$10","v":{"$error":"#VALUE!"}},{"$f":"(E486*E$7)/Setup!$C$10","v":{"$error":"#VALUE!"}},{"$f":"(F486*F$7)/Setup!$C$10","v":{"$error":"#VALUE!"}},{"$f":"(G486*G$7)/Setup!$C$10","v":{"$error":"#VALUE!"}},{"$f":"(H486*H$7)/Setup!$C$10","v":{"$error":"#VALUE!"}},{"$f":"(I486*I$7)/Setup!$C$10","v":{"$error":"#VALUE!"}},{"$f":"(J486*J$7)/Setup!$C$10","v":{"$error":"#VALUE!"}},{"$f":"(K486*K$7)/Setup!$C$10","v":{"$error":"#VALUE!"}},{"$f":"(L486*L$7)/Setup!$C$10","v":{"$error":"#VALUE!"}},{"$f":"(M486*M$7)/Setup!$C$10","v":{"$error":"#VALUE!"}},{"$f":"(N486*N$7)/Setup!$C$10","v":{"$error":"#VALUE!"}},{"$f":"(O486*O$7)/Setup!$C$10","v":{"$error":"#VALUE!"}},{"$f":"(P486*P$7)/Setup!$C$10","v":{"$error":"#VALUE!"}},{"$f":"(Q486*Q$7)/Setup!$C$10","v":{"$error":"#VALUE!"}},{"$f":"(R486*R$7)/Setup!$C$10","v":{"$error":"#VALUE!"}},{"$f":"(S486*S$7)/Setup!$C$10","v":{"$error":"#VALUE!"}},{"$f":"(T486*T$7)/Setup!$C$10","v":{"$error":"#VALUE!"}},{"$f":"(U486*U$7)/Setup!$C$10","v":{"$error":"#VALUE!"}},{"$f":"(V486*V$7)/Setup!$C$10","v":{"$error":"#VALUE!"}},{"$f":"(W486*W$7)/Setup!$C$10","v":{"$error":"#VALUE!"}},{"$f":"(X486*X$7)/Setup!$C$10","v":{"$error":"#VALUE!"}},null,{"$error":"#VALUE!"},{"$error":"#VALUE!"}]
["2014-09-01","Week 9",{"$f":"(C487*C$7)/Setup!$C$10","v":{"$error":"#VALUE!"}},{"$f":"(D487*D$7)/Setup!$C$10","v":{"$error":"#VALUE!"}},{"$f":"(E487*E$7)/Setup!$C$10","v":{"$error":"#VALUE!"}},{"$f":"(F487*F$7)/Setup!$C$10","v":{"$error":"#VALUE!"}},{"$f":"(G487*G$7)/Setup!$C$10","v":{"$error":"#VALUE!"}},{"$f":"(H487*H$7)/Setup!$C$10","v":{"$error":"#VALUE!"}},{"$f":"(I487*I$7)/Setup!$C$10","v":{"$error":"#VALUE!"}},{"$f":"(J487*J$7)/Setup!$C$10","v":{"$error":"#VALUE!"}},{"$f":"(K487*K$7)/Setup!$C$10","v":{"$error":"#VALUE!"}},{"$f":"(L487*L$7)/Setup!$C$10","v":{"$error":"#VALUE!"}},{"$f":"(M487*M$7)/Setup!$C$10","v":{"$error":"#VALUE!"}},{"$f":"(N487*N$7)/Setup!$C$10","v":{"$error":"#VALUE!"}},{"$f":"(O487*O$7)/Setup!$C$10","v":{"$error":"#VALUE!"}},{"$f":"(P487*P$7)/Setup!$C$10","v":{"$error":"#VALUE!"}},{"$f":"(Q487*Q$7)/Setup!$C$10","v":{"$error":"#VALUE!"}},{"$f":"(R487*R$7)/Setup!$C$10","v":{"$error":"#VALUE!"}},{"$f":"(S487*S$7)/Setup!$C$10","v":{"$error":"#VALUE!"}},{"$f":"(T487*T$7)/Setup!$C$10","v":{"$error":"#VALUE!"}},{"$f":"(U487*U$7)/Setup!$C$10","v":{"$error":"#VALUE!"}},{"$f":"(V487*V$7)/Setup!$C$10","v":{"$error":"#VALUE!"}},{"$f":"(W487*W$7)/Setup!$C$10","v":{"$error":"#VALUE!"}},{"$f":"(X487*X$7)/Setup!$C$10","v":{"$error":"#VALUE!"}},null,{"$error":"#VALUE!"},{"$error":"#VALUE!"}]
["2014-09-08","Week 10",{"$f":"(C488*C$7)/Setup!$C$10","v":{"$error":"#VALUE!"}},{"$f":"(D488*D$7)/Setup!$C$10","v":{"$error":"#VALUE!"}},{"$f":"(E488*E$7)/Setup!$C$10","v":{"$error":"#VALUE!"}},{"$f":"(F488*F$7)/Setup!$C$10","v":{"$error":"#VALUE!"}},{"$f":"(G488*G$7)/Setup!$C$10","v":{"$error":"#VALUE!"}},{"$f":"(H488*H$7)/Setup!$C$10","v":{"$error":"#VALUE!"}},{"$f":"(I488*I$7)/Setup!$C$10","v":{"$error":"#VALUE!"}},{"$f":"(J488*J$7)/Setup!$C$10","v":{"$error":"#VALUE!"}},{"$f":"(K488*K$7)/Setup!$C$10","v":{"$error":"#VALUE!"}},{"$f":"(L488*L$7)/Setup!$C$10","v":{"$error":"#VALUE!"}},{"$f":"(M488*M$7)/Setup!$C$10","v":{"$error":"#VALUE!"}},{"$f":"(N488*N$7)/Setup!$C$10","v":{"$error":"#VALUE!"}},{"$f":"(O488*O$7)/Setup!$C$10","v":{"$error":"#VALUE!"}},{"$f":"(P488*P$7)/Setup!$C$10","v":{"$error":"#VALUE!"}},{"$f":"(Q488*Q$7)/Setup!$C$10","v":{"$error":"#VALUE!"}},{"$f":"(R488*R$7)/Setup!$C$10","v":{"$error":"#VALUE!"}},{"$f":"(S488*S$7)/Setup!$C$10","v":{"$error":"#VALUE!"}},{"$f":"(T488*T$7)/Setup!$C$10","v":{"$error":"#VALUE!"}},{"$f":"(U488*U$7)/Setup!$C$10","v":{"$error":"#VALUE!"}},{"$f":"(V488*V$7)/Setup!$C$10","v":{"$error":"#VALUE!"}},{"$f":"(W488*W$7)/Setup!$C$10","v":{"$error":"#VALUE!"}},{"$f":"(X488*X$7)/Setup!$C$10","v":{"$error":"#VALUE!"}},null,{"$error":"#VALUE!"},{"$error":"#VALUE!"}]
["2014-09-15","Week 11",{"$f":"(C489*C$7)/Setup!$C$10","v":{"$error":"#VALUE!"}},{"$f":"(D489*D$7)/Setup!$C$10","v":{"$error":"#VALUE!"}},{"$f":"(E489*E$7)/Setup!$C$10","v":{"$error":"#VALUE!"}},{"$f":"(F489*F$7)/Setup!$C$10","v":{"$error":"#VALUE!"}},{"$f":"(G489*G$7)/Setup!$C$10","v":{"$error":"#VALUE!"}},{"$f":"(H489*H$7)/Setup!$C$10","v":{"$error":"#VALUE!"}},{"$f":"(I489*I$7)/Setup!$C$10","v":{"$error":"#VALUE!"}},{"$f":"(J489*J$7)/Setup!$C$10","v":{"$error":"#VALUE!"}},{"$f":"(K489*K$7)/Setup!$C$10","v":{"$error":"#VALUE!"}},{"$f":"(L489*L$7)/Setup!$C$10","v":{"$error":"#VALUE!"}},{"$f":"(M489*M$7)/Setup!$C$10","v":{"$error":"#VALUE!"}},{"$f":"(N489*N$7)/Setup!$C$10","v":{"$error":"#VALUE!"}},{"$f":"(O489*O$7)/Setup!$C$10","v":{"$error":"#VALUE!"}},{"$f":"(P489*P$7)/Setup!$C$10","v":{"$error":"#VALUE!"}},{"$f":"(Q489*Q$7)/Setup!$C$10","v":{"$error":"#VALUE!"}},{"$f":"(R489*R$7)/Setup!$C$10","v":{"$error":"#VALUE!"}},{"$f":"(S489*S$7)/Setup!$C$10","v":{"$error":"#VALUE!"}},{"$f":"(T489*T$7)/Setup!$C$10","v":{"$error":"#VALUE!"}},{"$f":"(U489*U$7)/Setup!$C$10","v":{"$error":"#VALUE!"}},{"$f":"(V489*V$7)/Setup!$C$10","v":{"$error":"#VALUE!"}},{"$f":"(W489*W$7)/Setup!$C$10","v":{"$error":"#VALUE!"}},{"$f":"(X489*X$7)/Setup!$C$10","v":{"$error":"#VALUE!"}},null,{"$error":"#VALUE!"},{"$error":"#VALUE!"}]
["2014-09-22","Week 12",{"$f":"(C490*C$7)/Setup!$C$10","v":{"$error":"#VALUE!"}},{"$f":"(D490*D$7)/Setup!$C$10","v":{"$error":"#VALUE!"}},{"$f":"(E490*E$7)/Setup!$C$10","v":{"$error":"#VALUE!"}},{"$f":"(F490*F$7)/Setup!$C$10","v":{"$error":"#VALUE!"}},{"$f":"(G490*G$7)/Setup!$C$10","v":{"$error":"#VALUE!"}},{"$f":"(H490*H$7)/Setup!$C$10","v":{"$error":"#VALUE!"}},{"$f":"(I490*I$7)/Setup!$C$10","v":{"$error":"#VALUE!"}},{"$f":"(J490*J$7)/Setup!$C$10","v":{"$error":"#VALUE!"}},{"$f":"(K490*K$7)/Setup!$C$10","v":{"$error":"#VALUE!"}},{"$f":"(L490*L$7)/Setup!$C$10","v":{"$error":"#VALUE!"}},{"$f":"(M490*M$7)/Setup!$C$10","v":{"$error":"#VALUE!"}},{"$f":"(N490*N$7)/Setup!$C$10","v":{"$error":"#VALUE!"}},{"$f":"(O490*O$7)/Setup!$C$10","v":{"$error":"#VALUE!"}},{"$f":"(P490*P$7)/Setup!$C$10","v":{"$error":"#VALUE!"}},{"$f":"(Q490*Q$7)/Setup!$C$10","v":{"$error":"#VALUE!"}},{"$f":"(R490*R$7)/Setup!$C$10","v":{"$error":"#VALUE!"}},{"$f":"(S490*S$7)/Setup!$C$10","v":{"$error":"#VALUE!"}},{"$f":"(T490*T$7)/Setup!$C$10","v":{"$error":"#VALUE!"}},{"$f":"(U490*U$7)/Setup!$C$10","v":{"$error":"#VALUE!"}},{"$f":"(V490*V$7)/Setup!$C$10","v":{"$error":"#VALUE!"}},{"$f":"(W490*W$7)/Setup!$C$10","v":{"$error":"#VALUE!"}},{"$f":"(X490*X$7)/Setup!$C$10","v":{"$error":"#VALUE!"}},null,{"$error":"#VALUE!"},{"$error":"#VALUE!"}]
["2014-09-29","Week 13",{"$f":"(C491*C$7)/Setup!$C$10","v":{"$error":"#VALUE!"}},{"$f":"(D491*D$7)/Setup!$C$10","v":{"$error":"#VALUE!"}},{"$f":"(E491*E$7)/Setup!$C$10","v":{"$error":"#VALUE!"}},{"$f":"(F491*F$7)/Setup!$C$10","v":{"$error":"#VALUE!"}},{"$f":"(G491*G$7)/Setup!$C$10","v":{"$error":"#VALUE!"}},{"$f":"(H491*H$7)/Setup!$C$10","v":{"$error":"#VALUE!"}},{"$f":"(I491*I$7)/Setup!$C$10","v":{"$error":"#VALUE!"}},{"$f":"(J491*J$7)/Setup!$C$10","v":{"$error":"#VALUE!"}},{"$f":"(K491*K$7)/Setup!$C$10","v":{"$error":"#VALUE!"}},{"$f":"(L491*L$7)/Setup!$C$10","v":{"$error":"#VALUE!"}},{"$f":"(M491*M$7)/Setup!$C$10","v":{"$error":"#VALUE!"}},{"$f":"(N491*N$7)/Setup!$C$10","v":{"$error":"#VALUE!"}},{"$f":"(O491*O$7)/Setup!$C$10","v":{"$error":"#VALUE!"}},{"$f":"(P491*P$7)/Setup!$C$10","v":{"$error":"#VALUE!"}},{"$f":"(Q491*Q$7)/Setup!$C$10","v":{"$error":"#VALUE!"}},{"$f":"(R491*R$7)/Setup!$C$10","v":{"$error":"#VALUE!"}},{"$f":"(S491*S$7)/Setup!$C$10","v":{"$error":"#VALUE!"}},{"$f":"(T491*T$7)/Setup!$C$10","v":{"$error":"#VALUE!"}},{"$f":"(U491*U$7)/Setup!$C$10","v":{"$error":"#VALUE!"}},{"$f":"(V491*V$7)/Setup!$C$10","v":{"$error":"#VALUE!"}},{"$f":"(W491*W$7)/Setup!$C$10","v":{"$error":"#VALUE!"}},{"$f":"(X491*X$7)/Setup!$C$10","v":{"$error":"#VALUE!"}},null,{"$error":"#VALUE!"},{"$error":"#VALUE!"}]
["2014-10-06","Week 14",{"$f":"(C492*C$7)/Setup!$C$10","v":{"$error":"#VALUE!"}},{"$f":"(D492*D$7)/Setup!$C$10","v":{"$error":"#VALUE!"}},{"$f":"(E492*E$7)/Setup!$C$10","v":{"$error":"#VALUE!"}},{"$f":"(F492*F$7)/Setup!$C$10","v":{"$error":"#VALUE!"}},{"$f":"(G492*G$7)/Setup!$C$10","v":{"$error":"#VALUE!"}},{"$f":"(H492*H$7)/Setup!$C$10","v":{"$error":"#VALUE!"}},{"$f":"(I492*I$7)/Setup!$C$10","v":{"$error":"#VALUE!"}},{"$f":"(J492*J$7)/Setup!$C$10","v":{"$error":"#VALUE!"}},{"$f":"(K492*K$7)/Setup!$C$10","v":{"$error":"#VALUE!"}},{"$f":"(L492*L$7)/Setup!$C$10","v":{"$error":"#VALUE!"}},{"$f":"(M492*M$7)/Setup!$C$10","v":{"$error":"#VALUE!"}},{"$f":"(N492*N$7)/Setup!$C$10","v":{"$error":"#VALUE!"}},{"$f":"(O492*O$7)/Setup!$C$10","v":{"$error":"#VALUE!"}},{"$f":"(P492*P$7)/Setup!$C$10","v":{"$error":"#VALUE!"}},{"$f":"(Q492*Q$7)/Setup!$C$10","v":{"$error":"#VALUE!"}},{"$f":"(R492*R$7)/Setup!$C$10","v":{"$error":"#VALUE!"}},{"$f":"(S492*S$7)/Setup!$C$10","v":{"$error":"#VALUE!"}},{"$f":"(T492*T$7)/Setup!$C$10","v":{"$error":"#VALUE!"}},{"$f":"(U492*U$7)/Setup!$C$10","v":{"$error":"#VALUE!"}},{"$f":"(V492*V$7)/Setup!$C$10","v":{"$error":"#VALUE!"}},{"$f":"(W492*W$7)/Setup!$C$10","v":{"$error":"#VALUE!"}},{"$f":"(X492*X$7)/Setup!$C$10","v":{"$error":"#VALUE!"}},null,{"$error":"#VALUE!"},{"$error":"#VALUE!"}]
["2014-10-13","Week 15",{"$f":"(C493*C$7)/Setup!$C$10","v":{"$error":"#VALUE!"}},{"$f":"(D493*D$7)/Setup!$C$10","v":{"$error":"#VALUE!"}},{"$f":"(E493*E$7)/Setup!$C$10","v":{"$error":"#VALUE!"}},{"$f":"(F493*F$7)/Setup!$C$10","v":{"$error":"#VALUE!"}},{"$f":"(G493*G$7)/Setup!$C$10","v":{"$error":"#VALUE!"}},{"$f":"(H493*H$7)/Setup!$C$10","v":{"$error":"#VALUE!"}},{"$f":"(I493*I$7)/Setup!$C$10","v":{"$error":"#VALUE!"}},{"$f":"(J493*J$7)/Setup!$C$10","v":{"$error":"#VALUE!"}},{"$f":"(K493*K$7)/Setup!$C$10","v":{"$error":"#VALUE!"}},{"$f":"(L493*L$7)/Setup!$C$10","v":{"$error":"#VALUE!"}},{"$f":"(M493*M$7)/Setup!$C$10","v":{"$error":"#VALUE!"}},{"$f":"(N493*N$7)/Setup!$C$10","v":{"$error":"#VALUE!"}},{"$f":"(O493*O$7)/Setup!$C$10","v":{"$error":"#VALUE!"}},{"$f":"(P493*P$7)/Setup!$C$10","v":{"$error":"#VALUE!"}},{"$f":"(Q493*Q$7)/Setup!$C$10","v":{"$error":"#VALUE!"}},{"$f":"(R493*R$7)/Setup!$C$10","v":{"$error":"#VALUE!"}},{"$f":"(S493*S$7)/Setup!$C$10","v":{"$error":"#VALUE!"}},{"$f":"(T493*T$7)/Setup!$C$10","v":{"$error":"#VALUE!"}},{"$f":"(U493*U$7)/Setup!$C$10","v":{"$error":"#VALUE!"}},{"$f":"(V493*V$7)/Setup!$C$10","v":{"$error":"#VALUE!"}},{"$f":"(W493*W$7)/Setup!$C$10","v":{"$error":"#VALUE!"}},{"$f":"(X493*X$7)/Setup!$C$10","v":{"$error":"#VALUE!"}},null,{"$error":"#VALUE!"},{"$error":"#VALUE!"}]
["2014-10-20","Week 16",{"$f":"(C494*C$7)/Setup!$C$10","v":{"$error":"#VALUE!"}},{"$f":"(D494*D$7)/Setup!$C$10","v":{"$error":"#VALUE!"}},{"$f":"(E494*E$7)/Setup!$C$10","v":{"$error":"#VALUE!"}},{"$f":"(F494*F$7)/Setup!$C$10","v":{"$error":"#VALUE!"}},{"$f":"(G494*G$7)/Setup!$C$10","v":{"$error":"#VALUE!"}},{"$f":"(H494*H$7)/Setup!$C$10","v":{"$error":"#VALUE!"}},{"$f":"(I494*I$7)/Setup!$C$10","v":{"$error":"#VALUE!"}},{"$f":"(J494*J$7)/Setup!$C$10","v":{"$error":"#VALUE!"}},{"$f":"(K494*K$7)/Setup!$C$10","v":{"$error":"#VALUE!"}},{"$f":"(L494*L$7)/Setup!$C$10","v":{"$error":"#VALUE!"}},{"$f":"(M494*M$7)/Setup!$C$10","v":{"$error":"#VALUE!"}},{"$f":"(N494*N$7)/Setup!$C$10","v":{"$error":"#VALUE!"}},{"$f":"(O494*O$7)/Setup!$C$10","v":{"$error":"#VALUE!"}},{"$f":"(P494*P$7)/Setup!$C$10","v":{"$error":"#VALUE!"}},{"$f":"(Q494*Q$7)/Setup!$C$10","v":{"$error":"#VALUE!"}},{"$f":"(R494*R$7)/Setup!$C$10","v":{"$error":"#VALUE!"}},{"$f":"(S494*S$7)/Setup!$C$10","v":{"$error":"#VALUE!"}},{"$f":"(T494*T$7)/Setup!$C$10","v":{"$error":"#VALUE!"}},{"$f":"(U494*U$7)/Setup!$C$10","v":{"$error":"#VALUE!"}},{"$f":"(V494*V$7)/Setup!$C$10","v":{"$error":"#VALUE!"}},{"$f":"(W494*W$7)/Setup!$C$10","v":{"$error":"#VALUE!"}},{"$f":"(X494*X$7)/Setup!$C$10","v":{"$error":"#VALUE!"}},null,{"$error":"#VALUE!"},{"$error":"#VALUE!"}]
["2014-10-27","Week 17",{"$f":"(C495*C$7)/Setup!$C$10","v":{"$error":"#VALUE!"}},{"$f":"(D495*D$7)/Setup!$C$10","v":{"$error":"#VALUE!"}},{"$f":"(E495*E$7)/Setup!$C$10","v":{"$error":"#VALUE!"}},{"$f":"(F495*F$7)/Setup!$C$10","v":{"$error":"#VALUE!"}},{"$f":"(G495*G$7)/Setup!$C$10","v":{"$error":"#VALUE!"}},{"$f":"(H495*H$7)/Setup!$C$10","v":{"$error":"#VALUE!"}},{"$f":"(I495*I$7)/Setup!$C$10","v":{"$error":"#VALUE!"}},{"$f":"(J495*J$7)/Setup!$C$10","v":{"$error":"#VALUE!"}},{"$f":"(K495*K$7)/Setup!$C$10","v":{"$error":"#VALUE!"}},{"$f":"(L495*L$7)/Setup!$C$10","v":{"$error":"#VALUE!"}},{"$f":"(M495*M$7)/Setup!$C$10","v":{"$error":"#VALUE!"}},{"$f":"(N495*N$7)/Setup!$C$10","v":{"$error":"#VALUE!"}},{"$f":"(O495*O$7)/Setup!$C$10","v":{"$error":"#VALUE!"}},{"$f":"(P495*P$7)/Setup!$C$10","v":{"$error":"#VALUE!"}},{"$f":"(Q495*Q$7)/Setup!$C$10","v":{"$error":"#VALUE!"}},{"$f":"(R495*R$7)/Setup!$C$10","v":{"$error":"#VALUE!"}},{"$f":"(S495*S$7)/Setup!$C$10","v":{"$error":"#VALUE!"}},{"$f":"(T495*T$7)/Setup!$C$10","v":{"$error":"#VALUE!"}},{"$f":"(U495*U$7)/Setup!$C$10","v":{"$error":"#VALUE!"}},{"$f":"(V495*V$7)/Setup!$C$10","v":{"$error":"#VALUE!"}},{"$f":"(W495*W$7)/Setup!$C$10","v":{"$error":"#VALUE!"}},{"$f":"(X495*X$7)/Setup!$C$10","v":{"$error":"#VALUE!"}},null,{"$error":"#VALUE!"},{"$error":"#VALUE!"}]
["2014-11-03","Week 18",{"$f":"(C496*C$7)/Setup!$C$10","v":{"$error":"#VALUE!"}},{"$f":"(D496*D$7)/Setup!$C$10","v":{"$error":"#VALUE!"}},{"$f":"(E496*E$7)/Setup!$C$10","v":{"$error":"#VALUE!"}},{"$f":"(F496*F$7)/Setup!$C$10","v":{"$error":"#VALUE!"}},{"$f":"(G496*G$7)/Setup!$C$10","v":{"$error":"#VALUE!"}},{"$f":"(H496*H$7)/Setup!$C$10","v":{"$error":"#VALUE!"}},{"$f":"(I496*I$7)/Setup!$C$10","v":{"$error":"#VALUE!"}},{"$f":"(J496*J$7)/Setup!$C$10","v":{"$error":"#VALUE!"}},{"$f":"(K496*K$7)/Setup!$C$10","v":{"$error":"#VALUE!"}},{"$f":"(L496*L$7)/Setup!$C$10","v":{"$error":"#VALUE!"}},{"$f":"(M496*M$7)/Setup!$C$10","v":{"$error":"#VALUE!"}},{"$f":"(N496*N$7)/Setup!$C$10","v":{"$error":"#VALUE!"}},{"$f":"(O496*O$7)/Setup!$C$10","v":{"$error":"#VALUE!"}},{"$f":"(P496*P$7)/Setup!$C$10","v":{"$error":"#VALUE!"}},{"$f":"(Q496*Q$7)/Setup!$C$10","v":{"$error":"#VALUE!"}},{"$f":"(R496*R$7)/Setup!$C$10","v":{"$error":"#VALUE!"}},{"$f":"(S496*S$7)/Setup!$C$10","v":{"$error":"#VALUE!"}},{"$f":"(T496*T$7)/Setup!$C$10","v":{"$error":"#VALUE!"}},{"$f":"(U496*U$7)/Setup!$C$10","v":{"$error":"#VALUE!"}},{"$f":"(V496*V$7)/Setup!$C$10","v":{"$error":"#VALUE!"}},{"$f":"(W496*W$7)/Setup!$C$10","v":{"$error":"#VALUE!"}},{"$f":"(X496*X$7)/Setup!$C$10","v":{"$error":"#VALUE!"}},null,{"$error":"#VALUE!"},{"$error":"#VALUE!"}]
["2014-11-10","Week 19",{"$f":"(C497*C$7)/Setup!$C$10","v":{"$error":"#VALUE!"}},{"$f":"(D497*D$7)/Setup!$C$10","v":{"$error":"#VALUE!"}},{"$f":"(E497*E$7)/Setup!$C$10","v":{"$error":"#VALUE!"}},{"$f":"(F497*F$7)/Setup!$C$10","v":{"$error":"#VALUE!"}},{"$f":"(G497*G$7)/Setup!$C$10","v":{"$error":"#VALUE!"}},{"$f":"(H497*H$7)/Setup!$C$10","v":{"$error":"#VALUE!"}},{"$f":"(I497*I$7)/Setup!$C$10","v":{"$error":"#VALUE!"}},{"$f":"(J497*J$7)/Setup!$C$10","v":{"$error":"#VALUE!"}},{"$f":"(K497*K$7)/Setup!$C$10","v":{"$error":"#VALUE!"}},{"$f":"(L497*L$7)/Setup!$C$10","v":{"$error":"#VALUE!"}},{"$f":"(M497*M$7)/Setup!$C$10","v":{"$error":"#VALUE!"}},{"$f":"(N497*N$7)/Setup!$C$10","v":{"$error":"#VALUE!"}},{"$f":"(O497*O$7)/Setup!$C$10","v":{"$error":"#VALUE!"}},{"$f":"(P497*P$7)/Setup!$C$10","v":{"$error":"#VALUE!"}},{"$f":"(Q497*Q$7)/Setup!$C$10","v":{"$error":"#VALUE!"}},{"$f":"(R497*R$7)/Setup!$C$10","v":{"$error":"#VALUE!"}},{"$f":"(S497*S$7)/Setup!$C$10","v":{"$error":"#VALUE!"}},{"$f":"(T497*T$7)/Setup!$C$10","v":{"$error":"#VALUE!"}},{"$f":"(U497*U$7)/Setup!$C$10","v":{"$error":"#VALUE!"}},{"$f":"(V497*V$7)/Setup!$C$10","v":{"$error":"#VALUE!"}},{"$f":"(W497*W$7)/Setup!$C$10","v":{"$error":"#VALUE!"}},{"$f":"(X497*X$7)/Setup!$C$10","v":{"$error":"#VALUE!"}},null,{"$error":"#VALUE!"},{"$error":"#VALUE!"}]
["2014-11-17","Week 20",{"$f":"(C498*C$7)/Setup!$C$10","v":{"$error":"#VALUE!"}},{"$f":"(D498*D$7)/Setup!$C$10","v":{"$error":"#VALUE!"}},{"$f":"(E498*E$7)/Setup!$C$10","v":{"$error":"#VALUE!"}},{"$f":"(F498*F$7)/Setup!$C$10","v":{"$error":"#VALUE!"}},{"$f":"(G498*G$7)/Setup!$C$10","v":{"$error":"#VALUE!"}},{"$f":"(H498*H$7)/Setup!$C$10","v":{"$error":"#VALUE!"}},{"$f":"(I498*I$7)/Setup!$C$10","v":{"$error":"#VALUE!"}},{"$f":"(J498*J$7)/Setup!$C$10","v":{"$error":"#VALUE!"}},{"$f":"(K498*K$7)/Setup!$C$10","v":{"$error":"#VALUE!"}},{"$f":"(L498*L$7)/Setup!$C$10","v":{"$error":"#VALUE!"}},{"$f":"(M498*M$7)/Setup!$C$10","v":{"$error":"#VALUE!"}},{"$f":"(N498*N$7)/Setup!$C$10","v":{"$error":"#VALUE!"}},{"$f":"(O498*O$7)/Setup!$C$10","v":{"$error":"#VALUE!"}},{"$f":"(P498*P$7)/Setup!$C$10","v":{"$error":"#VALUE!"}},{"$f":"(Q498*Q$7)/Setup!$C$10","v":{"$error":"#VALUE!"}},{"$f":"(R498*R$7)/Setup!$C$10","v":{"$error":"#VALUE!"}},{"$f":"(S498*S$7)/Setup!$C$10","v":{"$error":"#VALUE!"}},{"$f":"(T498*T$7)/Setup!$C$10","v":{"$error":"#VALUE!"}},{"$f":"(U498*U$7)/Setup!$C$10","v":{"$error":"#VALUE!"}},{"$f":"(V498*V$7)/Setup!$C$10","v":{"$error":"#VALUE!"}},{"$f":"(W498*W$7)/Setup!$C$10","v":{"$error":"#VALUE!"}},{"$f":"(X498*X$7)/Setup!$C$10","v":{"$error":"#VALUE!"}},null,{"$error":"#VALUE!"},{"$error":"#VALUE!"}]
[{"$f":"A441","v":"2014-11-24"},"Week 21",{"$f":"(C499*C$7)/Setup!$C$10","v":{"$error":"#VALUE!"}},{"$f":"(D499*D$7)/Setup!$C$10","v":{"$error":"#VALUE!"}},{"$f":"(E499*E$7)/Setup!$C$10","v":{"$error":"#VALUE!"}},{"$f":"(F499*F$7)/Setup!$C$10","v":{"$error":"#VALUE!"}},{"$f":"(G499*G$7)/Setup!$C$10","v":{"$error":"#VALUE!"}},{"$f":"(H499*H$7)/Setup!$C$10","v":{"$error":"#VALUE!"}},{"$f":"(I499*I$7)/Setup!$C$10","v":{"$error":"#VALUE!"}},{"$f":"(J499*J$7)/Setup!$C$10","v":{"$error":"#VALUE!"}},{"$f":"(K499*K$7)/Setup!$C$10","v":{"$error":"#VALUE!"}},{"$f":"(L499*L$7)/Setup!$C$10","v":{"$error":"#VALUE!"}},{"$f":"(M499*M$7)/Setup!$C$10","v":{"$error":"#VALUE!"}},{"$f":"(N499*N$7)/Setup!$C$10","v":{"$error":"#VALUE!"}},{"$f":"(O499*O$7)/Setup!$C$10","v":{"$error":"#VALUE!"}},{"$f":"(P499*P$7)/Setup!$C$10","v":{"$error":"#VALUE!"}},{"$f":"(Q499*Q$7)/Setup!$C$10","v":{"$error":"#VALUE!"}},{"$f":"(R499*R$7)/Setup!$C$10","v":{"$error":"#VALUE!"}},{"$f":"(S499*S$7)/Setup!$C$10","v":{"$error":"#VALUE!"}},{"$f":"(T499*T$7)/Setup!$C$10","v":{"$error":"#VALUE!"}},{"$f":"(U499*U$7)/Setup!$C$10","v":{"$error":"#VALUE!"}},{"$f":"(V499*V$7)/Setup!$C$10","v":{"$error":"#VALUE!"}},{"$f":"(W499*W$7)/Setup!$C$10","v":{"$error":"#VALUE!"}},{"$f":"(X499*X$7)/Setup!$C$10","v":{"$error":"#VALUE!"}},null,{"$error":"#VALUE!"},{"$error":"#VALUE!"}]
["2014-12-01","Week 22",{"$f":"(C500*C$7)/Setup!$C$10","v":{"$error":"#VALUE!"}},{"$f":"(D500*D$7)/Setup!$C$10","v":{"$error":"#VALUE!"}},{"$f":"(E500*E$7)/Setup!$C$10","v":{"$error":"#VALUE!"}},{"$f":"(F500*F$7)/Setup!$C$10","v":{"$error":"#VALUE!"}},{"$f":"(G500*G$7)/Setup!$C$10","v":{"$error":"#VALUE!"}},{"$f":"(H500*H$7)/Setup!$C$10","v":{"$error":"#VALUE!"}},{"$f":"(I500*I$7)/Setup!$C$10","v":{"$error":"#VALUE!"}},{"$f":"(J500*J$7)/Setup!$C$10","v":{"$error":"#VALUE!"}},{"$f":"(K500*K$7)/Setup!$C$10","v":{"$error":"#VALUE!"}},{"$f":"(L500*L$7)/Setup!$C$10","v":{"$error":"#VALUE!"}},{"$f":"(M500*M$7)/Setup!$C$10","v":{"$error":"#VALUE!"}},{"$f":"(N500*N$7)/Setup!$C$10","v":{"$error":"#VALUE!"}},{"$f":"(O500*O$7)/Setup!$C$10","v":{"$error":"#VALUE!"}},{"$f":"(P500*P$7)/Setup!$C$10","v":{"$error":"#VALUE!"}},{"$f":"(Q500*Q$7)/Setup!$C$10","v":{"$error":"#VALUE!"}},{"$f":"(R500*R$7)/Setup!$C$10","v":{"$error":"#VALUE!"}},{"$f":"(S500*S$7)/Setup!$C$10","v":{"$error":"#VALUE!"}},{"$f":"(T500*T$7)/Setup!$C$10","v":{"$error":"#VALUE!"}},{"$f":"(U500*U$7)/Setup!$C$10","v":{"$error":"#VALUE!"}},{"$f":"(V500*V$7)/Setup!$C$10","v":{"$error":"#VALUE!"}},{"$f":"(W500*W$7)/Setup!$C$10","v":{"$error":"#VALUE!"}},{"$f":"(X500*X$7)/Setup!$C$10","v":{"$error":"#VALUE!"}},null,{"$error":"#VALUE!"},{"$error":"#VALUE!"}]
["2014-12-08","Week 23",{"$f":"(C501*C$7)/Setup!$C$10","v":{"$error":"#VALUE!"}},{"$f":"(D501*D$7)/Setup!$C$10","v":{"$error":"#VALUE!"}},{"$f":"(E501*E$7)/Setup!$C$10","v":{"$error":"#VALUE!"}},{"$f":"(F501*F$7)/Setup!$C$10","v":{"$error":"#VALUE!"}},{"$f":"(G501*G$7)/Setup!$C$10","v":{"$error":"#VALUE!"}},{"$f":"(H501*H$7)/Setup!$C$10","v":{"$error":"#VALUE!"}},{"$f":"(I501*I$7)/Setup!$C$10","v":{"$error":"#VALUE!"}},{"$f":"(J501*J$7)/Setup!$C$10","v":{"$error":"#VALUE!"}},{"$f":"(K501*K$7)/Setup!$C$10","v":{"$error":"#VALUE!"}},{"$f":"(L501*L$7)/Setup!$C$10","v":{"$error":"#VALUE!"}},{"$f":"(M501*M$7)/Setup!$C$10","v":{"$error":"#VALUE!"}},{"$f":"(N501*N$7)/Setup!$C$10","v":{"$error":"#VALUE!"}},{"$f":"(O501*O$7)/Setup!$C$10","v":{"$error":"#VALUE!"}},{"$f":"(P501*P$7)/Setup!$C$10","v":{"$error":"#VALUE!"}},{"$f":"(Q501*Q$7)/Setup!$C$10","v":{"$error":"#VALUE!"}},{"$f":"(R501*R$7)/Setup!$C$10","v":{"$error":"#VALUE!"}},{"$f":"(S501*S$7)/Setup!$C$10","v":{"$error":"#VALUE!"}},{"$f":"(T501*T$7)/Setup!$C$10","v":{"$error":"#VALUE!"}},{"$f":"(U501*U$7)/Setup!$C$10","v":{"$error":"#VALUE!"}},{"$f":"(V501*V$7)/Setup!$C$10","v":{"$error":"#VALUE!"}},{"$f":"(W501*W$7)/Setup!$C$10","v":{"$error":"#VALUE!"}},{"$f":"(X501*X$7)/Setup!$C$10","v":{"$error":"#VALUE!"}},null,{"$error":"#VALUE!"},{"$error":"#VALUE!"}]
["2014-12-15","Week 24",{"$f":"(C502*C$7)/Setup!$C$10","v":{"$error":"#VALUE!"}},{"$f":"(D502*D$7)/Setup!$C$10","v":{"$error":"#VALUE!"}},{"$f":"(E502*E$7)/Setup!$C$10","v":{"$error":"#VALUE!"}},{"$f":"(F502*F$7)/Setup!$C$10","v":{"$error":"#VALUE!"}},{"$f":"(G502*G$7)/Setup!$C$10","v":{"$error":"#VALUE!"}},{"$f":"(H502*H$7)/Setup!$C$10","v":{"$error":"#VALUE!"}},{"$f":"(I502*I$7)/Setup!$C$10","v":{"$error":"#VALUE!"}},{"$f":"(J502*J$7)/Setup!$C$10","v":{"$error":"#VALUE!"}},{"$f":"(K502*K$7)/Setup!$C$10","v":{"$error":"#VALUE!"}},{"$f":"(L502*L$7)/Setup!$C$10","v":{"$error":"#VALUE!"}},{"$f":"(M502*M$7)/Setup!$C$10","v":{"$error":"#VALUE!"}},{"$f":"(N502*N$7)/Setup!$C$10","v":{"$error":"#VALUE!"}},{"$f":"(O502*O$7)/Setup!$C$10","v":{"$error":"#VALUE!"}},{"$f":"(P502*P$7)/Setup!$C$10","v":{"$error":"#VALUE!"}},{"$f":"(Q502*Q$7)/Setup!$C$10","v":{"$error":"#VALUE!"}},{"$f":"(R502*R$7)/Setup!$C$10","v":{"$error":"#VALUE!"}},{"$f":"(S502*S$7)/Setup!$C$10","v":{"$error":"#VALUE!"}},{"$f":"(T502*T$7)/Setup!$C$10","v":{"$error":"#VALUE!"}},{"$f":"(U502*U$7)/Setup!$C$10","v":{"$error":"#VALUE!"}},{"$f":"(V502*V$7)/Setup!$C$10","v":{"$error":"#VALUE!"}},{"$f":"(W502*W$7)/Setup!$C$10","v":{"$error":"#VALUE!"}},{"$f":"(X502*X$7)/Setup!$C$10","v":{"$error":"#VALUE!"}},null,{"$error":"#VALUE!"},{"$error":"#VALUE!"}]
["2014-12-22","Week 25",{"$f":"(C503*C$7)/Setup!$C$10","v":{"$error":"#VALUE!"}},{"$f":"(D503*D$7)/Setup!$C$10","v":{"$error":"#VALUE!"}},{"$f":"(E503*E$7)/Setup!$C$10","v":{"$error":"#VALUE!"}},{"$f":"(F503*F$7)/Setup!$C$10","v":{"$error":"#VALUE!"}},{"$f":"(G503*G$7)/Setup!$C$10","v":{"$error":"#VALUE!"}},{"$f":"(H503*H$7)/Setup!$C$10","v":{"$error":"#VALUE!"}},{"$f":"(I503*I$7)/Setup!$C$10","v":{"$error":"#VALUE!"}},{"$f":"(J503*J$7)/Setup!$C$10","v":{"$error":"#VALUE!"}},{"$f":"(K503*K$7)/Setup!$C$10","v":{"$error":"#VALUE!"}},{"$f":"(L503*L$7)/Setup!$C$10","v":{"$error":"#VALUE!"}},{"$f":"(M503*M$7)/Setup!$C$10","v":{"$error":"#VALUE!"}},{"$f":"(N503*N$7)/Setup!$C$10","v":{"$error":"#VALUE!"}},{"$f":"(O503*O$7)/Setup!$C$10","v":{"$error":"#VALUE!"}},{"$f":"(P503*P$7)/Setup!$C$10","v":{"$error":"#VALUE!"}},{"$f":"(Q503*Q$7)/Setup!$C$10","v":{"$error":"#VALUE!"}},{"$f":"(R503*R$7)/Setup!$C$10","v":{"$error":"#VALUE!"}},{"$f":"(S503*S$7)/Setup!$C$10","v":{"$error":"#VALUE!"}},{"$f":"(T503*T$7)/Setup!$C$10","v":{"$error":"#VALUE!"}},{"$f":"(U503*U$7)/Setup!$C$10","v":{"$error":"#VALUE!"}},{"$f":"(V503*V$7)/Setup!$C$10","v":{"$error":"#VALUE!"}},{"$f":"(W503*W$7)/Setup!$C$10","v":{"$error":"#VALUE!"}},{"$f":"(X503*X$7)/Setup!$C$10","v":{"$error":"#VALUE!"}},null,{"$error":"#VALUE!"},{"$error":"#VALUE!"}]
["2014-12-29","Week 26",{"$f":"(C504*C$7)/Setup!$C$10","v":{"$error":"#VALUE!"}},{"$f":"(D504*D$7)/Setup!$C$10","v":{"$error":"#VALUE!"}},{"$f":"(E504*E$7)/Setup!$C$10","v":{"$error":"#VALUE!"}},{"$f":"(F504*F$7)/Setup!$C$10","v":{"$error":"#VALUE!"}},{"$f":"(G504*G$7)/Setup!$C$10","v":{"$error":"#VALUE!"}},{"$f":"(H504*H$7)/Setup!$C$10","v":{"$error":"#VALUE!"}},{"$f":"(I504*I$7)/Setup!$C$10","v":{"$error":"#VALUE!"}},{"$f":"(J504*J$7)/Setup!$C$10","v":{"$error":"#VALUE!"}},{"$f":"(K504*K$7)/Setup!$C$10","v":{"$error":"#VALUE!"}},{"$f":"(L504*L$7)/Setup!$C$10","v":{"$error":"#VALUE!"}},{"$f":"(M504*M$7)/Setup!$C$10","v":{"$error":"#VALUE!"}},{"$f":"(N504*N$7)/Setup!$C$10","v":{"$error":"#VALUE!"}},{"$f":"(O504*O$7)/Setup!$C$10","v":{"$error":"#VALUE!"}},{"$f":"(P504*P$7)/Setup!$C$10","v":{"$error":"#VALUE!"}},{"$f":"(Q504*Q$7)/Setup!$C$10","v":{"$error":"#VALUE!"}},{"$f":"(R504*R$7)/Setup!$C$10","v":{"$error":"#VALUE!"}},{"$f":"(S504*S$7)/Setup!$C$10","v":{"$error":"#VALUE!"}},{"$f":"(T504*T$7)/Setup!$C$10","v":{"$error":"#VALUE!"}},{"$f":"(U504*U$7)/Setup!$C$10","v":{"$error":"#VALUE!"}},{"$f":"(V504*V$7)/Setup!$C$10","v":{"$error":"#VALUE!"}},{"$f":"(W504*W$7)/Setup!$C$10","v":{"$error":"#VALUE!"}},{"$f":"(X504*X$7)/Setup!$C$10","v":{"$error":"#VALUE!"}},null,{"$error":"#VALUE!"},{"$error":"#VALUE!"}]
["2015-01-05","Week 27",{"$f":"(C505*C$7)/Setup!$C$10","v":{"$error":"#VALUE!"}},{"$f":"(D505*D$7)/Setup!$C$10","v":{"$error":"#VALUE!"}},{"$f":"(E505*E$7)/Setup!$C$10","v":{"$error":"#VALUE!"}},{"$f":"(F505*F$7)/Setup!$C$10","v":{"$error":"#VALUE!"}},{"$f":"(G505*G$7)/Setup!$C$10","v":{"$error":"#VALUE!"}},{"$f":"(H505*H$7)/Setup!$C$10","v":{"$error":"#VALUE!"}},{"$f":"(I505*I$7)/Setup!$C$10","v":{"$error":"#VALUE!"}},{"$f":"(J505*J$7)/Setup!$C$10","v":{"$error":"#VALUE!"}},{"$f":"(K505*K$7)/Setup!$C$10","v":{"$error":"#VALUE!"}},{"$f":"(L505*L$7)/Setup!$C$10","v":{"$error":"#VALUE!"}},{"$f":"(M505*M$7)/Setup!$C$10","v":{"$error":"#VALUE!"}},{"$f":"(N505*N$7)/Setup!$C$10","v":{"$error":"#VALUE!"}},{"$f":"(O505*O$7)/Setup!$C$10","v":{"$error":"#VALUE!"}},{"$f":"(P505*P$7)/Setup!$C$10","v":{"$error":"#VALUE!"}},{"$f":"(Q505*Q$7)/Setup!$C$10","v":{"$error":"#VALUE!"}},{"$f":"(R505*R$7)/Setup!$C$10","v":{"$error":"#VALUE!"}},{"$f":"(S505*S$7)/Setup!$C$10","v":{"$error":"#VALUE!"}},{"$f":"(T505*T$7)/Setup!$C$10","v":{"$error":"#VALUE!"}},{"$f":"(U505*U$7)/Setup!$C$10","v":{"$error":"#VALUE!"}},{"$f":"(V505*V$7)/Setup!$C$10","v":{"$error":"#VALUE!"}},{"$f":"(W505*W$7)/Setup!$C$10","v":{"$error":"#VALUE!"}},{"$f":"(X505*X$7)/Setup!$C$10","v":{"$error":"#VALUE!"}},null,{"$error":"#VALUE!"},{"$error":"#VALUE!"}]
["2015-01-12","Week 28",{"$f":"(C506*C$7)/Setup!$C$10","v":{"$error":"#VALUE!"}},{"$f":"(D506*D$7)/Setup!$C$10","v":{"$error":"#VALUE!"}},{"$f":"(E506*E$7)/Setup!$C$10","v":{"$error":"#VALUE!"}},{"$f":"(F506*F$7)/Setup!$C$10","v":{"$error":"#VALUE!"}},{"$f":"(G506*G$7)/Setup!$C$10","v":{"$error":"#VALUE!"}},{"$f":"(H506*H$7)/Setup!$C$10","v":{"$error":"#VALUE!"}},{"$f":"(I506*I$7)/Setup!$C$10","v":{"$error":"#VALUE!"}},{"$f":"(J506*J$7)/Setup!$C$10","v":{"$error":"#VALUE!"}},{"$f":"(K506*K$7)/Setup!$C$10","v":{"$error":"#VALUE!"}},{"$f":"(L506*L$7)/Setup!$C$10","v":{"$error":"#VALUE!"}},{"$f":"(M506*M$7)/Setup!$C$10","v":{"$error":"#VALUE!"}},{"$f":"(N506*N$7)/Setup!$C$10","v":{"$error":"#VALUE!"}},{"$f":"(O506*O$7)/Setup!$C$10","v":{"$error":"#VALUE!"}},{"$f":"(P506*P$7)/Setup!$C$10","v":{"$error":"#VALUE!"}},{"$f":"(Q506*Q$7)/Setup!$C$10","v":{"$error":"#VALUE!"}},{"$f":"(R506*R$7)/Setup!$C$10","v":{"$error":"#VALUE!"}},{"$f":"(S506*S$7)/Setup!$C$10","v":{"$error":"#VALUE!"}},{"$f":"(T506*T$7)/Setup!$C$10","v":{"$error":"#VALUE!"}},{"$f":"(U506*U$7)/Setup!$C$10","v":{"$error":"#VALUE!"}},{"$f":"(V506*V$7)/Setup!$C$10","v":{"$error":"#VALUE!"}},{"$f":"(W506*W$7)/Setup!$C$10","v":{"$error":"#VALUE!"}},{"$f":"(X506*X$7)/Setup!$C$10","v":{"$error":"#VALUE!"}},null,{"$error":"#VALUE!"},{"$error":"#VALUE!"}]
["2015-01-19","Week 29",{"$f":"(C507*C$7)/Setup!$C$10","v":{"$error":"#VALUE!"}},{"$f":"(D507*D$7)/Setup!$C$10","v":{"$error":"#VALUE!"}},{"$f":"(E507*E$7)/Setup!$C$10","v":{"$error":"#VALUE!"}},{"$f":"(F507*F$7)/Setup!$C$10","v":{"$error":"#VALUE!"}},{"$f":"(G507*G$7)/Setup!$C$10","v":{"$error":"#VALUE!"}},{"$f":"(H507*H$7)/Setup!$C$10","v":{"$error":"#VALUE!"}},{"$f":"(I507*I$7)/Setup!$C$10","v":{"$error":"#VALUE!"}},{"$f":"(J507*J$7)/Setup!$C$10","v":{"$error":"#VALUE!"}},{"$f":"(K507*K$7)/Setup!$C$10","v":{"$error":"#VALUE!"}},{"$f":"(L507*L$7)/Setup!$C$10","v":{"$error":"#VALUE!"}},{"$f":"(M507*M$7)/Setup!$C$10","v":{"$error":"#VALUE!"}},{"$f":"(N507*N$7)/Setup!$C$10","v":{"$error":"#VALUE!"}},{"$f":"(O507*O$7)/Setup!$C$10","v":{"$error":"#VALUE!"}},{"$f":"(P507*P$7)/Setup!$C$10","v":{"$error":"#VALUE!"}},{"$f":"(Q507*Q$7)/Setup!$C$10","v":{"$error":"#VALUE!"}},{"$f":"(R507*R$7)/Setup!$C$10","v":{"$error":"#VALUE!"}},{"$f":"(S507*S$7)/Setup!$C$10","v":{"$error":"#VALUE!"}},{"$f":"(T507*T$7)/Setup!$C$10","v":{"$error":"#VALUE!"}},{"$f":"(U507*U$7)/Setup!$C$10","v":{"$error":"#VALUE!"}},{"$f":"(V507*V$7)/Setup!$C$10","v":{"$error":"#VALUE!"}},{"$f":"(W507*W$7)/Setup!$C$10","v":{"$error":"#VALUE!"}},{"$f":"(X507*X$7)/Setup!$C$10","v":{"$error":"#VALUE!"}},null,{"$error":"#VALUE!"},{"$error":"#VALUE!"}]
["2015-01-26","Week 30",{"$f":"(C508*C$7)/Setup!$C$10","v":{"$error":"#VALUE!"}},{"$f":"(D508*D$7)/Setup!$C$10","v":{"$error":"#VALUE!"}},{"$f":"(E508*E$7)/Setup!$C$10","v":{"$error":"#VALUE!"}},{"$f":"(F508*F$7)/Setup!$C$10","v":{"$error":"#VALUE!"}},{"$f":"(G508*G$7)/Setup!$C$10","v":{"$error":"#VALUE!"}},{"$f":"(H508*H$7)/Setup!$C$10","v":{"$error":"#VALUE!"}},{"$f":"(I508*I$7)/Setup!$C$10","v":{"$error":"#VALUE!"}},{"$f":"(J508*J$7)/Setup!$C$10","v":{"$error":"#VALUE!"}},{"$f":"(K508*K$7)/Setup!$C$10","v":{"$error":"#VALUE!"}},{"$f":"(L508*L$7)/Setup!$C$10","v":{"$error":"#VALUE!"}},{"$f":"(M508*M$7)/Setup!$C$10","v":{"$error":"#VALUE!"}},{"$f":"(N508*N$7)/Setup!$C$10","v":{"$error":"#VALUE!"}},{"$f":"(O508*O$7)/Setup!$C$10","v":{"$error":"#VALUE!"}},{"$f":"(P508*P$7)/Setup!$C$10","v":{"$error":"#VALUE!"}},{"$f":"(Q508*Q$7)/Setup!$C$10","v":{"$error":"#VALUE!"}},{"$f":"(R508*R$7)/Setup!$C$10","v":{"$error":"#VALUE!"}},{"$f":"(S508*S$7)/Setup!$C$10","v":{"$error":"#VALUE!"}},{"$f":"(T508*T$7)/Setup!$C$10","v":{"$error":"#VALUE!"}},{"$f":"(U508*U$7)/Setup!$C$10","v":{"$error":"#VALUE!"}},{"$f":"(V508*V$7)/Setup!$C$10","v":{"$error":"#VALUE!"}},{"$f":"(W508*W$7)/Setup!$C$10","v":{"$error":"#VALUE!"}},{"$f":"(X508*X$7)/Setup!$C$10","v":{"$error":"#VALUE!"}},null,{"$error":"#VALUE!"},{"$error":"#VALUE!"}]
["2015-02-02","Week 31",{"$f":"(C509*C$7)/Setup!$C$10","v":{"$error":"#VALUE!"}},{"$f":"(D509*D$7)/Setup!$C$10","v":{"$error":"#VALUE!"}},{"$f":"(E509*E$7)/Setup!$C$10","v":{"$error":"#VALUE!"}},{"$f":"(F509*F$7)/Setup!$C$10","v":{"$error":"#VALUE!"}},{"$f":"(G509*G$7)/Setup!$C$10","v":{"$error":"#VALUE!"}},{"$f":"(H509*H$7)/Setup!$C$10","v":{"$error":"#VALUE!"}},{"$f":"(I509*I$7)/Setup!$C$10","v":{"$error":"#VALUE!"}},{"$f":"(J509*J$7)/Setup!$C$10","v":{"$error":"#VALUE!"}},{"$f":"(K509*K$7)/Setup!$C$10","v":{"$error":"#VALUE!"}},{"$f":"(L509*L$7)/Setup!$C$10","v":{"$error":"#VALUE!"}},{"$f":"(M509*M$7)/Setup!$C$10","v":{"$error":"#VALUE!"}},{"$f":"(N509*N$7)/Setup!$C$10","v":{"$error":"#VALUE!"}},{"$f":"(O509*O$7)/Setup!$C$10","v":{"$error":"#VALUE!"}},{"$f":"(P509*P$7)/Setup!$C$10","v":{"$error":"#VALUE!"}},{"$f":"(Q509*Q$7)/Setup!$C$10","v":{"$error":"#VALUE!"}},{"$f":"(R509*R$7)/Setup!$C$10","v":{"$error":"#VALUE!"}},{"$f":"(S509*S$7)/Setup!$C$10","v":{"$error":"#VALUE!"}},{"$f":"(T509*T$7)/Setup!$C$10","v":{"$error":"#VALUE!"}},{"$f":"(U509*U$7)/Setup!$C$10","v":{"$error":"#VALUE!"}},{"$f":"(V509*V$7)/Setup!$C$10","v":{"$error":"#VALUE!"}},{"$f":"(W509*W$7)/Setup!$C$10","v":{"$error":"#VALUE!"}},{"$f":"(X509*X$7)/Setup!$C$10","v":{"$error":"#VALUE!"}},null,{"$error":"#VALUE!"},{"$error":"#VALUE!"}]
["2015-02-09","Week 32",{"$f":"(C510*C$7)/Setup!$C$10","v":{"$error":"#VALUE!"}},{"$f":"(D510*D$7)/Setup!$C$10","v":{"$error":"#VALUE!"}},{"$f":"(E510*E$7)/Setup!$C$10","v":{"$error":"#VALUE!"}},{"$f":"(F510*F$7)/Setup!$C$10","v":{"$error":"#VALUE!"}},{"$f":"(G510*G$7)/Setup!$C$10","v":{"$error":"#VALUE!"}},{"$f":"(H510*H$7)/Setup!$C$10","v":{"$error":"#VALUE!"}},{"$f":"(I510*I$7)/Setup!$C$10","v":{"$error":"#VALUE!"}},{"$f":"(J510*J$7)/Setup!$C$10","v":{"$error":"#VALUE!"}},{"$f":"(K510*K$7)/Setup!$C$10","v":{"$error":"#VALUE!"}},{"$f":"(L510*L$7)/Setup!$C$10","v":{"$error":"#VALUE!"}},{"$f":"(M510*M$7)/Setup!$C$10","v":{"$error":"#VALUE!"}},{"$f":"(N510*N$7)/Setup!$C$10","v":{"$error":"#VALUE!"}},{"$f":"(O510*O$7)/Setup!$C$10","v":{"$error":"#VALUE!"}},{"$f":"(P510*P$7)/Setup!$C$10","v":{"$error":"#VALUE!"}},{"$f":"(Q510*Q$7)/Setup!$C$10","v":{"$error":"#VALUE!"}},{"$f":"(R510*R$7)/Setup!$C$10","v":{"$error":"#VALUE!"}},{"$f":"(S510*S$7)/Setup!$C$10","v":{"$error":"#VALUE!"}},{"$f":"(T510*T$7)/Setup!$C$10","v":{"$error":"#VALUE!"}},{"$f":"(U510*U$7)/Setup!$C$10","v":{"$error":"#VALUE!"}},{"$f":"(V510*V$7)/Setup!$C$10","v":{"$error":"#VALUE!"}},{"$f":"(W510*W$7)/Setup!$C$10","v":{"$error":"#VALUE!"}},{"$f":"(X510*X$7)/Setup!$C$10","v":{"$error":"#VALUE!"}},null,{"$error":"#VALUE!"},{"$error":"#VALUE!"}]
["2015-02-16","Week 33",{"$f":"(C511*C$7)/Setup!$C$10","v":{"$error":"#VALUE!"}},{"$f":"(D511*D$7)/Setup!$C$10","v":{"$error":"#VALUE!"}},{"$f":"(E511*E$7)/Setup!$C$10","v":{"$error":"#VALUE!"}},{"$f":"(F511*F$7)/Setup!$C$10","v":{"$error":"#VALUE!"}},{"$f":"(G511*G$7)/Setup!$C$10","v":{"$error":"#VALUE!"}},{"$f":"(H511*H$7)/Setup!$C$10","v":{"$error":"#VALUE!"}},{"$f":"(I511*I$7)/Setup!$C$10","v":{"$error":"#VALUE!"}},{"$f":"(J511*J$7)/Setup!$C$10","v":{"$error":"#VALUE!"}},{"$f":"(K511*K$7)/Setup!$C$10","v":{"$error":"#VALUE!"}},{"$f":"(L511*L$7)/Setup!$C$10","v":{"$error":"#VALUE!"}},{"$f":"(M511*M$7)/Setup!$C$10","v":{"$error":"#VALUE!"}},{"$f":"(N511*N$7)/Setup!$C$10","v":{"$error":"#VALUE!"}},{"$f":"(O511*O$7)/Setup!$C$10","v":{"$error":"#VALUE!"}},{"$f":"(P511*P$7)/Setup!$C$10","v":{"$error":"#VALUE!"}},{"$f":"(Q511*Q$7)/Setup!$C$10","v":{"$error":"#VALUE!"}},{"$f":"(R511*R$7)/Setup!$C$10","v":{"$error":"#VALUE!"}},{"$f":"(S511*S$7)/Setup!$C$10","v":{"$error":"#VALUE!"}},{"$f":"(T511*T$7)/Setup!$C$10","v":{"$error":"#VALUE!"}},{"$f":"(U511*U$7)/Setup!$C$10","v":{"$error":"#VALUE!"}},{"$f":"(V511*V$7)/Setup!$C$10","v":{"$error":"#VALUE!"}},{"$f":"(W511*W$7)/Setup!$C$10","v":{"$error":"#VALUE!"}},{"$f":"(X511*X$7)/Setup!$C$10","v":{"$error":"#VALUE!"}},null,{"$error":"#VALUE!"},{"$error":"#VALUE!"}]
["2015-02-23","Week 34",{"$f":"(C512*C$7)/Setup!$C$10","v":{"$error":"#VALUE!"}},{"$f":"(D512*D$7)/Setup!$C$10","v":{"$error":"#VALUE!"}},{"$f":"(E512*E$7)/Setup!$C$10","v":{"$error":"#VALUE!"}},{"$f":"(F512*F$7)/Setup!$C$10","v":{"$error":"#VALUE!"}},{"$f":"(G512*G$7)/Setup!$C$10","v":{"$error":"#VALUE!"}},{"$f":"(H512*H$7)/Setup!$C$10","v":{"$error":"#VALUE!"}},{"$f":"(I512*I$7)/Setup!$C$10","v":{"$error":"#VALUE!"}},{"$f":"(J512*J$7)/Setup!$C$10","v":{"$error":"#VALUE!"}},{"$f":"(K512*K$7)/Setup!$C$10","v":{"$error":"#VALUE!"}},{"$f":"(L512*L$7)/Setup!$C$10","v":{"$error":"#VALUE!"}},{"$f":"(M512*M$7)/Setup!$C$10","v":{"$error":"#VALUE!"}},{"$f":"(N512*N$7)/Setup!$C$10","v":{"$error":"#VALUE!"}},{"$f":"(O512*O$7)/Setup!$C$10","v":{"$error":"#VALUE!"}},{"$f":"(P512*P$7)/Setup!$C$10","v":{"$error":"#VALUE!"}},{"$f":"(Q512*Q$7)/Setup!$C$10","v":{"$error":"#VALUE!"}},{"$f":"(R512*R$7)/Setup!$C$10","v":{"$error":"#VALUE!"}},{"$f":"(S512*S$7)/Setup!$C$10","v":{"$error":"#VALUE!"}},{"$f":"(T512*T$7)/Setup!$C$10","v":{"$error":"#VALUE!"}},{"$f":"(U512*U$7)/Setup!$C$10","v":{"$error":"#VALUE!"}},{"$f":"(V512*V$7)/Setup!$C$10","v":{"$error":"#VALUE!"}},{"$f":"(W512*W$7)/Setup!$C$10","v":{"$error":"#VALUE!"}},{"$f":"(X512*X$7)/Setup!$C$10","v":{"$error":"#VALUE!"}},null,{"$f":"SUM(C283:X283)+Z282","v":{"$error":"#VALUE!"}},{"$error":"#VALUE!"}]
["2015-03-02","Week 35",{"$f":"(C513*C$7)/Setup!$C$10","v":{"$error":"#VALUE!"}},{"$f":"(D513*D$7)/Setup!$C$10","v":{"$error":"#VALUE!"}},{"$f":"(E513*E$7)/Setup!$C$10","v":{"$error":"#VALUE!"}},{"$f":"(F513*F$7)/Setup!$C$10","v":{"$error":"#VALUE!"}},{"$f":"(G513*G$7)/Setup!$C$10","v":{"$error":"#VALUE!"}},{"$f":"(H513*H$7)/Setup!$C$10","v":{"$error":"#VALUE!"}},{"$f":"(I513*I$7)/Setup!$C$10","v":{"$error":"#VALUE!"}},{"$f":"(J513*J$7)/Setup!$C$10","v":{"$error":"#VALUE!"}},{"$f":"(K513*K$7)/Setup!$C$10","v":{"$error":"#VALUE!"}},{"$f":"(L513*L$7)/Setup!$C$10","v":{"$error":"#VALUE!"}},{"$f":"(M513*M$7)/Setup!$C$10","v":{"$error":"#VALUE!"}},{"$f":"(N513*N$7)/Setup!$C$10","v":{"$error":"#VALUE!"}},{"$f":"(O513*O$7)/Setup!$C$10","v":{"$error":"#VALUE!"}},{"$f":"(P513*P$7)/Setup!$C$10","v":{"$error":"#VALUE!"}},{"$f":"(Q513*Q$7)/Setup!$C$10","v":{"$error":"#VALUE!"}},{"$f":"(R513*R$7)/Setup!$C$10","v":{"$error":"#VALUE!"}},{"$f":"(S513*S$7)/Setup!$C$10","v":{"$error":"#VALUE!"}},{"$f":"(T513*T$7)/Setup!$C$10","v":{"$error":"#VALUE!"}},{"$f":"(U513*U$7)/Setup!$C$10","v":{"$error":"#VALUE!"}},{"$f":"(V513*V$7)/Setup!$C$10","v":{"$error":"#VALUE!"}},{"$f":"(W513*W$7)/Setup!$C$10","v":{"$error":"#VALUE!"}},{"$f":"(X513*X$7)/Setup!$C$10","v":{"$error":"#VALUE!"}},null,{"$error":"#VALUE!"},{"$error":"#VALUE!"}]
["2015-03-09","Week 36",{"$f":"(C514*C$7)/Setup!$C$10","v":{"$error":"#VALUE!"}},{"$f":"(D514*D$7)/Setup!$C$10","v":{"$error":"#VALUE!"}},{"$f":"(E514*E$7)/Setup!$C$10","v":{"$error":"#VALUE!"}},{"$f":"(F514*F$7)/Setup!$C$10","v":{"$error":"#VALUE!"}},{"$f":"(G514*G$7)/Setup!$C$10","v":{"$error":"#VALUE!"}},{"$f":"(H514*H$7)/Setup!$C$10","v":{"$error":"#VALUE!"}},{"$f":"(I514*I$7)/Setup!$C$10","v":{"$error":"#VALUE!"}},{"$f":"(J514*J$7)/Setup!$C$10","v":{"$error":"#VALUE!"}},{"$f":"(K514*K$7)/Setup!$C$10","v":{"$error":"#VALUE!"}},{"$f":"(L514*L$7)/Setup!$C$10","v":{"$error":"#VALUE!"}},{"$f":"(M514*M$7)/Setup!$C$10","v":{"$error":"#VALUE!"}},{"$f":"(N514*N$7)/Setup!$C$10","v":{"$error":"#VALUE!"}},{"$f":"(O514*O$7)/Setup!$C$10","v":{"$error":"#VALUE!"}},{"$f":"(P514*P$7)/Setup!$C$10","v":{"$error":"#VALUE!"}},{"$f":"(Q514*Q$7)/Setup!$C$10","v":{"$error":"#VALUE!"}},{"$f":"(R514*R$7)/Setup!$C$10","v":{"$error":"#VALUE!"}},{"$f":"(S514*S$7)/Setup!$C$10","v":{"$error":"#VALUE!"}},{"$f":"(T514*T$7)/Setup!$C$10","v":{"$error":"#VALUE!"}},{"$f":"(U514*U$7)/Setup!$C$10","v":{"$error":"#VALUE!"}},{"$f":"(V514*V$7)/Setup!$C$10","v":{"$error":"#VALUE!"}},{"$f":"(W514*W$7)/Setup!$C$10","v":{"$error":"#VALUE!"}},{"$f":"(X514*X$7)/Setup!$C$10","v":{"$error":"#VALUE!"}},null,{"$error":"#VALUE!"},{"$error":"#VALUE!"}]
["2015-03-16","Week 37",{"$f":"(C515*C$7)/Setup!$C$10","v":{"$error":"#VALUE!"}},{"$f":"(D515*D$7)/Setup!$C$10","v":{"$error":"#VALUE!"}},{"$f":"(E515*E$7)/Setup!$C$10","v":{"$error":"#VALUE!"}},{"$f":"(F515*F$7)/Setup!$C$10","v":{"$error":"#VALUE!"}},{"$f":"(G515*G$7)/Setup!$C$10","v":{"$error":"#VALUE!"}},{"$f":"(H515*H$7)/Setup!$C$10","v":{"$error":"#VALUE!"}},{"$f":"(I515*I$7)/Setup!$C$10","v":{"$error":"#VALUE!"}},{"$f":"(J515*J$7)/Setup!$C$10","v":{"$error":"#VALUE!"}},{"$f":"(K515*K$7)/Setup!$C$10","v":{"$error":"#VALUE!"}},{"$f":"(L515*L$7)/Setup!$C$10","v":{"$error":"#VALUE!"}},{"$f":"(M515*M$7)/Setup!$C$10","v":{"$error":"#VALUE!"}},{"$f":"(N515*N$7)/Setup!$C$10","v":{"$error":"#VALUE!"}},{"$f":"(O515*O$7)/Setup!$C$10","v":{"$error":"#VALUE!"}},{"$f":"(P515*P$7)/Setup!$C$10","v":{"$error":"#VALUE!"}},{"$f":"(Q515*Q$7)/Setup!$C$10","v":{"$error":"#VALUE!"}},{"$f":"(R515*R$7)/Setup!$C$10","v":{"$error":"#VALUE!"}},{"$f":"(S515*S$7)/Setup!$C$10","v":{"$error":"#VALUE!"}},{"$f":"(T515*T$7)/Setup!$C$10","v":{"$error":"#VALUE!"}},{"$f":"(U515*U$7)/Setup!$C$10","v":{"$error":"#VALUE!"}},{"$f":"(V515*V$7)/Setup!$C$10","v":{"$error":"#VALUE!"}},{"$f":"(W515*W$7)/Setup!$C$10","v":{"$error":"#VALUE!"}},{"$f":"(X515*X$7)/Setup!$C$10","v":{"$error":"#VALUE!"}},null,{"$error":"#VALUE!"},{"$error":"#VALUE!"}]
["2015-03-23","Week 38",{"$f":"(C516*C$7)/Setup!$C$10","v":{"$error":"#VALUE!"}},{"$f":"(D516*D$7)/Setup!$C$10","v":{"$error":"#VALUE!"}},{"$f":"(E516*E$7)/Setup!$C$10","v":{"$error":"#VALUE!"}},{"$f":"(F516*F$7)/Setup!$C$10","v":{"$error":"#VALUE!"}},{"$f":"(G516*G$7)/Setup!$C$10","v":{"$error":"#VALUE!"}},{"$f":"(H516*H$7)/Setup!$C$10","v":{"$error":"#VALUE!"}},{"$f":"(I516*I$7)/Setup!$C$10","v":{"$error":"#VALUE!"}},{"$f":"(J516*J$7)/Setup!$C$10","v":{"$error":"#VALUE!"}},{"$f":"(K516*K$7)/Setup!$C$10","v":{"$error":"#VALUE!"}},{"$f":"(L516*L$7)/Setup!$C$10","v":{"$error":"#VALUE!"}},{"$f":"(M516*M$7)/Setup!$C$10","v":{"$error":"#VALUE!"}},{"$f":"(N516*N$7)/Setup!$C$10","v":{"$error":"#VALUE!"}},{"$f":"(O516*O$7)/Setup!$C$10","v":{"$error":"#VALUE!"}},{"$f":"(P516*P$7)/Setup!$C$10","v":{"$error":"#VALUE!"}},{"$f":"(Q516*Q$7)/Setup!$C$10","v":{"$error":"#VALUE!"}},{"$f":"(R516*R$7)/Setup!$C$10","v":{"$error":"#VALUE!"}},{"$f":"(S516*S$7)/Setup!$C$10","v":{"$error":"#VALUE!"}},{"$f":"(T516*T$7)/Setup!$C$10","v":{"$error":"#VALUE!"}},{"$f":"(U516*U$7)/Setup!$C$10","v":{"$error":"#VALUE!"}},{"$f":"(V516*V$7)/Setup!$C$10","v":{"$error":"#VALUE!"}},{"$f":"(W516*W$7)/Setup!$C$10","v":{"$error":"#VALUE!"}},{"$f":"(X516*X$7)/Setup!$C$10","v":{"$error":"#VALUE!"}},null,{"$error":"#VALUE!"},{"$error":"#VALUE!"}]
["2015-03-30","Week 39",{"$f":"(C517*C$7)/Setup!$C$10","v":{"$error":"#VALUE!"}},{"$f":"(D517*D$7)/Setup!$C$10","v":{"$error":"#VALUE!"}},{"$f":"(E517*E$7)/Setup!$C$10","v":{"$error":"#VALUE!"}},{"$f":"(F517*F$7)/Setup!$C$10","v":{"$error":"#VALUE!"}},{"$f":"(G517*G$7)/Setup!$C$10","v":{"$error":"#VALUE!"}},{"$f":"(H517*H$7)/Setup!$C$10","v":{"$error":"#VALUE!"}},{"$f":"(I517*I$7)/Setup!$C$10","v":{"$error":"#VALUE!"}},{"$f":"(J517*J$7)/Setup!$C$10","v":{"$error":"#VALUE!"}},{"$f":"(K517*K$7)/Setup!$C$10","v":{"$error":"#VALUE!"}},{"$f":"(L517*L$7)/Setup!$C$10","v":{"$error":"#VALUE!"}},{"$f":"(M517*M$7)/Setup!$C$10","v":{"$error":"#VALUE!"}},{"$f":"(N517*N$7)/Setup!$C$10","v":{"$error":"#VALUE!"}},{"$f":"(O517*O$7)/Setup!$C$10","v":{"$error":"#VALUE!"}},{"$f":"(P517*P$7)/Setup!$C$10","v":{"$error":"#VALUE!"}},{"$f":"(Q517*Q$7)/Setup!$C$10","v":{"$error":"#VALUE!"}},{"$f":"(R517*R$7)/Setup!$C$10","v":{"$error":"#VALUE!"}},{"$f":"(S517*S$7)/Setup!$C$10","v":{"$error":"#VALUE!"}},{"$f":"(T517*T$7)/Setup!$C$10","v":{"$error":"#VALUE!"}},{"$f":"(U517*U$7)/Setup!$C$10","v":{"$error":"#VALUE!"}},{"$f":"(V517*V$7)/Setup!$C$10","v":{"$error":"#VALUE!"}},{"$f":"(W517*W$7)/Setup!$C$10","v":{"$error":"#VALUE!"}},{"$f":"(X517*X$7)/Setup!$C$10","v":{"$error":"#VALUE!"}},null,{"$error":"#VALUE!"},{"$error":"#VALUE!"}]
["2015-04-06","Week 40",{"$f":"(C518*C$7)/Setup!$C$10","v":{"$error":"#VALUE!"}},{"$f":"(D518*D$7)/Setup!$C$10","v":{"$error":"#VALUE!"}},{"$f":"(E518*E$7)/Setup!$C$10","v":{"$error":"#VALUE!"}},{"$f":"(F518*F$7)/Setup!$C$10","v":{"$error":"#VALUE!"}},{"$f":"(G518*G$7)/Setup!$C$10","v":{"$error":"#VALUE!"}},{"$f":"(H518*H$7)/Setup!$C$10","v":{"$error":"#VALUE!"}},{"$f":"(I518*I$7)/Setup!$C$10","v":{"$error":"#VALUE!"}},{"$f":"(J518*J$7)/Setup!$C$10","v":{"$error":"#VALUE!"}},{"$f":"(K518*K$7)/Setup!$C$10","v":{"$error":"#VALUE!"}},{"$f":"(L518*L$7)/Setup!$C$10","v":{"$error":"#VALUE!"}},{"$f":"(M518*M$7)/Setup!$C$10","v":{"$error":"#VALUE!"}},{"$f":"(N518*N$7)/Setup!$C$10","v":{"$error":"#VALUE!"}},{"$f":"(O518*O$7)/Setup!$C$10","v":{"$error":"#VALUE!"}},{"$f":"(P518*P$7)/Setup!$C$10","v":{"$error":"#VALUE!"}},{"$f":"(Q518*Q$7)/Setup!$C$10","v":{"$error":"#VALUE!"}},{"$f":"(R518*R$7)/Setup!$C$10","v":{"$error":"#VALUE!"}},{"$f":"(S518*S$7)/Setup!$C$10","v":{"$error":"#VALUE!"}},{"$f":"(T518*T$7)/Setup!$C$10","v":{"$error":"#VALUE!"}},{"$f":"(U518*U$7)/Setup!$C$10","v":{"$error":"#VALUE!"}},{"$f":"(V518*V$7)/Setup!$C$10","v":{"$error":"#VALUE!"}},{"$f":"(W518*W$7)/Setup!$C$10","v":{"$error":"#VALUE!"}},{"$f":"(X518*X$7)/Setup!$C$10","v":{"$error":"#VALUE!"}},null,{"$error":"#VALUE!"},{"$error":"#VALUE!"}]
[{"$f":"A461","v":"2015-04-13"},"Week 41",{"$f":"(C519*C$7)/Setup!$C$10","v":{"$error":"#VALUE!"}},{"$f":"(D519*D$7)/Setup!$C$10","v":{"$error":"#VALUE!"}},{"$f":"(E519*E$7)/Setup!$C$10","v":{"$error":"#VALUE!"}},{"$f":"(F519*F$7)/Setup!$C$10","v":{"$error":"#VALUE!"}},{"$f":"(G519*G$7)/Setup!$C$10","v":{"$error":"#VALUE!"}},{"$f":"(H519*H$7)/Setup!$C$10","v":{"$error":"#VALUE!"}},{"$f":"(I519*I$7)/Setup!$C$10","v":{"$error":"#VALUE!"}},{"$f":"(J519*J$7)/Setup!$C$10","v":{"$error":"#VALUE!"}},{"$f":"(K519*K$7)/Setup!$C$10","v":{"$error":"#VALUE!"}},{"$f":"(L519*L$7)/Setup!$C$10","v":{"$error":"#VALUE!"}},{"$f":"(M519*M$7)/Setup!$C$10","v":{"$error":"#VALUE!"}},{"$f":"(N519*N$7)/Setup!$C$10","v":{"$error":"#VALUE!"}},{"$f":"(O519*O$7)/Setup!$C$10","v":{"$error":"#VALUE!"}},{"$f":"(P519*P$7)/Setup!$C$10","v":{"$error":"#VALUE!"}},{"$f":"(Q519*Q$7)/Setup!$C$10","v":{"$error":"#VALUE!"}},{"$f":"(R519*R$7)/Setup!$C$10","v":{"$error":"#VALUE!"}},{"$f":"(S519*S$7)/Setup!$C$10","v":{"$error":"#VALUE!"}},{"$f":"(T519*T$7)/Setup!$C$10","v":{"$error":"#VALUE!"}},{"$f":"(U519*U$7)/Setup!$C$10","v":{"$error":"#VALUE!"}},{"$f":"(V519*V$7)/Setup!$C$10","v":{"$error":"#VALUE!"}},{"$f":"(W519*W$7)/Setup!$C$10","v":{"$error":"#VALUE!"}},{"$f":"(X519*X$7)/Setup!$C$10","v":{"$error":"#VALUE!"}},null,{"$error":"#VALUE!"},{"$error":"#VALUE!"}]
["2015-04-20","Week 42",{"$f":"(C520*C$7)/Setup!$C$10","v":{"$error":"#VALUE!"}},{"$f":"(D520*D$7)/Setup!$C$10","v":{"$error":"#VALUE!"}},{"$f":"(E520*E$7)/Setup!$C$10","v":{"$error":"#VALUE!"}},{"$f":"(F520*F$7)/Setup!$C$10","v":{"$error":"#VALUE!"}},{"$f":"(G520*G$7)/Setup!$C$10","v":{"$error":"#VALUE!"}},{"$f":"(H520*H$7)/Setup!$C$10","v":{"$error":"#VALUE!"}},{"$f":"(I520*I$7)/Setup!$C$10","v":{"$error":"#VALUE!"}},{"$f":"(J520*J$7)/Setup!$C$10","v":{"$error":"#VALUE!"}},{"$f":"(K520*K$7)/Setup!$C$10","v":{"$error":"#VALUE!"}},{"$f":"(L520*L$7)/Setup!$C$10","v":{"$error":"#VALUE!"}},{"$f":"(M520*M$7)/Setup!$C$10","v":{"$error":"#VALUE!"}},{"$f":"(N520*N$7)/Setup!$C$10","v":{"$error":"#VALUE!"}},{"$f":"(O520*O$7)/Setup!$C$10","v":{"$error":"#VALUE!"}},{"$f":"(P520*P$7)/Setup!$C$10","v":{"$error":"#VALUE!"}},{"$f":"(Q520*Q$7)/Setup!$C$10","v":{"$error":"#VALUE!"}},{"$f":"(R520*R$7)/Setup!$C$10","v":{"$error":"#VALUE!"}},{"$f":"(S520*S$7)/Setup!$C$10","v":{"$error":"#VALUE!"}},{"$f":"(T520*T$7)/Setup!$C$10","v":{"$error":"#VALUE!"}},{"$f":"(U520*U$7)/Setup!$C$10","v":{"$error":"#VALUE!"}},{"$f":"(V520*V$7)/Setup!$C$10","v":{"$error":"#VALUE!"}},{"$f":"(W520*W$7)/Setup!$C$10","v":{"$error":"#VALUE!"}},{"$f":"(X520*X$7)/Setup!$C$10","v":{"$error":"#VALUE!"}},null,{"$error":"#VALUE!"},{"$error":"#VALUE!"}]
["2015-04-27","Week 43",{"$f":"(C521*C$7)/Setup!$C$10","v":{"$error":"#VALUE!"}},{"$f":"(D521*D$7)/Setup!$C$10","v":{"$error":"#VALUE!"}},{"$f":"(E521*E$7)/Setup!$C$10","v":{"$error":"#VALUE!"}},{"$f":"(F521*F$7)/Setup!$C$10","v":{"$error":"#VALUE!"}},{"$f":"(G521*G$7)/Setup!$C$10","v":{"$error":"#VALUE!"}},{"$f":"(H521*H$7)/Setup!$C$10","v":{"$error":"#VALUE!"}},{"$f":"(I521*I$7)/Setup!$C$10","v":{"$error":"#VALUE!"}},{"$f":"(J521*J$7)/Setup!$C$10","v":{"$error":"#VALUE!"}},{"$f":"(K521*K$7)/Setup!$C$10","v":{"$error":"#VALUE!"}},{"$f":"(L521*L$7)/Setup!$C$10","v":{"$error":"#VALUE!"}},{"$f":"(M521*M$7)/Setup!$C$10","v":{"$error":"#VALUE!"}},{"$f":"(N521*N$7)/Setup!$C$10","v":{"$error":"#VALUE!"}},{"$f":"(O521*O$7)/Setup!$C$10","v":{"$error":"#VALUE!"}},{"$f":"(P521*P$7)/Setup!$C$10","v":{"$error":"#VALUE!"}},{"$f":"(Q521*Q$7)/Setup!$C$10","v":{"$error":"#VALUE!"}},{"$f":"(R521*R$7)/Setup!$C$10","v":{"$error":"#VALUE!"}},{"$f":"(S521*S$7)/Setup!$C$10","v":{"$error":"#VALUE!"}},{"$f":"(T521*T$7)/Setup!$C$10","v":{"$error":"#VALUE!"}},{"$f":"(U521*U$7)/Setup!$C$10","v":{"$error":"#VALUE!"}},{"$f":"(V521*V$7)/Setup!$C$10","v":{"$error":"#VALUE!"}},{"$f":"(W521*W$7)/Setup!$C$10","v":{"$error":"#VALUE!"}},{"$f":"(X521*X$7)/Setup!$C$10","v":{"$error":"#VALUE!"}},null,{"$error":"#VALUE!"},{"$error":"#VALUE!"}]
["2015-05-04","Week 44",{"$f":"(C522*C$7)/Setup!$C$10","v":{"$error":"#VALUE!"}},{"$f":"(D522*D$7)/Setup!$C$10","v":{"$error":"#VALUE!"}},{"$f":"(E522*E$7)/Setup!$C$10","v":{"$error":"#VALUE!"}},{"$f":"(F522*F$7)/Setup!$C$10","v":{"$error":"#VALUE!"}},{"$f":"(G522*G$7)/Setup!$C$10","v":{"$error":"#VALUE!"}},{"$f":"(H522*H$7)/Setup!$C$10","v":{"$error":"#VALUE!"}},{"$f":"(I522*I$7)/Setup!$C$10","v":{"$error":"#VALUE!"}},{"$f":"(J522*J$7)/Setup!$C$10","v":{"$error":"#VALUE!"}},{"$f":"(K522*K$7)/Setup!$C$10","v":{"$error":"#VALUE!"}},{"$f":"(L522*L$7)/Setup!$C$10","v":{"$error":"#VALUE!"}},{"$f":"(M522*M$7)/Setup!$C$10","v":{"$error":"#VALUE!"}},{"$f":"(N522*N$7)/Setup!$C$10","v":{"$error":"#VALUE!"}},{"$f":"(O522*O$7)/Setup!$C$10","v":{"$error":"#VALUE!"}},{"$f":"(P522*P$7)/Setup!$C$10","v":{"$error":"#VALUE!"}},{"$f":"(Q522*Q$7)/Setup!$C$10","v":{"$error":"#VALUE!"}},{"$f":"(R522*R$7)/Setup!$C$10","v":{"$error":"#VALUE!"}},{"$f":"(S522*S$7)/Setup!$C$10","v":{"$error":"#VALUE!"}},{"$f":"(T522*T$7)/Setup!$C$10","v":{"$error":"#VALUE!"}},{"$f":"(U522*U$7)/Setup!$C$10","v":{"$error":"#VALUE!"}},{"$f":"(V522*V$7)/Setup!$C$10","v":{"$error":"#VALUE!"}},{"$f":"(W522*W$7)/Setup!$C$10","v":{"$error":"#VALUE!"}},{"$f":"(X522*X$7)/Setup!$C$10","v":{"$error":"#VALUE!"}},null,{"$error":"#VALUE!"},{"$error":"#VALUE!"}]
["2015-05-11","Week 45",{"$f":"(C523*C$7)/Setup!$C$10","v":{"$error":"#VALUE!"}},{"$f":"(D523*D$7)/Setup!$C$10","v":{"$error":"#VALUE!"}},{"$f":"(E523*E$7)/Setup!$C$10","v":{"$error":"#VALUE!"}},{"$f":"(F523*F$7)/Setup!$C$10","v":{"$error":"#VALUE!"}},{"$f":"(G523*G$7)/Setup!$C$10","v":{"$error":"#VALUE!"}},{"$f":"(H523*H$7)/Setup!$C$10","v":{"$error":"#VALUE!"}},{"$f":"(I523*I$7)/Setup!$C$10","v":{"$error":"#VALUE!"}},{"$f":"(J523*J$7)/Setup!$C$10","v":{"$error":"#VALUE!"}},{"$f":"(K523*K$7)/Setup!$C$10","v":{"$error":"#VALUE!"}},{"$f":"(L523*L$7)/Setup!$C$10","v":{"$error":"#VALUE!"}},{"$f":"(M523*M$7)/Setup!$C$10","v":{"$error":"#VALUE!"}},{"$f":"(N523*N$7)/Setup!$C$10","v":{"$error":"#VALUE!"}},{"$f":"(O523*O$7)/Setup!$C$10","v":{"$error":"#VALUE!"}},{"$f":"(P523*P$7)/Setup!$C$10","v":{"$error":"#VALUE!"}},{"$f":"(Q523*Q$7)/Setup!$C$10","v":{"$error":"#VALUE!"}},{"$f":"(R523*R$7)/Setup!$C$10","v":{"$error":"#VALUE!"}},{"$f":"(S523*S$7)/Setup!$C$10","v":{"$error":"#VALUE!"}},{"$f":"(T523*T$7)/Setup!$C$10","v":{"$error":"#VALUE!"}},{"$f":"(U523*U$7)/Setup!$C$10","v":{"$error":"#VALUE!"}},{"$f":"(V523*V$7)/Setup!$C$10","v":{"$error":"#VALUE!"}},{"$f":"(W523*W$7)/Setup!$C$10","v":{"$error":"#VALUE!"}},{"$f":"(X523*X$7)/Setup!$C$10","v":{"$error":"#VALUE!"}},null,{"$error":"#VALUE!"},{"$error":"#VALUE!"}]
["2015-05-18","Week 46",{"$f":"(C524*C$7)/Setup!$C$10","v":{"$error":"#VALUE!"}},{"$f":"(D524*D$7)/Setup!$C$10","v":{"$error":"#VALUE!"}},{"$f":"(E524*E$7)/Setup!$C$10","v":{"$error":"#VALUE!"}},{"$f":"(F524*F$7)/Setup!$C$10","v":{"$error":"#VALUE!"}},{"$f":"(G524*G$7)/Setup!$C$10","v":{"$error":"#VALUE!"}},{"$f":"(H524*H$7)/Setup!$C$10","v":{"$error":"#VALUE!"}},{"$f":"(I524*I$7)/Setup!$C$10","v":{"$error":"#VALUE!"}},{"$f":"(J524*J$7)/Setup!$C$10","v":{"$error":"#VALUE!"}},{"$f":"(K524*K$7)/Setup!$C$10","v":{"$error":"#VALUE!"}},{"$f":"(L524*L$7)/Setup!$C$10","v":{"$error":"#VALUE!"}},{"$f":"(M524*M$7)/Setup!$C$10","v":{"$error":"#VALUE!"}},{"$f":"(N524*N$7)/Setup!$C$10","v":{"$error":"#VALUE!"}},{"$f":"(O524*O$7)/Setup!$C$10","v":{"$error":"#VALUE!"}},{"$f":"(P524*P$7)/Setup!$C$10","v":{"$error":"#VALUE!"}},{"$f":"(Q524*Q$7)/Setup!$C$10","v":{"$error":"#VALUE!"}},{"$f":"(R524*R$7)/Setup!$C$10","v":{"$error":"#VALUE!"}},{"$f":"(S524*S$7)/Setup!$C$10","v":{"$error":"#VALUE!"}},{"$f":"(T524*T$7)/Setup!$C$10","v":{"$error":"#VALUE!"}},{"$f":"(U524*U$7)/Setup!$C$10","v":{"$error":"#VALUE!"}},{"$f":"(V524*V$7)/Setup!$C$10","v":{"$error":"#VALUE!"}},{"$f":"(W524*W$7)/Setup!$C$10","v":{"$error":"#VALUE!"}},{"$f":"(X524*X$7)/Setup!$C$10","v":{"$error":"#VALUE!"}},null,{"$error":"#VALUE!"},{"$error":"#VALUE!"}]
["2015-05-25","Week 47",{"$f":"(C525*C$7)/Setup!$C$10","v":{"$error":"#VALUE!"}},{"$f":"(D525*D$7)/Setup!$C$10","v":{"$error":"#VALUE!"}},{"$f":"(E525*E$7)/Setup!$C$10","v":{"$error":"#VALUE!"}},{"$f":"(F525*F$7)/Setup!$C$10","v":{"$error":"#VALUE!"}},{"$f":"(G525*G$7)/Setup!$C$10","v":{"$error":"#VALUE!"}},{"$f":"(H525*H$7)/Setup!$C$10","v":{"$error":"#VALUE!"}},{"$f":"(I525*I$7)/Setup!$C$10","v":{"$error":"#VALUE!"}},{"$f":"(J525*J$7)/Setup!$C$10","v":{"$error":"#VALUE!"}},{"$f":"(K525*K$7)/Setup!$C$10","v":{"$error":"#VALUE!"}},{"$f":"(L525*L$7)/Setup!$C$10","v":{"$error":"#VALUE!"}},{"$f":"(M525*M$7)/Setup!$C$10","v":{"$error":"#VALUE!"}},{"$f":"(N525*N$7)/Setup!$C$10","v":{"$error":"#VALUE!"}},{"$f":"(O525*O$7)/Setup!$C$10","v":{"$error":"#VALUE!"}},{"$f":"(P525*P$7)/Setup!$C$10","v":{"$error":"#VALUE!"}},{"$f":"(Q525*Q$7)/Setup!$C$10","v":{"$error":"#VALUE!"}},{"$f":"(R525*R$7)/Setup!$C$10","v":{"$error":"#VALUE!"}},{"$f":"(S525*S$7)/Setup!$C$10","v":{"$error":"#VALUE!"}},{"$f":"(T525*T$7)/Setup!$C$10","v":{"$error":"#VALUE!"}},{"$f":"(U525*U$7)/Setup!$C$10","v":{"$error":"#VALUE!"}},{"$f":"(V525*V$7)/Setup!$C$10","v":{"$error":"#VALUE!"}},{"$f":"(W525*W$7)/Setup!$C$10","v":{"$error":"#VALUE!"}},{"$f":"(X525*X$7)/Setup!$C$10","v":{"$error":"#VALUE!"}},null,{"$error":"#VALUE!"},{"$error":"#VALUE!"}]
["2015-06-01","Week 48",{"$f":"(C526*C$7)/Setup!$C$10","v":{"$error":"#VALUE!"}},{"$f":"(D526*D$7)/Setup!$C$10","v":{"$error":"#VALUE!"}},{"$f":"(E526*E$7)/Setup!$C$10","v":{"$error":"#VALUE!"}},{"$f":"(F526*F$7)/Setup!$C$10","v":{"$error":"#VALUE!"}},{"$f":"(G526*G$7)/Setup!$C$10","v":{"$error":"#VALUE!"}},{"$f":"(H526*H$7)/Setup!$C$10","v":{"$error":"#VALUE!"}},{"$f":"(I526*I$7)/Setup!$C$10","v":{"$error":"#VALUE!"}},{"$f":"(J526*J$7)/Setup!$C$10","v":{"$error":"#VALUE!"}},{"$f":"(K526*K$7)/Setup!$C$10","v":{"$error":"#VALUE!"}},{"$f":"(L526*L$7)/Setup!$C$10","v":{"$error":"#VALUE!"}},{"$f":"(M526*M$7)/Setup!$C$10","v":{"$error":"#VALUE!"}},{"$f":"(N526*N$7)/Setup!$C$10","v":{"$error":"#VALUE!"}},{"$f":"(O526*O$7)/Setup!$C$10","v":{"$error":"#VALUE!"}},{"$f":"(P526*P$7)/Setup!$C$10","v":{"$error":"#VALUE!"}},{"$f":"(Q526*Q$7)/Setup!$C$10","v":{"$error":"#VALUE!"}},{"$f":"(R526*R$7)/Setup!$C$10","v":{"$error":"#VALUE!"}},{"$f":"(S526*S$7)/Setup!$C$10","v":{"$error":"#VALUE!"}},{"$f":"(T526*T$7)/Setup!$C$10","v":{"$error":"#VALUE!"}},{"$f":"(U526*U$7)/Setup!$C$10","v":{"$error":"#VALUE!"}},{"$f":"(V526*V$7)/Setup!$C$10","v":{"$error":"#VALUE!"}},{"$f":"(W526*W$7)/Setup!$C$10","v":{"$error":"#VALUE!"}},{"$f":"(X526*X$7)/Setup!$C$10","v":{"$error":"#VALUE!"}},null,{"$error":"#VALUE!"},{"$error":"#VALUE!"}]
["2015-06-08","Week 49",{"$f":"(C527*C$7)/Setup!$C$10","v":{"$error":"#VALUE!"}},{"$f":"(D527*D$7)/Setup!$C$10","v":{"$error":"#VALUE!"}},{"$f":"(E527*E$7)/Setup!$C$10","v":{"$error":"#VALUE!"}},{"$f":"(F527*F$7)/Setup!$C$10","v":{"$error":"#VALUE!"}},{"$f":"(G527*G$7)/Setup!$C$10","v":{"$error":"#VALUE!"}},{"$f":"(H527*H$7)/Setup!$C$10","v":{"$error":"#VALUE!"}},{"$f":"(I527*I$7)/Setup!$C$10","v":{"$error":"#VALUE!"}},{"$f":"(J527*J$7)/Setup!$C$10","v":{"$error":"#VALUE!"}},{"$f":"(K527*K$7)/Setup!$C$10","v":{"$error":"#VALUE!"}},{"$f":"(L527*L$7)/Setup!$C$10","v":{"$error":"#VALUE!"}},{"$f":"(M527*M$7)/Setup!$C$10","v":{"$error":"#VALUE!"}},{"$f":"(N527*N$7)/Setup!$C$10","v":{"$error":"#VALUE!"}},{"$f":"(O527*O$7)/Setup!$C$10","v":{"$error":"#VALUE!"}},{"$f":"(P527*P$7)/Setup!$C$10","v":{"$error":"#VALUE!"}},{"$f":"(Q527*Q$7)/Setup!$C$10","v":{"$error":"#VALUE!"}},{"$f":"(R527*R$7)/Setup!$C$10","v":{"$error":"#VALUE!"}},{"$f":"(S527*S$7)/Setup!$C$10","v":{"$error":"#VALUE!"}},{"$f":"(T527*T$7)/Setup!$C$10","v":{"$error":"#VALUE!"}},{"$f":"(U527*U$7)/Setup!$C$10","v":{"$error":"#VALUE!"}},{"$f":"(V527*V$7)/Setup!$C$10","v":{"$error":"#VALUE!"}},{"$f":"(W527*W$7)/Setup!$C$10","v":{"$error":"#VALUE!"}},{"$f":"(X527*X$7)/Setup!$C$10","v":{"$error":"#VALUE!"}},null,{"$error":"#VALUE!"},{"$error":"#VALUE!"}]
["2015-06-15","Week 50",{"$f":"(C528*C$7)/Setup!$C$10","v":{"$error":"#VALUE!"}},{"$f":"(D528*D$7)/Setup!$C$10","v":{"$error":"#VALUE!"}},{"$f":"(E528*E$7)/Setup!$C$10","v":{"$error":"#VALUE!"}},{"$f":"(F528*F$7)/Setup!$C$10","v":{"$error":"#VALUE!"}},{"$f":"(G528*G$7)/Setup!$C$10","v":{"$error":"#VALUE!"}},{"$f":"(H528*H$7)/Setup!$C$10","v":{"$error":"#VALUE!"}},{"$f":"(I528*I$7)/Setup!$C$10","v":{"$error":"#VALUE!"}},{"$f":"(J528*J$7)/Setup!$C$10","v":{"$error":"#VALUE!"}},{"$f":"(K528*K$7)/Setup!$C$10","v":{"$error":"#VALUE!"}},{"$f":"(L528*L$7)/Setup!$C$10","v":{"$error":"#VALUE!"}},{"$f":"(M528*M$7)/Setup!$C$10","v":{"$error":"#VALUE!"}},{"$f":"(N528*N$7)/Setup!$C$10","v":{"$error":"#VALUE!"}},{"$f":"(O528*O$7)/Setup!$C$10","v":{"$error":"#VALUE!"}},{"$f":"(P528*P$7)/Setup!$C$10","v":{"$error":"#VALUE!"}},{"$f":"(Q528*Q$7)/Setup!$C$10","v":{"$error":"#VALUE!"}},{"$f":"(R528*R$7)/Setup!$C$10","v":{"$error":"#VALUE!"}},{"$f":"(S528*S$7)/Setup!$C$10","v":{"$error":"#VALUE!"}},{"$f":"(T528*T$7)/Setup!$C$10","v":{"$error":"#VALUE!"}},{"$f":"(U528*U$7)/Setup!$C$10","v":{"$error":"#VALUE!"}},{"$f":"(V528*V$7)/Setup!$C$10","v":{"$error":"#VALUE!"}},{"$f":"(W528*W$7)/Setup!$C$10","v":{"$error":"#VALUE!"}},{"$f":"(X528*X$7)/Setup!$C$10","v":{"$error":"#VALUE!"}},null,{"$error":"#VALUE!"},{"$error":"#VALUE!"}]
["2015-06-22","Week 51",{"$f":"(C529*C$7)/Setup!$C$10","v":{"$error":"#VALUE!"}},{"$f":"(D529*D$7)/Setup!$C$10","v":{"$error":"#VALUE!"}},{"$f":"(E529*E$7)/Setup!$C$10","v":{"$error":"#VALUE!"}},{"$f":"(F529*F$7)/Setup!$C$10","v":{"$error":"#VALUE!"}},{"$f":"(G529*G$7)/Setup!$C$10","v":{"$error":"#VALUE!"}},{"$f":"(H529*H$7)/Setup!$C$10","v":{"$error":"#VALUE!"}},{"$f":"(I529*I$7)/Setup!$C$10","v":{"$error":"#VALUE!"}},{"$f":"(J529*J$7)/Setup!$C$10","v":{"$error":"#VALUE!"}},{"$f":"(K529*K$7)/Setup!$C$10","v":{"$error":"#VALUE!"}},{"$f":"(L529*L$7)/Setup!$C$10","v":{"$error":"#VALUE!"}},{"$f":"(M529*M$7)/Setup!$C$10","v":{"$error":"#VALUE!"}},{"$f":"(N529*N$7)/Setup!$C$10","v":{"$error":"#VALUE!"}},{"$f":"(O529*O$7)/Setup!$C$10","v":{"$error":"#VALUE!"}},{"$f":"(P529*P$7)/Setup!$C$10","v":{"$error":"#VALUE!"}},{"$f":"(Q529*Q$7)/Setup!$C$10","v":{"$error":"#VALUE!"}},{"$f":"(R529*R$7)/Setup!$C$10","v":{"$error":"#VALUE!"}},{"$f":"(S529*S$7)/Setup!$C$10","v":{"$error":"#VALUE!"}},{"$f":"(T529*T$7)/Setup!$C$10","v":{"$error":"#VALUE!"}},{"$f":"(U529*U$7)/Setup!$C$10","v":{"$error":"#VALUE!"}},{"$f":"(V529*V$7)/Setup!$C$10","v":{"$error":"#VALUE!"}},{"$f":"(W529*W$7)/Setup!$C$10","v":{"$error":"#VALUE!"}},{"$f":"(X529*X$7)/Setup!$C$10","v":{"$error":"#VALUE!"}},null,{"$error":"#VALUE!"},{"$error":"#VALUE!"}]
["2015-06-29","Week 52",{"$f":"(C530*C$7)/Setup!$C$10","v":{"$error":"#VALUE!"}},{"$f":"(D530*D$7)/Setup!$C$10","v":{"$error":"#VALUE!"}},{"$f":"(E530*E$7)/Setup!$C$10","v":{"$error":"#VALUE!"}},{"$f":"(F530*F$7)/Setup!$C$10","v":{"$error":"#VALUE!"}},{"$f":"(G530*G$7)/Setup!$C$10","v":{"$error":"#VALUE!"}},{"$f":"(H530*H$7)/Setup!$C$10","v":{"$error":"#VALUE!"}},{"$f":"(I530*I$7)/Setup!$C$10","v":{"$error":"#VALUE!"}},{"$f":"(J530*J$7)/Setup!$C$10","v":{"$error":"#VALUE!"}},{"$f":"(K530*K$7)/Setup!$C$10","v":{"$error":"#VALUE!"}},{"$f":"(L530*L$7)/Setup!$C$10","v":{"$error":"#VALUE!"}},{"$f":"(M530*M$7)/Setup!$C$10","v":{"$error":"#VALUE!"}},{"$f":"(N530*N$7)/Setup!$C$10","v":{"$error":"#VALUE!"}},{"$f":"(O530*O$7)/Setup!$C$10","v":{"$error":"#VALUE!"}},{"$f":"(P530*P$7)/Setup!$C$10","v":{"$error":"#VALUE!"}},{"$f":"(Q530*Q$7)/Setup!$C$10","v":{"$error":"#VALUE!"}},{"$f":"(R530*R$7)/Setup!$C$10","v":{"$error":"#VALUE!"}},{"$f":"(S530*S$7)/Setup!$C$10","v":{"$error":"#VALUE!"}},{"$f":"(T530*T$7)/Setup!$C$10","v":{"$error":"#VALUE!"}},{"$f":"(U530*U$7)/Setup!$C$10","v":{"$error":"#VALUE!"}},{"$f":"(V530*V$7)/Setup!$C$10","v":{"$error":"#VALUE!"}},{"$f":"(W530*W$7)/Setup!$C$10","v":{"$error":"#VALUE!"}},{"$f":"(X530*X$7)/Setup!$C$10","v":{"$error":"#VALUE!"}},null,{"$error":"#VALUE!"},{"$error":"#VALUE!"}]
[null,null,null,null,null,null,null,null,null,null,null,null,null,null,null,null,null,null,null,null,null,null,null,null,null,null,{"$f":"SUM(AA250:AA301)","v":{"$error":"#VALUE!"}}]
["Proposed Weekly P (Kg) / Hectare (Ha):"]
[]
[null,null,"Ammonium Nitrate","Ammonium Sulphate","Borax","Calcium Nitrate","Copper Sulphate","FertiMix","Iron Chelate","Iron Sulphate","Magnesium Sulphate","Manganese Sulphate","Mono-Ammonium Phosphate","Mono-Potassium Phosphate","Nitric Acid","Phosphoric Acid","Potassium Chloride","Potassium Nitrate","Potassium Sulphate","Sodium Molybdenum","Sulphuric Acid","Urea","Zinc Oxide","Zinc Sulphate"]
[null,null,"NH4NO3","(NH4)2SO4","Na2B4O7.10H2O","Ca(NO3)2","CuSO4.5H2O",null,"EDDHA","FeSO4.7H2O","MgSO4.7H2O","MnSO4.H2O","NH4H2PO4","KH2PO4","HNO3","PO4H3","KCl","KNO3","K2SO4","Na2MoO4","H2SO4","CO(NH2)2","ZnO","ZnSO4.7H2O",null,"TOTAL","P/week"]
[{"$f":"A421","v":"2014-07-07"},"Week 1",{"$f":"(C479*C$8)/Setup!$C$10","v":{"$error":"#VALUE!"}},{"$f":"(D479*D$8)/Setup!$C$10","v":{"$error":"#VALUE!"}},{"$f":"(E479*E$8)/Setup!$C$10","v":{"$error":"#VALUE!"}},{"$f":"(F479*F$8)/Setup!$C$10","v":{"$error":"#VALUE!"}},{"$f":"(G479*G$8)/Setup!$C$10","v":{"$error":"#VALUE!"}},{"$f":"(H479*H$8)/Setup!$C$10","v":{"$error":"#VALUE!"}},{"$f":"(I479*I$8)/Setup!$C$10","v":{"$error":"#VALUE!"}},{"$f":"(J479*J$8)/Setup!$C$10","v":{"$error":"#VALUE!"}},{"$f":"(K479*K$8)/Setup!$C$10","v":{"$error":"#VALUE!"}},{"$f":"(L479*L$8)/Setup!$C$10","v":{"$error":"#VALUE!"}},{"$f":"(M479*M$8)/Setup!$C$10","v":{"$error":"#VALUE!"}},{"$f":"(N479*N$8)/Setup!$C$10","v":{"$error":"#VALUE!"}},{"$f":"(O479*O$8)/Setup!$C$10","v":{"$error":"#VALUE!"}},{"$f":"(P479*P$8)/Setup!$C$10","v":{"$error":"#VALUE!"}},{"$f":"(Q479*Q$8)/Setup!$C$10","v":{"$error":"#VALUE!"}},{"$f":"(R479*R$8)/Setup!$C$10","v":{"$error":"#VALUE!"}},{"$f":"(S479*S$8)/Setup!$C$10","v":{"$error":"#VALUE!"}},{"$f":"(T479*T$8)/Setup!$C$10","v":{"$error":"#VALUE!"}},{"$f":"(U479*U$8)/Setup!$C$10","v":{"$error":"#VALUE!"}},{"$f":"(V479*V$8)/Setup!$C$10","v":{"$error":"#VALUE!"}},{"$f":"(W479*W$8)/Setup!$C$10","v":{"$error":"#VALUE!"}},{"$f":"(X479*X$8)/Setup!$C$10","v":{"$error":"#VALUE!"}},null,{"$f":"SUM(C307:X307)","v":{"$error":"#VALUE!"}},{"$f":"SUM(C307:X307)","v":{"$error":"#VALUE!"}}]
["2014-07-14","Week 2",{"$f":"(C480*C$8)/Setup!$C$10","v":{"$error":"#VALUE!"}},{"$f":"(D480*D$8)/Setup!$C$10","v":{"$error":"#VALUE!"}},{"$f":"(E480*E$8)/Setup!$C$10","v":{"$error":"#VALUE!"}},{"$f":"(F480*F$8)/Setup!$C$10","v":{"$error":"#VALUE!"}},{"$f":"(G480*G$8)/Setup!$C$10","v":{"$error":"#VALUE!"}},{"$f":"(H480*H$8)/Setup!$C$10","v":{"$error":"#VALUE!"}},{"$f":"(I480*I$8)/Setup!$C$10","v":{"$error":"#VALUE!"}},{"$f":"(J480*J$8)/Setup!$C$10","v":{"$error":"#VALUE!"}},{"$f":"(K480*K$8)/Setup!$C$10","v":{"$error":"#VALUE!"}},{"$f":"(L480*L$8)/Setup!$C$10","v":{"$error":"#VALUE!"}},{"$f":"(M480*M$8)/Setup!$C$10","v":{"$error":"#VALUE!"}},{"$f":"(N480*N$8)/Setup!$C$10","v":{"$error":"#VALUE!"}},{"$f":"(O480*O$8)/Setup!$C$10","v":{"$error":"#VALUE!"}},{"$f":"(P480*P$8)/Setup!$C$10","v":{"$error":"#VALUE!"}},{"$f":"(Q480*Q$8)/Setup!$C$10","v":{"$error":"#VALUE!"}},{"$f":"(R480*R$8)/Setup!$C$10","v":{"$error":"#VALUE!"}},{"$f":"(S480*S$8)/Setup!$C$10","v":{"$error":"#VALUE!"}},{"$f":"(T480*T$8)/Setup!$C$10","v":{"$error":"#VALUE!"}},{"$f":"(U480*U$8)/Setup!$C$10","v":{"$error":"#VALUE!"}},{"$f":"(V480*V$8)/Setup!$C$10","v":{"$error":"#VALUE!"}},{"$f":"(W480*W$8)/Setup!$C$10","v":{"$error":"#VALUE!"}},{"$f":"(X480*X$8)/Setup!$C$10","v":{"$error":"#VALUE!"}},null,{"$f":"SUM(C308:X308)+Z307","v":{"$error":"#VALUE!"}},{"$f":"SUM(C308:X308)","v":{"$error":"#VALUE!"}}]
["2014-07-21","Week 3",{"$f":"(C481*C$8)/Setup!$C$10","v":{"$error":"#VALUE!"}},{"$f":"(D481*D$8)/Setup!$C$10","v":{"$error":"#VALUE!"}},{"$f":"(E481*E$8)/Setup!$C$10","v":{"$error":"#VALUE!"}},{"$f":"(F481*F$8)/Setup!$C$10","v":{"$error":"#VALUE!"}},{"$f":"(G481*G$8)/Setup!$C$10","v":{"$error":"#VALUE!"}},{"$f":"(H481*H$8)/Setup!$C$10","v":{"$error":"#VALUE!"}},{"$f":"(I481*I$8)/Setup!$C$10","v":{"$error":"#VALUE!"}},{"$f":"(J481*J$8)/Setup!$C$10","v":{"$error":"#VALUE!"}},{"$f":"(K481*K$8)/Setup!$C$10","v":{"$error":"#VALUE!"}},{"$f":"(L481*L$8)/Setup!$C$10","v":{"$error":"#VALUE!"}},{"$f":"(M481*M$8)/Setup!$C$10","v":{"$error":"#VALUE!"}},{"$f":"(N481*N$8)/Setup!$C$10","v":{"$error":"#VALUE!"}},{"$f":"(O481*O$8)/Setup!$C$10","v":{"$error":"#VALUE!"}},{"$f":"(P481*P$8)/Setup!$C$10","v":{"$error":"#VALUE!"}},{"$f":"(Q481*Q$8)/Setup!$C$10","v":{"$error":"#VALUE!"}},{"$f":"(R481*R$8)/Setup!$C$10","v":{"$error":"#VALUE!"}},{"$f":"(S481*S$8)/Setup!$C$10","v":{"$error":"#VALUE!"}},{"$f":"(T481*T$8)/Setup!$C$10","v":{"$error":"#VALUE!"}},{"$f":"(U481*U$8)/Setup!$C$10","v":{"$error":"#VALUE!"}},{"$f":"(V481*V$8)/Setup!$C$10","v":{"$error":"#VALUE!"}},{"$f":"(W481*W$8)/Setup!$C$10","v":{"$error":"#VALUE!"}},{"$f":"(X481*X$8)/Setup!$C$10","v":{"$error":"#VALUE!"}},null,{"$error":"#VALUE!"},{"$error":"#VALUE!"}]
["2014-07-28","Week 4",{"$f":"(C482*C$8)/Setup!$C$10","v":{"$error":"#VALUE!"}},{"$f":"(D482*D$8)/Setup!$C$10","v":{"$error":"#VALUE!"}},{"$f":"(E482*E$8)/Setup!$C$10","v":{"$error":"#VALUE!"}},{"$f":"(F482*F$8)/Setup!$C$10","v":{"$error":"#VALUE!"}},{"$f":"(G482*G$8)/Setup!$C$10","v":{"$error":"#VALUE!"}},{"$f":"(H482*H$8)/Setup!$C$10","v":{"$error":"#VALUE!"}},{"$f":"(I482*I$8)/Setup!$C$10","v":{"$error":"#VALUE!"}},{"$f":"(J482*J$8)/Setup!$C$10","v":{"$error":"#VALUE!"}},{"$f":"(K482*K$8)/Setup!$C$10","v":{"$error":"#VALUE!"}},{"$f":"(L482*L$8)/Setup!$C$10","v":{"$error":"#VALUE!"}},{"$f":"(M482*M$8)/Setup!$C$10","v":{"$error":"#VALUE!"}},{"$f":"(N482*N$8)/Setup!$C$10","v":{"$error":"#VALUE!"}},{"$f":"(O482*O$8)/Setup!$C$10","v":{"$error":"#VALUE!"}},{"$f":"(P482*P$8)/Setup!$C$10","v":{"$error":"#VALUE!"}},{"$f":"(Q482*Q$8)/Setup!$C$10","v":{"$error":"#VALUE!"}},{"$f":"(R482*R$8)/Setup!$C$10","v":{"$error":"#VALUE!"}},{"$f":"(S482*S$8)/Setup!$C$10","v":{"$error":"#VALUE!"}},{"$f":"(T482*T$8)/Setup!$C$10","v":{"$error":"#VALUE!"}},{"$f":"(U482*U$8)/Setup!$C$10","v":{"$error":"#VALUE!"}},{"$f":"(V482*V$8)/Setup!$C$10","v":{"$error":"#VALUE!"}},{"$f":"(W482*W$8)/Setup!$C$10","v":{"$error":"#VALUE!"}},{"$f":"(X482*X$8)/Setup!$C$10","v":{"$error":"#VALUE!"}},null,{"$error":"#VALUE!"},{"$error":"#VALUE!"}]
["2014-08-04","Week 5",{"$f":"(C483*C$8)/Setup!$C$10","v":{"$error":"#VALUE!"}},{"$f":"(D483*D$8)/Setup!$C$10","v":{"$error":"#VALUE!"}},{"$f":"(E483*E$8)/Setup!$C$10","v":{"$error":"#VALUE!"}},{"$f":"(F483*F$8)/Setup!$C$10","v":{"$error":"#VALUE!"}},{"$f":"(G483*G$8)/Setup!$C$10","v":{"$error":"#VALUE!"}},{"$f":"(H483*H$8)/Setup!$C$10","v":{"$error":"#VALUE!"}},{"$f":"(I483*I$8)/Setup!$C$10","v":{"$error":"#VALUE!"}},{"$f":"(J483*J$8)/Setup!$C$10","v":{"$error":"#VALUE!"}},{"$f":"(K483*K$8)/Setup!$C$10","v":{"$error":"#VALUE!"}},{"$f":"(L483*L$8)/Setup!$C$10","v":{"$error":"#VALUE!"}},{"$f":"(M483*M$8)/Setup!$C$10","v":{"$error":"#VALUE!"}},{"$f":"(N483*N$8)/Setup!$C$10","v":{"$error":"#VALUE!"}},{"$f":"(O483*O$8)/Setup!$C$10","v":{"$error":"#VALUE!"}},{"$f":"(P483*P$8)/Setup!$C$10","v":{"$error":"#VALUE!"}},{"$f":"(Q483*Q$8)/Setup!$C$10","v":{"$error":"#VALUE!"}},{"$f":"(R483*R$8)/Setup!$C$10","v":{"$error":"#VALUE!"}},{"$f":"(S483*S$8)/Setup!$C$10","v":{"$error":"#VALUE!"}},{"$f":"(T483*T$8)/Setup!$C$10","v":{"$error":"#VALUE!"}},{"$f":"(U483*U$8)/Setup!$C$10","v":{"$error":"#VALUE!"}},{"$f":"(V483*V$8)/Setup!$C$10","v":{"$error":"#VALUE!"}},{"$f":"(W483*W$8)/Setup!$C$10","v":{"$error":"#VALUE!"}},{"$f":"(X483*X$8)/Setup!$C$10","v":{"$error":"#VALUE!"}},null,{"$error":"#VALUE!"},{"$error":"#VALUE!"}]
["2014-08-11","Week 6",{"$f":"(C484*C$8)/Setup!$C$10","v":{"$error":"#VALUE!"}},{"$f":"(D484*D$8)/Setup!$C$10","v":{"$error":"#VALUE!"}},{"$f":"(E484*E$8)/Setup!$C$10","v":{"$error":"#VALUE!"}},{"$f":"(F484*F$8)/Setup!$C$10","v":{"$error":"#VALUE!"}},{"$f":"(G484*G$8)/Setup!$C$10","v":{"$error":"#VALUE!"}},{"$f":"(H484*H$8)/Setup!$C$10","v":{"$error":"#VALUE!"}},{"$f":"(I484*I$8)/Setup!$C$10","v":{"$error":"#VALUE!"}},{"$f":"(J484*J$8)/Setup!$C$10","v":{"$error":"#VALUE!"}},{"$f":"(K484*K$8)/Setup!$C$10","v":{"$error":"#VALUE!"}},{"$f":"(L484*L$8)/Setup!$C$10","v":{"$error":"#VALUE!"}},{"$f":"(M484*M$8)/Setup!$C$10","v":{"$error":"#VALUE!"}},{"$f":"(N484*N$8)/Setup!$C$10","v":{"$error":"#VALUE!"}},{"$f":"(O484*O$8)/Setup!$C$10","v":{"$error":"#VALUE!"}},{"$f":"(P484*P$8)/Setup!$C$10","v":{"$error":"#VALUE!"}},{"$f":"(Q484*Q$8)/Setup!$C$10","v":{"$error":"#VALUE!"}},{"$f":"(R484*R$8)/Setup!$C$10","v":{"$error":"#VALUE!"}},{"$f":"(S484*S$8)/Setup!$C$10","v":{"$error":"#VALUE!"}},{"$f":"(T484*T$8)/Setup!$C$10","v":{"$error":"#VALUE!"}},{"$f":"(U484*U$8)/Setup!$C$10","v":{"$error":"#VALUE!"}},{"$f":"(V484*V$8)/Setup!$C$10","v":{"$error":"#VALUE!"}},{"$f":"(W484*W$8)/Setup!$C$10","v":{"$error":"#VALUE!"}},{"$f":"(X484*X$8)/Setup!$C$10","v":{"$error":"#VALUE!"}},null,{"$error":"#VALUE!"},{"$error":"#VALUE!"}]
["2014-08-18","Week 7",{"$f":"(C485*C$8)/Setup!$C$10","v":{"$error":"#VALUE!"}},{"$f":"(D485*D$8)/Setup!$C$10","v":{"$error":"#VALUE!"}},{"$f":"(E485*E$8)/Setup!$C$10","v":{"$error":"#VALUE!"}},{"$f":"(F485*F$8)/Setup!$C$10","v":{"$error":"#VALUE!"}},{"$f":"(G485*G$8)/Setup!$C$10","v":{"$error":"#VALUE!"}},{"$f":"(H485*H$8)/Setup!$C$10","v":{"$error":"#VALUE!"}},{"$f":"(I485*I$8)/Setup!$C$10","v":{"$error":"#VALUE!"}},{"$f":"(J485*J$8)/Setup!$C$10","v":{"$error":"#VALUE!"}},{"$f":"(K485*K$8)/Setup!$C$10","v":{"$error":"#VALUE!"}},{"$f":"(L485*L$8)/Setup!$C$10","v":{"$error":"#VALUE!"}},{"$f":"(M485*M$8)/Setup!$C$10","v":{"$error":"#VALUE!"}},{"$f":"(N485*N$8)/Setup!$C$10","v":{"$error":"#VALUE!"}},{"$f":"(O485*O$8)/Setup!$C$10","v":{"$error":"#VALUE!"}},{"$f":"(P485*P$8)/Setup!$C$10","v":{"$error":"#VALUE!"}},{"$f":"(Q485*Q$8)/Setup!$C$10","v":{"$error":"#VALUE!"}},{"$f":"(R485*R$8)/Setup!$C$10","v":{"$error":"#VALUE!"}},{"$f":"(S485*S$8)/Setup!$C$10","v":{"$error":"#VALUE!"}},{"$f":"(T485*T$8)/Setup!$C$10","v":{"$error":"#VALUE!"}},{"$f":"(U485*U$8)/Setup!$C$10","v":{"$error":"#VALUE!"}},{"$f":"(V485*V$8)/Setup!$C$10","v":{"$error":"#VALUE!"}},{"$f":"(W485*W$8)/Setup!$C$10","v":{"$error":"#VALUE!"}},{"$f":"(X485*X$8)/Setup!$C$10","v":{"$error":"#VALUE!"}},null,{"$error":"#VALUE!"},{"$error":"#VALUE!"}]
["2014-08-25","Week 8",{"$f":"(C486*C$8)/Setup!$C$10","v":{"$error":"#VALUE!"}},{"$f":"(D486*D$8)/Setup!$C$10","v":{"$error":"#VALUE!"}},{"$f":"(E486*E$8)/Setup!$C$10","v":{"$error":"#VALUE!"}},{"$f":"(F486*F$8)/Setup!$C$10","v":{"$error":"#VALUE!"}},{"$f":"(G486*G$8)/Setup!$C$10","v":{"$error":"#VALUE!"}},{"$f":"(H486*H$8)/Setup!$C$10","v":{"$error":"#VALUE!"}},{"$f":"(I486*I$8)/Setup!$C$10","v":{"$error":"#VALUE!"}},{"$f":"(J486*J$8)/Setup!$C$10","v":{"$error":"#VALUE!"}},{"$f":"(K486*K$8)/Setup!$C$10","v":{"$error":"#VALUE!"}},{"$f":"(L486*L$8)/Setup!$C$10","v":{"$error":"#VALUE!"}},{"$f":"(M486*M$8)/Setup!$C$10","v":{"$error":"#VALUE!"}},{"$f":"(N486*N$8)/Setup!$C$10","v":{"$error":"#VALUE!"}},{"$f":"(O486*O$8)/Setup!$C$10","v":{"$error":"#VALUE!"}},{"$f":"(P486*P$8)/Setup!$C$10","v":{"$error":"#VALUE!"}},{"$f":"(Q486*Q$8)/Setup!$C$10","v":{"$error":"#VALUE!"}},{"$f":"(R486*R$8)/Setup!$C$10","v":{"$error":"#VALUE!"}},{"$f":"(S486*S$8)/Setup!$C$10","v":{"$error":"#VALUE!"}},{"$f":"(T486*T$8)/Setup!$C$10","v":{"$error":"#VALUE!"}},{"$f":"(U486*U$8)/Setup!$C$10","v":{"$error":"#VALUE!"}},{"$f":"(V486*V$8)/Setup!$C$10","v":{"$error":"#VALUE!"}},{"$f":"(W486*W$8)/Setup!$C$10","v":{"$error":"#VALUE!"}},{"$f":"(X486*X$8)/Setup!$C$10","v":{"$error":"#VALUE!"}},null,{"$error":"#VALUE!"},{"$error":"#VALUE!"}]
["2014-09-01","Week 9",{"$f":"(C487*C$8)/Setup!$C$10","v":{"$error":"#VALUE!"}},{"$f":"(D487*D$8)/Setup!$C$10","v":{"$error":"#VALUE!"}},{"$f":"(E487*E$8)/Setup!$C$10","v":{"$error":"#VALUE!"}},{"$f":"(F487*F$8)/Setup!$C$10","v":{"$error":"#VALUE!"}},{"$f":"(G487*G$8)/Setup!$C$10","v":{"$error":"#VALUE!"}},{"$f":"(H487*H$8)/Setup!$C$10","v":{"$error":"#VALUE!"}},{"$f":"(I487*I$8)/Setup!$C$10","v":{"$error":"#VALUE!"}},{"$f":"(J487*J$8)/Setup!$C$10","v":{"$error":"#VALUE!"}},{"$f":"(K487*K$8)/Setup!$C$10","v":{"$error":"#VALUE!"}},{"$f":"(L487*L$8)/Setup!$C$10","v":{"$error":"#VALUE!"}},{"$f":"(M487*M$8)/Setup!$C$10","v":{"$error":"#VALUE!"}},{"$f":"(N487*N$8)/Setup!$C$10","v":{"$error":"#VALUE!"}},{"$f":"(O487*O$8)/Setup!$C$10","v":{"$error":"#VALUE!"}},{"$f":"(P487*P$8)/Setup!$C$10","v":{"$error":"#VALUE!"}},{"$f":"(Q487*Q$8)/Setup!$C$10","v":{"$error":"#VALUE!"}},{"$f":"(R487*R$8)/Setup!$C$10","v":{"$error":"#VALUE!"}},{"$f":"(S487*S$8)/Setup!$C$10","v":{"$error":"#VALUE!"}},{"$f":"(T487*T$8)/Setup!$C$10","v":{"$error":"#VALUE!"}},{"$f":"(U487*U$8)/Setup!$C$10","v":{"$error":"#VALUE!"}},{"$f":"(V487*V$8)/Setup!$C$10","v":{"$error":"#VALUE!"}},{"$f":"(W487*W$8)/Setup!$C$10","v":{"$error":"#VALUE!"}},{"$f":"(X487*X$8)/Setup!$C$10","v":{"$error":"#VALUE!"}},null,{"$error":"#VALUE!"},{"$error":"#VALUE!"}]
["2014-09-08","Week 10",{"$f":"(C488*C$8)/Setup!$C$10","v":{"$error":"#VALUE!"}},{"$f":"(D488*D$8)/Setup!$C$10","v":{"$error":"#VALUE!"}},{"$f":"(E488*E$8)/Setup!$C$10","v":{"$error":"#VALUE!"}},{"$f":"(F488*F$8)/Setup!$C$10","v":{"$error":"#VALUE!"}},{"$f":"(G488*G$8)/Setup!$C$10","v":{"$error":"#VALUE!"}},{"$f":"(H488*H$8)/Setup!$C$10","v":{"$error":"#VALUE!"}},{"$f":"(I488*I$8)/Setup!$C$10","v":{"$error":"#VALUE!"}},{"$f":"(J488*J$8)/Setup!$C$10","v":{"$error":"#VALUE!"}},{"$f":"(K488*K$8)/Setup!$C$10","v":{"$error":"#VALUE!"}},{"$f":"(L488*L$8)/Setup!$C$10","v":{"$error":"#VALUE!"}},{"$f":"(M488*M$8)/Setup!$C$10","v":{"$error":"#VALUE!"}},{"$f":"(N488*N$8)/Setup!$C$10","v":{"$error":"#VALUE!"}},{"$f":"(O488*O$8)/Setup!$C$10","v":{"$error":"#VALUE!"}},{"$f":"(P488*P$8)/Setup!$C$10","v":{"$error":"#VALUE!"}},{"$f":"(Q488*Q$8)/Setup!$C$10","v":{"$error":"#VALUE!"}},{"$f":"(R488*R$8)/Setup!$C$10","v":{"$error":"#VALUE!"}},{"$f":"(S488*S$8)/Setup!$C$10","v":{"$error":"#VALUE!"}},{"$f":"(T488*T$8)/Setup!$C$10","v":{"$error":"#VALUE!"}},{"$f":"(U488*U$8)/Setup!$C$10","v":{"$error":"#VALUE!"}},{"$f":"(V488*V$8)/Setup!$C$10","v":{"$error":"#VALUE!"}},{"$f":"(W488*W$8)/Setup!$C$10","v":{"$error":"#VALUE!"}},{"$f":"(X488*X$8)/Setup!$C$10","v":{"$error":"#VALUE!"}},null,{"$error":"#VALUE!"},{"$error":"#VALUE!"}]
["2014-09-15","Week 11",{"$f":"(C489*C$8)/Setup!$C$10","v":{"$error":"#VALUE!"}},{"$f":"(D489*D$8)/Setup!$C$10","v":{"$error":"#VALUE!"}},{"$f":"(E489*E$8)/Setup!$C$10","v":{"$error":"#VALUE!"}},{"$f":"(F489*F$8)/Setup!$C$10","v":{"$error":"#VALUE!"}},{"$f":"(G489*G$8)/Setup!$C$10","v":{"$error":"#VALUE!"}},{"$f":"(H489*H$8)/Setup!$C$10","v":{"$error":"#VALUE!"}},{"$f":"(I489*I$8)/Setup!$C$10","v":{"$error":"#VALUE!"}},{"$f":"(J489*J$8)/Setup!$C$10","v":{"$error":"#VALUE!"}},{"$f":"(K489*K$8)/Setup!$C$10","v":{"$error":"#VALUE!"}},{"$f":"(L489*L$8)/Setup!$C$10","v":{"$error":"#VALUE!"}},{"$f":"(M489*M$8)/Setup!$C$10","v":{"$error":"#VALUE!"}},{"$f":"(N489*N$8)/Setup!$C$10","v":{"$error":"#VALUE!"}},{"$f":"(O489*O$8)/Setup!$C$10","v":{"$error":"#VALUE!"}},{"$f":"(P489*P$8)/Setup!$C$10","v":{"$error":"#VALUE!"}},{"$f":"(Q489*Q$8)/Setup!$C$10","v":{"$error":"#VALUE!"}},{"$f":"(R489*R$8)/Setup!$C$10","v":{"$error":"#VALUE!"}},{"$f":"(S489*S$8)/Setup!$C$10","v":{"$error":"#VALUE!"}},{"$f":"(T489*T$8)/Setup!$C$10","v":{"$error":"#VALUE!"}},{"$f":"(U489*U$8)/Setup!$C$10","v":{"$error":"#VALUE!"}},{"$f":"(V489*V$8)/Setup!$C$10","v":{"$error":"#VALUE!"}},{"$f":"(W489*W$8)/Setup!$C$10","v":{"$error":"#VALUE!"}},{"$f":"(X489*X$8)/Setup!$C$10","v":{"$error":"#VALUE!"}},null,{"$error":"#VALUE!"},{"$error":"#VALUE!"}]
["2014-09-22","Week 12",{"$f":"(C490*C$8)/Setup!$C$10","v":{"$error":"#VALUE!"}},{"$f":"(D490*D$8)/Setup!$C$10","v":{"$error":"#VALUE!"}},{"$f":"(E490*E$8)/Setup!$C$10","v":{"$error":"#VALUE!"}},{"$f":"(F490*F$8)/Setup!$C$10","v":{"$error":"#VALUE!"}},{"$f":"(G490*G$8)/Setup!$C$10","v":{"$error":"#VALUE!"}},{"$f":"(H490*H$8)/Setup!$C$10","v":{"$error":"#VALUE!"}},{"$f":"(I490*I$8)/Setup!$C$10","v":{"$error":"#VALUE!"}},{"$f":"(J490*J$8)/Setup!$C$10","v":{"$error":"#VALUE!"}},{"$f":"(K490*K$8)/Setup!$C$10","v":{"$error":"#VALUE!"}},{"$f":"(L490*L$8)/Setup!$C$10","v":{"$error":"#VALUE!"}},{"$f":"(M490*M$8)/Setup!$C$10","v":{"$error":"#VALUE!"}},{"$f":"(N490*N$8)/Setup!$C$10","v":{"$error":"#VALUE!"}},{"$f":"(O490*O$8)/Setup!$C$10","v":{"$error":"#VALUE!"}},{"$f":"(P490*P$8)/Setup!$C$10","v":{"$error":"#VALUE!"}},{"$f":"(Q490*Q$8)/Setup!$C$10","v":{"$error":"#VALUE!"}},{"$f":"(R490*R$8)/Setup!$C$10","v":{"$error":"#VALUE!"}},{"$f":"(S490*S$8)/Setup!$C$10","v":{"$error":"#VALUE!"}},{"$f":"(T490*T$8)/Setup!$C$10","v":{"$error":"#VALUE!"}},{"$f":"(U490*U$8)/Setup!$C$10","v":{"$error":"#VALUE!"}},{"$f":"(V490*V$8)/Setup!$C$10","v":{"$error":"#VALUE!"}},{"$f":"(W490*W$8)/Setup!$C$10","v":{"$error":"#VALUE!"}},{"$f":"(X490*X$8)/Setup!$C$10","v":{"$error":"#VALUE!"}},null,{"$error":"#VALUE!"},{"$error":"#VALUE!"}]
["2014-09-29","Week 13",{"$f":"(C491*C$8)/Setup!$C$10","v":{"$error":"#VALUE!"}},{"$f":"(D491*D$8)/Setup!$C$10","v":{"$error":"#VALUE!"}},{"$f":"(E491*E$8)/Setup!$C$10","v":{"$error":"#VALUE!"}},{"$f":"(F491*F$8)/Setup!$C$10","v":{"$error":"#VALUE!"}},{"$f":"(G491*G$8)/Setup!$C$10","v":{"$error":"#VALUE!"}},{"$f":"(H491*H$8)/Setup!$C$10","v":{"$error":"#VALUE!"}},{"$f":"(I491*I$8)/Setup!$C$10","v":{"$error":"#VALUE!"}},{"$f":"(J491*J$8)/Setup!$C$10","v":{"$error":"#VALUE!"}},{"$f":"(K491*K$8)/Setup!$C$10","v":{"$error":"#VALUE!"}},{"$f":"(L491*L$8)/Setup!$C$10","v":{"$error":"#VALUE!"}},{"$f":"(M491*M$8)/Setup!$C$10","v":{"$error":"#VALUE!"}},{"$f":"(N491*N$8)/Setup!$C$10","v":{"$error":"#VALUE!"}},{"$f":"(O491*O$8)/Setup!$C$10","v":{"$error":"#VALUE!"}},{"$f":"(P491*P$8)/Setup!$C$10","v":{"$error":"#VALUE!"}},{"$f":"(Q491*Q$8)/Setup!$C$10","v":{"$error":"#VALUE!"}},{"$f":"(R491*R$8)/Setup!$C$10","v":{"$error":"#VALUE!"}},{"$f":"(S491*S$8)/Setup!$C$10","v":{"$error":"#VALUE!"}},{"$f":"(T491*T$8)/Setup!$C$10","v":{"$error":"#VALUE!"}},{"$f":"(U491*U$8)/Setup!$C$10","v":{"$error":"#VALUE!"}},{"$f":"(V491*V$8)/Setup!$C$10","v":{"$error":"#VALUE!"}},{"$f":"(W491*W$8)/Setup!$C$10","v":{"$error":"#VALUE!"}},{"$f":"(X491*X$8)/Setup!$C$10","v":{"$error":"#VALUE!"}},null,{"$error":"#VALUE!"},{"$error":"#VALUE!"}]
["2014-10-06","Week 14",{"$f":"(C492*C$8)/Setup!$C$10","v":{"$error":"#VALUE!"}},{"$f":"(D492*D$8)/Setup!$C$10","v":{"$error":"#VALUE!"}},{"$f":"(E492*E$8)/Setup!$C$10","v":{"$error":"#VALUE!"}},{"$f":"(F492*F$8)/Setup!$C$10","v":{"$error":"#VALUE!"}},{"$f":"(G492*G$8)/Setup!$C$10","v":{"$error":"#VALUE!"}},{"$f":"(H492*H$8)/Setup!$C$10","v":{"$error":"#VALUE!"}},{"$f":"(I492*I$8)/Setup!$C$10","v":{"$error":"#VALUE!"}},{"$f":"(J492*J$8)/Setup!$C$10","v":{"$error":"#VALUE!"}},{"$f":"(K492*K$8)/Setup!$C$10","v":{"$error":"#VALUE!"}},{"$f":"(L492*L$8)/Setup!$C$10","v":{"$error":"#VALUE!"}},{"$f":"(M492*M$8)/Setup!$C$10","v":{"$error":"#VALUE!"}},{"$f":"(N492*N$8)/Setup!$C$10","v":{"$error":"#VALUE!"}},{"$f":"(O492*O$8)/Setup!$C$10","v":{"$error":"#VALUE!"}},{"$f":"(P492*P$8)/Setup!$C$10","v":{"$error":"#VALUE!"}},{"$f":"(Q492*Q$8)/Setup!$C$10","v":{"$error":"#VALUE!"}},{"$f":"(R492*R$8)/Setup!$C$10","v":{"$error":"#VALUE!"}},{"$f":"(S492*S$8)/Setup!$C$10","v":{"$error":"#VALUE!"}},{"$f":"(T492*T$8)/Setup!$C$10","v":{"$error":"#VALUE!"}},{"$f":"(U492*U$8)/Setup!$C$10","v":{"$error":"#VALUE!"}},{"$f":"(V492*V$8)/Setup!$C$10","v":{"$error":"#VALUE!"}},{"$f":"(W492*W$8)/Setup!$C$10","v":{"$error":"#VALUE!"}},{"$f":"(X492*X$8)/Setup!$C$10","v":{"$error":"#VALUE!"}},null,{"$error":"#VALUE!"},{"$error":"#VALUE!"}]
["2014-10-13","Week 15",{"$f":"(C493*C$8)/Setup!$C$10","v":{"$error":"#VALUE!"}},{"$f":"(D493*D$8)/Setup!$C$10","v":{"$error":"#VALUE!"}},{"$f":"(E493*E$8)/Setup!$C$10","v":{"$error":"#VALUE!"}},{"$f":"(F493*F$8)/Setup!$C$10","v":{"$error":"#VALUE!"}},{"$f":"(G493*G$8)/Setup!$C$10","v":{"$error":"#VALUE!"}},{"$f":"(H493*H$8)/Setup!$C$10","v":{"$error":"#VALUE!"}},{"$f":"(I493*I$8)/Setup!$C$10","v":{"$error":"#VALUE!"}},{"$f":"(J493*J$8)/Setup!$C$10","v":{"$error":"#VALUE!"}},{"$f":"(K493*K$8)/Setup!$C$10","v":{"$error":"#VALUE!"}},{"$f":"(L493*L$8)/Setup!$C$10","v":{"$error":"#VALUE!"}},{"$f":"(M493*M$8)/Setup!$C$10","v":{"$error":"#VALUE!"}},{"$f":"(N493*N$8)/Setup!$C$10","v":{"$error":"#VALUE!"}},{"$f":"(O493*O$8)/Setup!$C$10","v":{"$error":"#VALUE!"}},{"$f":"(P493*P$8)/Setup!$C$10","v":{"$error":"#VALUE!"}},{"$f":"(Q493*Q$8)/Setup!$C$10","v":{"$error":"#VALUE!"}},{"$f":"(R493*R$8)/Setup!$C$10","v":{"$error":"#VALUE!"}},{"$f":"(S493*S$8)/Setup!$C$10","v":{"$error":"#VALUE!"}},{"$f":"(T493*T$8)/Setup!$C$10","v":{"$error":"#VALUE!"}},{"$f":"(U493*U$8)/Setup!$C$10","v":{"$error":"#VALUE!"}},{"$f":"(V493*V$8)/Setup!$C$10","v":{"$error":"#VALUE!"}},{"$f":"(W493*W$8)/Setup!$C$10","v":{"$error":"#VALUE!"}},{"$f":"(X493*X$8)/Setup!$C$10","v":{"$error":"#VALUE!"}},null,{"$error":"#VALUE!"},{"$error":"#VALUE!"}]
["2014-10-20","Week 16",{"$f":"(C494*C$8)/Setup!$C$10","v":{"$error":"#VALUE!"}},{"$f":"(D494*D$8)/Setup!$C$10","v":{"$error":"#VALUE!"}},{"$f":"(E494*E$8)/Setup!$C$10","v":{"$error":"#VALUE!"}},{"$f":"(F494*F$8)/Setup!$C$10","v":{"$error":"#VALUE!"}},{"$f":"(G494*G$8)/Setup!$C$10","v":{"$error":"#VALUE!"}},{"$f":"(H494*H$8)/Setup!$C$10","v":{"$error":"#VALUE!"}},{"$f":"(I494*I$8)/Setup!$C$10","v":{"$error":"#VALUE!"}},{"$f":"(J494*J$8)/Setup!$C$10","v":{"$error":"#VALUE!"}},{"$f":"(K494*K$8)/Setup!$C$10","v":{"$error":"#VALUE!"}},{"$f":"(L494*L$8)/Setup!$C$10","v":{"$error":"#VALUE!"}},{"$f":"(M494*M$8)/Setup!$C$10","v":{"$error":"#VALUE!"}},{"$f":"(N494*N$8)/Setup!$C$10","v":{"$error":"#VALUE!"}},{"$f":"(O494*O$8)/Setup!$C$10","v":{"$error":"#VALUE!"}},{"$f":"(P494*P$8)/Setup!$C$10","v":{"$error":"#VALUE!"}},{"$f":"(Q494*Q$8)/Setup!$C$10","v":{"$error":"#VALUE!"}},{"$f":"(R494*R$8)/Setup!$C$10","v":{"$error":"#VALUE!"}},{"$f":"(S494*S$8)/Setup!$C$10","v":{"$error":"#VALUE!"}},{"$f":"(T494*T$8)/Setup!$C$10","v":{"$error":"#VALUE!"}},{"$f":"(U494*U$8)/Setup!$C$10","v":{"$error":"#VALUE!"}},{"$f":"(V494*V$8)/Setup!$C$10","v":{"$error":"#VALUE!"}},{"$f":"(W494*W$8)/Setup!$C$10","v":{"$error":"#VALUE!"}},{"$f":"(X494*X$8)/Setup!$C$10","v":{"$error":"#VALUE!"}},null,{"$error":"#VALUE!"},{"$error":"#VALUE!"}]
["2014-10-27","Week 17",{"$f":"(C495*C$8)/Setup!$C$10","v":{"$error":"#VALUE!"}},{"$f":"(D495*D$8)/Setup!$C$10","v":{"$error":"#VALUE!"}},{"$f":"(E495*E$8)/Setup!$C$10","v":{"$error":"#VALUE!"}},{"$f":"(F495*F$8)/Setup!$C$10","v":{"$error":"#VALUE!"}},{"$f":"(G495*G$8)/Setup!$C$10","v":{"$error":"#VALUE!"}},{"$f":"(H495*H$8)/Setup!$C$10","v":{"$error":"#VALUE!"}},{"$f":"(I495*I$8)/Setup!$C$10","v":{"$error":"#VALUE!"}},{"$f":"(J495*J$8)/Setup!$C$10","v":{"$error":"#VALUE!"}},{"$f":"(K495*K$8)/Setup!$C$10","v":{"$error":"#VALUE!"}},{"$f":"(L495*L$8)/Setup!$C$10","v":{"$error":"#VALUE!"}},{"$f":"(M495*M$8)/Setup!$C$10","v":{"$error":"#VALUE!"}},{"$f":"(N495*N$8)/Setup!$C$10","v":{"$error":"#VALUE!"}},{"$f":"(O495*O$8)/Setup!$C$10","v":{"$error":"#VALUE!"}},{"$f":"(P495*P$8)/Setup!$C$10","v":{"$error":"#VALUE!"}},{"$f":"(Q495*Q$8)/Setup!$C$10","v":{"$error":"#VALUE!"}},{"$f":"(R495*R$8)/Setup!$C$10","v":{"$error":"#VALUE!"}},{"$f":"(S495*S$8)/Setup!$C$10","v":{"$error":"#VALUE!"}},{"$f":"(T495*T$8)/Setup!$C$10","v":{"$error":"#VALUE!"}},{"$f":"(U495*U$8)/Setup!$C$10","v":{"$error":"#VALUE!"}},{"$f":"(V495*V$8)/Setup!$C$10","v":{"$error":"#VALUE!"}},{"$f":"(W495*W$8)/Setup!$C$10","v":{"$error":"#VALUE!"}},{"$f":"(X495*X$8)/Setup!$C$10","v":{"$error":"#VALUE!"}},null,{"$error":"#VALUE!"},{"$error":"#VALUE!"}]
["2014-11-03","Week 18",{"$f":"(C496*C$8)/Setup!$C$10","v":{"$error":"#VALUE!"}},{"$f":"(D496*D$8)/Setup!$C$10","v":{"$error":"#VALUE!"}},{"$f":"(E496*E$8)/Setup!$C$10","v":{"$error":"#VALUE!"}},{"$f":"(F496*F$8)/Setup!$C$10","v":{"$error":"#VALUE!"}},{"$f":"(G496*G$8)/Setup!$C$10","v":{"$error":"#VALUE!"}},{"$f":"(H496*H$8)/Setup!$C$10","v":{"$error":"#VALUE!"}},{"$f":"(I496*I$8)/Setup!$C$10","v":{"$error":"#VALUE!"}},{"$f":"(J496*J$8)/Setup!$C$10","v":{"$error":"#VALUE!"}},{"$f":"(K496*K$8)/Setup!$C$10","v":{"$error":"#VALUE!"}},{"$f":"(L496*L$8)/Setup!$C$10","v":{"$error":"#VALUE!"}},{"$f":"(M496*M$8)/Setup!$C$10","v":{"$error":"#VALUE!"}},{"$f":"(N496*N$8)/Setup!$C$10","v":{"$error":"#VALUE!"}},{"$f":"(O496*O$8)/Setup!$C$10","v":{"$error":"#VALUE!"}},{"$f":"(P496*P$8)/Setup!$C$10","v":{"$error":"#VALUE!"}},{"$f":"(Q496*Q$8)/Setup!$C$10","v":{"$error":"#VALUE!"}},{"$f":"(R496*R$8)/Setup!$C$10","v":{"$error":"#VALUE!"}},{"$f":"(S496*S$8)/Setup!$C$10","v":{"$error":"#VALUE!"}},{"$f":"(T496*T$8)/Setup!$C$10","v":{"$error":"#VALUE!"}},{"$f":"(U496*U$8)/Setup!$C$10","v":{"$error":"#VALUE!"}},{"$f":"(V496*V$8)/Setup!$C$10","v":{"$error":"#VALUE!"}},{"$f":"(W496*W$8)/Setup!$C$10","v":{"$error":"#VALUE!"}},{"$f":"(X496*X$8)/Setup!$C$10","v":{"$error":"#VALUE!"}},null,{"$error":"#VALUE!"},{"$error":"#VALUE!"}]
["2014-11-10","Week 19",{"$f":"(C497*C$8)/Setup!$C$10","v":{"$error":"#VALUE!"}},{"$f":"(D497*D$8)/Setup!$C$10","v":{"$error":"#VALUE!"}},{"$f":"(E497*E$8)/Setup!$C$10","v":{"$error":"#VALUE!"}},{"$f":"(F497*F$8)/Setup!$C$10","v":{"$error":"#VALUE!"}},{"$f":"(G497*G$8)/Setup!$C$10","v":{"$error":"#VALUE!"}},{"$f":"(H497*H$8)/Setup!$C$10","v":{"$error":"#VALUE!"}},{"$f":"(I497*I$8)/Setup!$C$10","v":{"$error":"#VALUE!"}},{"$f":"(J497*J$8)/Setup!$C$10","v":{"$error":"#VALUE!"}},{"$f":"(K497*K$8)/Setup!$C$10","v":{"$error":"#VALUE!"}},{"$f":"(L497*L$8)/Setup!$C$10","v":{"$error":"#VALUE!"}},{"$f":"(M497*M$8)/Setup!$C$10","v":{"$error":"#VALUE!"}},{"$f":"(N497*N$8)/Setup!$C$10","v":{"$error":"#VALUE!"}},{"$f":"(O497*O$8)/Setup!$C$10","v":{"$error":"#VALUE!"}},{"$f":"(P497*P$8)/Setup!$C$10","v":{"$error":"#VALUE!"}},{"$f":"(Q497*Q$8)/Setup!$C$10","v":{"$error":"#VALUE!"}},{"$f":"(R497*R$8)/Setup!$C$10","v":{"$error":"#VALUE!"}},{"$f":"(S497*S$8)/Setup!$C$10","v":{"$error":"#VALUE!"}},{"$f":"(T497*T$8)/Setup!$C$10","v":{"$error":"#VALUE!"}},{"$f":"(U497*U$8)/Setup!$C$10","v":{"$error":"#VALUE!"}},{"$f":"(V497*V$8)/Setup!$C$10","v":{"$error":"#VALUE!"}},{"$f":"(W497*W$8)/Setup!$C$10","v":{"$error":"#VALUE!"}},{"$f":"(X497*X$8)/Setup!$C$10","v":{"$error":"#VALUE!"}},null,{"$error":"#VALUE!"},{"$error":"#VALUE!"}]
["2014-11-17","Week 20",{"$f":"(C498*C$8)/Setup!$C$10","v":{"$error":"#VALUE!"}},{"$f":"(D498*D$8)/Setup!$C$10","v":{"$error":"#VALUE!"}},{"$f":"(E498*E$8)/Setup!$C$10","v":{"$error":"#VALUE!"}},{"$f":"(F498*F$8)/Setup!$C$10","v":{"$error":"#VALUE!"}},{"$f":"(G498*G$8)/Setup!$C$10","v":{"$error":"#VALUE!"}},{"$f":"(H498*H$8)/Setup!$C$10","v":{"$error":"#VALUE!"}},{"$f":"(I498*I$8)/Setup!$C$10","v":{"$error":"#VALUE!"}},{"$f":"(J498*J$8)/Setup!$C$10","v":{"$error":"#VALUE!"}},{"$f":"(K498*K$8)/Setup!$C$10","v":{"$error":"#VALUE!"}},{"$f":"(L498*L$8)/Setup!$C$10","v":{"$error":"#VALUE!"}},{"$f":"(M498*M$8)/Setup!$C$10","v":{"$error":"#VALUE!"}},{"$f":"(N498*N$8)/Setup!$C$10","v":{"$error":"#VALUE!"}},{"$f":"(O498*O$8)/Setup!$C$10","v":{"$error":"#VALUE!"}},{"$f":"(P498*P$8)/Setup!$C$10","v":{"$error":"#VALUE!"}},{"$f":"(Q498*Q$8)/Setup!$C$10","v":{"$error":"#VALUE!"}},{"$f":"(R498*R$8)/Setup!$C$10","v":{"$error":"#VALUE!"}},{"$f":"(S498*S$8)/Setup!$C$10","v":{"$error":"#VALUE!"}},{"$f":"(T498*T$8)/Setup!$C$10","v":{"$error":"#VALUE!"}},{"$f":"(U498*U$8)/Setup!$C$10","v":{"$error":"#VALUE!"}},{"$f":"(V498*V$8)/Setup!$C$10","v":{"$error":"#VALUE!"}},{"$f":"(W498*W$8)/Setup!$C$10","v":{"$error":"#VALUE!"}},{"$f":"(X498*X$8)/Setup!$C$10","v":{"$error":"#VALUE!"}},null,{"$error":"#VALUE!"},{"$error":"#VALUE!"}]
[{"$f":"A441","v":"2014-11-24"},"Week 21",{"$f":"(C499*C$8)/Setup!$C$10","v":{"$error":"#VALUE!"}},{"$f":"(D499*D$8)/Setup!$C$10","v":{"$error":"#VALUE!"}},{"$f":"(E499*E$8)/Setup!$C$10","v":{"$error":"#VALUE!"}},{"$f":"(F499*F$8)/Setup!$C$10","v":{"$error":"#VALUE!"}},{"$f":"(G499*G$8)/Setup!$C$10","v":{"$error":"#VALUE!"}},{"$f":"(H499*H$8)/Setup!$C$10","v":{"$error":"#VALUE!"}},{"$f":"(I499*I$8)/Setup!$C$10","v":{"$error":"#VALUE!"}},{"$f":"(J499*J$8)/Setup!$C$10","v":{"$error":"#VALUE!"}},{"$f":"(K499*K$8)/Setup!$C$10","v":{"$error":"#VALUE!"}},{"$f":"(L499*L$8)/Setup!$C$10","v":{"$error":"#VALUE!"}},{"$f":"(M499*M$8)/Setup!$C$10","v":{"$error":"#VALUE!"}},{"$f":"(N499*N$8)/Setup!$C$10","v":{"$error":"#VALUE!"}},{"$f":"(O499*O$8)/Setup!$C$10","v":{"$error":"#VALUE!"}},{"$f":"(P499*P$8)/Setup!$C$10","v":{"$error":"#VALUE!"}},{"$f":"(Q499*Q$8)/Setup!$C$10","v":{"$error":"#VALUE!"}},{"$f":"(R499*R$8)/Setup!$C$10","v":{"$error":"#VALUE!"}},{"$f":"(S499*S$8)/Setup!$C$10","v":{"$error":"#VALUE!"}},{"$f":"(T499*T$8)/Setup!$C$10","v":{"$error":"#VALUE!"}},{"$f":"(U499*U$8)/Setup!$C$10","v":{"$error":"#VALUE!"}},{"$f":"(V499*V$8)/Setup!$C$10","v":{"$error":"#VALUE!"}},{"$f":"(W499*W$8)/Setup!$C$10","v":{"$error":"#VALUE!"}},{"$f":"(X499*X$8)/Setup!$C$10","v":{"$error":"#VALUE!"}},null,{"$error":"#VALUE!"},{"$error":"#VALUE!"}]
["2014-12-01","Week 22",{"$f":"(C500*C$8)/Setup!$C$10","v":{"$error":"#VALUE!"}},{"$f":"(D500*D$8)/Setup!$C$10","v":{"$error":"#VALUE!"}},{"$f":"(E500*E$8)/Setup!$C$10","v":{"$error":"#VALUE!"}},{"$f":"(F500*F$8)/Setup!$C$10","v":{"$error":"#VALUE!"}},{"$f":"(G500*G$8)/Setup!$C$10","v":{"$error":"#VALUE!"}},{"$f":"(H500*H$8)/Setup!$C$10","v":{"$error":"#VALUE!"}},{"$f":"(I500*I$8)/Setup!$C$10","v":{"$error":"#VALUE!"}},{"$f":"(J500*J$8)/Setup!$C$10","v":{"$error":"#VALUE!"}},{"$f":"(K500*K$8)/Setup!$C$10","v":{"$error":"#VALUE!"}},{"$f":"(L500*L$8)/Setup!$C$10","v":{"$error":"#VALUE!"}},{"$f":"(M500*M$8)/Setup!$C$10","v":{"$error":"#VALUE!"}},{"$f":"(N500*N$8)/Setup!$C$10","v":{"$error":"#VALUE!"}},{"$f":"(O500*O$8)/Setup!$C$10","v":{"$error":"#VALUE!"}},{"$f":"(P500*P$8)/Setup!$C$10","v":{"$error":"#VALUE!"}},{"$f":"(Q500*Q$8)/Setup!$C$10","v":{"$error":"#VALUE!"}},{"$f":"(R500*R$8)/Setup!$C$10","v":{"$error":"#VALUE!"}},{"$f":"(S500*S$8)/Setup!$C$10","v":{"$error":"#VALUE!"}},{"$f":"(T500*T$8)/Setup!$C$10","v":{"$error":"#VALUE!"}},{"$f":"(U500*U$8)/Setup!$C$10","v":{"$error":"#VALUE!"}},{"$f":"(V500*V$8)/Setup!$C$10","v":{"$error":"#VALUE!"}},{"$f":"(W500*W$8)/Setup!$C$10","v":{"$error":"#VALUE!"}},{"$f":"(X500*X$8)/Setup!$C$10","v":{"$error":"#VALUE!"}},null,{"$error":"#VALUE!"},{"$error":"#VALUE!"}]
["2014-12-08","Week 23",{"$f":"(C501*C$8)/Setup!$C$10","v":{"$error":"#VALUE!"}},{"$f":"(D501*D$8)/Setup!$C$10","v":{"$error":"#VALUE!"}},{"$f":"(E501*E$8)/Setup!$C$10","v":{"$error":"#VALUE!"}},{"$f":"(F501*F$8)/Setup!$C$10","v":{"$error":"#VALUE!"}},{"$f":"(G501*G$8)/Setup!$C$10","v":{"$error":"#VALUE!"}},{"$f":"(H501*H$8)/Setup!$C$10","v":{"$error":"#VALUE!"}},{"$f":"(I501*I$8)/Setup!$C$10","v":{"$error":"#VALUE!"}},{"$f":"(J501*J$8)/Setup!$C$10","v":{"$error":"#VALUE!"}},{"$f":"(K501*K$8)/Setup!$C$10","v":{"$error":"#VALUE!"}},{"$f":"(L501*L$8)/Setup!$C$10","v":{"$error":"#VALUE!"}},{"$f":"(M501*M$8)/Setup!$C$10","v":{"$error":"#VALUE!"}},{"$f":"(N501*N$8)/Setup!$C$10","v":{"$error":"#VALUE!"}},{"$f":"(O501*O$8)/Setup!$C$10","v":{"$error":"#VALUE!"}},{"$f":"(P501*P$8)/Setup!$C$10","v":{"$error":"#VALUE!"}},{"$f":"(Q501*Q$8)/Setup!$C$10","v":{"$error":"#VALUE!"}},{"$f":"(R501*R$8)/Setup!$C$10","v":{"$error":"#VALUE!"}},{"$f":"(S501*S$8)/Setup!$C$10","v":{"$error":"#VALUE!"}},{"$f":"(T501*T$8)/Setup!$C$10","v":{"$error":"#VALUE!"}},{"$f":"(U501*U$8)/Setup!$C$10","v":{"$error":"#VALUE!"}},{"$f":"(V501*V$8)/Setup!$C$10","v":{"$error":"#VALUE!"}},{"$f":"(W501*W$8)/Setup!$C$10","v":{"$error":"#VALUE!"}},{"$f":"(X501*X$8)/Setup!$C$10","v":{"$error":"#VALUE!"}},null,{"$error":"#VALUE!"},{"$error":"#VALUE!"}]
["2014-12-15","Week 24",{"$f":"(C502*C$8)/Setup!$C$10","v":{"$error":"#VALUE!"}},{"$f":"(D502*D$8)/Setup!$C$10","v":{"$error":"#VALUE!"}},{"$f":"(E502*E$8)/Setup!$C$10","v":{"$error":"#VALUE!"}},{"$f":"(F502*F$8)/Setup!$C$10","v":{"$error":"#VALUE!"}},{"$f":"(G502*G$8)/Setup!$C$10","v":{"$error":"#VALUE!"}},{"$f":"(H502*H$8)/Setup!$C$10","v":{"$error":"#VALUE!"}},{"$f":"(I502*I$8)/Setup!$C$10","v":{"$error":"#VALUE!"}},{"$f":"(J502*J$8)/Setup!$C$10","v":{"$error":"#VALUE!"}},{"$f":"(K502*K$8)/Setup!$C$10","v":{"$error":"#VALUE!"}},{"$f":"(L502*L$8)/Setup!$C$10","v":{"$error":"#VALUE!"}},{"$f":"(M502*M$8)/Setup!$C$10","v":{"$error":"#VALUE!"}},{"$f":"(N502*N$8)/Setup!$C$10","v":{"$error":"#VALUE!"}},{"$f":"(O502*O$8)/Setup!$C$10","v":{"$error":"#VALUE!"}},{"$f":"(P502*P$8)/Setup!$C$10","v":{"$error":"#VALUE!"}},{"$f":"(Q502*Q$8)/Setup!$C$10","v":{"$error":"#VALUE!"}},{"$f":"(R502*R$8)/Setup!$C$10","v":{"$error":"#VALUE!"}},{"$f":"(S502*S$8)/Setup!$C$10","v":{"$error":"#VALUE!"}},{"$f":"(T502*T$8)/Setup!$C$10","v":{"$error":"#VALUE!"}},{"$f":"(U502*U$8)/Setup!$C$10","v":{"$error":"#VALUE!"}},{"$f":"(V502*V$8)/Setup!$C$10","v":{"$error":"#VALUE!"}},{"$f":"(W502*W$8)/Setup!$C$10","v":{"$error":"#VALUE!"}},{"$f":"(X502*X$8)/Setup!$C$10","v":{"$error":"#VALUE!"}},null,{"$error":"#VALUE!"},{"$error":"#VALUE!"}]
["2014-12-22","Week 25",{"$f":"(C503*C$8)/Setup!$C$10","v":{"$error":"#VALUE!"}},{"$f":"(D503*D$8)/Setup!$C$10","v":{"$error":"#VALUE!"}},{"$f":"(E503*E$8)/Setup!$C$10","v":{"$error":"#VALUE!"}},{"$f":"(F503*F$8)/Setup!$C$10","v":{"$error":"#VALUE!"}},{"$f":"(G503*G$8)/Setup!$C$10","v":{"$error":"#VALUE!"}},{"$f":"(H503*H$8)/Setup!$C$10","v":{"$error":"#VALUE!"}},{"$f":"(I503*I$8)/Setup!$C$10","v":{"$error":"#VALUE!"}},{"$f":"(J503*J$8)/Setup!$C$10","v":{"$error":"#VALUE!"}},{"$f":"(K503*K$8)/Setup!$C$10","v":{"$error":"#VALUE!"}},{"$f":"(L503*L$8)/Setup!$C$10","v":{"$error":"#VALUE!"}},{"$f":"(M503*M$8)/Setup!$C$10","v":{"$error":"#VALUE!"}},{"$f":"(N503*N$8)/Setup!$C$10","v":{"$error":"#VALUE!"}},{"$f":"(O503*O$8)/Setup!$C$10","v":{"$error":"#VALUE!"}},{"$f":"(P503*P$8)/Setup!$C$10","v":{"$error":"#VALUE!"}},{"$f":"(Q503*Q$8)/Setup!$C$10","v":{"$error":"#VALUE!"}},{"$f":"(R503*R$8)/Setup!$C$10","v":{"$error":"#VALUE!"}},{"$f":"(S503*S$8)/Setup!$C$10","v":{"$error":"#VALUE!"}},{"$f":"(T503*T$8)/Setup!$C$10","v":{"$error":"#VALUE!"}},{"$f":"(U503*U$8)/Setup!$C$10","v":{"$error":"#VALUE!"}},{"$f":"(V503*V$8)/Setup!$C$10","v":{"$error":"#VALUE!"}},{"$f":"(W503*W$8)/Setup!$C$10","v":{"$error":"#VALUE!"}},{"$f":"(X503*X$8)/Setup!$C$10","v":{"$error":"#VALUE!"}},null,{"$error":"#VALUE!"},{"$error":"#VALUE!"}]
["2014-12-29","Week 26",{"$f":"(C504*C$8)/Setup!$C$10","v":{"$error":"#VALUE!"}},{"$f":"(D504*D$8)/Setup!$C$10","v":{"$error":"#VALUE!"}},{"$f":"(E504*E$8)/Setup!$C$10","v":{"$error":"#VALUE!"}},{"$f":"(F504*F$8)/Setup!$C$10","v":{"$error":"#VALUE!"}},{"$f":"(G504*G$8)/Setup!$C$10","v":{"$error":"#VALUE!"}},{"$f":"(H504*H$8)/Setup!$C$10","v":{"$error":"#VALUE!"}},{"$f":"(I504*I$8)/Setup!$C$10","v":{"$error":"#VALUE!"}},{"$f":"(J504*J$8)/Setup!$C$10","v":{"$error":"#VALUE!"}},{"$f":"(K504*K$8)/Setup!$C$10","v":{"$error":"#VALUE!"}},{"$f":"(L504*L$8)/Setup!$C$10","v":{"$error":"#VALUE!"}},{"$f":"(M504*M$8)/Setup!$C$10","v":{"$error":"#VALUE!"}},{"$f":"(N504*N$8)/Setup!$C$10","v":{"$error":"#VALUE!"}},{"$f":"(O504*O$8)/Setup!$C$10","v":{"$error":"#VALUE!"}},{"$f":"(P504*P$8)/Setup!$C$10","v":{"$error":"#VALUE!"}},{"$f":"(Q504*Q$8)/Setup!$C$10","v":{"$error":"#VALUE!"}},{"$f":"(R504*R$8)/Setup!$C$10","v":{"$error":"#VALUE!"}},{"$f":"(S504*S$8)/Setup!$C$10","v":{"$error":"#VALUE!"}},{"$f":"(T504*T$8)/Setup!$C$10","v":{"$error":"#VALUE!"}},{"$f":"(U504*U$8)/Setup!$C$10","v":{"$error":"#VALUE!"}},{"$f":"(V504*V$8)/Setup!$C$10","v":{"$error":"#VALUE!"}},{"$f":"(W504*W$8)/Setup!$C$10","v":{"$error":"#VALUE!"}},{"$f":"(X504*X$8)/Setup!$C$10","v":{"$error":"#VALUE!"}},null,{"$error":"#VALUE!"},{"$error":"#VALUE!"}]
["2015-01-05","Week 27",{"$f":"(C505*C$8)/Setup!$C$10","v":{"$error":"#VALUE!"}},{"$f":"(D505*D$8)/Setup!$C$10","v":{"$error":"#VALUE!"}},{"$f":"(E505*E$8)/Setup!$C$10","v":{"$error":"#VALUE!"}},{"$f":"(F505*F$8)/Setup!$C$10","v":{"$error":"#VALUE!"}},{"$f":"(G505*G$8)/Setup!$C$10","v":{"$error":"#VALUE!"}},{"$f":"(H505*H$8)/Setup!$C$10","v":{"$error":"#VALUE!"}},{"$f":"(I505*I$8)/Setup!$C$10","v":{"$error":"#VALUE!"}},{"$f":"(J505*J$8)/Setup!$C$10","v":{"$error":"#VALUE!"}},{"$f":"(K505*K$8)/Setup!$C$10","v":{"$error":"#VALUE!"}},{"$f":"(L505*L$8)/Setup!$C$10","v":{"$error":"#VALUE!"}},{"$f":"(M505*M$8)/Setup!$C$10","v":{"$error":"#VALUE!"}},{"$f":"(N505*N$8)/Setup!$C$10","v":{"$error":"#VALUE!"}},{"$f":"(O505*O$8)/Setup!$C$10","v":{"$error":"#VALUE!"}},{"$f":"(P505*P$8)/Setup!$C$10","v":{"$error":"#VALUE!"}},{"$f":"(Q505*Q$8)/Setup!$C$10","v":{"$error":"#VALUE!"}},{"$f":"(R505*R$8)/Setup!$C$10","v":{"$error":"#VALUE!"}},{"$f":"(S505*S$8)/Setup!$C$10","v":{"$error":"#VALUE!"}},{"$f":"(T505*T$8)/Setup!$C$10","v":{"$error":"#VALUE!"}},{"$f":"(U505*U$8)/Setup!$C$10","v":{"$error":"#VALUE!"}},{"$f":"(V505*V$8)/Setup!$C$10","v":{"$error":"#VALUE!"}},{"$f":"(W505*W$8)/Setup!$C$10","v":{"$error":"#VALUE!"}},{"$f":"(X505*X$8)/Setup!$C$10","v":{"$error":"#VALUE!"}},null,{"$error":"#VALUE!"},{"$error":"#VALUE!"}]
["2015-01-12","Week 28",{"$f":"(C506*C$8)/Setup!$C$10","v":{"$error":"#VALUE!"}},{"$f":"(D506*D$8)/Setup!$C$10","v":{"$error":"#VALUE!"}},{"$f":"(E506*E$8)/Setup!$C$10","v":{"$error":"#VALUE!"}},{"$f":"(F506*F$8)/Setup!$C$10","v":{"$error":"#VALUE!"}},{"$f":"(G506*G$8)/Setup!$C$10","v":{"$error":"#VALUE!"}},{"$f":"(H506*H$8)/Setup!$C$10","v":{"$error":"#VALUE!"}},{"$f":"(I506*I$8)/Setup!$C$10","v":{"$error":"#VALUE!"}},{"$f":"(J506*J$8)/Setup!$C$10","v":{"$error":"#VALUE!"}},{"$f":"(K506*K$8)/Setup!$C$10","v":{"$error":"#VALUE!"}},{"$f":"(L506*L$8)/Setup!$C$10","v":{"$error":"#VALUE!"}},{"$f":"(M506*M$8)/Setup!$C$10","v":{"$error":"#VALUE!"}},{"$f":"(N506*N$8)/Setup!$C$10","v":{"$error":"#VALUE!"}},{"$f":"(O506*O$8)/Setup!$C$10","v":{"$error":"#VALUE!"}},{"$f":"(P506*P$8)/Setup!$C$10","v":{"$error":"#VALUE!"}},{"$f":"(Q506*Q$8)/Setup!$C$10","v":{"$error":"#VALUE!"}},{"$f":"(R506*R$8)/Setup!$C$10","v":{"$error":"#VALUE!"}},{"$f":"(S506*S$8)/Setup!$C$10","v":{"$error":"#VALUE!"}},{"$f":"(T506*T$8)/Setup!$C$10","v":{"$error":"#VALUE!"}},{"$f":"(U506*U$8)/Setup!$C$10","v":{"$error":"#VALUE!"}},{"$f":"(V506*V$8)/Setup!$C$10","v":{"$error":"#VALUE!"}},{"$f":"(W506*W$8)/Setup!$C$10","v":{"$error":"#VALUE!"}},{"$f":"(X506*X$8)/Setup!$C$10","v":{"$error":"#VALUE!"}},null,{"$error":"#VALUE!"},{"$error":"#VALUE!"}]
["2015-01-19","Week 29",{"$f":"(C507*C$8)/Setup!$C$10","v":{"$error":"#VALUE!"}},{"$f":"(D507*D$8)/Setup!$C$10","v":{"$error":"#VALUE!"}},{"$f":"(E507*E$8)/Setup!$C$10","v":{"$error":"#VALUE!"}},{"$f":"(F507*F$8)/Setup!$C$10","v":{"$error":"#VALUE!"}},{"$f":"(G507*G$8)/Setup!$C$10","v":{"$error":"#VALUE!"}},{"$f":"(H507*H$8)/Setup!$C$10","v":{"$error":"#VALUE!"}},{"$f":"(I507*I$8)/Setup!$C$10","v":{"$error":"#VALUE!"}},{"$f":"(J507*J$8)/Setup!$C$10","v":{"$error":"#VALUE!"}},{"$f":"(K507*K$8)/Setup!$C$10","v":{"$error":"#VALUE!"}},{"$f":"(L507*L$8)/Setup!$C$10","v":{"$error":"#VALUE!"}},{"$f":"(M507*M$8)/Setup!$C$10","v":{"$error":"#VALUE!"}},{"$f":"(N507*N$8)/Setup!$C$10","v":{"$error":"#VALUE!"}},{"$f":"(O507*O$8)/Setup!$C$10","v":{"$error":"#VALUE!"}},{"$f":"(P507*P$8)/Setup!$C$10","v":{"$error":"#VALUE!"}},{"$f":"(Q507*Q$8)/Setup!$C$10","v":{"$error":"#VALUE!"}},{"$f":"(R507*R$8)/Setup!$C$10","v":{"$error":"#VALUE!"}},{"$f":"(S507*S$8)/Setup!$C$10","v":{"$error":"#VALUE!"}},{"$f":"(T507*T$8)/Setup!$C$10","v":{"$error":"#VALUE!"}},{"$f":"(U507*U$8)/Setup!$C$10","v":{"$error":"#VALUE!"}},{"$f":"(V507*V$8)/Setup!$C$10","v":{"$error":"#VALUE!"}},{"$f":"(W507*W$8)/Setup!$C$10","v":{"$error":"#VALUE!"}},{"$f":"(X507*X$8)/Setup!$C$10","v":{"$error":"#VALUE!"}},null,{"$error":"#VALUE!"},{"$error":"#VALUE!"}]
["2015-01-26","Week 30",{"$f":"(C508*C$8)/Setup!$C$10","v":{"$error":"#VALUE!"}},{"$f":"(D508*D$8)/Setup!$C$10","v":{"$error":"#VALUE!"}},{"$f":"(E508*E$8)/Setup!$C$10","v":{"$error":"#VALUE!"}},{"$f":"(F508*F$8)/Setup!$C$10","v":{"$error":"#VALUE!"}},{"$f":"(G508*G$8)/Setup!$C$10","v":{"$error":"#VALUE!"}},{"$f":"(H508*H$8)/Setup!$C$10","v":{"$error":"#VALUE!"}},{"$f":"(I508*I$8)/Setup!$C$10","v":{"$error":"#VALUE!"}},{"$f":"(J508*J$8)/Setup!$C$10","v":{"$error":"#VALUE!"}},{"$f":"(K508*K$8)/Setup!$C$10","v":{"$error":"#VALUE!"}},{"$f":"(L508*L$8)/Setup!$C$10","v":{"$error":"#VALUE!"}},{"$f":"(M508*M$8)/Setup!$C$10","v":{"$error":"#VALUE!"}},{"$f":"(N508*N$8)/Setup!$C$10","v":{"$error":"#VALUE!"}},{"$f":"(O508*O$8)/Setup!$C$10","v":{"$error":"#VALUE!"}},{"$f":"(P508*P$8)/Setup!$C$10","v":{"$error":"#VALUE!"}},{"$f":"(Q508*Q$8)/Setup!$C$10","v":{"$error":"#VALUE!"}},{"$f":"(R508*R$8)/Setup!$C$10","v":{"$error":"#VALUE!"}},{"$f":"(S508*S$8)/Setup!$C$10","v":{"$error":"#VALUE!"}},{"$f":"(T508*T$8)/Setup!$C$10","v":{"$error":"#VALUE!"}},{"$f":"(U508*U$8)/Setup!$C$10","v":{"$error":"#VALUE!"}},{"$f":"(V508*V$8)/Setup!$C$10","v":{"$error":"#VALUE!"}},{"$f":"(W508*W$8)/Setup!$C$10","v":{"$error":"#VALUE!"}},{"$f":"(X508*X$8)/Setup!$C$10","v":{"$error":"#VALUE!"}},null,{"$error":"#VALUE!"},{"$error":"#VALUE!"}]
["2015-02-02","Week 31",{"$f":"(C509*C$8)/Setup!$C$10","v":{"$error":"#VALUE!"}},{"$f":"(D509*D$8)/Setup!$C$10","v":{"$error":"#VALUE!"}},{"$f":"(E509*E$8)/Setup!$C$10","v":{"$error":"#VALUE!"}},{"$f":"(F509*F$8)/Setup!$C$10","v":{"$error":"#VALUE!"}},{"$f":"(G509*G$8)/Setup!$C$10","v":{"$error":"#VALUE!"}},{"$f":"(H509*H$8)/Setup!$C$10","v":{"$error":"#VALUE!"}},{"$f":"(I509*I$8)/Setup!$C$10","v":{"$error":"#VALUE!"}},{"$f":"(J509*J$8)/Setup!$C$10","v":{"$error":"#VALUE!"}},{"$f":"(K509*K$8)/Setup!$C$10","v":{"$error":"#VALUE!"}},{"$f":"(L509*L$8)/Setup!$C$10","v":{"$error":"#VALUE!"}},{"$f":"(M509*M$8)/Setup!$C$10","v":{"$error":"#VALUE!"}},{"$f":"(N509*N$8)/Setup!$C$10","v":{"$error":"#VALUE!"}},{"$f":"(O509*O$8)/Setup!$C$10","v":{"$error":"#VALUE!"}},{"$f":"(P509*P$8)/Setup!$C$10","v":{"$error":"#VALUE!"}},{"$f":"(Q509*Q$8)/Setup!$C$10","v":{"$error":"#VALUE!"}},{"$f":"(R509*R$8)/Setup!$C$10","v":{"$error":"#VALUE!"}},{"$f":"(S509*S$8)/Setup!$C$10","v":{"$error":"#VALUE!"}},{"$f":"(T509*T$8)/Setup!$C$10","v":{"$error":"#VALUE!"}},{"$f":"(U509*U$8)/Setup!$C$10","v":{"$error":"#VALUE!"}},{"$f":"(V509*V$8)/Setup!$C$10","v":{"$error":"#VALUE!"}},{"$f":"(W509*W$8)/Setup!$C$10","v":{"$error":"#VALUE!"}},{"$f":"(X509*X$8)/Setup!$C$10","v":{"$error":"#VALUE!"}},null,{"$error":"#VALUE!"},{"$error":"#VALUE!"}]
["2015-02-09","Week 32",{"$f":"(C510*C$8)/Setup!$C$10","v":{"$error":"#VALUE!"}},{"$f":"(D510*D$8)/Setup!$C$10","v":{"$error":"#VALUE!"}},{"$f":"(E510*E$8)/Setup!$C$10","v":{"$error":"#VALUE!"}},{"$f":"(F510*F$8)/Setup!$C$10","v":{"$error":"#VALUE!"}},{"$f":"(G510*G$8)/Setup!$C$10","v":{"$error":"#VALUE!"}},{"$f":"(H510*H$8)/Setup!$C$10","v":{"$error":"#VALUE!"}},{"$f":"(I510*I$8)/Setup!$C$10","v":{"$error":"#VALUE!"}},{"$f":"(J510*J$8)/Setup!$C$10","v":{"$error":"#VALUE!"}},{"$f":"(K510*K$8)/Setup!$C$10","v":{"$error":"#VALUE!"}},{"$f":"(L510*L$8)/Setup!$C$10","v":{"$error":"#VALUE!"}},{"$f":"(M510*M$8)/Setup!$C$10","v":{"$error":"#VALUE!"}},{"$f":"(N510*N$8)/Setup!$C$10","v":{"$error":"#VALUE!"}},{"$f":"(O510*O$8)/Setup!$C$10","v":{"$error":"#VALUE!"}},{"$f":"(P510*P$8)/Setup!$C$10","v":{"$error":"#VALUE!"}},{"$f":"(Q510*Q$8)/Setup!$C$10","v":{"$error":"#VALUE!"}},{"$f":"(R510*R$8)/Setup!$C$10","v":{"$error":"#VALUE!"}},{"$f":"(S510*S$8)/Setup!$C$10","v":{"$error":"#VALUE!"}},{"$f":"(T510*T$8)/Setup!$C$10","v":{"$error":"#VALUE!"}},{"$f":"(U510*U$8)/Setup!$C$10","v":{"$error":"#VALUE!"}},{"$f":"(V510*V$8)/Setup!$C$10","v":{"$error":"#VALUE!"}},{"$f":"(W510*W$8)/Setup!$C$10","v":{"$error":"#VALUE!"}},{"$f":"(X510*X$8)/Setup!$C$10","v":{"$error":"#VALUE!"}},null,{"$error":"#VALUE!"},{"$error":"#VALUE!"}]
["2015-02-16","Week 33",{"$f":"(C511*C$8)/Setup!$C$10","v":{"$error":"#VALUE!"}},{"$f":"(D511*D$8)/Setup!$C$10","v":{"$error":"#VALUE!"}},{"$f":"(E511*E$8)/Setup!$C$10","v":{"$error":"#VALUE!"}},{"$f":"(F511*F$8)/Setup!$C$10","v":{"$error":"#VALUE!"}},{"$f":"(G511*G$8)/Setup!$C$10","v":{"$error":"#VALUE!"}},{"$f":"(H511*H$8)/Setup!$C$10","v":{"$error":"#VALUE!"}},{"$f":"(I511*I$8)/Setup!$C$10","v":{"$error":"#VALUE!"}},{"$f":"(J511*J$8)/Setup!$C$10","v":{"$error":"#VALUE!"}},{"$f":"(K511*K$8)/Setup!$C$10","v":{"$error":"#VALUE!"}},{"$f":"(L511*L$8)/Setup!$C$10","v":{"$error":"#VALUE!"}},{"$f":"(M511*M$8)/Setup!$C$10","v":{"$error":"#VALUE!"}},{"$f":"(N511*N$8)/Setup!$C$10","v":{"$error":"#VALUE!"}},{"$f":"(O511*O$8)/Setup!$C$10","v":{"$error":"#VALUE!"}},{"$f":"(P511*P$8)/Setup!$C$10","v":{"$error":"#VALUE!"}},{"$f":"(Q511*Q$8)/Setup!$C$10","v":{"$error":"#VALUE!"}},{"$f":"(R511*R$8)/Setup!$C$10","v":{"$error":"#VALUE!"}},{"$f":"(S511*S$8)/Setup!$C$10","v":{"$error":"#VALUE!"}},{"$f":"(T511*T$8)/Setup!$C$10","v":{"$error":"#VALUE!"}},{"$f":"(U511*U$8)/Setup!$C$10","v":{"$error":"#VALUE!"}},{"$f":"(V511*V$8)/Setup!$C$10","v":{"$error":"#VALUE!"}},{"$f":"(W511*W$8)/Setup!$C$10","v":{"$error":"#VALUE!"}},{"$f":"(X511*X$8)/Setup!$C$10","v":{"$error":"#VALUE!"}},null,{"$error":"#VALUE!"},{"$error":"#VALUE!"}]
["2015-02-23","Week 34",{"$f":"(C512*C$8)/Setup!$C$10","v":{"$error":"#VALUE!"}},{"$f":"(D512*D$8)/Setup!$C$10","v":{"$error":"#VALUE!"}},{"$f":"(E512*E$8)/Setup!$C$10","v":{"$error":"#VALUE!"}},{"$f":"(F512*F$8)/Setup!$C$10","v":{"$error":"#VALUE!"}},{"$f":"(G512*G$8)/Setup!$C$10","v":{"$error":"#VALUE!"}},{"$f":"(H512*H$8)/Setup!$C$10","v":{"$error":"#VALUE!"}},{"$f":"(I512*I$8)/Setup!$C$10","v":{"$error":"#VALUE!"}},{"$f":"(J512*J$8)/Setup!$C$10","v":{"$error":"#VALUE!"}},{"$f":"(K512*K$8)/Setup!$C$10","v":{"$error":"#VALUE!"}},{"$f":"(L512*L$8)/Setup!$C$10","v":{"$error":"#VALUE!"}},{"$f":"(M512*M$8)/Setup!$C$10","v":{"$error":"#VALUE!"}},{"$f":"(N512*N$8)/Setup!$C$10","v":{"$error":"#VALUE!"}},{"$f":"(O512*O$8)/Setup!$C$10","v":{"$error":"#VALUE!"}},{"$f":"(P512*P$8)/Setup!$C$10","v":{"$error":"#VALUE!"}},{"$f":"(Q512*Q$8)/Setup!$C$10","v":{"$error":"#VALUE!"}},{"$f":"(R512*R$8)/Setup!$C$10","v":{"$error":"#VALUE!"}},{"$f":"(S512*S$8)/Setup!$C$10","v":{"$error":"#VALUE!"}},{"$f":"(T512*T$8)/Setup!$C$10","v":{"$error":"#VALUE!"}},{"$f":"(U512*U$8)/Setup!$C$10","v":{"$error":"#VALUE!"}},{"$f":"(V512*V$8)/Setup!$C$10","v":{"$error":"#VALUE!"}},{"$f":"(W512*W$8)/Setup!$C$10","v":{"$error":"#VALUE!"}},{"$f":"(X512*X$8)/Setup!$C$10","v":{"$error":"#VALUE!"}},null,{"$f":"SUM(C340:X340)+Z339","v":{"$error":"#VALUE!"}},{"$error":"#VALUE!"}]
["2015-03-02","Week 35",{"$f":"(C513*C$8)/Setup!$C$10","v":{"$error":"#VALUE!"}},{"$f":"(D513*D$8)/Setup!$C$10","v":{"$error":"#VALUE!"}},{"$f":"(E513*E$8)/Setup!$C$10","v":{"$error":"#VALUE!"}},{"$f":"(F513*F$8)/Setup!$C$10","v":{"$error":"#VALUE!"}},{"$f":"(G513*G$8)/Setup!$C$10","v":{"$error":"#VALUE!"}},{"$f":"(H513*H$8)/Setup!$C$10","v":{"$error":"#VALUE!"}},{"$f":"(I513*I$8)/Setup!$C$10","v":{"$error":"#VALUE!"}},{"$f":"(J513*J$8)/Setup!$C$10","v":{"$error":"#VALUE!"}},{"$f":"(K513*K$8)/Setup!$C$10","v":{"$error":"#VALUE!"}},{"$f":"(L513*L$8)/Setup!$C$10","v":{"$error":"#VALUE!"}},{"$f":"(M513*M$8)/Setup!$C$10","v":{"$error":"#VALUE!"}},{"$f":"(N513*N$8)/Setup!$C$10","v":{"$error":"#VALUE!"}},{"$f":"(O513*O$8)/Setup!$C$10","v":{"$error":"#VALUE!"}},{"$f":"(P513*P$8)/Setup!$C$10","v":{"$error":"#VALUE!"}},{"$f":"(Q513*Q$8)/Setup!$C$10","v":{"$error":"#VALUE!"}},{"$f":"(R513*R$8)/Setup!$C$10","v":{"$error":"#VALUE!"}},{"$f":"(S513*S$8)/Setup!$C$10","v":{"$error":"#VALUE!"}},{"$f":"(T513*T$8)/Setup!$C$10","v":{"$error":"#VALUE!"}},{"$f":"(U513*U$8)/Setup!$C$10","v":{"$error":"#VALUE!"}},{"$f":"(V513*V$8)/Setup!$C$10","v":{"$error":"#VALUE!"}},{"$f":"(W513*W$8)/Setup!$C$10","v":{"$error":"#VALUE!"}},{"$f":"(X513*X$8)/Setup!$C$10","v":{"$error":"#VALUE!"}},null,{"$error":"#VALUE!"},{"$error":"#VALUE!"}]
["2015-03-09","Week 36",{"$f":"(C514*C$8)/Setup!$C$10","v":{"$error":"#VALUE!"}},{"$f":"(D514*D$8)/Setup!$C$10","v":{"$error":"#VALUE!"}},{"$f":"(E514*E$8)/Setup!$C$10","v":{"$error":"#VALUE!"}},{"$f":"(F514*F$8)/Setup!$C$10","v":{"$error":"#VALUE!"}},{"$f":"(G514*G$8)/Setup!$C$10","v":{"$error":"#VALUE!"}},{"$f":"(H514*H$8)/Setup!$C$10","v":{"$error":"#VALUE!"}},{"$f":"(I514*I$8)/Setup!$C$10","v":{"$error":"#VALUE!"}},{"$f":"(J514*J$8)/Setup!$C$10","v":{"$error":"#VALUE!"}},{"$f":"(K514*K$8)/Setup!$C$10","v":{"$error":"#VALUE!"}},{"$f":"(L514*L$8)/Setup!$C$10","v":{"$error":"#VALUE!"}},{"$f":"(M514*M$8)/Setup!$C$10","v":{"$error":"#VALUE!"}},{"$f":"(N514*N$8)/Setup!$C$10","v":{"$error":"#VALUE!"}},{"$f":"(O514*O$8)/Setup!$C$10","v":{"$error":"#VALUE!"}},{"$f":"(P514*P$8)/Setup!$C$10","v":{"$error":"#VALUE!"}},{"$f":"(Q514*Q$8)/Setup!$C$10","v":{"$error":"#VALUE!"}},{"$f":"(R514*R$8)/Setup!$C$10","v":{"$error":"#VALUE!"}},{"$f":"(S514*S$8)/Setup!$C$10","v":{"$error":"#VALUE!"}},{"$f":"(T514*T$8)/Setup!$C$10","v":{"$error":"#VALUE!"}},{"$f":"(U514*U$8)/Setup!$C$10","v":{"$error":"#VALUE!"}},{"$f":"(V514*V$8)/Setup!$C$10","v":{"$error":"#VALUE!"}},{"$f":"(W514*W$8)/Setup!$C$10","v":{"$error":"#VALUE!"}},{"$f":"(X514*X$8)/Setup!$C$10","v":{"$error":"#VALUE!"}},null,{"$error":"#VALUE!"},{"$error":"#VALUE!"}]
["2015-03-16","Week 37",{"$f":"(C515*C$8)/Setup!$C$10","v":{"$error":"#VALUE!"}},{"$f":"(D515*D$8)/Setup!$C$10","v":{"$error":"#VALUE!"}},{"$f":"(E515*E$8)/Setup!$C$10","v":{"$error":"#VALUE!"}},{"$f":"(F515*F$8)/Setup!$C$10","v":{"$error":"#VALUE!"}},{"$f":"(G515*G$8)/Setup!$C$10","v":{"$error":"#VALUE!"}},{"$f":"(H515*H$8)/Setup!$C$10","v":{"$error":"#VALUE!"}},{"$f":"(I515*I$8)/Setup!$C$10","v":{"$error":"#VALUE!"}},{"$f":"(J515*J$8)/Setup!$C$10","v":{"$error":"#VALUE!"}},{"$f":"(K515*K$8)/Setup!$C$10","v":{"$error":"#VALUE!"}},{"$f":"(L515*L$8)/Setup!$C$10","v":{"$error":"#VALUE!"}},{"$f":"(M515*M$8)/Setup!$C$10","v":{"$error":"#VALUE!"}},{"$f":"(N515*N$8)/Setup!$C$10","v":{"$error":"#VALUE!"}},{"$f":"(O515*O$8)/Setup!$C$10","v":{"$error":"#VALUE!"}},{"$f":"(P515*P$8)/Setup!$C$10","v":{"$error":"#VALUE!"}},{"$f":"(Q515*Q$8)/Setup!$C$10","v":{"$error":"#VALUE!"}},{"$f":"(R515*R$8)/Setup!$C$10","v":{"$error":"#VALUE!"}},{"$f":"(S515*S$8)/Setup!$C$10","v":{"$error":"#VALUE!"}},{"$f":"(T515*T$8)/Setup!$C$10","v":{"$error":"#VALUE!"}},{"$f":"(U515*U$8)/Setup!$C$10","v":{"$error":"#VALUE!"}},{"$f":"(V515*V$8)/Setup!$C$10","v":{"$error":"#VALUE!"}},{"$f":"(W515*W$8)/Setup!$C$10","v":{"$error":"#VALUE!"}},{"$f":"(X515*X$8)/Setup!$C$10","v":{"$error":"#VALUE!"}},null,{"$error":"#VALUE!"},{"$error":"#VALUE!"}]
["2015-03-23","Week 38",{"$f":"(C516*C$8)/Setup!$C$10","v":{"$error":"#VALUE!"}},{"$f":"(D516*D$8)/Setup!$C$10","v":{"$error":"#VALUE!"}},{"$f":"(E516*E$8)/Setup!$C$10","v":{"$error":"#VALUE!"}},{"$f":"(F516*F$8)/Setup!$C$10","v":{"$error":"#VALUE!"}},{"$f":"(G516*G$8)/Setup!$C$10","v":{"$error":"#VALUE!"}},{"$f":"(H516*H$8)/Setup!$C$10","v":{"$error":"#VALUE!"}},{"$f":"(I516*I$8)/Setup!$C$10","v":{"$error":"#VALUE!"}},{"$f":"(J516*J$8)/Setup!$C$10","v":{"$error":"#VALUE!"}},{"$f":"(K516*K$8)/Setup!$C$10","v":{"$error":"#VALUE!"}},{"$f":"(L516*L$8)/Setup!$C$10","v":{"$error":"#VALUE!"}},{"$f":"(M516*M$8)/Setup!$C$10","v":{"$error":"#VALUE!"}},{"$f":"(N516*N$8)/Setup!$C$10","v":{"$error":"#VALUE!"}},{"$f":"(O516*O$8)/Setup!$C$10","v":{"$error":"#VALUE!"}},{"$f":"(P516*P$8)/Setup!$C$10","v":{"$error":"#VALUE!"}},{"$f":"(Q516*Q$8)/Setup!$C$10","v":{"$error":"#VALUE!"}},{"$f":"(R516*R$8)/Setup!$C$10","v":{"$error":"#VALUE!"}},{"$f":"(S516*S$8)/Setup!$C$10","v":{"$error":"#VALUE!"}},{"$f":"(T516*T$8)/Setup!$C$10","v":{"$error":"#VALUE!"}},{"$f":"(U516*U$8)/Setup!$C$10","v":{"$error":"#VALUE!"}},{"$f":"(V516*V$8)/Setup!$C$10","v":{"$error":"#VALUE!"}},{"$f":"(W516*W$8)/Setup!$C$10","v":{"$error":"#VALUE!"}},{"$f":"(X516*X$8)/Setup!$C$10","v":{"$error":"#VALUE!"}},null,{"$error":"#VALUE!"},{"$error":"#VALUE!"}]
["2015-03-30","Week 39",{"$f":"(C517*C$8)/Setup!$C$10","v":{"$error":"#VALUE!"}},{"$f":"(D517*D$8)/Setup!$C$10","v":{"$error":"#VALUE!"}},{"$f":"(E517*E$8)/Setup!$C$10","v":{"$error":"#VALUE!"}},{"$f":"(F517*F$8)/Setup!$C$10","v":{"$error":"#VALUE!"}},{"$f":"(G517*G$8)/Setup!$C$10","v":{"$error":"#VALUE!"}},{"$f":"(H517*H$8)/Setup!$C$10","v":{"$error":"#VALUE!"}},{"$f":"(I517*I$8)/Setup!$C$10","v":{"$error":"#VALUE!"}},{"$f":"(J517*J$8)/Setup!$C$10","v":{"$error":"#VALUE!"}},{"$f":"(K517*K$8)/Setup!$C$10","v":{"$error":"#VALUE!"}},{"$f":"(L517*L$8)/Setup!$C$10","v":{"$error":"#VALUE!"}},{"$f":"(M517*M$8)/Setup!$C$10","v":{"$error":"#VALUE!"}},{"$f":"(N517*N$8)/Setup!$C$10","v":{"$error":"#VALUE!"}},{"$f":"(O517*O$8)/Setup!$C$10","v":{"$error":"#VALUE!"}},{"$f":"(P517*P$8)/Setup!$C$10","v":{"$error":"#VALUE!"}},{"$f":"(Q517*Q$8)/Setup!$C$10","v":{"$error":"#VALUE!"}},{"$f":"(R517*R$8)/Setup!$C$10","v":{"$error":"#VALUE!"}},{"$f":"(S517*S$8)/Setup!$C$10","v":{"$error":"#VALUE!"}},{"$f":"(T517*T$8)/Setup!$C$10","v":{"$error":"#VALUE!"}},{"$f":"(U517*U$8)/Setup!$C$10","v":{"$error":"#VALUE!"}},{"$f":"(V517*V$8)/Setup!$C$10","v":{"$error":"#VALUE!"}},{"$f":"(W517*W$8)/Setup!$C$10","v":{"$error":"#VALUE!"}},{"$f":"(X517*X$8)/Setup!$C$10","v":{"$error":"#VALUE!"}},null,{"$error":"#VALUE!"},{"$error":"#VALUE!"}]
["2015-04-06","Week 40",{"$f":"(C518*C$8)/Setup!$C$10","v":{"$error":"#VALUE!"}},{"$f":"(D518*D$8)/Setup!$C$10","v":{"$error":"#VALUE!"}},{"$f":"(E518*E$8)/Setup!$C$10","v":{"$error":"#VALUE!"}},{"$f":"(F518*F$8)/Setup!$C$10","v":{"$error":"#VALUE!"}},{"$f":"(G518*G$8)/Setup!$C$10","v":{"$error":"#VALUE!"}},{"$f":"(H518*H$8)/Setup!$C$10","v":{"$error":"#VALUE!"}},{"$f":"(I518*I$8)/Setup!$C$10","v":{"$error":"#VALUE!"}},{"$f":"(J518*J$8)/Setup!$C$10","v":{"$error":"#VALUE!"}},{"$f":"(K518*K$8)/Setup!$C$10","v":{"$error":"#VALUE!"}},{"$f":"(L518*L$8)/Setup!$C$10","v":{"$error":"#VALUE!"}},{"$f":"(M518*M$8)/Setup!$C$10","v":{"$error":"#VALUE!"}},{"$f":"(N518*N$8)/Setup!$C$10","v":{"$error":"#VALUE!"}},{"$f":"(O518*O$8)/Setup!$C$10","v":{"$error":"#VALUE!"}},{"$f":"(P518*P$8)/Setup!$C$10","v":{"$error":"#VALUE!"}},{"$f":"(Q518*Q$8)/Setup!$C$10","v":{"$error":"#VALUE!"}},{"$f":"(R518*R$8)/Setup!$C$10","v":{"$error":"#VALUE!"}},{"$f":"(S518*S$8)/Setup!$C$10","v":{"$error":"#VALUE!"}},{"$f":"(T518*T$8)/Setup!$C$10","v":{"$error":"#VALUE!"}},{"$f":"(U518*U$8)/Setup!$C$10","v":{"$error":"#VALUE!"}},{"$f":"(V518*V$8)/Setup!$C$10","v":{"$error":"#VALUE!"}},{"$f":"(W518*W$8)/Setup!$C$10","v":{"$error":"#VALUE!"}},{"$f":"(X518*X$8)/Setup!$C$10","v":{"$error":"#VALUE!"}},null,{"$error":"#VALUE!"},{"$error":"#VALUE!"}]
[{"$f":"A461","v":"2015-04-13"},"Week 41",{"$f":"(C519*C$8)/Setup!$C$10","v":{"$error":"#VALUE!"}},{"$f":"(D519*D$8)/Setup!$C$10","v":{"$error":"#VALUE!"}},{"$f":"(E519*E$8)/Setup!$C$10","v":{"$error":"#VALUE!"}},{"$f":"(F519*F$8)/Setup!$C$10","v":{"$error":"#VALUE!"}},{"$f":"(G519*G$8)/Setup!$C$10","v":{"$error":"#VALUE!"}},{"$f":"(H519*H$8)/Setup!$C$10","v":{"$error":"#VALUE!"}},{"$f":"(I519*I$8)/Setup!$C$10","v":{"$error":"#VALUE!"}},{"$f":"(J519*J$8)/Setup!$C$10","v":{"$error":"#VALUE!"}},{"$f":"(K519*K$8)/Setup!$C$10","v":{"$error":"#VALUE!"}},{"$f":"(L519*L$8)/Setup!$C$10","v":{"$error":"#VALUE!"}},{"$f":"(M519*M$8)/Setup!$C$10","v":{"$error":"#VALUE!"}},{"$f":"(N519*N$8)/Setup!$C$10","v":{"$error":"#VALUE!"}},{"$f":"(O519*O$8)/Setup!$C$10","v":{"$error":"#VALUE!"}},{"$f":"(P519*P$8)/Setup!$C$10","v":{"$error":"#VALUE!"}},{"$f":"(Q519*Q$8)/Setup!$C$10","v":{"$error":"#VALUE!"}},{"$f":"(R519*R$8)/Setup!$C$10","v":{"$error":"#VALUE!"}},{"$f":"(S519*S$8)/Setup!$C$10","v":{"$error":"#VALUE!"}},{"$f":"(T519*T$8)/Setup!$C$10","v":{"$error":"#VALUE!"}},{"$f":"(U519*U$8)/Setup!$C$10","v":{"$error":"#VALUE!"}},{"$f":"(V519*V$8)/Setup!$C$10","v":{"$error":"#VALUE!"}},{"$f":"(W519*W$8)/Setup!$C$10","v":{"$error":"#VALUE!"}},{"$f":"(X519*X$8)/Setup!$C$10","v":{"$error":"#VALUE!"}},null,{"$error":"#VALUE!"},{"$error":"#VALUE!"}]
["2015-04-20","Week 42",{"$f":"(C520*C$8)/Setup!$C$10","v":{"$error":"#VALUE!"}},{"$f":"(D520*D$8)/Setup!$C$10","v":{"$error":"#VALUE!"}},{"$f":"(E520*E$8)/Setup!$C$10","v":{"$error":"#VALUE!"}},{"$f":"(F520*F$8)/Setup!$C$10","v":{"$error":"#VALUE!"}},{"$f":"(G520*G$8)/Setup!$C$10","v":{"$error":"#VALUE!"}},{"$f":"(H520*H$8)/Setup!$C$10","v":{"$error":"#VALUE!"}},{"$f":"(I520*I$8)/Setup!$C$10","v":{"$error":"#VALUE!"}},{"$f":"(J520*J$8)/Setup!$C$10","v":{"$error":"#VALUE!"}},{"$f":"(K520*K$8)/Setup!$C$10","v":{"$error":"#VALUE!"}},{"$f":"(L520*L$8)/Setup!$C$10","v":{"$error":"#VALUE!"}},{"$f":"(M520*M$8)/Setup!$C$10","v":{"$error":"#VALUE!"}},{"$f":"(N520*N$8)/Setup!$C$10","v":{"$error":"#VALUE!"}},{"$f":"(O520*O$8)/Setup!$C$10","v":{"$error":"#VALUE!"}},{"$f":"(P520*P$8)/Setup!$C$10","v":{"$error":"#VALUE!"}},{"$f":"(Q520*Q$8)/Setup!$C$10","v":{"$error":"#VALUE!"}},{"$f":"(R520*R$8)/Setup!$C$10","v":{"$error":"#VALUE!"}},{"$f":"(S520*S$8)/Setup!$C$10","v":{"$error":"#VALUE!"}},{"$f":"(T520*T$8)/Setup!$C$10","v":{"$error":"#VALUE!"}},{"$f":"(U520*U$8)/Setup!$C$10","v":{"$error":"#VALUE!"}},{"$f":"(V520*V$8)/Setup!$C$10","v":{"$error":"#VALUE!"}},{"$f":"(W520*W$8)/Setup!$C$10","v":{"$error":"#VALUE!"}},{"$f":"(X520*X$8)/Setup!$C$10","v":{"$error":"#VALUE!"}},null,{"$error":"#VALUE!"},{"$error":"#VALUE!"}]
["2015-04-27","Week 43",{"$f":"(C521*C$8)/Setup!$C$10","v":{"$error":"#VALUE!"}},{"$f":"(D521*D$8)/Setup!$C$10","v":{"$error":"#VALUE!"}},{"$f":"(E521*E$8)/Setup!$C$10","v":{"$error":"#VALUE!"}},{"$f":"(F521*F$8)/Setup!$C$10","v":{"$error":"#VALUE!"}},{"$f":"(G521*G$8)/Setup!$C$10","v":{"$error":"#VALUE!"}},{"$f":"(H521*H$8)/Setup!$C$10","v":{"$error":"#VALUE!"}},{"$f":"(I521*I$8)/Setup!$C$10","v":{"$error":"#VALUE!"}},{"$f":"(J521*J$8)/Setup!$C$10","v":{"$error":"#VALUE!"}},{"$f":"(K521*K$8)/Setup!$C$10","v":{"$error":"#VALUE!"}},{"$f":"(L521*L$8)/Setup!$C$10","v":{"$error":"#VALUE!"}},{"$f":"(M521*M$8)/Setup!$C$10","v":{"$error":"#VALUE!"}},{"$f":"(N521*N$8)/Setup!$C$10","v":{"$error":"#VALUE!"}},{"$f":"(O521*O$8)/Setup!$C$10","v":{"$error":"#VALUE!"}},{"$f":"(P521*P$8)/Setup!$C$10","v":{"$error":"#VALUE!"}},{"$f":"(Q521*Q$8)/Setup!$C$10","v":{"$error":"#VALUE!"}},{"$f":"(R521*R$8)/Setup!$C$10","v":{"$error":"#VALUE!"}},{"$f":"(S521*S$8)/Setup!$C$10","v":{"$error":"#VALUE!"}},{"$f":"(T521*T$8)/Setup!$C$10","v":{"$error":"#VALUE!"}},{"$f":"(U521*U$8)/Setup!$C$10","v":{"$error":"#VALUE!"}},{"$f":"(V521*V$8)/Setup!$C$10","v":{"$error":"#VALUE!"}},{"$f":"(W521*W$8)/Setup!$C$10","v":{"$error":"#VALUE!"}},{"$f":"(X521*X$8)/Setup!$C$10","v":{"$error":"#VALUE!"}},null,{"$error":"#VALUE!"},{"$error":"#VALUE!"}]
["2015-05-04","Week 44",{"$f":"(C522*C$8)/Setup!$C$10","v":{"$error":"#VALUE!"}},{"$f":"(D522*D$8)/Setup!$C$10","v":{"$error":"#VALUE!"}},{"$f":"(E522*E$8)/Setup!$C$10","v":{"$error":"#VALUE!"}},{"$f":"(F522*F$8)/Setup!$C$10","v":{"$error":"#VALUE!"}},{"$f":"(G522*G$8)/Setup!$C$10","v":{"$error":"#VALUE!"}},{"$f":"(H522*H$8)/Setup!$C$10","v":{"$error":"#VALUE!"}},{"$f":"(I522*I$8)/Setup!$C$10","v":{"$error":"#VALUE!"}},{"$f":"(J522*J$8)/Setup!$C$10","v":{"$error":"#VALUE!"}},{"$f":"(K522*K$8)/Setup!$C$10","v":{"$error":"#VALUE!"}},{"$f":"(L522*L$8)/Setup!$C$10","v":{"$error":"#VALUE!"}},{"$f":"(M522*M$8)/Setup!$C$10","v":{"$error":"#VALUE!"}},{"$f":"(N522*N$8)/Setup!$C$10","v":{"$error":"#VALUE!"}},{"$f":"(O522*O$8)/Setup!$C$10","v":{"$error":"#VALUE!"}},{"$f":"(P522*P$8)/Setup!$C$10","v":{"$error":"#VALUE!"}},{"$f":"(Q522*Q$8)/Setup!$C$10","v":{"$error":"#VALUE!"}},{"$f":"(R522*R$8)/Setup!$C$10","v":{"$error":"#VALUE!"}},{"$f":"(S522*S$8)/Setup!$C$10","v":{"$error":"#VALUE!"}},{"$f":"(T522*T$8)/Setup!$C$10","v":{"$error":"#VALUE!"}},{"$f":"(U522*U$8)/Setup!$C$10","v":{"$error":"#VALUE!"}},{"$f":"(V522*V$8)/Setup!$C$10","v":{"$error":"#VALUE!"}},{"$f":"(W522*W$8)/Setup!$C$10","v":{"$error":"#VALUE!"}},{"$f":"(X522*X$8)/Setup!$C$10","v":{"$error":"#VALUE!"}},null,{"$error":"#VALUE!"},{"$error":"#VALUE!"}]
["2015-05-11","Week 45",{"$f":"(C523*C$8)/Setup!$C$10","v":{"$error":"#VALUE!"}},{"$f":"(D523*D$8)/Setup!$C$10","v":{"$error":"#VALUE!"}},{"$f":"(E523*E$8)/Setup!$C$10","v":{"$error":"#VALUE!"}},{"$f":"(F523*F$8)/Setup!$C$10","v":{"$error":"#VALUE!"}},{"$f":"(G523*G$8)/Setup!$C$10","v":{"$error":"#VALUE!"}},{"$f":"(H523*H$8)/Setup!$C$10","v":{"$error":"#VALUE!"}},{"$f":"(I523*I$8)/Setup!$C$10","v":{"$error":"#VALUE!"}},{"$f":"(J523*J$8)/Setup!$C$10","v":{"$error":"#VALUE!"}},{"$f":"(K523*K$8)/Setup!$C$10","v":{"$error":"#VALUE!"}},{"$f":"(L523*L$8)/Setup!$C$10","v":{"$error":"#VALUE!"}},{"$f":"(M523*M$8)/Setup!$C$10","v":{"$error":"#VALUE!"}},{"$f":"(N523*N$8)/Setup!$C$10","v":{"$error":"#VALUE!"}},{"$f":"(O523*O$8)/Setup!$C$10","v":{"$error":"#VALUE!"}},{"$f":"(P523*P$8)/Setup!$C$10","v":{"$error":"#VALUE!"}},{"$f":"(Q523*Q$8)/Setup!$C$10","v":{"$error":"#VALUE!"}},{"$f":"(R523*R$8)/Setup!$C$10","v":{"$error":"#VALUE!"}},{"$f":"(S523*S$8)/Setup!$C$10","v":{"$error":"#VALUE!"}},{"$f":"(T523*T$8)/Setup!$C$10","v":{"$error":"#VALUE!"}},{"$f":"(U523*U$8)/Setup!$C$10","v":{"$error":"#VALUE!"}},{"$f":"(V523*V$8)/Setup!$C$10","v":{"$error":"#VALUE!"}},{"$f":"(W523*W$8)/Setup!$C$10","v":{"$error":"#VALUE!"}},{"$f":"(X523*X$8)/Setup!$C$10","v":{"$error":"#VALUE!"}},null,{"$error":"#VALUE!"},{"$error":"#VALUE!"}]
["2015-05-18","Week 46",{"$f":"(C524*C$8)/Setup!$C$10","v":{"$error":"#VALUE!"}},{"$f":"(D524*D$8)/Setup!$C$10","v":{"$error":"#VALUE!"}},{"$f":"(E524*E$8)/Setup!$C$10","v":{"$error":"#VALUE!"}},{"$f":"(F524*F$8)/Setup!$C$10","v":{"$error":"#VALUE!"}},{"$f":"(G524*G$8)/Setup!$C$10","v":{"$error":"#VALUE!"}},{"$f":"(H524*H$8)/Setup!$C$10","v":{"$error":"#VALUE!"}},{"$f":"(I524*I$8)/Setup!$C$10","v":{"$error":"#VALUE!"}},{"$f":"(J524*J$8)/Setup!$C$10","v":{"$error":"#VALUE!"}},{"$f":"(K524*K$8)/Setup!$C$10","v":{"$error":"#VALUE!"}},{"$f":"(L524*L$8)/Setup!$C$10","v":{"$error":"#VALUE!"}},{"$f":"(M524*M$8)/Setup!$C$10","v":{"$error":"#VALUE!"}},{"$f":"(N524*N$8)/Setup!$C$10","v":{"$error":"#VALUE!"}},{"$f":"(O524*O$8)/Setup!$C$10","v":{"$error":"#VALUE!"}},{"$f":"(P524*P$8)/Setup!$C$10","v":{"$error":"#VALUE!"}},{"$f":"(Q524*Q$8)/Setup!$C$10","v":{"$error":"#VALUE!"}},{"$f":"(R524*R$8)/Setup!$C$10","v":{"$error":"#VALUE!"}},{"$f":"(S524*S$8)/Setup!$C$10","v":{"$error":"#VALUE!"}},{"$f":"(T524*T$8)/Setup!$C$10","v":{"$error":"#VALUE!"}},{"$f":"(U524*U$8)/Setup!$C$10","v":{"$error":"#VALUE!"}},{"$f":"(V524*V$8)/Setup!$C$10","v":{"$error":"#VALUE!"}},{"$f":"(W524*W$8)/Setup!$C$10","v":{"$error":"#VALUE!"}},{"$f":"(X524*X$8)/Setup!$C$10","v":{"$error":"#VALUE!"}},null,{"$error":"#VALUE!"},{"$error":"#VALUE!"}]
["2015-05-25","Week 47",{"$f":"(C525*C$8)/Setup!$C$10","v":{"$error":"#VALUE!"}},{"$f":"(D525*D$8)/Setup!$C$10","v":{"$error":"#VALUE!"}},{"$f":"(E525*E$8)/Setup!$C$10","v":{"$error":"#VALUE!"}},{"$f":"(F525*F$8)/Setup!$C$10","v":{"$error":"#VALUE!"}},{"$f":"(G525*G$8)/Setup!$C$10","v":{"$error":"#VALUE!"}},{"$f":"(H525*H$8)/Setup!$C$10","v":{"$error":"#VALUE!"}},{"$f":"(I525*I$8)/Setup!$C$10","v":{"$error":"#VALUE!"}},{"$f":"(J525*J$8)/Setup!$C$10","v":{"$error":"#VALUE!"}},{"$f":"(K525*K$8)/Setup!$C$10","v":{"$error":"#VALUE!"}},{"$f":"(L525*L$8)/Setup!$C$10","v":{"$error":"#VALUE!"}},{"$f":"(M525*M$8)/Setup!$C$10","v":{"$error":"#VALUE!"}},{"$f":"(N525*N$8)/Setup!$C$10","v":{"$error":"#VALUE!"}},{"$f":"(O525*O$8)/Setup!$C$10","v":{"$error":"#VALUE!"}},{"$f":"(P525*P$8)/Setup!$C$10","v":{"$error":"#VALUE!"}},{"$f":"(Q525*Q$8)/Setup!$C$10","v":{"$error":"#VALUE!"}},{"$f":"(R525*R$8)/Setup!$C$10","v":{"$error":"#VALUE!"}},{"$f":"(S525*S$8)/Setup!$C$10","v":{"$error":"#VALUE!"}},{"$f":"(T525*T$8)/Setup!$C$10","v":{"$error":"#VALUE!"}},{"$f":"(U525*U$8)/Setup!$C$10","v":{"$error":"#VALUE!"}},{"$f":"(V525*V$8)/Setup!$C$10","v":{"$error":"#VALUE!"}},{"$f":"(W525*W$8)/Setup!$C$10","v":{"$error":"#VALUE!"}},{"$f":"(X525*X$8)/Setup!$C$10","v":{"$error":"#VALUE!"}},null,{"$error":"#VALUE!"},{"$error":"#VALUE!"}]
["2015-06-01","Week 48",{"$f":"(C526*C$8)/Setup!$C$10","v":{"$error":"#VALUE!"}},{"$f":"(D526*D$8)/Setup!$C$10","v":{"$error":"#VALUE!"}},{"$f":"(E526*E$8)/Setup!$C$10","v":{"$error":"#VALUE!"}},{"$f":"(F526*F$8)/Setup!$C$10","v":{"$error":"#VALUE!"}},{"$f":"(G526*G$8)/Setup!$C$10","v":{"$error":"#VALUE!"}},{"$f":"(H526*H$8)/Setup!$C$10","v":{"$error":"#VALUE!"}},{"$f":"(I526*I$8)/Setup!$C$10","v":{"$error":"#VALUE!"}},{"$f":"(J526*J$8)/Setup!$C$10","v":{"$error":"#VALUE!"}},{"$f":"(K526*K$8)/Setup!$C$10","v":{"$error":"#VALUE!"}},{"$f":"(L526*L$8)/Setup!$C$10","v":{"$error":"#VALUE!"}},{"$f":"(M526*M$8)/Setup!$C$10","v":{"$error":"#VALUE!"}},{"$f":"(N526*N$8)/Setup!$C$10","v":{"$error":"#VALUE!"}},{"$f":"(O526*O$8)/Setup!$C$10","v":{"$error":"#VALUE!"}},{"$f":"(P526*P$8)/Setup!$C$10","v":{"$error":"#VALUE!"}},{"$f":"(Q526*Q$8)/Setup!$C$10","v":{"$error":"#VALUE!"}},{"$f":"(R526*R$8)/Setup!$C$10","v":{"$error":"#VALUE!"}},{"$f":"(S526*S$8)/Setup!$C$10","v":{"$error":"#VALUE!"}},{"$f":"(T526*T$8)/Setup!$C$10","v":{"$error":"#VALUE!"}},{"$f":"(U526*U$8)/Setup!$C$10","v":{"$error":"#VALUE!"}},{"$f":"(V526*V$8)/Setup!$C$10","v":{"$error":"#VALUE!"}},{"$f":"(W526*W$8)/Setup!$C$10","v":{"$error":"#VALUE!"}},{"$f":"(X526*X$8)/Setup!$C$10","v":{"$error":"#VALUE!"}},null,{"$error":"#VALUE!"},{"$error":"#VALUE!"}]
["2015-06-08","Week 49",{"$f":"(C527*C$8)/Setup!$C$10","v":{"$error":"#VALUE!"}},{"$f":"(D527*D$8)/Setup!$C$10","v":{"$error":"#VALUE!"}},{"$f":"(E527*E$8)/Setup!$C$10","v":{"$error":"#VALUE!"}},{"$f":"(F527*F$8)/Setup!$C$10","v":{"$error":"#VALUE!"}},{"$f":"(G527*G$8)/Setup!$C$10","v":{"$error":"#VALUE!"}},{"$f":"(H527*H$8)/Setup!$C$10","v":{"$error":"#VALUE!"}},{"$f":"(I527*I$8)/Setup!$C$10","v":{"$error":"#VALUE!"}},{"$f":"(J527*J$8)/Setup!$C$10","v":{"$error":"#VALUE!"}},{"$f":"(K527*K$8)/Setup!$C$10","v":{"$error":"#VALUE!"}},{"$f":"(L527*L$8)/Setup!$C$10","v":{"$error":"#VALUE!"}},{"$f":"(M527*M$8)/Setup!$C$10","v":{"$error":"#VALUE!"}},{"$f":"(N527*N$8)/Setup!$C$10","v":{"$error":"#VALUE!"}},{"$f":"(O527*O$8)/Setup!$C$10","v":{"$error":"#VALUE!"}},{"$f":"(P527*P$8)/Setup!$C$10","v":{"$error":"#VALUE!"}},{"$f":"(Q527*Q$8)/Setup!$C$10","v":{"$error":"#VALUE!"}},{"$f":"(R527*R$8)/Setup!$C$10","v":{"$error":"#VALUE!"}},{"$f":"(S527*S$8)/Setup!$C$10","v":{"$error":"#VALUE!"}},{"$f":"(T527*T$8)/Setup!$C$10","v":{"$error":"#VALUE!"}},{"$f":"(U527*U$8)/Setup!$C$10","v":{"$error":"#VALUE!"}},{"$f":"(V527*V$8)/Setup!$C$10","v":{"$error":"#VALUE!"}},{"$f":"(W527*W$8)/Setup!$C$10","v":{"$error":"#VALUE!"}},{"$f":"(X527*X$8)/Setup!$C$10","v":{"$error":"#VALUE!"}},null,{"$error":"#VALUE!"},{"$error":"#VALUE!"}]
["2015-06-15","Week 50",{"$f":"(C528*C$8)/Setup!$C$10","v":{"$error":"#VALUE!"}},{"$f":"(D528*D$8)/Setup!$C$10","v":{"$error":"#VALUE!"}},{"$f":"(E528*E$8)/Setup!$C$10","v":{"$error":"#VALUE!"}},{"$f":"(F528*F$8)/Setup!$C$10","v":{"$error":"#VALUE!"}},{"$f":"(G528*G$8)/Setup!$C$10","v":{"$error":"#VALUE!"}},{"$f":"(H528*H$8)/Setup!$C$10","v":{"$error":"#VALUE!"}},{"$f":"(I528*I$8)/Setup!$C$10","v":{"$error":"#VALUE!"}},{"$f":"(J528*J$8)/Setup!$C$10","v":{"$error":"#VALUE!"}},{"$f":"(K528*K$8)/Setup!$C$10","v":{"$error":"#VALUE!"}},{"$f":"(L528*L$8)/Setup!$C$10","v":{"$error":"#VALUE!"}},{"$f":"(M528*M$8)/Setup!$C$10","v":{"$error":"#VALUE!"}},{"$f":"(N528*N$8)/Setup!$C$10","v":{"$error":"#VALUE!"}},{"$f":"(O528*O$8)/Setup!$C$10","v":{"$error":"#VALUE!"}},{"$f":"(P528*P$8)/Setup!$C$10","v":{"$error":"#VALUE!"}},{"$f":"(Q528*Q$8)/Setup!$C$10","v":{"$error":"#VALUE!"}},{"$f":"(R528*R$8)/Setup!$C$10","v":{"$error":"#VALUE!"}},{"$f":"(S528*S$8)/Setup!$C$10","v":{"$error":"#VALUE!"}},{"$f":"(T528*T$8)/Setup!$C$10","v":{"$error":"#VALUE!"}},{"$f":"(U528*U$8)/Setup!$C$10","v":{"$error":"#VALUE!"}},{"$f":"(V528*V$8)/Setup!$C$10","v":{"$error":"#VALUE!"}},{"$f":"(W528*W$8)/Setup!$C$10","v":{"$error":"#VALUE!"}},{"$f":"(X528*X$8)/Setup!$C$10","v":{"$error":"#VALUE!"}},null,{"$error":"#VALUE!"},{"$error":"#VALUE!"}]
["2015-06-22","Week 51",{"$f":"(C529*C$8)/Setup!$C$10","v":{"$error":"#VALUE!"}},{"$f":"(D529*D$8)/Setup!$C$10","v":{"$error":"#VALUE!"}},{"$f":"(E529*E$8)/Setup!$C$10","v":{"$error":"#VALUE!"}},{"$f":"(F529*F$8)/Setup!$C$10","v":{"$error":"#VALUE!"}},{"$f":"(G529*G$8)/Setup!$C$10","v":{"$error":"#VALUE!"}},{"$f":"(H529*H$8)/Setup!$C$10","v":{"$error":"#VALUE!"}},{"$f":"(I529*I$8)/Setup!$C$10","v":{"$error":"#VALUE!"}},{"$f":"(J529*J$8)/Setup!$C$10","v":{"$error":"#VALUE!"}},{"$f":"(K529*K$8)/Setup!$C$10","v":{"$error":"#VALUE!"}},{"$f":"(L529*L$8)/Setup!$C$10","v":{"$error":"#VALUE!"}},{"$f":"(M529*M$8)/Setup!$C$10","v":{"$error":"#VALUE!"}},{"$f":"(N529*N$8)/Setup!$C$10","v":{"$error":"#VALUE!"}},{"$f":"(O529*O$8)/Setup!$C$10","v":{"$error":"#VALUE!"}},{"$f":"(P529*P$8)/Setup!$C$10","v":{"$error":"#VALUE!"}},{"$f":"(Q529*Q$8)/Setup!$C$10","v":{"$error":"#VALUE!"}},{"$f":"(R529*R$8)/Setup!$C$10","v":{"$error":"#VALUE!"}},{"$f":"(S529*S$8)/Setup!$C$10","v":{"$error":"#VALUE!"}},{"$f":"(T529*T$8)/Setup!$C$10","v":{"$error":"#VALUE!"}},{"$f":"(U529*U$8)/Setup!$C$10","v":{"$error":"#VALUE!"}},{"$f":"(V529*V$8)/Setup!$C$10","v":{"$error":"#VALUE!"}},{"$f":"(W529*W$8)/Setup!$C$10","v":{"$error":"#VALUE!"}},{"$f":"(X529*X$8)/Setup!$C$10","v":{"$error":"#VALUE!"}},null,{"$error":"#VALUE!"},{"$error":"#VALUE!"}]
["2015-06-29","Week 52",{"$f":"(C530*C$8)/Setup!$C$10","v":{"$error":"#VALUE!"}},{"$f":"(D530*D$8)/Setup!$C$10","v":{"$error":"#VALUE!"}},{"$f":"(E530*E$8)/Setup!$C$10","v":{"$error":"#VALUE!"}},{"$f":"(F530*F$8)/Setup!$C$10","v":{"$error":"#VALUE!"}},{"$f":"(G530*G$8)/Setup!$C$10","v":{"$error":"#VALUE!"}},{"$f":"(H530*H$8)/Setup!$C$10","v":{"$error":"#VALUE!"}},{"$f":"(I530*I$8)/Setup!$C$10","v":{"$error":"#VALUE!"}},{"$f":"(J530*J$8)/Setup!$C$10","v":{"$error":"#VALUE!"}},{"$f":"(K530*K$8)/Setup!$C$10","v":{"$error":"#VALUE!"}},{"$f":"(L530*L$8)/Setup!$C$10","v":{"$error":"#VALUE!"}},{"$f":"(M530*M$8)/Setup!$C$10","v":{"$error":"#VALUE!"}},{"$f":"(N530*N$8)/Setup!$C$10","v":{"$error":"#VALUE!"}},{"$f":"(O530*O$8)/Setup!$C$10","v":{"$error":"#VALUE!"}},{"$f":"(P530*P$8)/Setup!$C$10","v":{"$error":"#VALUE!"}},{"$f":"(Q530*Q$8)/Setup!$C$10","v":{"$error":"#VALUE!"}},{"$f":"(R530*R$8)/Setup!$C$10","v":{"$error":"#VALUE!"}},{"$f":"(S530*S$8)/Setup!$C$10","v":{"$error":"#VALUE!"}},{"$f":"(T530*T$8)/Setup!$C$10","v":{"$error":"#VALUE!"}},{"$f":"(U530*U$8)/Setup!$C$10","v":{"$error":"#VALUE!"}},{"$f":"(V530*V$8)/Setup!$C$10","v":{"$error":"#VALUE!"}},{"$f":"(W530*W$8)/Setup!$C$10","v":{"$error":"#VALUE!"}},{"$f":"(X530*X$8)/Setup!$C$10","v":{"$error":"#VALUE!"}},null,{"$error":"#VALUE!"},{"$error":"#VALUE!"}]
[null,null,null,null,null,null,null,null,null,null,null,null,null,null,null,null,null,null,null,null,null,null,null,null,null,null,{"$f":"SUM(AA307:AA358)","v":{"$error":"#VALUE!"}}]
["Proposed Weekly K (Kg) / Hectare (Ha):"]
[]
[null,null,"Ammonium Nitrate","Ammonium Sulphate","Borax","Calcium Nitrate","Copper Sulphate","FertiMix","Iron Chelate","Iron Sulphate","Magnesium Sulphate","Manganese Sulphate","Mono-Ammonium Phosphate","Mono-Potassium Phosphate","Nitric Acid","Phosphoric Acid","Potassium Chloride","Potassium Nitrate","Potassium Sulphate","Sodium Molybdenum","Sulphuric Acid","Urea","Zinc Oxide","Zinc Sulphate"]
[null,null,"NH4NO3","(NH4)2SO4","Na2B4O7.10H2O","Ca(NO3)2","CuSO4.5H2O",null,"EDDHA","FeSO4.7H2O","MgSO4.7H2O","MnSO4.H2O","NH4H2PO4","KH2PO4","HNO3","PO4H3","KCl","KNO3","K2SO4","Na2MoO4","H2SO4","CO(NH2)2","ZnO","ZnSO4.7H2O",null,"TOTAL","K/week"]
[{"$f":"A421","v":"2014-07-07"},"Week 1",{"$f":"(C479*C$9)/Setup!$C$10","v":{"$error":"#VALUE!"}},{"$f":"(D479*D$9)/Setup!$C$10","v":{"$error":"#VALUE!"}},{"$f":"(E479*E$9)/Setup!$C$10","v":{"$error":"#VALUE!"}},{"$f":"(F479*F$9)/Setup!$C$10","v":{"$error":"#VALUE!"}},{"$f":"(G479*G$9)/Setup!$C$10","v":{"$error":"#VALUE!"}},{"$f":"(H479*H$9)/Setup!$C$10","v":{"$error":"#VALUE!"}},{"$f":"(I479*I$9)/Setup!$C$10","v":{"$error":"#VALUE!"}},{"$f":"(J479*J$9)/Setup!$C$10","v":{"$error":"#VALUE!"}},{"$f":"(K479*K$9)/Setup!$C$10","v":{"$error":"#VALUE!"}},{"$f":"(L479*L$9)/Setup!$C$10","v":{"$error":"#VALUE!"}},{"$f":"(M479*M$9)/Setup!$C$10","v":{"$error":"#VALUE!"}},{"$f":"(N479*N$9)/Setup!$C$10","v":{"$error":"#VALUE!"}},{"$f":"(O479*O$9)/Setup!$C$10","v":{"$error":"#VALUE!"}},{"$f":"(P479*P$9)/Setup!$C$10","v":{"$error":"#VALUE!"}},{"$f":"(Q479*Q$9)/Setup!$C$10","v":{"$error":"#VALUE!"}},{"$f":"(R479*R$9)/Setup!$C$10","v":{"$error":"#VALUE!"}},{"$f":"(S479*S$9)/Setup!$C$10","v":{"$error":"#VALUE!"}},{"$f":"(T479*T$9)/Setup!$C$10","v":{"$error":"#VALUE!"}},{"$f":"(U479*U$9)/Setup!$C$10","v":{"$error":"#VALUE!"}},{"$f":"(V479*V$9)/Setup!$C$10","v":{"$error":"#VALUE!"}},{"$f":"(W479*W$9)/Setup!$C$10","v":{"$error":"#VALUE!"}},{"$f":"(X479*X$9)/Setup!$C$10","v":{"$error":"#VALUE!"}},null,{"$f":"SUM(C364:X364)","v":{"$error":"#VALUE!"}},{"$f":"SUM(C364:X364)","v":{"$error":"#VALUE!"}}]
["2014-07-14","Week 2",{"$f":"(C480*C$9)/Setup!$C$10","v":{"$error":"#VALUE!"}},{"$f":"(D480*D$9)/Setup!$C$10","v":{"$error":"#VALUE!"}},{"$f":"(E480*E$9)/Setup!$C$10","v":{"$error":"#VALUE!"}},{"$f":"(F480*F$9)/Setup!$C$10","v":{"$error":"#VALUE!"}},{"$f":"(G480*G$9)/Setup!$C$10","v":{"$error":"#VALUE!"}},{"$f":"(H480*H$9)/Setup!$C$10","v":{"$error":"#VALUE!"}},{"$f":"(I480*I$9)/Setup!$C$10","v":{"$error":"#VALUE!"}},{"$f":"(J480*J$9)/Setup!$C$10","v":{"$error":"#VALUE!"}},{"$f":"(K480*K$9)/Setup!$C$10","v":{"$error":"#VALUE!"}},{"$f":"(L480*L$9)/Setup!$C$10","v":{"$error":"#VALUE!"}},{"$f":"(M480*M$9)/Setup!$C$10","v":{"$error":"#VALUE!"}},{"$f":"(N480*N$9)/Setup!$C$10","v":{"$error":"#VALUE!"}},{"$f":"(O480*O$9)/Setup!$C$10","v":{"$error":"#VALUE!"}},{"$f":"(P480*P$9)/Setup!$C$10","v":{"$error":"#VALUE!"}},{"$f":"(Q480*Q$9)/Setup!$C$10","v":{"$error":"#VALUE!"}},{"$f":"(R480*R$9)/Setup!$C$10","v":{"$error":"#VALUE!"}},{"$f":"(S480*S$9)/Setup!$C$10","v":{"$error":"#VALUE!"}},{"$f":"(T480*T$9)/Setup!$C$10","v":{"$error":"#VALUE!"}},{"$f":"(U480*U$9)/Setup!$C$10","v":{"$error":"#VALUE!"}},{"$f":"(V480*V$9)/Setup!$C$10","v":{"$error":"#VALUE!"}},{"$f":"(W480*W$9)/Setup!$C$10","v":{"$error":"#VALUE!"}},{"$f":"(X480*X$9)/Setup!$C$10","v":{"$error":"#VALUE!"}},null,{"$f":"SUM(C365:X365)+Z364","v":{"$error":"#VALUE!"}},{"$f":"SUM(C365:X365)","v":{"$error":"#VALUE!"}}]
["2014-07-21","Week 3",{"$f":"(C481*C$9)/Setup!$C$10","v":{"$error":"#VALUE!"}},{"$f":"(D481*D$9)/Setup!$C$10","v":{"$error":"#VALUE!"}},{"$f":"(E481*E$9)/Setup!$C$10","v":{"$error":"#VALUE!"}},{"$f":"(F481*F$9)/Setup!$C$10","v":{"$error":"#VALUE!"}},{"$f":"(G481*G$9)/Setup!$C$10","v":{"$error":"#VALUE!"}},{"$f":"(H481*H$9)/Setup!$C$10","v":{"$error":"#VALUE!"}},{"$f":"(I481*I$9)/Setup!$C$10","v":{"$error":"#VALUE!"}},{"$f":"(J481*J$9)/Setup!$C$10","v":{"$error":"#VALUE!"}},{"$f":"(K481*K$9)/Setup!$C$10","v":{"$error":"#VALUE!"}},{"$f":"(L481*L$9)/Setup!$C$10","v":{"$error":"#VALUE!"}},{"$f":"(M481*M$9)/Setup!$C$10","v":{"$error":"#VALUE!"}},{"$f":"(N481*N$9)/Setup!$C$10","v":{"$error":"#VALUE!"}},{"$f":"(O481*O$9)/Setup!$C$10","v":{"$error":"#VALUE!"}},{"$f":"(P481*P$9)/Setup!$C$10","v":{"$error":"#VALUE!"}},{"$f":"(Q481*Q$9)/Setup!$C$10","v":{"$error":"#VALUE!"}},{"$f":"(R481*R$9)/Setup!$C$10","v":{"$error":"#VALUE!"}},{"$f":"(S481*S$9)/Setup!$C$10","v":{"$error":"#VALUE!"}},{"$f":"(T481*T$9)/Setup!$C$10","v":{"$error":"#VALUE!"}},{"$f":"(U481*U$9)/Setup!$C$10","v":{"$error":"#VALUE!"}},{"$f":"(V481*V$9)/Setup!$C$10","v":{"$error":"#VALUE!"}},{"$f":"(W481*W$9)/Setup!$C$10","v":{"$error":"#VALUE!"}},{"$f":"(X481*X$9)/Setup!$C$10","v":{"$error":"#VALUE!"}},null,{"$error":"#VALUE!"},{"$error":"#VALUE!"}]
["2014-07-28","Week 4",{"$f":"(C482*C$9)/Setup!$C$10","v":{"$error":"#VALUE!"}},{"$f":"(D482*D$9)/Setup!$C$10","v":{"$error":"#VALUE!"}},{"$f":"(E482*E$9)/Setup!$C$10","v":{"$error":"#VALUE!"}},{"$f":"(F482*F$9)/Setup!$C$10","v":{"$error":"#VALUE!"}},{"$f":"(G482*G$9)/Setup!$C$10","v":{"$error":"#VALUE!"}},{"$f":"(H482*H$9)/Setup!$C$10","v":{"$error":"#VALUE!"}},{"$f":"(I482*I$9)/Setup!$C$10","v":{"$error":"#VALUE!"}},{"$f":"(J482*J$9)/Setup!$C$10","v":{"$error":"#VALUE!"}},{"$f":"(K482*K$9)/Setup!$C$10","v":{"$error":"#VALUE!"}},{"$f":"(L482*L$9)/Setup!$C$10","v":{"$error":"#VALUE!"}},{"$f":"(M482*M$9)/Setup!$C$10","v":{"$error":"#VALUE!"}},{"$f":"(N482*N$9)/Setup!$C$10","v":{"$error":"#VALUE!"}},{"$f":"(O482*O$9)/Setup!$C$10","v":{"$error":"#VALUE!"}},{"$f":"(P482*P$9)/Setup!$C$10","v":{"$error":"#VALUE!"}},{"$f":"(Q482*Q$9)/Setup!$C$10","v":{"$error":"#VALUE!"}},{"$f":"(R482*R$9)/Setup!$C$10","v":{"$error":"#VALUE!"}},{"$f":"(S482*S$9)/Setup!$C$10","v":{"$error":"#VALUE!"}},{"$f":"(T482*T$9)/Setup!$C$10","v":{"$error":"#VALUE!"}},{"$f":"(U482*U$9)/Setup!$C$10","v":{"$error":"#VALUE!"}},{"$f":"(V482*V$9)/Setup!$C$10","v":{"$error":"#VALUE!"}},{"$f":"(W482*W$9)/Setup!$C$10","v":{"$error":"#VALUE!"}},{"$f":"(X482*X$9)/Setup!$C$10","v":{"$error":"#VALUE!"}},null,{"$error":"#VALUE!"},{"$error":"#VALUE!"}]
["2014-08-04","Week 5",{"$f":"(C483*C$9)/Setup!$C$10","v":{"$error":"#VALUE!"}},{"$f":"(D483*D$9)/Setup!$C$10","v":{"$error":"#VALUE!"}},{"$f":"(E483*E$9)/Setup!$C$10","v":{"$error":"#VALUE!"}},{"$f":"(F483*F$9)/Setup!$C$10","v":{"$error":"#VALUE!"}},{"$f":"(G483*G$9)/Setup!$C$10","v":{"$error":"#VALUE!"}},{"$f":"(H483*H$9)/Setup!$C$10","v":{"$error":"#VALUE!"}},{"$f":"(I483*I$9)/Setup!$C$10","v":{"$error":"#VALUE!"}},{"$f":"(J483*J$9)/Setup!$C$10","v":{"$error":"#VALUE!"}},{"$f":"(K483*K$9)/Setup!$C$10","v":{"$error":"#VALUE!"}},{"$f":"(L483*L$9)/Setup!$C$10","v":{"$error":"#VALUE!"}},{"$f":"(M483*M$9)/Setup!$C$10","v":{"$error":"#VALUE!"}},{"$f":"(N483*N$9)/Setup!$C$10","v":{"$error":"#VALUE!"}},{"$f":"(O483*O$9)/Setup!$C$10","v":{"$error":"#VALUE!"}},{"$f":"(P483*P$9)/Setup!$C$10","v":{"$error":"#VALUE!"}},{"$f":"(Q483*Q$9)/Setup!$C$10","v":{"$error":"#VALUE!"}},{"$f":"(R483*R$9)/Setup!$C$10","v":{"$error":"#VALUE!"}},{"$f":"(S483*S$9)/Setup!$C$10","v":{"$error":"#VALUE!"}},{"$f":"(T483*T$9)/Setup!$C$10","v":{"$error":"#VALUE!"}},{"$f":"(U483*U$9)/Setup!$C$10","v":{"$error":"#VALUE!"}},{"$f":"(V483*V$9)/Setup!$C$10","v":{"$error":"#VALUE!"}},{"$f":"(W483*W$9)/Setup!$C$10","v":{"$error":"#VALUE!"}},{"$f":"(X483*X$9)/Setup!$C$10","v":{"$error":"#VALUE!"}},null,{"$error":"#VALUE!"},{"$error":"#VALUE!"}]
["2014-08-11","Week 6",{"$f":"(C484*C$9)/Setup!$C$10","v":{"$error":"#VALUE!"}},{"$f":"(D484*D$9)/Setup!$C$10","v":{"$error":"#VALUE!"}},{"$f":"(E484*E$9)/Setup!$C$10","v":{"$error":"#VALUE!"}},{"$f":"(F484*F$9)/Setup!$C$10","v":{"$error":"#VALUE!"}},{"$f":"(G484*G$9)/Setup!$C$10","v":{"$error":"#VALUE!"}},{"$f":"(H484*H$9)/Setup!$C$10","v":{"$error":"#VALUE!"}},{"$f":"(I484*I$9)/Setup!$C$10","v":{"$error":"#VALUE!"}},{"$f":"(J484*J$9)/Setup!$C$10","v":{"$error":"#VALUE!"}},{"$f":"(K484*K$9)/Setup!$C$10","v":{"$error":"#VALUE!"}},{"$f":"(L484*L$9)/Setup!$C$10","v":{"$error":"#VALUE!"}},{"$f":"(M484*M$9)/Setup!$C$10","v":{"$error":"#VALUE!"}},{"$f":"(N484*N$9)/Setup!$C$10","v":{"$error":"#VALUE!"}},{"$f":"(O484*O$9)/Setup!$C$10","v":{"$error":"#VALUE!"}},{"$f":"(P484*P$9)/Setup!$C$10","v":{"$error":"#VALUE!"}},{"$f":"(Q484*Q$9)/Setup!$C$10","v":{"$error":"#VALUE!"}},{"$f":"(R484*R$9)/Setup!$C$10","v":{"$error":"#VALUE!"}},{"$f":"(S484*S$9)/Setup!$C$10","v":{"$error":"#VALUE!"}},{"$f":"(T484*T$9)/Setup!$C$10","v":{"$error":"#VALUE!"}},{"$f":"(U484*U$9)/Setup!$C$10","v":{"$error":"#VALUE!"}},{"$f":"(V484*V$9)/Setup!$C$10","v":{"$error":"#VALUE!"}},{"$f":"(W484*W$9)/Setup!$C$10","v":{"$error":"#VALUE!"}},{"$f":"(X484*X$9)/Setup!$C$10","v":{"$error":"#VALUE!"}},null,{"$error":"#VALUE!"},{"$error":"#VALUE!"}]
["2014-08-18","Week 7",{"$f":"(C485*C$9)/Setup!$C$10","v":{"$error":"#VALUE!"}},{"$f":"(D485*D$9)/Setup!$C$10","v":{"$error":"#VALUE!"}},{"$f":"(E485*E$9)/Setup!$C$10","v":{"$error":"#VALUE!"}},{"$f":"(F485*F$9)/Setup!$C$10","v":{"$error":"#VALUE!"}},{"$f":"(G485*G$9)/Setup!$C$10","v":{"$error":"#VALUE!"}},{"$f":"(H485*H$9)/Setup!$C$10","v":{"$error":"#VALUE!"}},{"$f":"(I485*I$9)/Setup!$C$10","v":{"$error":"#VALUE!"}},{"$f":"(J485*J$9)/Setup!$C$10","v":{"$error":"#VALUE!"}},{"$f":"(K485*K$9)/Setup!$C$10","v":{"$error":"#VALUE!"}},{"$f":"(L485*L$9)/Setup!$C$10","v":{"$error":"#VALUE!"}},{"$f":"(M485*M$9)/Setup!$C$10","v":{"$error":"#VALUE!"}},{"$f":"(N485*N$9)/Setup!$C$10","v":{"$error":"#VALUE!"}},{"$f":"(O485*O$9)/Setup!$C$10","v":{"$error":"#VALUE!"}},{"$f":"(P485*P$9)/Setup!$C$10","v":{"$error":"#VALUE!"}},{"$f":"(Q485*Q$9)/Setup!$C$10","v":{"$error":"#VALUE!"}},{"$f":"(R485*R$9)/Setup!$C$10","v":{"$error":"#VALUE!"}},{"$f":"(S485*S$9)/Setup!$C$10","v":{"$error":"#VALUE!"}},{"$f":"(T485*T$9)/Setup!$C$10","v":{"$error":"#VALUE!"}},{"$f":"(U485*U$9)/Setup!$C$10","v":{"$error":"#VALUE!"}},{"$f":"(V485*V$9)/Setup!$C$10","v":{"$error":"#VALUE!"}},{"$f":"(W485*W$9)/Setup!$C$10","v":{"$error":"#VALUE!"}},{"$f":"(X485*X$9)/Setup!$C$10","v":{"$error":"#VALUE!"}},null,{"$error":"#VALUE!"},{"$error":"#VALUE!"}]
["2014-08-25","Week 8",{"$f":"(C486*C$9)/Setup!$C$10","v":{"$error":"#VALUE!"}},{"$f":"(D486*D$9)/Setup!$C$10","v":{"$error":"#VALUE!"}},{"$f":"(E486*E$9)/Setup!$C$10","v":{"$error":"#VALUE!"}},{"$f":"(F486*F$9)/Setup!$C$10","v":{"$error":"#VALUE!"}},{"$f":"(G486*G$9)/Setup!$C$10","v":{"$error":"#VALUE!"}},{"$f":"(H486*H$9)/Setup!$C$10","v":{"$error":"#VALUE!"}},{"$f":"(I486*I$9)/Setup!$C$10","v":{"$error":"#VALUE!"}},{"$f":"(J486*J$9)/Setup!$C$10","v":{"$error":"#VALUE!"}},{"$f":"(K486*K$9)/Setup!$C$10","v":{"$error":"#VALUE!"}},{"$f":"(L486*L$9)/Setup!$C$10","v":{"$error":"#VALUE!"}},{"$f":"(M486*M$9)/Setup!$C$10","v":{"$error":"#VALUE!"}},{"$f":"(N486*N$9)/Setup!$C$10","v":{"$error":"#VALUE!"}},{"$f":"(O486*O$9)/Setup!$C$10","v":{"$error":"#VALUE!"}},{"$f":"(P486*P$9)/Setup!$C$10","v":{"$error":"#VALUE!"}},{"$f":"(Q486*Q$9)/Setup!$C$10","v":{"$error":"#VALUE!"}},{"$f":"(R486*R$9)/Setup!$C$10","v":{"$error":"#VALUE!"}},{"$f":"(S486*S$9)/Setup!$C$10","v":{"$error":"#VALUE!"}},{"$f":"(T486*T$9)/Setup!$C$10","v":{"$error":"#VALUE!"}},{"$f":"(U486*U$9)/Setup!$C$10","v":{"$error":"#VALUE!"}},{"$f":"(V486*V$9)/Setup!$C$10","v":{"$error":"#VALUE!"}},{"$f":"(W486*W$9)/Setup!$C$10","v":{"$error":"#VALUE!"}},{"$f":"(X486*X$9)/Setup!$C$10","v":{"$error":"#VALUE!"}},null,{"$error":"#VALUE!"},{"$error":"#VALUE!"}]
["2014-09-01","Week 9",{"$f":"(C487*C$9)/Setup!$C$10","v":{"$error":"#VALUE!"}},{"$f":"(D487*D$9)/Setup!$C$10","v":{"$error":"#VALUE!"}},{"$f":"(E487*E$9)/Setup!$C$10","v":{"$error":"#VALUE!"}},{"$f":"(F487*F$9)/Setup!$C$10","v":{"$error":"#VALUE!"}},{"$f":"(G487*G$9)/Setup!$C$10","v":{"$error":"#VALUE!"}},{"$f":"(H487*H$9)/Setup!$C$10","v":{"$error":"#VALUE!"}},{"$f":"(I487*I$9)/Setup!$C$10","v":{"$error":"#VALUE!"}},{"$f":"(J487*J$9)/Setup!$C$10","v":{"$error":"#VALUE!"}},{"$f":"(K487*K$9)/Setup!$C$10","v":{"$error":"#VALUE!"}},{"$f":"(L487*L$9)/Setup!$C$10","v":{"$error":"#VALUE!"}},{"$f":"(M487*M$9)/Setup!$C$10","v":{"$error":"#VALUE!"}},{"$f":"(N487*N$9)/Setup!$C$10","v":{"$error":"#VALUE!"}},{"$f":"(O487*O$9)/Setup!$C$10","v":{"$error":"#VALUE!"}},{"$f":"(P487*P$9)/Setup!$C$10","v":{"$error":"#VALUE!"}},{"$f":"(Q487*Q$9)/Setup!$C$10","v":{"$error":"#VALUE!"}},{"$f":"(R487*R$9)/Setup!$C$10","v":{"$error":"#VALUE!"}},{"$f":"(S487*S$9)/Setup!$C$10","v":{"$error":"#VALUE!"}},{"$f":"(T487*T$9)/Setup!$C$10","v":{"$error":"#VALUE!"}},{"$f":"(U487*U$9)/Setup!$C$10","v":{"$error":"#VALUE!"}},{"$f":"(V487*V$9)/Setup!$C$10","v":{"$error":"#VALUE!"}},{"$f":"(W487*W$9)/Setup!$C$10","v":{"$error":"#VALUE!"}},{"$f":"(X487*X$9)/Setup!$C$10","v":{"$error":"#VALUE!"}},null,{"$error":"#VALUE!"},{"$error":"#VALUE!"}]
["2014-09-08","Week 10",{"$f":"(C488*C$9)/Setup!$C$10","v":{"$error":"#VALUE!"}},{"$f":"(D488*D$9)/Setup!$C$10","v":{"$error":"#VALUE!"}},{"$f":"(E488*E$9)/Setup!$C$10","v":{"$error":"#VALUE!"}},{"$f":"(F488*F$9)/Setup!$C$10","v":{"$error":"#VALUE!"}},{"$f":"(G488*G$9)/Setup!$C$10","v":{"$error":"#VALUE!"}},{"$f":"(H488*H$9)/Setup!$C$10","v":{"$error":"#VALUE!"}},{"$f":"(I488*I$9)/Setup!$C$10","v":{"$error":"#VALUE!"}},{"$f":"(J488*J$9)/Setup!$C$10","v":{"$error":"#VALUE!"}},{"$f":"(K488*K$9)/Setup!$C$10","v":{"$error":"#VALUE!"}},{"$f":"(L488*L$9)/Setup!$C$10","v":{"$error":"#VALUE!"}},{"$f":"(M488*M$9)/Setup!$C$10","v":{"$error":"#VALUE!"}},{"$f":"(N488*N$9)/Setup!$C$10","v":{"$error":"#VALUE!"}},{"$f":"(O488*O$9)/Setup!$C$10","v":{"$error":"#VALUE!"}},{"$f":"(P488*P$9)/Setup!$C$10","v":{"$error":"#VALUE!"}},{"$f":"(Q488*Q$9)/Setup!$C$10","v":{"$error":"#VALUE!"}},{"$f":"(R488*R$9)/Setup!$C$10","v":{"$error":"#VALUE!"}},{"$f":"(S488*S$9)/Setup!$C$10","v":{"$error":"#VALUE!"}},{"$f":"(T488*T$9)/Setup!$C$10","v":{"$error":"#VALUE!"}},{"$f":"(U488*U$9)/Setup!$C$10","v":{"$error":"#VALUE!"}},{"$f":"(V488*V$9)/Setup!$C$10","v":{"$error":"#VALUE!"}},{"$f":"(W488*W$9)/Setup!$C$10","v":{"$error":"#VALUE!"}},{"$f":"(X488*X$9)/Setup!$C$10","v":{"$error":"#VALUE!"}},null,{"$error":"#VALUE!"},{"$error":"#VALUE!"}]
["2014-09-15","Week 11",{"$f":"(C489*C$9)/Setup!$C$10","v":{"$error":"#VALUE!"}},{"$f":"(D489*D$9)/Setup!$C$10","v":{"$error":"#VALUE!"}},{"$f":"(E489*E$9)/Setup!$C$10","v":{"$error":"#VALUE!"}},{"$f":"(F489*F$9)/Setup!$C$10","v":{"$error":"#VALUE!"}},{"$f":"(G489*G$9)/Setup!$C$10","v":{"$error":"#VALUE!"}},{"$f":"(H489*H$9)/Setup!$C$10","v":{"$error":"#VALUE!"}},{"$f":"(I489*I$9)/Setup!$C$10","v":{"$error":"#VALUE!"}},{"$f":"(J489*J$9)/Setup!$C$10","v":{"$error":"#VALUE!"}},{"$f":"(K489*K$9)/Setup!$C$10","v":{"$error":"#VALUE!"}},{"$f":"(L489*L$9)/Setup!$C$10","v":{"$error":"#VALUE!"}},{"$f":"(M489*M$9)/Setup!$C$10","v":{"$error":"#VALUE!"}},{"$f":"(N489*N$9)/Setup!$C$10","v":{"$error":"#VALUE!"}},{"$f":"(O489*O$9)/Setup!$C$10","v":{"$error":"#VALUE!"}},{"$f":"(P489*P$9)/Setup!$C$10","v":{"$error":"#VALUE!"}},{"$f":"(Q489*Q$9)/Setup!$C$10","v":{"$error":"#VALUE!"}},{"$f":"(R489*R$9)/Setup!$C$10","v":{"$error":"#VALUE!"}},{"$f":"(S489*S$9)/Setup!$C$10","v":{"$error":"#VALUE!"}},{"$f":"(T489*T$9)/Setup!$C$10","v":{"$error":"#VALUE!"}},{"$f":"(U489*U$9)/Setup!$C$10","v":{"$error":"#VALUE!"}},{"$f":"(V489*V$9)/Setup!$C$10","v":{"$error":"#VALUE!"}},{"$f":"(W489*W$9)/Setup!$C$10","v":{"$error":"#VALUE!"}},{"$f":"(X489*X$9)/Setup!$C$10","v":{"$error":"#VALUE!"}},null,{"$error":"#VALUE!"},{"$error":"#VALUE!"}]
["2014-09-22","Week 12",{"$f":"(C490*C$9)/Setup!$C$10","v":{"$error":"#VALUE!"}},{"$f":"(D490*D$9)/Setup!$C$10","v":{"$error":"#VALUE!"}},{"$f":"(E490*E$9)/Setup!$C$10","v":{"$error":"#VALUE!"}},{"$f":"(F490*F$9)/Setup!$C$10","v":{"$error":"#VALUE!"}},{"$f":"(G490*G$9)/Setup!$C$10","v":{"$error":"#VALUE!"}},{"$f":"(H490*H$9)/Setup!$C$10","v":{"$error":"#VALUE!"}},{"$f":"(I490*I$9)/Setup!$C$10","v":{"$error":"#VALUE!"}},{"$f":"(J490*J$9)/Setup!$C$10","v":{"$error":"#VALUE!"}},{"$f":"(K490*K$9)/Setup!$C$10","v":{"$error":"#VALUE!"}},{"$f":"(L490*L$9)/Setup!$C$10","v":{"$error":"#VALUE!"}},{"$f":"(M490*M$9)/Setup!$C$10","v":{"$error":"#VALUE!"}},{"$f":"(N490*N$9)/Setup!$C$10","v":{"$error":"#VALUE!"}},{"$f":"(O490*O$9)/Setup!$C$10","v":{"$error":"#VALUE!"}},{"$f":"(P490*P$9)/Setup!$C$10","v":{"$error":"#VALUE!"}},{"$f":"(Q490*Q$9)/Setup!$C$10","v":{"$error":"#VALUE!"}},{"$f":"(R490*R$9)/Setup!$C$10","v":{"$error":"#VALUE!"}},{"$f":"(S490*S$9)/Setup!$C$10","v":{"$error":"#VALUE!"}},{"$f":"(T490*T$9)/Setup!$C$10","v":{"$error":"#VALUE!"}},{"$f":"(U490*U$9)/Setup!$C$10","v":{"$error":"#VALUE!"}},{"$f":"(V490*V$9)/Setup!$C$10","v":{"$error":"#VALUE!"}},{"$f":"(W490*W$9)/Setup!$C$10","v":{"$error":"#VALUE!"}},{"$f":"(X490*X$9)/Setup!$C$10","v":{"$error":"#VALUE!"}},null,{"$error":"#VALUE!"},{"$error":"#VALUE!"}]
["2014-09-29","Week 13",{"$f":"(C491*C$9)/Setup!$C$10","v":{"$error":"#VALUE!"}},{"$f":"(D491*D$9)/Setup!$C$10","v":{"$error":"#VALUE!"}},{"$f":"(E491*E$9)/Setup!$C$10","v":{"$error":"#VALUE!"}},{"$f":"(F491*F$9)/Setup!$C$10","v":{"$error":"#VALUE!"}},{"$f":"(G491*G$9)/Setup!$C$10","v":{"$error":"#VALUE!"}},{"$f":"(H491*H$9)/Setup!$C$10","v":{"$error":"#VALUE!"}},{"$f":"(I491*I$9)/Setup!$C$10","v":{"$error":"#VALUE!"}},{"$f":"(J491*J$9)/Setup!$C$10","v":{"$error":"#VALUE!"}},{"$f":"(K491*K$9)/Setup!$C$10","v":{"$error":"#VALUE!"}},{"$f":"(L491*L$9)/Setup!$C$10","v":{"$error":"#VALUE!"}},{"$f":"(M491*M$9)/Setup!$C$10","v":{"$error":"#VALUE!"}},{"$f":"(N491*N$9)/Setup!$C$10","v":{"$error":"#VALUE!"}},{"$f":"(O491*O$9)/Setup!$C$10","v":{"$error":"#VALUE!"}},{"$f":"(P491*P$9)/Setup!$C$10","v":{"$error":"#VALUE!"}},{"$f":"(Q491*Q$9)/Setup!$C$10","v":{"$error":"#VALUE!"}},{"$f":"(R491*R$9)/Setup!$C$10","v":{"$error":"#VALUE!"}},{"$f":"(S491*S$9)/Setup!$C$10","v":{"$error":"#VALUE!"}},{"$f":"(T491*T$9)/Setup!$C$10","v":{"$error":"#VALUE!"}},{"$f":"(U491*U$9)/Setup!$C$10","v":{"$error":"#VALUE!"}},{"$f":"(V491*V$9)/Setup!$C$10","v":{"$error":"#VALUE!"}},{"$f":"(W491*W$9)/Setup!$C$10","v":{"$error":"#VALUE!"}},{"$f":"(X491*X$9)/Setup!$C$10","v":{"$error":"#VALUE!"}},null,{"$error":"#VALUE!"},{"$error":"#VALUE!"}]
["2014-10-06","Week 14",{"$f":"(C492*C$9)/Setup!$C$10","v":{"$error":"#VALUE!"}},{"$f":"(D492*D$9)/Setup!$C$10","v":{"$error":"#VALUE!"}},{"$f":"(E492*E$9)/Setup!$C$10","v":{"$error":"#VALUE!"}},{"$f":"(F492*F$9)/Setup!$C$10","v":{"$error":"#VALUE!"}},{"$f":"(G492*G$9)/Setup!$C$10","v":{"$error":"#VALUE!"}},{"$f":"(H492*H$9)/Setup!$C$10","v":{"$error":"#VALUE!"}},{"$f":"(I492*I$9)/Setup!$C$10","v":{"$error":"#VALUE!"}},{"$f":"(J492*J$9)/Setup!$C$10","v":{"$error":"#VALUE!"}},{"$f":"(K492*K$9)/Setup!$C$10","v":{"$error":"#VALUE!"}},{"$f":"(L492*L$9)/Setup!$C$10","v":{"$error":"#VALUE!"}},{"$f":"(M492*M$9)/Setup!$C$10","v":{"$error":"#VALUE!"}},{"$f":"(N492*N$9)/Setup!$C$10","v":{"$error":"#VALUE!"}},{"$f":"(O492*O$9)/Setup!$C$10","v":{"$error":"#VALUE!"}},{"$f":"(P492*P$9)/Setup!$C$10","v":{"$error":"#VALUE!"}},{"$f":"(Q492*Q$9)/Setup!$C$10","v":{"$error":"#VALUE!"}},{"$f":"(R492*R$9)/Setup!$C$10","v":{"$error":"#VALUE!"}},{"$f":"(S492*S$9)/Setup!$C$10","v":{"$error":"#VALUE!"}},{"$f":"(T492*T$9)/Setup!$C$10","v":{"$error":"#VALUE!"}},{"$f":"(U492*U$9)/Setup!$C$10","v":{"$error":"#VALUE!"}},{"$f":"(V492*V$9)/Setup!$C$10","v":{"$error":"#VALUE!"}},{"$f":"(W492*W$9)/Setup!$C$10","v":{"$error":"#VALUE!"}},{"$f":"(X492*X$9)/Setup!$C$10","v":{"$error":"#VALUE!"}},null,{"$error":"#VALUE!"},{"$error":"#VALUE!"}]
["2014-10-13","Week 15",{"$f":"(C493*C$9)/Setup!$C$10","v":{"$error":"#VALUE!"}},{"$f":"(D493*D$9)/Setup!$C$10","v":{"$error":"#VALUE!"}},{"$f":"(E493*E$9)/Setup!$C$10","v":{"$error":"#VALUE!"}},{"$f":"(F493*F$9)/Setup!$C$10","v":{"$error":"#VALUE!"}},{"$f":"(G493*G$9)/Setup!$C$10","v":{"$error":"#VALUE!"}},{"$f":"(H493*H$9)/Setup!$C$10","v":{"$error":"#VALUE!"}},{"$f":"(I493*I$9)/Setup!$C$10","v":{"$error":"#VALUE!"}},{"$f":"(J493*J$9)/Setup!$C$10","v":{"$error":"#VALUE!"}},{"$f":"(K493*K$9)/Setup!$C$10","v":{"$error":"#VALUE!"}},{"$f":"(L493*L$9)/Setup!$C$10","v":{"$error":"#VALUE!"}},{"$f":"(M493*M$9)/Setup!$C$10","v":{"$error":"#VALUE!"}},{"$f":"(N493*N$9)/Setup!$C$10","v":{"$error":"#VALUE!"}},{"$f":"(O493*O$9)/Setup!$C$10","v":{"$error":"#VALUE!"}},{"$f":"(P493*P$9)/Setup!$C$10","v":{"$error":"#VALUE!"}},{"$f":"(Q493*Q$9)/Setup!$C$10","v":{"$error":"#VALUE!"}},{"$f":"(R493*R$9)/Setup!$C$10","v":{"$error":"#VALUE!"}},{"$f":"(S493*S$9)/Setup!$C$10","v":{"$error":"#VALUE!"}},{"$f":"(T493*T$9)/Setup!$C$10","v":{"$error":"#VALUE!"}},{"$f":"(U493*U$9)/Setup!$C$10","v":{"$error":"#VALUE!"}},{"$f":"(V493*V$9)/Setup!$C$10","v":{"$error":"#VALUE!"}},{"$f":"(W493*W$9)/Setup!$C$10","v":{"$error":"#VALUE!"}},{"$f":"(X493*X$9)/Setup!$C$10","v":{"$error":"#VALUE!"}},null,{"$error":"#VALUE!"},{"$error":"#VALUE!"}]
["2014-10-20","Week 16",{"$f":"(C494*C$9)/Setup!$C$10","v":{"$error":"#VALUE!"}},{"$f":"(D494*D$9)/Setup!$C$10","v":{"$error":"#VALUE!"}},{"$f":"(E494*E$9)/Setup!$C$10","v":{"$error":"#VALUE!"}},{"$f":"(F494*F$9)/Setup!$C$10","v":{"$error":"#VALUE!"}},{"$f":"(G494*G$9)/Setup!$C$10","v":{"$error":"#VALUE!"}},{"$f":"(H494*H$9)/Setup!$C$10","v":{"$error":"#VALUE!"}},{"$f":"(I494*I$9)/Setup!$C$10","v":{"$error":"#VALUE!"}},{"$f":"(J494*J$9)/Setup!$C$10","v":{"$error":"#VALUE!"}},{"$f":"(K494*K$9)/Setup!$C$10","v":{"$error":"#VALUE!"}},{"$f":"(L494*L$9)/Setup!$C$10","v":{"$error":"#VALUE!"}},{"$f":"(M494*M$9)/Setup!$C$10","v":{"$error":"#VALUE!"}},{"$f":"(N494*N$9)/Setup!$C$10","v":{"$error":"#VALUE!"}},{"$f":"(O494*O$9)/Setup!$C$10","v":{"$error":"#VALUE!"}},{"$f":"(P494*P$9)/Setup!$C$10","v":{"$error":"#VALUE!"}},{"$f":"(Q494*Q$9)/Setup!$C$10","v":{"$error":"#VALUE!"}},{"$f":"(R494*R$9)/Setup!$C$10","v":{"$error":"#VALUE!"}},{"$f":"(S494*S$9)/Setup!$C$10","v":{"$error":"#VALUE!"}},{"$f":"(T494*T$9)/Setup!$C$10","v":{"$error":"#VALUE!"}},{"$f":"(U494*U$9)/Setup!$C$10","v":{"$error":"#VALUE!"}},{"$f":"(V494*V$9)/Setup!$C$10","v":{"$error":"#VALUE!"}},{"$f":"(W494*W$9)/Setup!$C$10","v":{"$error":"#VALUE!"}},{"$f":"(X494*X$9)/Setup!$C$10","v":{"$error":"#VALUE!"}},null,{"$error":"#VALUE!"},{"$error":"#VALUE!"}]
["2014-10-27","Week 17",{"$f":"(C495*C$9)/Setup!$C$10","v":{"$error":"#VALUE!"}},{"$f":"(D495*D$9)/Setup!$C$10","v":{"$error":"#VALUE!"}},{"$f":"(E495*E$9)/Setup!$C$10","v":{"$error":"#VALUE!"}},{"$f":"(F495*F$9)/Setup!$C$10","v":{"$error":"#VALUE!"}},{"$f":"(G495*G$9)/Setup!$C$10","v":{"$error":"#VALUE!"}},{"$f":"(H495*H$9)/Setup!$C$10","v":{"$error":"#VALUE!"}},{"$f":"(I495*I$9)/Setup!$C$10","v":{"$error":"#VALUE!"}},{"$f":"(J495*J$9)/Setup!$C$10","v":{"$error":"#VALUE!"}},{"$f":"(K495*K$9)/Setup!$C$10","v":{"$error":"#VALUE!"}},{"$f":"(L495*L$9)/Setup!$C$10","v":{"$error":"#VALUE!"}},{"$f":"(M495*M$9)/Setup!$C$10","v":{"$error":"#VALUE!"}},{"$f":"(N495*N$9)/Setup!$C$10","v":{"$error":"#VALUE!"}},{"$f":"(O495*O$9)/Setup!$C$10","v":{"$error":"#VALUE!"}},{"$f":"(P495*P$9)/Setup!$C$10","v":{"$error":"#VALUE!"}},{"$f":"(Q495*Q$9)/Setup!$C$10","v":{"$error":"#VALUE!"}},{"$f":"(R495*R$9)/Setup!$C$10","v":{"$error":"#VALUE!"}},{"$f":"(S495*S$9)/Setup!$C$10","v":{"$error":"#VALUE!"}},{"$f":"(T495*T$9)/Setup!$C$10","v":{"$error":"#VALUE!"}},{"$f":"(U495*U$9)/Setup!$C$10","v":{"$error":"#VALUE!"}},{"$f":"(V495*V$9)/Setup!$C$10","v":{"$error":"#VALUE!"}},{"$f":"(W495*W$9)/Setup!$C$10","v":{"$error":"#VALUE!"}},{"$f":"(X495*X$9)/Setup!$C$10","v":{"$error":"#VALUE!"}},null,{"$error":"#VALUE!"},{"$error":"#VALUE!"}]
["2014-11-03","Week 18",{"$f":"(C496*C$9)/Setup!$C$10","v":{"$error":"#VALUE!"}},{"$f":"(D496*D$9)/Setup!$C$10","v":{"$error":"#VALUE!"}},{"$f":"(E496*E$9)/Setup!$C$10","v":{"$error":"#VALUE!"}},{"$f":"(F496*F$9)/Setup!$C$10","v":{"$error":"#VALUE!"}},{"$f":"(G496*G$9)/Setup!$C$10","v":{"$error":"#VALUE!"}},{"$f":"(H496*H$9)/Setup!$C$10","v":{"$error":"#VALUE!"}},{"$f":"(I496*I$9)/Setup!$C$10","v":{"$error":"#VALUE!"}},{"$f":"(J496*J$9)/Setup!$C$10","v":{"$error":"#VALUE!"}},{"$f":"(K496*K$9)/Setup!$C$10","v":{"$error":"#VALUE!"}},{"$f":"(L496*L$9)/Setup!$C$10","v":{"$error":"#VALUE!"}},{"$f":"(M496*M$9)/Setup!$C$10","v":{"$error":"#VALUE!"}},{"$f":"(N496*N$9)/Setup!$C$10","v":{"$error":"#VALUE!"}},{"$f":"(O496*O$9)/Setup!$C$10","v":{"$error":"#VALUE!"}},{"$f":"(P496*P$9)/Setup!$C$10","v":{"$error":"#VALUE!"}},{"$f":"(Q496*Q$9)/Setup!$C$10","v":{"$error":"#VALUE!"}},{"$f":"(R496*R$9)/Setup!$C$10","v":{"$error":"#VALUE!"}},{"$f":"(S496*S$9)/Setup!$C$10","v":{"$error":"#VALUE!"}},{"$f":"(T496*T$9)/Setup!$C$10","v":{"$error":"#VALUE!"}},{"$f":"(U496*U$9)/Setup!$C$10","v":{"$error":"#VALUE!"}},{"$f":"(V496*V$9)/Setup!$C$10","v":{"$error":"#VALUE!"}},{"$f":"(W496*W$9)/Setup!$C$10","v":{"$error":"#VALUE!"}},{"$f":"(X496*X$9)/Setup!$C$10","v":{"$error":"#VALUE!"}},null,{"$error":"#VALUE!"},{"$error":"#VALUE!"}]
["2014-11-10","Week 19",{"$f":"(C497*C$9)/Setup!$C$10","v":{"$error":"#VALUE!"}},{"$f":"(D497*D$9)/Setup!$C$10","v":{"$error":"#VALUE!"}},{"$f":"(E497*E$9)/Setup!$C$10","v":{"$error":"#VALUE!"}},{"$f":"(F497*F$9)/Setup!$C$10","v":{"$error":"#VALUE!"}},{"$f":"(G497*G$9)/Setup!$C$10","v":{"$error":"#VALUE!"}},{"$f":"(H497*H$9)/Setup!$C$10","v":{"$error":"#VALUE!"}},{"$f":"(I497*I$9)/Setup!$C$10","v":{"$error":"#VALUE!"}},{"$f":"(J497*J$9)/Setup!$C$10","v":{"$error":"#VALUE!"}},{"$f":"(K497*K$9)/Setup!$C$10","v":{"$error":"#VALUE!"}},{"$f":"(L497*L$9)/Setup!$C$10","v":{"$error":"#VALUE!"}},{"$f":"(M497*M$9)/Setup!$C$10","v":{"$error":"#VALUE!"}},{"$f":"(N497*N$9)/Setup!$C$10","v":{"$error":"#VALUE!"}},{"$f":"(O497*O$9)/Setup!$C$10","v":{"$error":"#VALUE!"}},{"$f":"(P497*P$9)/Setup!$C$10","v":{"$error":"#VALUE!"}},{"$f":"(Q497*Q$9)/Setup!$C$10","v":{"$error":"#VALUE!"}},{"$f":"(R497*R$9)/Setup!$C$10","v":{"$error":"#VALUE!"}},{"$f":"(S497*S$9)/Setup!$C$10","v":{"$error":"#VALUE!"}},{"$f":"(T497*T$9)/Setup!$C$10","v":{"$error":"#VALUE!"}},{"$f":"(U497*U$9)/Setup!$C$10","v":{"$error":"#VALUE!"}},{"$f":"(V497*V$9)/Setup!$C$10","v":{"$error":"#VALUE!"}},{"$f":"(W497*W$9)/Setup!$C$10","v":{"$error":"#VALUE!"}},{"$f":"(X497*X$9)/Setup!$C$10","v":{"$error":"#VALUE!"}},null,{"$error":"#VALUE!"},{"$error":"#VALUE!"}]
["2014-11-17","Week 20",{"$f":"(C498*C$9)/Setup!$C$10","v":{"$error":"#VALUE!"}},{"$f":"(D498*D$9)/Setup!$C$10","v":{"$error":"#VALUE!"}},{"$f":"(E498*E$9)/Setup!$C$10","v":{"$error":"#VALUE!"}},{"$f":"(F498*F$9)/Setup!$C$10","v":{"$error":"#VALUE!"}},{"$f":"(G498*G$9)/Setup!$C$10","v":{"$error":"#VALUE!"}},{"$f":"(H498*H$9)/Setup!$C$10","v":{"$error":"#VALUE!"}},{"$f":"(I498*I$9)/Setup!$C$10","v":{"$error":"#VALUE!"}},{"$f":"(J498*J$9)/Setup!$C$10","v":{"$error":"#VALUE!"}},{"$f":"(K498*K$9)/Setup!$C$10","v":{"$error":"#VALUE!"}},{"$f":"(L498*L$9)/Setup!$C$10","v":{"$error":"#VALUE!"}},{"$f":"(M498*M$9)/Setup!$C$10","v":{"$error":"#VALUE!"}},{"$f":"(N498*N$9)/Setup!$C$10","v":{"$error":"#VALUE!"}},{"$f":"(O498*O$9)/Setup!$C$10","v":{"$error":"#VALUE!"}},{"$f":"(P498*P$9)/Setup!$C$10","v":{"$error":"#VALUE!"}},{"$f":"(Q498*Q$9)/Setup!$C$10","v":{"$error":"#VALUE!"}},{"$f":"(R498*R$9)/Setup!$C$10","v":{"$error":"#VALUE!"}},{"$f":"(S498*S$9)/Setup!$C$10","v":{"$error":"#VALUE!"}},{"$f":"(T498*T$9)/Setup!$C$10","v":{"$error":"#VALUE!"}},{"$f":"(U498*U$9)/Setup!$C$10","v":{"$error":"#VALUE!"}},{"$f":"(V498*V$9)/Setup!$C$10","v":{"$error":"#VALUE!"}},{"$f":"(W498*W$9)/Setup!$C$10","v":{"$error":"#VALUE!"}},{"$f":"(X498*X$9)/Setup!$C$10","v":{"$error":"#VALUE!"}},null,{"$error":"#VALUE!"},{"$error":"#VALUE!"}]
[{"$f":"A441","v":"2014-11-24"},"Week 21",{"$f":"(C499*C$9)/Setup!$C$10","v":{"$error":"#VALUE!"}},{"$f":"(D499*D$9)/Setup!$C$10","v":{"$error":"#VALUE!"}},{"$f":"(E499*E$9)/Setup!$C$10","v":{"$error":"#VALUE!"}},{"$f":"(F499*F$9)/Setup!$C$10","v":{"$error":"#VALUE!"}},{"$f":"(G499*G$9)/Setup!$C$10","v":{"$error":"#VALUE!"}},{"$f":"(H499*H$9)/Setup!$C$10","v":{"$error":"#VALUE!"}},{"$f":"(I499*I$9)/Setup!$C$10","v":{"$error":"#VALUE!"}},{"$f":"(J499*J$9)/Setup!$C$10","v":{"$error":"#VALUE!"}},{"$f":"(K499*K$9)/Setup!$C$10","v":{"$error":"#VALUE!"}},{"$f":"(L499*L$9)/Setup!$C$10","v":{"$error":"#VALUE!"}},{"$f":"(M499*M$9)/Setup!$C$10","v":{"$error":"#VALUE!"}},{"$f":"(N499*N$9)/Setup!$C$10","v":{"$error":"#VALUE!"}},{"$f":"(O499*O$9)/Setup!$C$10","v":{"$error":"#VALUE!"}},{"$f":"(P499*P$9)/Setup!$C$10","v":{"$error":"#VALUE!"}},{"$f":"(Q499*Q$9)/Setup!$C$10","v":{"$error":"#VALUE!"}},{"$f":"(R499*R$9)/Setup!$C$10","v":{"$error":"#VALUE!"}},{"$f":"(S499*S$9)/Setup!$C$10","v":{"$error":"#VALUE!"}},{"$f":"(T499*T$9)/Setup!$C$10","v":{"$error":"#VALUE!"}},{"$f":"(U499*U$9)/Setup!$C$10","v":{"$error":"#VALUE!"}},{"$f":"(V499*V$9)/Setup!$C$10","v":{"$error":"#VALUE!"}},{"$f":"(W499*W$9)/Setup!$C$10","v":{"$error":"#VALUE!"}},{"$f":"(X499*X$9)/Setup!$C$10","v":{"$error":"#VALUE!"}},null,{"$error":"#VALUE!"},{"$error":"#VALUE!"}]
["2014-12-01","Week 22",{"$f":"(C500*C$9)/Setup!$C$10","v":{"$error":"#VALUE!"}},{"$f":"(D500*D$9)/Setup!$C$10","v":{"$error":"#VALUE!"}},{"$f":"(E500*E$9)/Setup!$C$10","v":{"$error":"#VALUE!"}},{"$f":"(F500*F$9)/Setup!$C$10","v":{"$error":"#VALUE!"}},{"$f":"(G500*G$9)/Setup!$C$10","v":{"$error":"#VALUE!"}},{"$f":"(H500*H$9)/Setup!$C$10","v":{"$error":"#VALUE!"}},{"$f":"(I500*I$9)/Setup!$C$10","v":{"$error":"#VALUE!"}},{"$f":"(J500*J$9)/Setup!$C$10","v":{"$error":"#VALUE!"}},{"$f":"(K500*K$9)/Setup!$C$10","v":{"$error":"#VALUE!"}},{"$f":"(L500*L$9)/Setup!$C$10","v":{"$error":"#VALUE!"}},{"$f":"(M500*M$9)/Setup!$C$10","v":{"$error":"#VALUE!"}},{"$f":"(N500*N$9)/Setup!$C$10","v":{"$error":"#VALUE!"}},{"$f":"(O500*O$9)/Setup!$C$10","v":{"$error":"#VALUE!"}},{"$f":"(P500*P$9)/Setup!$C$10","v":{"$error":"#VALUE!"}},{"$f":"(Q500*Q$9)/Setup!$C$10","v":{"$error":"#VALUE!"}},{"$f":"(R500*R$9)/Setup!$C$10","v":{"$error":"#VALUE!"}},{"$f":"(S500*S$9)/Setup!$C$10","v":{"$error":"#VALUE!"}},{"$f":"(T500*T$9)/Setup!$C$10","v":{"$error":"#VALUE!"}},{"$f":"(U500*U$9)/Setup!$C$10","v":{"$error":"#VALUE!"}},{"$f":"(V500*V$9)/Setup!$C$10","v":{"$error":"#VALUE!"}},{"$f":"(W500*W$9)/Setup!$C$10","v":{"$error":"#VALUE!"}},{"$f":"(X500*X$9)/Setup!$C$10","v":{"$error":"#VALUE!"}},null,{"$error":"#VALUE!"},{"$error":"#VALUE!"}]
["2014-12-08","Week 23",{"$f":"(C501*C$9)/Setup!$C$10","v":{"$error":"#VALUE!"}},{"$f":"(D501*D$9)/Setup!$C$10","v":{"$error":"#VALUE!"}},{"$f":"(E501*E$9)/Setup!$C$10","v":{"$error":"#VALUE!"}},{"$f":"(F501*F$9)/Setup!$C$10","v":{"$error":"#VALUE!"}},{"$f":"(G501*G$9)/Setup!$C$10","v":{"$error":"#VALUE!"}},{"$f":"(H501*H$9)/Setup!$C$10","v":{"$error":"#VALUE!"}},{"$f":"(I501*I$9)/Setup!$C$10","v":{"$error":"#VALUE!"}},{"$f":"(J501*J$9)/Setup!$C$10","v":{"$error":"#VALUE!"}},{"$f":"(K501*K$9)/Setup!$C$10","v":{"$error":"#VALUE!"}},{"$f":"(L501*L$9)/Setup!$C$10","v":{"$error":"#VALUE!"}},{"$f":"(M501*M$9)/Setup!$C$10","v":{"$error":"#VALUE!"}},{"$f":"(N501*N$9)/Setup!$C$10","v":{"$error":"#VALUE!"}},{"$f":"(O501*O$9)/Setup!$C$10","v":{"$error":"#VALUE!"}},{"$f":"(P501*P$9)/Setup!$C$10","v":{"$error":"#VALUE!"}},{"$f":"(Q501*Q$9)/Setup!$C$10","v":{"$error":"#VALUE!"}},{"$f":"(R501*R$9)/Setup!$C$10","v":{"$error":"#VALUE!"}},{"$f":"(S501*S$9)/Setup!$C$10","v":{"$error":"#VALUE!"}},{"$f":"(T501*T$9)/Setup!$C$10","v":{"$error":"#VALUE!"}},{"$f":"(U501*U$9)/Setup!$C$10","v":{"$error":"#VALUE!"}},{"$f":"(V501*V$9)/Setup!$C$10","v":{"$error":"#VALUE!"}},{"$f":"(W501*W$9)/Setup!$C$10","v":{"$error":"#VALUE!"}},{"$f":"(X501*X$9)/Setup!$C$10","v":{"$error":"#VALUE!"}},null,{"$error":"#VALUE!"},{"$error":"#VALUE!"}]
["2014-12-15","Week 24",{"$f":"(C502*C$9)/Setup!$C$10","v":{"$error":"#VALUE!"}},{"$f":"(D502*D$9)/Setup!$C$10","v":{"$error":"#VALUE!"}},{"$f":"(E502*E$9)/Setup!$C$10","v":{"$error":"#VALUE!"}},{"$f":"(F502*F$9)/Setup!$C$10","v":{"$error":"#VALUE!"}},{"$f":"(G502*G$9)/Setup!$C$10","v":{"$error":"#VALUE!"}},{"$f":"(H502*H$9)/Setup!$C$10","v":{"$error":"#VALUE!"}},{"$f":"(I502*I$9)/Setup!$C$10","v":{"$error":"#VALUE!"}},{"$f":"(J502*J$9)/Setup!$C$10","v":{"$error":"#VALUE!"}},{"$f":"(K502*K$9)/Setup!$C$10","v":{"$error":"#VALUE!"}},{"$f":"(L502*L$9)/Setup!$C$10","v":{"$error":"#VALUE!"}},{"$f":"(M502*M$9)/Setup!$C$10","v":{"$error":"#VALUE!"}},{"$f":"(N502*N$9)/Setup!$C$10","v":{"$error":"#VALUE!"}},{"$f":"(O502*O$9)/Setup!$C$10","v":{"$error":"#VALUE!"}},{"$f":"(P502*P$9)/Setup!$C$10","v":{"$error":"#VALUE!"}},{"$f":"(Q502*Q$9)/Setup!$C$10","v":{"$error":"#VALUE!"}},{"$f":"(R502*R$9)/Setup!$C$10","v":{"$error":"#VALUE!"}},{"$f":"(S502*S$9)/Setup!$C$10","v":{"$error":"#VALUE!"}},{"$f":"(T502*T$9)/Setup!$C$10","v":{"$error":"#VALUE!"}},{"$f":"(U502*U$9)/Setup!$C$10","v":{"$error":"#VALUE!"}},{"$f":"(V502*V$9)/Setup!$C$10","v":{"$error":"#VALUE!"}},{"$f":"(W502*W$9)/Setup!$C$10","v":{"$error":"#VALUE!"}},{"$f":"(X502*X$9)/Setup!$C$10","v":{"$error":"#VALUE!"}},null,{"$error":"#VALUE!"},{"$error":"#VALUE!"}]
["2014-12-22","Week 25",{"$f":"(C503*C$9)/Setup!$C$10","v":{"$error":"#VALUE!"}},{"$f":"(D503*D$9)/Setup!$C$10","v":{"$error":"#VALUE!"}},{"$f":"(E503*E$9)/Setup!$C$10","v":{"$error":"#VALUE!"}},{"$f":"(F503*F$9)/Setup!$C$10","v":{"$error":"#VALUE!"}},{"$f":"(G503*G$9)/Setup!$C$10","v":{"$error":"#VALUE!"}},{"$f":"(H503*H$9)/Setup!$C$10","v":{"$error":"#VALUE!"}},{"$f":"(I503*I$9)/Setup!$C$10","v":{"$error":"#VALUE!"}},{"$f":"(J503*J$9)/Setup!$C$10","v":{"$error":"#VALUE!"}},{"$f":"(K503*K$9)/Setup!$C$10","v":{"$error":"#VALUE!"}},{"$f":"(L503*L$9)/Setup!$C$10","v":{"$error":"#VALUE!"}},{"$f":"(M503*M$9)/Setup!$C$10","v":{"$error":"#VALUE!"}},{"$f":"(N503*N$9)/Setup!$C$10","v":{"$error":"#VALUE!"}},{"$f":"(O503*O$9)/Setup!$C$10","v":{"$error":"#VALUE!"}},{"$f":"(P503*P$9)/Setup!$C$10","v":{"$error":"#VALUE!"}},{"$f":"(Q503*Q$9)/Setup!$C$10","v":{"$error":"#VALUE!"}},{"$f":"(R503*R$9)/Setup!$C$10","v":{"$error":"#VALUE!"}},{"$f":"(S503*S$9)/Setup!$C$10","v":{"$error":"#VALUE!"}},{"$f":"(T503*T$9)/Setup!$C$10","v":{"$error":"#VALUE!"}},{"$f":"(U503*U$9)/Setup!$C$10","v":{"$error":"#VALUE!"}},{"$f":"(V503*V$9)/Setup!$C$10","v":{"$error":"#VALUE!"}},{"$f":"(W503*W$9)/Setup!$C$10","v":{"$error":"#VALUE!"}},{"$f":"(X503*X$9)/Setup!$C$10","v":{"$error":"#VALUE!"}},null,{"$error":"#VALUE!"},{"$error":"#VALUE!"}]
["2014-12-29","Week 26",{"$f":"(C504*C$9)/Setup!$C$10","v":{"$error":"#VALUE!"}},{"$f":"(D504*D$9)/Setup!$C$10","v":{"$error":"#VALUE!"}},{"$f":"(E504*E$9)/Setup!$C$10","v":{"$error":"#VALUE!"}},{"$f":"(F504*F$9)/Setup!$C$10","v":{"$error":"#VALUE!"}},{"$f":"(G504*G$9)/Setup!$C$10","v":{"$error":"#VALUE!"}},{"$f":"(H504*H$9)/Setup!$C$10","v":{"$error":"#VALUE!"}},{"$f":"(I504*I$9)/Setup!$C$10","v":{"$error":"#VALUE!"}},{"$f":"(J504*J$9)/Setup!$C$10","v":{"$error":"#VALUE!"}},{"$f":"(K504*K$9)/Setup!$C$10","v":{"$error":"#VALUE!"}},{"$f":"(L504*L$9)/Setup!$C$10","v":{"$error":"#VALUE!"}},{"$f":"(M504*M$9)/Setup!$C$10","v":{"$error":"#VALUE!"}},{"$f":"(N504*N$9)/Setup!$C$10","v":{"$error":"#VALUE!"}},{"$f":"(O504*O$9)/Setup!$C$10","v":{"$error":"#VALUE!"}},{"$f":"(P504*P$9)/Setup!$C$10","v":{"$error":"#VALUE!"}},{"$f":"(Q504*Q$9)/Setup!$C$10","v":{"$error":"#VALUE!"}},{"$f":"(R504*R$9)/Setup!$C$10","v":{"$error":"#VALUE!"}},{"$f":"(S504*S$9)/Setup!$C$10","v":{"$error":"#VALUE!"}},{"$f":"(T504*T$9)/Setup!$C$10","v":{"$error":"#VALUE!"}},{"$f":"(U504*U$9)/Setup!$C$10","v":{"$error":"#VALUE!"}},{"$f":"(V504*V$9)/Setup!$C$10","v":{"$error":"#VALUE!"}},{"$f":"(W504*W$9)/Setup!$C$10","v":{"$error":"#VALUE!"}},{"$f":"(X504*X$9)/Setup!$C$10","v":{"$error":"#VALUE!"}},null,{"$error":"#VALUE!"},{"$error":"#VALUE!"}]
["2015-01-05","Week 27",{"$f":"(C505*C$9)/Setup!$C$10","v":{"$error":"#VALUE!"}},{"$f":"(D505*D$9)/Setup!$C$10","v":{"$error":"#VALUE!"}},{"$f":"(E505*E$9)/Setup!$C$10","v":{"$error":"#VALUE!"}},{"$f":"(F505*F$9)/Setup!$C$10","v":{"$error":"#VALUE!"}},{"$f":"(G505*G$9)/Setup!$C$10","v":{"$error":"#VALUE!"}},{"$f":"(H505*H$9)/Setup!$C$10","v":{"$error":"#VALUE!"}},{"$f":"(I505*I$9)/Setup!$C$10","v":{"$error":"#VALUE!"}},{"$f":"(J505*J$9)/Setup!$C$10","v":{"$error":"#VALUE!"}},{"$f":"(K505*K$9)/Setup!$C$10","v":{"$error":"#VALUE!"}},{"$f":"(L505*L$9)/Setup!$C$10","v":{"$error":"#VALUE!"}},{"$f":"(M505*M$9)/Setup!$C$10","v":{"$error":"#VALUE!"}},{"$f":"(N505*N$9)/Setup!$C$10","v":{"$error":"#VALUE!"}},{"$f":"(O505*O$9)/Setup!$C$10","v":{"$error":"#VALUE!"}},{"$f":"(P505*P$9)/Setup!$C$10","v":{"$error":"#VALUE!"}},{"$f":"(Q505*Q$9)/Setup!$C$10","v":{"$error":"#VALUE!"}},{"$f":"(R505*R$9)/Setup!$C$10","v":{"$error":"#VALUE!"}},{"$f":"(S505*S$9)/Setup!$C$10","v":{"$error":"#VALUE!"}},{"$f":"(T505*T$9)/Setup!$C$10","v":{"$error":"#VALUE!"}},{"$f":"(U505*U$9)/Setup!$C$10","v":{"$error":"#VALUE!"}},{"$f":"(V505*V$9)/Setup!$C$10","v":{"$error":"#VALUE!"}},{"$f":"(W505*W$9)/Setup!$C$10","v":{"$error":"#VALUE!"}},{"$f":"(X505*X$9)/Setup!$C$10","v":{"$error":"#VALUE!"}},null,{"$error":"#VALUE!"},{"$error":"#VALUE!"}]
["2015-01-12","Week 28",{"$f":"(C506*C$9)/Setup!$C$10","v":{"$error":"#VALUE!"}},{"$f":"(D506*D$9)/Setup!$C$10","v":{"$error":"#VALUE!"}},{"$f":"(E506*E$9)/Setup!$C$10","v":{"$error":"#VALUE!"}},{"$f":"(F506*F$9)/Setup!$C$10","v":{"$error":"#VALUE!"}},{"$f":"(G506*G$9)/Setup!$C$10","v":{"$error":"#VALUE!"}},{"$f":"(H506*H$9)/Setup!$C$10","v":{"$error":"#VALUE!"}},{"$f":"(I506*I$9)/Setup!$C$10","v":{"$error":"#VALUE!"}},{"$f":"(J506*J$9)/Setup!$C$10","v":{"$error":"#VALUE!"}},{"$f":"(K506*K$9)/Setup!$C$10","v":{"$error":"#VALUE!"}},{"$f":"(L506*L$9)/Setup!$C$10","v":{"$error":"#VALUE!"}},{"$f":"(M506*M$9)/Setup!$C$10","v":{"$error":"#VALUE!"}},{"$f":"(N506*N$9)/Setup!$C$10","v":{"$error":"#VALUE!"}},{"$f":"(O506*O$9)/Setup!$C$10","v":{"$error":"#VALUE!"}},{"$f":"(P506*P$9)/Setup!$C$10","v":{"$error":"#VALUE!"}},{"$f":"(Q506*Q$9)/Setup!$C$10","v":{"$error":"#VALUE!"}},{"$f":"(R506*R$9)/Setup!$C$10","v":{"$error":"#VALUE!"}},{"$f":"(S506*S$9)/Setup!$C$10","v":{"$error":"#VALUE!"}},{"$f":"(T506*T$9)/Setup!$C$10","v":{"$error":"#VALUE!"}},{"$f":"(U506*U$9)/Setup!$C$10","v":{"$error":"#VALUE!"}},{"$f":"(V506*V$9)/Setup!$C$10","v":{"$error":"#VALUE!"}},{"$f":"(W506*W$9)/Setup!$C$10","v":{"$error":"#VALUE!"}},{"$f":"(X506*X$9)/Setup!$C$10","v":{"$error":"#VALUE!"}},null,{"$error":"#VALUE!"},{"$error":"#VALUE!"}]
["2015-01-19","Week 29",{"$f":"(C507*C$9)/Setup!$C$10","v":{"$error":"#VALUE!"}},{"$f":"(D507*D$9)/Setup!$C$10","v":{"$error":"#VALUE!"}},{"$f":"(E507*E$9)/Setup!$C$10","v":{"$error":"#VALUE!"}},{"$f":"(F507*F$9)/Setup!$C$10","v":{"$error":"#VALUE!"}},{"$f":"(G507*G$9)/Setup!$C$10","v":{"$error":"#VALUE!"}},{"$f":"(H507*H$9)/Setup!$C$10","v":{"$error":"#VALUE!"}},{"$f":"(I507*I$9)/Setup!$C$10","v":{"$error":"#VALUE!"}},{"$f":"(J507*J$9)/Setup!$C$10","v":{"$error":"#VALUE!"}},{"$f":"(K507*K$9)/Setup!$C$10","v":{"$error":"#VALUE!"}},{"$f":"(L507*L$9)/Setup!$C$10","v":{"$error":"#VALUE!"}},{"$f":"(M507*M$9)/Setup!$C$10","v":{"$error":"#VALUE!"}},{"$f":"(N507*N$9)/Setup!$C$10","v":{"$error":"#VALUE!"}},{"$f":"(O507*O$9)/Setup!$C$10","v":{"$error":"#VALUE!"}},{"$f":"(P507*P$9)/Setup!$C$10","v":{"$error":"#VALUE!"}},{"$f":"(Q507*Q$9)/Setup!$C$10","v":{"$error":"#VALUE!"}},{"$f":"(R507*R$9)/Setup!$C$10","v":{"$error":"#VALUE!"}},{"$f":"(S507*S$9)/Setup!$C$10","v":{"$error":"#VALUE!"}},{"$f":"(T507*T$9)/Setup!$C$10","v":{"$error":"#VALUE!"}},{"$f":"(U507*U$9)/Setup!$C$10","v":{"$error":"#VALUE!"}},{"$f":"(V507*V$9)/Setup!$C$10","v":{"$error":"#VALUE!"}},{"$f":"(W507*W$9)/Setup!$C$10","v":{"$error":"#VALUE!"}},{"$f":"(X507*X$9)/Setup!$C$10","v":{"$error":"#VALUE!"}},null,{"$error":"#VALUE!"},{"$error":"#VALUE!"}]
["2015-01-26","Week 30",{"$f":"(C508*C$9)/Setup!$C$10","v":{"$error":"#VALUE!"}},{"$f":"(D508*D$9)/Setup!$C$10","v":{"$error":"#VALUE!"}},{"$f":"(E508*E$9)/Setup!$C$10","v":{"$error":"#VALUE!"}},{"$f":"(F508*F$9)/Setup!$C$10","v":{"$error":"#VALUE!"}},{"$f":"(G508*G$9)/Setup!$C$10","v":{"$error":"#VALUE!"}},{"$f":"(H508*H$9)/Setup!$C$10","v":{"$error":"#VALUE!"}},{"$f":"(I508*I$9)/Setup!$C$10","v":{"$error":"#VALUE!"}},{"$f":"(J508*J$9)/Setup!$C$10","v":{"$error":"#VALUE!"}},{"$f":"(K508*K$9)/Setup!$C$10","v":{"$error":"#VALUE!"}},{"$f":"(L508*L$9)/Setup!$C$10","v":{"$error":"#VALUE!"}},{"$f":"(M508*M$9)/Setup!$C$10","v":{"$error":"#VALUE!"}},{"$f":"(N508*N$9)/Setup!$C$10","v":{"$error":"#VALUE!"}},{"$f":"(O508*O$9)/Setup!$C$10","v":{"$error":"#VALUE!"}},{"$f":"(P508*P$9)/Setup!$C$10","v":{"$error":"#VALUE!"}},{"$f":"(Q508*Q$9)/Setup!$C$10","v":{"$error":"#VALUE!"}},{"$f":"(R508*R$9)/Setup!$C$10","v":{"$error":"#VALUE!"}},{"$f":"(S508*S$9)/Setup!$C$10","v":{"$error":"#VALUE!"}},{"$f":"(T508*T$9)/Setup!$C$10","v":{"$error":"#VALUE!"}},{"$f":"(U508*U$9)/Setup!$C$10","v":{"$error":"#VALUE!"}},{"$f":"(V508*V$9)/Setup!$C$10","v":{"$error":"#VALUE!"}},{"$f":"(W508*W$9)/Setup!$C$10","v":{"$error":"#VALUE!"}},{"$f":"(X508*X$9)/Setup!$C$10","v":{"$error":"#VALUE!"}},null,{"$error":"#VALUE!"},{"$error":"#VALUE!"}]
["2015-02-02","Week 31",{"$f":"(C509*C$9)/Setup!$C$10","v":{"$error":"#VALUE!"}},{"$f":"(D509*D$9)/Setup!$C$10","v":{"$error":"#VALUE!"}},{"$f":"(E509*E$9)/Setup!$C$10","v":{"$error":"#VALUE!"}},{"$f":"(F509*F$9)/Setup!$C$10","v":{"$error":"#VALUE!"}},{"$f":"(G509*G$9)/Setup!$C$10","v":{"$error":"#VALUE!"}},{"$f":"(H509*H$9)/Setup!$C$10","v":{"$error":"#VALUE!"}},{"$f":"(I509*I$9)/Setup!$C$10","v":{"$error":"#VALUE!"}},{"$f":"(J509*J$9)/Setup!$C$10","v":{"$error":"#VALUE!"}},{"$f":"(K509*K$9)/Setup!$C$10","v":{"$error":"#VALUE!"}},{"$f":"(L509*L$9)/Setup!$C$10","v":{"$error":"#VALUE!"}},{"$f":"(M509*M$9)/Setup!$C$10","v":{"$error":"#VALUE!"}},{"$f":"(N509*N$9)/Setup!$C$10","v":{"$error":"#VALUE!"}},{"$f":"(O509*O$9)/Setup!$C$10","v":{"$error":"#VALUE!"}},{"$f":"(P509*P$9)/Setup!$C$10","v":{"$error":"#VALUE!"}},{"$f":"(Q509*Q$9)/Setup!$C$10","v":{"$error":"#VALUE!"}},{"$f":"(R509*R$9)/Setup!$C$10","v":{"$error":"#VALUE!"}},{"$f":"(S509*S$9)/Setup!$C$10","v":{"$error":"#VALUE!"}},{"$f":"(T509*T$9)/Setup!$C$10","v":{"$error":"#VALUE!"}},{"$f":"(U509*U$9)/Setup!$C$10","v":{"$error":"#VALUE!"}},{"$f":"(V509*V$9)/Setup!$C$10","v":{"$error":"#VALUE!"}},{"$f":"(W509*W$9)/Setup!$C$10","v":{"$error":"#VALUE!"}},{"$f":"(X509*X$9)/Setup!$C$10","v":{"$error":"#VALUE!"}},null,{"$error":"#VALUE!"},{"$error":"#VALUE!"}]
["2015-02-09","Week 32",{"$f":"(C510*C$9)/Setup!$C$10","v":{"$error":"#VALUE!"}},{"$f":"(D510*D$9)/Setup!$C$10","v":{"$error":"#VALUE!"}},{"$f":"(E510*E$9)/Setup!$C$10","v":{"$error":"#VALUE!"}},{"$f":"(F510*F$9)/Setup!$C$10","v":{"$error":"#VALUE!"}},{"$f":"(G510*G$9)/Setup!$C$10","v":{"$error":"#VALUE!"}},{"$f":"(H510*H$9)/Setup!$C$10","v":{"$error":"#VALUE!"}},{"$f":"(I510*I$9)/Setup!$C$10","v":{"$error":"#VALUE!"}},{"$f":"(J510*J$9)/Setup!$C$10","v":{"$error":"#VALUE!"}},{"$f":"(K510*K$9)/Setup!$C$10","v":{"$error":"#VALUE!"}},{"$f":"(L510*L$9)/Setup!$C$10","v":{"$error":"#VALUE!"}},{"$f":"(M510*M$9)/Setup!$C$10","v":{"$error":"#VALUE!"}},{"$f":"(N510*N$9)/Setup!$C$10","v":{"$error":"#VALUE!"}},{"$f":"(O510*O$9)/Setup!$C$10","v":{"$error":"#VALUE!"}},{"$f":"(P510*P$9)/Setup!$C$10","v":{"$error":"#VALUE!"}},{"$f":"(Q510*Q$9)/Setup!$C$10","v":{"$error":"#VALUE!"}},{"$f":"(R510*R$9)/Setup!$C$10","v":{"$error":"#VALUE!"}},{"$f":"(S510*S$9)/Setup!$C$10","v":{"$error":"#VALUE!"}},{"$f":"(T510*T$9)/Setup!$C$10","v":{"$error":"#VALUE!"}},{"$f":"(U510*U$9)/Setup!$C$10","v":{"$error":"#VALUE!"}},{"$f":"(V510*V$9)/Setup!$C$10","v":{"$error":"#VALUE!"}},{"$f":"(W510*W$9)/Setup!$C$10","v":{"$error":"#VALUE!"}},{"$f":"(X510*X$9)/Setup!$C$10","v":{"$error":"#VALUE!"}},null,{"$error":"#VALUE!"},{"$error":"#VALUE!"}]
["2015-02-16","Week 33",{"$f":"(C511*C$9)/Setup!$C$10","v":{"$error":"#VALUE!"}},{"$f":"(D511*D$9)/Setup!$C$10","v":{"$error":"#VALUE!"}},{"$f":"(E511*E$9)/Setup!$C$10","v":{"$error":"#VALUE!"}},{"$f":"(F511*F$9)/Setup!$C$10","v":{"$error":"#VALUE!"}},{"$f":"(G511*G$9)/Setup!$C$10","v":{"$error":"#VALUE!"}},{"$f":"(H511*H$9)/Setup!$C$10","v":{"$error":"#VALUE!"}},{"$f":"(I511*I$9)/Setup!$C$10","v":{"$error":"#VALUE!"}},{"$f":"(J511*J$9)/Setup!$C$10","v":{"$error":"#VALUE!"}},{"$f":"(K511*K$9)/Setup!$C$10","v":{"$error":"#VALUE!"}},{"$f":"(L511*L$9)/Setup!$C$10","v":{"$error":"#VALUE!"}},{"$f":"(M511*M$9)/Setup!$C$10","v":{"$error":"#VALUE!"}},{"$f":"(N511*N$9)/Setup!$C$10","v":{"$error":"#VALUE!"}},{"$f":"(O511*O$9)/Setup!$C$10","v":{"$error":"#VALUE!"}},{"$f":"(P511*P$9)/Setup!$C$10","v":{"$error":"#VALUE!"}},{"$f":"(Q511*Q$9)/Setup!$C$10","v":{"$error":"#VALUE!"}},{"$f":"(R511*R$9)/Setup!$C$10","v":{"$error":"#VALUE!"}},{"$f":"(S511*S$9)/Setup!$C$10","v":{"$error":"#VALUE!"}},{"$f":"(T511*T$9)/Setup!$C$10","v":{"$error":"#VALUE!"}},{"$f":"(U511*U$9)/Setup!$C$10","v":{"$error":"#VALUE!"}},{"$f":"(V511*V$9)/Setup!$C$10","v":{"$error":"#VALUE!"}},{"$f":"(W511*W$9)/Setup!$C$10","v":{"$error":"#VALUE!"}},{"$f":"(X511*X$9)/Setup!$C$10","v":{"$error":"#VALUE!"}},null,{"$error":"#VALUE!"},{"$error":"#VALUE!"}]
["2015-02-23","Week 34",{"$f":"(C512*C$9)/Setup!$C$10","v":{"$error":"#VALUE!"}},{"$f":"(D512*D$9)/Setup!$C$10","v":{"$error":"#VALUE!"}},{"$f":"(E512*E$9)/Setup!$C$10","v":{"$error":"#VALUE!"}},{"$f":"(F512*F$9)/Setup!$C$10","v":{"$error":"#VALUE!"}},{"$f":"(G512*G$9)/Setup!$C$10","v":{"$error":"#VALUE!"}},{"$f":"(H512*H$9)/Setup!$C$10","v":{"$error":"#VALUE!"}},{"$f":"(I512*I$9)/Setup!$C$10","v":{"$error":"#VALUE!"}},{"$f":"(J512*J$9)/Setup!$C$10","v":{"$error":"#VALUE!"}},{"$f":"(K512*K$9)/Setup!$C$10","v":{"$error":"#VALUE!"}},{"$f":"(L512*L$9)/Setup!$C$10","v":{"$error":"#VALUE!"}},{"$f":"(M512*M$9)/Setup!$C$10","v":{"$error":"#VALUE!"}},{"$f":"(N512*N$9)/Setup!$C$10","v":{"$error":"#VALUE!"}},{"$f":"(O512*O$9)/Setup!$C$10","v":{"$error":"#VALUE!"}},{"$f":"(P512*P$9)/Setup!$C$10","v":{"$error":"#VALUE!"}},{"$f":"(Q512*Q$9)/Setup!$C$10","v":{"$error":"#VALUE!"}},{"$f":"(R512*R$9)/Setup!$C$10","v":{"$error":"#VALUE!"}},{"$f":"(S512*S$9)/Setup!$C$10","v":{"$error":"#VALUE!"}},{"$f":"(T512*T$9)/Setup!$C$10","v":{"$error":"#VALUE!"}},{"$f":"(U512*U$9)/Setup!$C$10","v":{"$error":"#VALUE!"}},{"$f":"(V512*V$9)/Setup!$C$10","v":{"$error":"#VALUE!"}},{"$f":"(W512*W$9)/Setup!$C$10","v":{"$error":"#VALUE!"}},{"$f":"(X512*X$9)/Setup!$C$10","v":{"$error":"#VALUE!"}},null,{"$f":"SUM(C397:X397)+Z396","v":{"$error":"#VALUE!"}},{"$error":"#VALUE!"}]
["2015-03-02","Week 35",{"$f":"(C513*C$9)/Setup!$C$10","v":{"$error":"#VALUE!"}},{"$f":"(D513*D$9)/Setup!$C$10","v":{"$error":"#VALUE!"}},{"$f":"(E513*E$9)/Setup!$C$10","v":{"$error":"#VALUE!"}},{"$f":"(F513*F$9)/Setup!$C$10","v":{"$error":"#VALUE!"}},{"$f":"(G513*G$9)/Setup!$C$10","v":{"$error":"#VALUE!"}},{"$f":"(H513*H$9)/Setup!$C$10","v":{"$error":"#VALUE!"}},{"$f":"(I513*I$9)/Setup!$C$10","v":{"$error":"#VALUE!"}},{"$f":"(J513*J$9)/Setup!$C$10","v":{"$error":"#VALUE!"}},{"$f":"(K513*K$9)/Setup!$C$10","v":{"$error":"#VALUE!"}},{"$f":"(L513*L$9)/Setup!$C$10","v":{"$error":"#VALUE!"}},{"$f":"(M513*M$9)/Setup!$C$10","v":{"$error":"#VALUE!"}},{"$f":"(N513*N$9)/Setup!$C$10","v":{"$error":"#VALUE!"}},{"$f":"(O513*O$9)/Setup!$C$10","v":{"$error":"#VALUE!"}},{"$f":"(P513*P$9)/Setup!$C$10","v":{"$error":"#VALUE!"}},{"$f":"(Q513*Q$9)/Setup!$C$10","v":{"$error":"#VALUE!"}},{"$f":"(R513*R$9)/Setup!$C$10","v":{"$error":"#VALUE!"}},{"$f":"(S513*S$9)/Setup!$C$10","v":{"$error":"#VALUE!"}},{"$f":"(T513*T$9)/Setup!$C$10","v":{"$error":"#VALUE!"}},{"$f":"(U513*U$9)/Setup!$C$10","v":{"$error":"#VALUE!"}},{"$f":"(V513*V$9)/Setup!$C$10","v":{"$error":"#VALUE!"}},{"$f":"(W513*W$9)/Setup!$C$10","v":{"$error":"#VALUE!"}},{"$f":"(X513*X$9)/Setup!$C$10","v":{"$error":"#VALUE!"}},null,{"$error":"#VALUE!"},{"$error":"#VALUE!"}]
["2015-03-09","Week 36",{"$f":"(C514*C$9)/Setup!$C$10","v":{"$error":"#VALUE!"}},{"$f":"(D514*D$9)/Setup!$C$10","v":{"$error":"#VALUE!"}},{"$f":"(E514*E$9)/Setup!$C$10","v":{"$error":"#VALUE!"}},{"$f":"(F514*F$9)/Setup!$C$10","v":{"$error":"#VALUE!"}},{"$f":"(G514*G$9)/Setup!$C$10","v":{"$error":"#VALUE!"}},{"$f":"(H514*H$9)/Setup!$C$10","v":{"$error":"#VALUE!"}},{"$f":"(I514*I$9)/Setup!$C$10","v":{"$error":"#VALUE!"}},{"$f":"(J514*J$9)/Setup!$C$10","v":{"$error":"#VALUE!"}},{"$f":"(K514*K$9)/Setup!$C$10","v":{"$error":"#VALUE!"}},{"$f":"(L514*L$9)/Setup!$C$10","v":{"$error":"#VALUE!"}},{"$f":"(M514*M$9)/Setup!$C$10","v":{"$error":"#VALUE!"}},{"$f":"(N514*N$9)/Setup!$C$10","v":{"$error":"#VALUE!"}},{"$f":"(O514*O$9)/Setup!$C$10","v":{"$error":"#VALUE!"}},{"$f":"(P514*P$9)/Setup!$C$10","v":{"$error":"#VALUE!"}},{"$f":"(Q514*Q$9)/Setup!$C$10","v":{"$error":"#VALUE!"}},{"$f":"(R514*R$9)/Setup!$C$10","v":{"$error":"#VALUE!"}},{"$f":"(S514*S$9)/Setup!$C$10","v":{"$error":"#VALUE!"}},{"$f":"(T514*T$9)/Setup!$C$10","v":{"$error":"#VALUE!"}},{"$f":"(U514*U$9)/Setup!$C$10","v":{"$error":"#VALUE!"}},{"$f":"(V514*V$9)/Setup!$C$10","v":{"$error":"#VALUE!"}},{"$f":"(W514*W$9)/Setup!$C$10","v":{"$error":"#VALUE!"}},{"$f":"(X514*X$9)/Setup!$C$10","v":{"$error":"#VALUE!"}},null,{"$error":"#VALUE!"},{"$error":"#VALUE!"}]
["2015-03-16","Week 37",{"$f":"(C515*C$9)/Setup!$C$10","v":{"$error":"#VALUE!"}},{"$f":"(D515*D$9)/Setup!$C$10","v":{"$error":"#VALUE!"}},{"$f":"(E515*E$9)/Setup!$C$10","v":{"$error":"#VALUE!"}},{"$f":"(F515*F$9)/Setup!$C$10","v":{"$error":"#VALUE!"}},{"$f":"(G515*G$9)/Setup!$C$10","v":{"$error":"#VALUE!"}},{"$f":"(H515*H$9)/Setup!$C$10","v":{"$error":"#VALUE!"}},{"$f":"(I515*I$9)/Setup!$C$10","v":{"$error":"#VALUE!"}},{"$f":"(J515*J$9)/Setup!$C$10","v":{"$error":"#VALUE!"}},{"$f":"(K515*K$9)/Setup!$C$10","v":{"$error":"#VALUE!"}},{"$f":"(L515*L$9)/Setup!$C$10","v":{"$error":"#VALUE!"}},{"$f":"(M515*M$9)/Setup!$C$10","v":{"$error":"#VALUE!"}},{"$f":"(N515*N$9)/Setup!$C$10","v":{"$error":"#VALUE!"}},{"$f":"(O515*O$9)/Setup!$C$10","v":{"$error":"#VALUE!"}},{"$f":"(P515*P$9)/Setup!$C$10","v":{"$error":"#VALUE!"}},{"$f":"(Q515*Q$9)/Setup!$C$10","v":{"$error":"#VALUE!"}},{"$f":"(R515*R$9)/Setup!$C$10","v":{"$error":"#VALUE!"}},{"$f":"(S515*S$9)/Setup!$C$10","v":{"$error":"#VALUE!"}},{"$f":"(T515*T$9)/Setup!$C$10","v":{"$error":"#VALUE!"}},{"$f":"(U515*U$9)/Setup!$C$10","v":{"$error":"#VALUE!"}},{"$f":"(V515*V$9)/Setup!$C$10","v":{"$error":"#VALUE!"}},{"$f":"(W515*W$9)/Setup!$C$10","v":{"$error":"#VALUE!"}},{"$f":"(X515*X$9)/Setup!$C$10","v":{"$error":"#VALUE!"}},null,{"$error":"#VALUE!"},{"$error":"#VALUE!"}]
["2015-03-23","Week 38",{"$f":"(C516*C$9)/Setup!$C$10","v":{"$error":"#VALUE!"}},{"$f":"(D516*D$9)/Setup!$C$10","v":{"$error":"#VALUE!"}},{"$f":"(E516*E$9)/Setup!$C$10","v":{"$error":"#VALUE!"}},{"$f":"(F516*F$9)/Setup!$C$10","v":{"$error":"#VALUE!"}},{"$f":"(G516*G$9)/Setup!$C$10","v":{"$error":"#VALUE!"}},{"$f":"(H516*H$9)/Setup!$C$10","v":{"$error":"#VALUE!"}},{"$f":"(I516*I$9)/Setup!$C$10","v":{"$error":"#VALUE!"}},{"$f":"(J516*J$9)/Setup!$C$10","v":{"$error":"#VALUE!"}},{"$f":"(K516*K$9)/Setup!$C$10","v":{"$error":"#VALUE!"}},{"$f":"(L516*L$9)/Setup!$C$10","v":{"$error":"#VALUE!"}},{"$f":"(M516*M$9)/Setup!$C$10","v":{"$error":"#VALUE!"}},{"$f":"(N516*N$9)/Setup!$C$10","v":{"$error":"#VALUE!"}},{"$f":"(O516*O$9)/Setup!$C$10","v":{"$error":"#VALUE!"}},{"$f":"(P516*P$9)/Setup!$C$10","v":{"$error":"#VALUE!"}},{"$f":"(Q516*Q$9)/Setup!$C$10","v":{"$error":"#VALUE!"}},{"$f":"(R516*R$9)/Setup!$C$10","v":{"$error":"#VALUE!"}},{"$f":"(S516*S$9)/Setup!$C$10","v":{"$error":"#VALUE!"}},{"$f":"(T516*T$9)/Setup!$C$10","v":{"$error":"#VALUE!"}},{"$f":"(U516*U$9)/Setup!$C$10","v":{"$error":"#VALUE!"}},{"$f":"(V516*V$9)/Setup!$C$10","v":{"$error":"#VALUE!"}},{"$f":"(W516*W$9)/Setup!$C$10","v":{"$error":"#VALUE!"}},{"$f":"(X516*X$9)/Setup!$C$10","v":{"$error":"#VALUE!"}},null,{"$error":"#VALUE!"},{"$error":"#VALUE!"}]
["2015-03-30","Week 39",{"$f":"(C517*C$9)/Setup!$C$10","v":{"$error":"#VALUE!"}},{"$f":"(D517*D$9)/Setup!$C$10","v":{"$error":"#VALUE!"}},{"$f":"(E517*E$9)/Setup!$C$10","v":{"$error":"#VALUE!"}},{"$f":"(F517*F$9)/Setup!$C$10","v":{"$error":"#VALUE!"}},{"$f":"(G517*G$9)/Setup!$C$10","v":{"$error":"#VALUE!"}},{"$f":"(H517*H$9)/Setup!$C$10","v":{"$error":"#VALUE!"}},{"$f":"(I517*I$9)/Setup!$C$10","v":{"$error":"#VALUE!"}},{"$f":"(J517*J$9)/Setup!$C$10","v":{"$error":"#VALUE!"}},{"$f":"(K517*K$9)/Setup!$C$10","v":{"$error":"#VALUE!"}},{"$f":"(L517*L$9)/Setup!$C$10","v":{"$error":"#VALUE!"}},{"$f":"(M517*M$9)/Setup!$C$10","v":{"$error":"#VALUE!"}},{"$f":"(N517*N$9)/Setup!$C$10","v":{"$error":"#VALUE!"}},{"$f":"(O517*O$9)/Setup!$C$10","v":{"$error":"#VALUE!"}},{"$f":"(P517*P$9)/Setup!$C$10","v":{"$error":"#VALUE!"}},{"$f":"(Q517*Q$9)/Setup!$C$10","v":{"$error":"#VALUE!"}},{"$f":"(R517*R$9)/Setup!$C$10","v":{"$error":"#VALUE!"}},{"$f":"(S517*S$9)/Setup!$C$10","v":{"$error":"#VALUE!"}},{"$f":"(T517*T$9)/Setup!$C$10","v":{"$error":"#VALUE!"}},{"$f":"(U517*U$9)/Setup!$C$10","v":{"$error":"#VALUE!"}},{"$f":"(V517*V$9)/Setup!$C$10","v":{"$error":"#VALUE!"}},{"$f":"(W517*W$9)/Setup!$C$10","v":{"$error":"#VALUE!"}},{"$f":"(X517*X$9)/Setup!$C$10","v":{"$error":"#VALUE!"}},null,{"$error":"#VALUE!"},{"$error":"#VALUE!"}]
["2015-04-06","Week 40",{"$f":"(C518*C$9)/Setup!$C$10","v":{"$error":"#VALUE!"}},{"$f":"(D518*D$9)/Setup!$C$10","v":{"$error":"#VALUE!"}},{"$f":"(E518*E$9)/Setup!$C$10","v":{"$error":"#VALUE!"}},{"$f":"(F518*F$9)/Setup!$C$10","v":{"$error":"#VALUE!"}},{"$f":"(G518*G$9)/Setup!$C$10","v":{"$error":"#VALUE!"}},{"$f":"(H518*H$9)/Setup!$C$10","v":{"$error":"#VALUE!"}},{"$f":"(I518*I$9)/Setup!$C$10","v":{"$error":"#VALUE!"}},{"$f":"(J518*J$9)/Setup!$C$10","v":{"$error":"#VALUE!"}},{"$f":"(K518*K$9)/Setup!$C$10","v":{"$error":"#VALUE!"}},{"$f":"(L518*L$9)/Setup!$C$10","v":{"$error":"#VALUE!"}},{"$f":"(M518*M$9)/Setup!$C$10","v":{"$error":"#VALUE!"}},{"$f":"(N518*N$9)/Setup!$C$10","v":{"$error":"#VALUE!"}},{"$f":"(O518*O$9)/Setup!$C$10","v":{"$error":"#VALUE!"}},{"$f":"(P518*P$9)/Setup!$C$10","v":{"$error":"#VALUE!"}},{"$f":"(Q518*Q$9)/Setup!$C$10","v":{"$error":"#VALUE!"}},{"$f":"(R518*R$9)/Setup!$C$10","v":{"$error":"#VALUE!"}},{"$f":"(S518*S$9)/Setup!$C$10","v":{"$error":"#VALUE!"}},{"$f":"(T518*T$9)/Setup!$C$10","v":{"$error":"#VALUE!"}},{"$f":"(U518*U$9)/Setup!$C$10","v":{"$error":"#VALUE!"}},{"$f":"(V518*V$9)/Setup!$C$10","v":{"$error":"#VALUE!"}},{"$f":"(W518*W$9)/Setup!$C$10","v":{"$error":"#VALUE!"}},{"$f":"(X518*X$9)/Setup!$C$10","v":{"$error":"#VALUE!"}},null,{"$error":"#VALUE!"},{"$error":"#VALUE!"}]
[{"$f":"A461","v":"2015-04-13"},"Week 41",{"$f":"(C519*C$9)/Setup!$C$10","v":{"$error":"#VALUE!"}},{"$f":"(D519*D$9)/Setup!$C$10","v":{"$error":"#VALUE!"}},{"$f":"(E519*E$9)/Setup!$C$10","v":{"$error":"#VALUE!"}},{"$f":"(F519*F$9)/Setup!$C$10","v":{"$error":"#VALUE!"}},{"$f":"(G519*G$9)/Setup!$C$10","v":{"$error":"#VALUE!"}},{"$f":"(H519*H$9)/Setup!$C$10","v":{"$error":"#VALUE!"}},{"$f":"(I519*I$9)/Setup!$C$10","v":{"$error":"#VALUE!"}},{"$f":"(J519*J$9)/Setup!$C$10","v":{"$error":"#VALUE!"}},{"$f":"(K519*K$9)/Setup!$C$10","v":{"$error":"#VALUE!"}},{"$f":"(L519*L$9)/Setup!$C$10","v":{"$error":"#VALUE!"}},{"$f":"(M519*M$9)/Setup!$C$10","v":{"$error":"#VALUE!"}},{"$f":"(N519*N$9)/Setup!$C$10","v":{"$error":"#VALUE!"}},{"$f":"(O519*O$9)/Setup!$C$10","v":{"$error":"#VALUE!"}},{"$f":"(P519*P$9)/Setup!$C$10","v":{"$error":"#VALUE!"}},{"$f":"(Q519*Q$9)/Setup!$C$10","v":{"$error":"#VALUE!"}},{"$f":"(R519*R$9)/Setup!$C$10","v":{"$error":"#VALUE!"}},{"$f":"(S519*S$9)/Setup!$C$10","v":{"$error":"#VALUE!"}},{"$f":"(T519*T$9)/Setup!$C$10","v":{"$error":"#VALUE!"}},{"$f":"(U519*U$9)/Setup!$C$10","v":{"$error":"#VALUE!"}},{"$f":"(V519*V$9)/Setup!$C$10","v":{"$error":"#VALUE!"}},{"$f":"(W519*W$9)/Setup!$C$10","v":{"$error":"#VALUE!"}},{"$f":"(X519*X$9)/Setup!$C$10","v":{"$error":"#VALUE!"}},null,{"$error":"#VALUE!"},{"$error":"#VALUE!"}]
["2015-04-20","Week 42",{"$f":"(C520*C$9)/Setup!$C$10","v":{"$error":"#VALUE!"}},{"$f":"(D520*D$9)/Setup!$C$10","v":{"$error":"#VALUE!"}},{"$f":"(E520*E$9)/Setup!$C$10","v":{"$error":"#VALUE!"}},{"$f":"(F520*F$9)/Setup!$C$10","v":{"$error":"#VALUE!"}},{"$f":"(G520*G$9)/Setup!$C$10","v":{"$error":"#VALUE!"}},{"$f":"(H520*H$9)/Setup!$C$10","v":{"$error":"#VALUE!"}},{"$f":"(I520*I$9)/Setup!$C$10","v":{"$error":"#VALUE!"}},{"$f":"(J520*J$9)/Setup!$C$10","v":{"$error":"#VALUE!"}},{"$f":"(K520*K$9)/Setup!$C$10","v":{"$error":"#VALUE!"}},{"$f":"(L520*L$9)/Setup!$C$10","v":{"$error":"#VALUE!"}},{"$f":"(M520*M$9)/Setup!$C$10","v":{"$error":"#VALUE!"}},{"$f":"(N520*N$9)/Setup!$C$10","v":{"$error":"#VALUE!"}},{"$f":"(O520*O$9)/Setup!$C$10","v":{"$error":"#VALUE!"}},{"$f":"(P520*P$9)/Setup!$C$10","v":{"$error":"#VALUE!"}},{"$f":"(Q520*Q$9)/Setup!$C$10","v":{"$error":"#VALUE!"}},{"$f":"(R520*R$9)/Setup!$C$10","v":{"$error":"#VALUE!"}},{"$f":"(S520*S$9)/Setup!$C$10","v":{"$error":"#VALUE!"}},{"$f":"(T520*T$9)/Setup!$C$10","v":{"$error":"#VALUE!"}},{"$f":"(U520*U$9)/Setup!$C$10","v":{"$error":"#VALUE!"}},{"$f":"(V520*V$9)/Setup!$C$10","v":{"$error":"#VALUE!"}},{"$f":"(W520*W$9)/Setup!$C$10","v":{"$error":"#VALUE!"}},{"$f":"(X520*X$9)/Setup!$C$10","v":{"$error":"#VALUE!"}},null,{"$error":"#VALUE!"},{"$error":"#VALUE!"}]
["2015-04-27","Week 43",{"$f":"(C521*C$9)/Setup!$C$10","v":{"$error":"#VALUE!"}},{"$f":"(D521*D$9)/Setup!$C$10","v":{"$error":"#VALUE!"}},{"$f":"(E521*E$9)/Setup!$C$10","v":{"$error":"#VALUE!"}},{"$f":"(F521*F$9)/Setup!$C$10","v":{"$error":"#VALUE!"}},{"$f":"(G521*G$9)/Setup!$C$10","v":{"$error":"#VALUE!"}},{"$f":"(H521*H$9)/Setup!$C$10","v":{"$error":"#VALUE!"}},{"$f":"(I521*I$9)/Setup!$C$10","v":{"$error":"#VALUE!"}},{"$f":"(J521*J$9)/Setup!$C$10","v":{"$error":"#VALUE!"}},{"$f":"(K521*K$9)/Setup!$C$10","v":{"$error":"#VALUE!"}},{"$f":"(L521*L$9)/Setup!$C$10","v":{"$error":"#VALUE!"}},{"$f":"(M521*M$9)/Setup!$C$10","v":{"$error":"#VALUE!"}},{"$f":"(N521*N$9)/Setup!$C$10","v":{"$error":"#VALUE!"}},{"$f":"(O521*O$9)/Setup!$C$10","v":{"$error":"#VALUE!"}},{"$f":"(P521*P$9)/Setup!$C$10","v":{"$error":"#VALUE!"}},{"$f":"(Q521*Q$9)/Setup!$C$10","v":{"$error":"#VALUE!"}},{"$f":"(R521*R$9)/Setup!$C$10","v":{"$error":"#VALUE!"}},{"$f":"(S521*S$9)/Setup!$C$10","v":{"$error":"#VALUE!"}},{"$f":"(T521*T$9)/Setup!$C$10","v":{"$error":"#VALUE!"}},{"$f":"(U521*U$9)/Setup!$C$10","v":{"$error":"#VALUE!"}},{"$f":"(V521*V$9)/Setup!$C$10","v":{"$error":"#VALUE!"}},{"$f":"(W521*W$9)/Setup!$C$10","v":{"$error":"#VALUE!"}},{"$f":"(X521*X$9)/Setup!$C$10","v":{"$error":"#VALUE!"}},null,{"$error":"#VALUE!"},{"$error":"#VALUE!"}]
["2015-05-04","Week 44",{"$f":"(C522*C$9)/Setup!$C$10","v":{"$error":"#VALUE!"}},{"$f":"(D522*D$9)/Setup!$C$10","v":{"$error":"#VALUE!"}},{"$f":"(E522*E$9)/Setup!$C$10","v":{"$error":"#VALUE!"}},{"$f":"(F522*F$9)/Setup!$C$10","v":{"$error":"#VALUE!"}},{"$f":"(G522*G$9)/Setup!$C$10","v":{"$error":"#VALUE!"}},{"$f":"(H522*H$9)/Setup!$C$10","v":{"$error":"#VALUE!"}},{"$f":"(I522*I$9)/Setup!$C$10","v":{"$error":"#VALUE!"}},{"$f":"(J522*J$9)/Setup!$C$10","v":{"$error":"#VALUE!"}},{"$f":"(K522*K$9)/Setup!$C$10","v":{"$error":"#VALUE!"}},{"$f":"(L522*L$9)/Setup!$C$10","v":{"$error":"#VALUE!"}},{"$f":"(M522*M$9)/Setup!$C$10","v":{"$error":"#VALUE!"}},{"$f":"(N522*N$9)/Setup!$C$10","v":{"$error":"#VALUE!"}},{"$f":"(O522*O$9)/Setup!$C$10","v":{"$error":"#VALUE!"}},{"$f":"(P522*P$9)/Setup!$C$10","v":{"$error":"#VALUE!"}},{"$f":"(Q522*Q$9)/Setup!$C$10","v":{"$error":"#VALUE!"}},{"$f":"(R522*R$9)/Setup!$C$10","v":{"$error":"#VALUE!"}},{"$f":"(S522*S$9)/Setup!$C$10","v":{"$error":"#VALUE!"}},{"$f":"(T522*T$9)/Setup!$C$10","v":{"$error":"#VALUE!"}},{"$f":"(U522*U$9)/Setup!$C$10","v":{"$error":"#VALUE!"}},{"$f":"(V522*V$9)/Setup!$C$10","v":{"$error":"#VALUE!"}},{"$f":"(W522*W$9)/Setup!$C$10","v":{"$error":"#VALUE!"}},{"$f":"(X522*X$9)/Setup!$C$10","v":{"$error":"#VALUE!"}},null,{"$error":"#VALUE!"},{"$error":"#VALUE!"}]
["2015-05-11","Week 45",{"$f":"(C523*C$9)/Setup!$C$10","v":{"$error":"#VALUE!"}},{"$f":"(D523*D$9)/Setup!$C$10","v":{"$error":"#VALUE!"}},{"$f":"(E523*E$9)/Setup!$C$10","v":{"$error":"#VALUE!"}},{"$f":"(F523*F$9)/Setup!$C$10","v":{"$error":"#VALUE!"}},{"$f":"(G523*G$9)/Setup!$C$10","v":{"$error":"#VALUE!"}},{"$f":"(H523*H$9)/Setup!$C$10","v":{"$error":"#VALUE!"}},{"$f":"(I523*I$9)/Setup!$C$10","v":{"$error":"#VALUE!"}},{"$f":"(J523*J$9)/Setup!$C$10","v":{"$error":"#VALUE!"}},{"$f":"(K523*K$9)/Setup!$C$10","v":{"$error":"#VALUE!"}},{"$f":"(L523*L$9)/Setup!$C$10","v":{"$error":"#VALUE!"}},{"$f":"(M523*M$9)/Setup!$C$10","v":{"$error":"#VALUE!"}},{"$f":"(N523*N$9)/Setup!$C$10","v":{"$error":"#VALUE!"}},{"$f":"(O523*O$9)/Setup!$C$10","v":{"$error":"#VALUE!"}},{"$f":"(P523*P$9)/Setup!$C$10","v":{"$error":"#VALUE!"}},{"$f":"(Q523*Q$9)/Setup!$C$10","v":{"$error":"#VALUE!"}},{"$f":"(R523*R$9)/Setup!$C$10","v":{"$error":"#VALUE!"}},{"$f":"(S523*S$9)/Setup!$C$10","v":{"$error":"#VALUE!"}},{"$f":"(T523*T$9)/Setup!$C$10","v":{"$error":"#VALUE!"}},{"$f":"(U523*U$9)/Setup!$C$10","v":{"$error":"#VALUE!"}},{"$f":"(V523*V$9)/Setup!$C$10","v":{"$error":"#VALUE!"}},{"$f":"(W523*W$9)/Setup!$C$10","v":{"$error":"#VALUE!"}},{"$f":"(X523*X$9)/Setup!$C$10","v":{"$error":"#VALUE!"}},null,{"$error":"#VALUE!"},{"$error":"#VALUE!"}]
["2015-05-18","Week 46",{"$f":"(C524*C$9)/Setup!$C$10","v":{"$error":"#VALUE!"}},{"$f":"(D524*D$9)/Setup!$C$10","v":{"$error":"#VALUE!"}},{"$f":"(E524*E$9)/Setup!$C$10","v":{"$error":"#VALUE!"}},{"$f":"(F524*F$9)/Setup!$C$10","v":{"$error":"#VALUE!"}},{"$f":"(G524*G$9)/Setup!$C$10","v":{"$error":"#VALUE!"}},{"$f":"(H524*H$9)/Setup!$C$10","v":{"$error":"#VALUE!"}},{"$f":"(I524*I$9)/Setup!$C$10","v":{"$error":"#VALUE!"}},{"$f":"(J524*J$9)/Setup!$C$10","v":{"$error":"#VALUE!"}},{"$f":"(K524*K$9)/Setup!$C$10","v":{"$error":"#VALUE!"}},{"$f":"(L524*L$9)/Setup!$C$10","v":{"$error":"#VALUE!"}},{"$f":"(M524*M$9)/Setup!$C$10","v":{"$error":"#VALUE!"}},{"$f":"(N524*N$9)/Setup!$C$10","v":{"$error":"#VALUE!"}},{"$f":"(O524*O$9)/Setup!$C$10","v":{"$error":"#VALUE!"}},{"$f":"(P524*P$9)/Setup!$C$10","v":{"$error":"#VALUE!"}},{"$f":"(Q524*Q$9)/Setup!$C$10","v":{"$error":"#VALUE!"}},{"$f":"(R524*R$9)/Setup!$C$10","v":{"$error":"#VALUE!"}},{"$f":"(S524*S$9)/Setup!$C$10","v":{"$error":"#VALUE!"}},{"$f":"(T524*T$9)/Setup!$C$10","v":{"$error":"#VALUE!"}},{"$f":"(U524*U$9)/Setup!$C$10","v":{"$error":"#VALUE!"}},{"$f":"(V524*V$9)/Setup!$C$10","v":{"$error":"#VALUE!"}},{"$f":"(W524*W$9)/Setup!$C$10","v":{"$error":"#VALUE!"}},{"$f":"(X524*X$9)/Setup!$C$10","v":{"$error":"#VALUE!"}},null,{"$error":"#VALUE!"},{"$error":"#VALUE!"}]
["2015-05-25","Week 47",{"$f":"(C525*C$9)/Setup!$C$10","v":{"$error":"#VALUE!"}},{"$f":"(D525*D$9)/Setup!$C$10","v":{"$error":"#VALUE!"}},{"$f":"(E525*E$9)/Setup!$C$10","v":{"$error":"#VALUE!"}},{"$f":"(F525*F$9)/Setup!$C$10","v":{"$error":"#VALUE!"}},{"$f":"(G525*G$9)/Setup!$C$10","v":{"$error":"#VALUE!"}},{"$f":"(H525*H$9)/Setup!$C$10","v":{"$error":"#VALUE!"}},{"$f":"(I525*I$9)/Setup!$C$10","v":{"$error":"#VALUE!"}},{"$f":"(J525*J$9)/Setup!$C$10","v":{"$error":"#VALUE!"}},{"$f":"(K525*K$9)/Setup!$C$10","v":{"$error":"#VALUE!"}},{"$f":"(L525*L$9)/Setup!$C$10","v":{"$error":"#VALUE!"}},{"$f":"(M525*M$9)/Setup!$C$10","v":{"$error":"#VALUE!"}},{"$f":"(N525*N$9)/Setup!$C$10","v":{"$error":"#VALUE!"}},{"$f":"(O525*O$9)/Setup!$C$10","v":{"$error":"#VALUE!"}},{"$f":"(P525*P$9)/Setup!$C$10","v":{"$error":"#VALUE!"}},{"$f":"(Q525*Q$9)/Setup!$C$10","v":{"$error":"#VALUE!"}},{"$f":"(R525*R$9)/Setup!$C$10","v":{"$error":"#VALUE!"}},{"$f":"(S525*S$9)/Setup!$C$10","v":{"$error":"#VALUE!"}},{"$f":"(T525*T$9)/Setup!$C$10","v":{"$error":"#VALUE!"}},{"$f":"(U525*U$9)/Setup!$C$10","v":{"$error":"#VALUE!"}},{"$f":"(V525*V$9)/Setup!$C$10","v":{"$error":"#VALUE!"}},{"$f":"(W525*W$9)/Setup!$C$10","v":{"$error":"#VALUE!"}},{"$f":"(X525*X$9)/Setup!$C$10","v":{"$error":"#VALUE!"}},null,{"$error":"#VALUE!"},{"$error":"#VALUE!"}]
["2015-06-01","Week 48",{"$f":"(C526*C$9)/Setup!$C$10","v":{"$error":"#VALUE!"}},{"$f":"(D526*D$9)/Setup!$C$10","v":{"$error":"#VALUE!"}},{"$f":"(E526*E$9)/Setup!$C$10","v":{"$error":"#VALUE!"}},{"$f":"(F526*F$9)/Setup!$C$10","v":{"$error":"#VALUE!"}},{"$f":"(G526*G$9)/Setup!$C$10","v":{"$error":"#VALUE!"}},{"$f":"(H526*H$9)/Setup!$C$10","v":{"$error":"#VALUE!"}},{"$f":"(I526*I$9)/Setup!$C$10","v":{"$error":"#VALUE!"}},{"$f":"(J526*J$9)/Setup!$C$10","v":{"$error":"#VALUE!"}},{"$f":"(K526*K$9)/Setup!$C$10","v":{"$error":"#VALUE!"}},{"$f":"(L526*L$9)/Setup!$C$10","v":{"$error":"#VALUE!"}},{"$f":"(M526*M$9)/Setup!$C$10","v":{"$error":"#VALUE!"}},{"$f":"(N526*N$9)/Setup!$C$10","v":{"$error":"#VALUE!"}},{"$f":"(O526*O$9)/Setup!$C$10","v":{"$error":"#VALUE!"}},{"$f":"(P526*P$9)/Setup!$C$10","v":{"$error":"#VALUE!"}},{"$f":"(Q526*Q$9)/Setup!$C$10","v":{"$error":"#VALUE!"}},{"$f":"(R526*R$9)/Setup!$C$10","v":{"$error":"#VALUE!"}},{"$f":"(S526*S$9)/Setup!$C$10","v":{"$error":"#VALUE!"}},{"$f":"(T526*T$9)/Setup!$C$10","v":{"$error":"#VALUE!"}},{"$f":"(U526*U$9)/Setup!$C$10","v":{"$error":"#VALUE!"}},{"$f":"(V526*V$9)/Setup!$C$10","v":{"$error":"#VALUE!"}},{"$f":"(W526*W$9)/Setup!$C$10","v":{"$error":"#VALUE!"}},{"$f":"(X526*X$9)/Setup!$C$10","v":{"$error":"#VALUE!"}},null,{"$error":"#VALUE!"},{"$error":"#VALUE!"}]
["2015-06-08","Week 49",{"$f":"(C527*C$9)/Setup!$C$10","v":{"$error":"#VALUE!"}},{"$f":"(D527*D$9)/Setup!$C$10","v":{"$error":"#VALUE!"}},{"$f":"(E527*E$9)/Setup!$C$10","v":{"$error":"#VALUE!"}},{"$f":"(F527*F$9)/Setup!$C$10","v":{"$error":"#VALUE!"}},{"$f":"(G527*G$9)/Setup!$C$10","v":{"$error":"#VALUE!"}},{"$f":"(H527*H$9)/Setup!$C$10","v":{"$error":"#VALUE!"}},{"$f":"(I527*I$9)/Setup!$C$10","v":{"$error":"#VALUE!"}},{"$f":"(J527*J$9)/Setup!$C$10","v":{"$error":"#VALUE!"}},{"$f":"(K527*K$9)/Setup!$C$10","v":{"$error":"#VALUE!"}},{"$f":"(L527*L$9)/Setup!$C$10","v":{"$error":"#VALUE!"}},{"$f":"(M527*M$9)/Setup!$C$10","v":{"$error":"#VALUE!"}},{"$f":"(N527*N$9)/Setup!$C$10","v":{"$error":"#VALUE!"}},{"$f":"(O527*O$9)/Setup!$C$10","v":{"$error":"#VALUE!"}},{"$f":"(P527*P$9)/Setup!$C$10","v":{"$error":"#VALUE!"}},{"$f":"(Q527*Q$9)/Setup!$C$10","v":{"$error":"#VALUE!"}},{"$f":"(R527*R$9)/Setup!$C$10","v":{"$error":"#VALUE!"}},{"$f":"(S527*S$9)/Setup!$C$10","v":{"$error":"#VALUE!"}},{"$f":"(T527*T$9)/Setup!$C$10","v":{"$error":"#VALUE!"}},{"$f":"(U527*U$9)/Setup!$C$10","v":{"$error":"#VALUE!"}},{"$f":"(V527*V$9)/Setup!$C$10","v":{"$error":"#VALUE!"}},{"$f":"(W527*W$9)/Setup!$C$10","v":{"$error":"#VALUE!"}},{"$f":"(X527*X$9)/Setup!$C$10","v":{"$error":"#VALUE!"}},null,{"$error":"#VALUE!"},{"$error":"#VALUE!"}]
["2015-06-15","Week 50",{"$f":"(C528*C$9)/Setup!$C$10","v":{"$error":"#VALUE!"}},{"$f":"(D528*D$9)/Setup!$C$10","v":{"$error":"#VALUE!"}},{"$f":"(E528*E$9)/Setup!$C$10","v":{"$error":"#VALUE!"}},{"$f":"(F528*F$9)/Setup!$C$10","v":{"$error":"#VALUE!"}},{"$f":"(G528*G$9)/Setup!$C$10","v":{"$error":"#VALUE!"}},{"$f":"(H528*H$9)/Setup!$C$10","v":{"$error":"#VALUE!"}},{"$f":"(I528*I$9)/Setup!$C$10","v":{"$error":"#VALUE!"}},{"$f":"(J528*J$9)/Setup!$C$10","v":{"$error":"#VALUE!"}},{"$f":"(K528*K$9)/Setup!$C$10","v":{"$error":"#VALUE!"}},{"$f":"(L528*L$9)/Setup!$C$10","v":{"$error":"#VALUE!"}},{"$f":"(M528*M$9)/Setup!$C$10","v":{"$error":"#VALUE!"}},{"$f":"(N528*N$9)/Setup!$C$10","v":{"$error":"#VALUE!"}},{"$f":"(O528*O$9)/Setup!$C$10","v":{"$error":"#VALUE!"}},{"$f":"(P528*P$9)/Setup!$C$10","v":{"$error":"#VALUE!"}},{"$f":"(Q528*Q$9)/Setup!$C$10","v":{"$error":"#VALUE!"}},{"$f":"(R528*R$9)/Setup!$C$10","v":{"$error":"#VALUE!"}},{"$f":"(S528*S$9)/Setup!$C$10","v":{"$error":"#VALUE!"}},{"$f":"(T528*T$9)/Setup!$C$10","v":{"$error":"#VALUE!"}},{"$f":"(U528*U$9)/Setup!$C$10","v":{"$error":"#VALUE!"}},{"$f":"(V528*V$9)/Setup!$C$10","v":{"$error":"#VALUE!"}},{"$f":"(W528*W$9)/Setup!$C$10","v":{"$error":"#VALUE!"}},{"$f":"(X528*X$9)/Setup!$C$10","v":{"$error":"#VALUE!"}},null,{"$error":"#VALUE!"},{"$error":"#VALUE!"}]
["2015-06-22","Week 51",{"$f":"(C529*C$9)/Setup!$C$10","v":{"$error":"#VALUE!"}},{"$f":"(D529*D$9)/Setup!$C$10","v":{"$error":"#VALUE!"}},{"$f":"(E529*E$9)/Setup!$C$10","v":{"$error":"#VALUE!"}},{"$f":"(F529*F$9)/Setup!$C$10","v":{"$error":"#VALUE!"}},{"$f":"(G529*G$9)/Setup!$C$10","v":{"$error":"#VALUE!"}},{"$f":"(H529*H$9)/Setup!$C$10","v":{"$error":"#VALUE!"}},{"$f":"(I529*I$9)/Setup!$C$10","v":{"$error":"#VALUE!"}},{"$f":"(J529*J$9)/Setup!$C$10","v":{"$error":"#VALUE!"}},{"$f":"(K529*K$9)/Setup!$C$10","v":{"$error":"#VALUE!"}},{"$f":"(L529*L$9)/Setup!$C$10","v":{"$error":"#VALUE!"}},{"$f":"(M529*M$9)/Setup!$C$10","v":{"$error":"#VALUE!"}},{"$f":"(N529*N$9)/Setup!$C$10","v":{"$error":"#VALUE!"}},{"$f":"(O529*O$9)/Setup!$C$10","v":{"$error":"#VALUE!"}},{"$f":"(P529*P$9)/Setup!$C$10","v":{"$error":"#VALUE!"}},{"$f":"(Q529*Q$9)/Setup!$C$10","v":{"$error":"#VALUE!"}},{"$f":"(R529*R$9)/Setup!$C$10","v":{"$error":"#VALUE!"}},{"$f":"(S529*S$9)/Setup!$C$10","v":{"$error":"#VALUE!"}},{"$f":"(T529*T$9)/Setup!$C$10","v":{"$error":"#VALUE!"}},{"$f":"(U529*U$9)/Setup!$C$10","v":{"$error":"#VALUE!"}},{"$f":"(V529*V$9)/Setup!$C$10","v":{"$error":"#VALUE!"}},{"$f":"(W529*W$9)/Setup!$C$10","v":{"$error":"#VALUE!"}},{"$f":"(X529*X$9)/Setup!$C$10","v":{"$error":"#VALUE!"}},null,{"$error":"#VALUE!"},{"$error":"#VALUE!"}]
["2015-06-29","Week 52",{"$f":"(C530*C$9)/Setup!$C$10","v":{"$error":"#VALUE!"}},{"$f":"(D530*D$9)/Setup!$C$10","v":{"$error":"#VALUE!"}},{"$f":"(E530*E$9)/Setup!$C$10","v":{"$error":"#VALUE!"}},{"$f":"(F530*F$9)/Setup!$C$10","v":{"$error":"#VALUE!"}},{"$f":"(G530*G$9)/Setup!$C$10","v":{"$error":"#VALUE!"}},{"$f":"(H530*H$9)/Setup!$C$10","v":{"$error":"#VALUE!"}},{"$f":"(I530*I$9)/Setup!$C$10","v":{"$error":"#VALUE!"}},{"$f":"(J530*J$9)/Setup!$C$10","v":{"$error":"#VALUE!"}},{"$f":"(K530*K$9)/Setup!$C$10","v":{"$error":"#VALUE!"}},{"$f":"(L530*L$9)/Setup!$C$10","v":{"$error":"#VALUE!"}},{"$f":"(M530*M$9)/Setup!$C$10","v":{"$error":"#VALUE!"}},{"$f":"(N530*N$9)/Setup!$C$10","v":{"$error":"#VALUE!"}},{"$f":"(O530*O$9)/Setup!$C$10","v":{"$error":"#VALUE!"}},{"$f":"(P530*P$9)/Setup!$C$10","v":{"$error":"#VALUE!"}},{"$f":"(Q530*Q$9)/Setup!$C$10","v":{"$error":"#VALUE!"}},{"$f":"(R530*R$9)/Setup!$C$10","v":{"$error":"#VALUE!"}},{"$f":"(S530*S$9)/Setup!$C$10","v":{"$error":"#VALUE!"}},{"$f":"(T530*T$9)/Setup!$C$10","v":{"$error":"#VALUE!"}},{"$f":"(U530*U$9)/Setup!$C$10","v":{"$error":"#VALUE!"}},{"$f":"(V530*V$9)/Setup!$C$10","v":{"$error":"#VALUE!"}},{"$f":"(W530*W$9)/Setup!$C$10","v":{"$error":"#VALUE!"}},{"$f":"(X530*X$9)/Setup!$C$10","v":{"$error":"#VALUE!"}},null,{"$error":"#VALUE!"},{"$error":"#VALUE!"}]
[]
["Proposed Weekly Fertiliser (Kg) / Hectare (Ha):",null,null,null,null,null,null,null,null,null,null,null,null,null,null,null,null,null,null,null,null,null,null,null,null,null,null,"Proposed Weekly Elements (Kg/Ha/Wk):"]
[]
[null,null,"Ammonium Nitrate","Ammonium Sulphate","Borax","Calcium Nitrate","Copper Sulphate","FertiMix","Iron Chelate","Iron Sulphate","Magnesium Sulphate","Manganese Sulphate","MAP","Mono-Potassium Phosphate","Nitric Acid","Phosphoric Acid","Potassium Chloride","Potassium Nitrate","Potassium Sulphate","Sodium Molybdenum","Sulphuric Acid","Urea","Zinc Oxide","Zinc Sulphate",null,null,null,"240:400","240:400","240:400","320:600","320:600","320:600","320:400","320:400","320:400"]
[null,null,"NH4NO3","(NH4)2SO4","Na2B4O7.10H2O","Ca(NO3)2","CuSO4.5H2O",null,"EDDHA","FeSO4.7H2O","MgSO4.7H2O","MnSO4.H2O","NH4H2PO4","KH2PO4","HNO3","PO4H3","KCl","KNO3","K2SO4","Na2MoO4","H2SO4","CO(NH2)2","ZnO","ZnSO4.7H2O",null,null,null,"N","P","K","N","P","K","N","P","K"]
[{"$f":"Setup!A5","v":"2014-07-07"},"Week 1",{"$f":"IF(Setup!$B$52=1,'Fert Program 1,2,3'!C596,IF(Setup!$B$52=2,'Fert Program 1,2,3'!C654,IF(Setup!$B$52=3,'Fert Program 1,2,3'!C712,\"ERROR\")))","v":"ERROR"},{"$f":"IF(Setup!$B$52=1,'Fert Program 1,2,3'!D596,IF(Setup!$B$52=2,'Fert Program 1,2,3'!D654,IF(Setup!$B$52=3,'Fert Program 1,2,3'!D712,\"ERROR\")))","v":"ERROR"},{"$f":"IF(Setup!$B$52=1,'Fert Program 1,2,3'!E596,IF(Setup!$B$52=2,'Fert Program 1,2,3'!E654,IF(Setup!$B$52=3,'Fert Program 1,2,3'!E712,\"ERROR\")))","v":"ERROR"},{"$f":"IF(Setup!$B$52=1,'Fert Program 1,2,3'!F596,IF(Setup!$B$52=2,'Fert Program 1,2,3'!F654,IF(Setup!$B$52=3,'Fert Program 1,2,3'!F712,\"ERROR\")))","v":"ERROR"},{"$f":"IF(Setup!$B$52=1,'Fert Program 1,2,3'!G596,IF(Setup!$B$52=2,'Fert Program 1,2,3'!G654,IF(Setup!$B$52=3,'Fert Program 1,2,3'!G712,\"ERROR\")))","v":"ERROR"},{"$f":"IF(Setup!$B$52=1,'Fert Program 1,2,3'!H596,IF(Setup!$B$52=2,'Fert Program 1,2,3'!H654,IF(Setup!$B$52=3,'Fert Program 1,2,3'!H712,\"ERROR\")))","v":"ERROR"},{"$f":"IF(Setup!$B$52=1,'Fert Program 1,2,3'!I596,IF(Setup!$B$52=2,'Fert Program 1,2,3'!I654,IF(Setup!$B$52=3,'Fert Program 1,2,3'!I712,\"ERROR\")))","v":"ERROR"},{"$f":"IF(Setup!$B$52=1,'Fert Program 1,2,3'!J596,IF(Setup!$B$52=2,'Fert Program 1,2,3'!J654,IF(Setup!$B$52=3,'Fert Program 1,2,3'!J712,\"ERROR\")))","v":"ERROR"},{"$f":"IF(Setup!$B$52=1,'Fert Program 1,2,3'!K596,IF(Setup!$B$52=2,'Fert Program 1,2,3'!K654,IF(Setup!$B$52=3,'Fert Program 1,2,3'!K712,\"ERROR\")))","v":"ERROR"},{"$f":"IF(Setup!$B$52=1,'Fert Program 1,2,3'!L596,IF(Setup!$B$52=2,'Fert Program 1,2,3'!L654,IF(Setup!$B$52=3,'Fert Program 1,2,3'!L712,\"ERROR\")))","v":"ERROR"},{"$f":"IF(Setup!$B$52=1,'Fert Program 1,2,3'!M596,IF(Setup!$B$52=2,'Fert Program 1,2,3'!M654,IF(Setup!$B$52=3,'Fert Program 1,2,3'!M712,\"ERROR\")))","v":"ERROR"},{"$f":"IF(Setup!$B$52=1,'Fert Program 1,2,3'!N596,IF(Setup!$B$52=2,'Fert Program 1,2,3'!N654,IF(Setup!$B$52=3,'Fert Program 1,2,3'!N712,\"ERROR\")))","v":"ERROR"},{"$f":"IF(Setup!$B$52=1,'Fert Program 1,2,3'!O596,IF(Setup!$B$52=2,'Fert Program 1,2,3'!O654,IF(Setup!$B$52=3,'Fert Program 1,2,3'!O712,\"ERROR\")))","v":"ERROR"},{"$f":"IF(Setup!$B$52=1,'Fert Program 1,2,3'!P596,IF(Setup!$B$52=2,'Fert Program 1,2,3'!P654,IF(Setup!$B$52=3,'Fert Program 1,2,3'!P712,\"ERROR\")))","v":"ERROR"},{"$f":"IF(Setup!$B$52=1,'Fert Program 1,2,3'!Q596,IF(Setup!$B$52=2,'Fert Program 1,2,3'!Q654,IF(Setup!$B$52=3,'Fert Program 1,2,3'!Q712,\"ERROR\")))","v":"ERROR"},{"$f":"IF(Setup!$B$52=1,'Fert Program 1,2,3'!R596,IF(Setup!$B$52=2,'Fert Program 1,2,3'!R654,IF(Setup!$B$52=3,'Fert Program 1,2,3'!R712,\"ERROR\")))","v":"ERROR"},{"$f":"IF(Setup!$B$52=1,'Fert Program 1,2,3'!S596,IF(Setup!$B$52=2,'Fert Program 1,2,3'!S654,IF(Setup!$B$52=3,'Fert Program 1,2,3'!S712,\"ERROR\")))","v":"ERROR"},{"$f":"IF(Setup!$B$52=1,'Fert Program 1,2,3'!T596,IF(Setup!$B$52=2,'Fert Program 1,2,3'!T654,IF(Setup!$B$52=3,'Fert Program 1,2,3'!T712,\"ERROR\")))","v":"ERROR"},{"$f":"IF(Setup!$B$52=1,'Fert Program 1,2,3'!U596,IF(Setup!$B$52=2,'Fert Program 1,2,3'!U654,IF(Setup!$B$52=3,'Fert Program 1,2,3'!U712,\"ERROR\")))","v":"ERROR"},{"$f":"IF(Setup!$B$52=1,'Fert Program 1,2,3'!V596,IF(Setup!$B$52=2,'Fert Program 1,2,3'!V654,IF(Setup!$B$52=3,'Fert Program 1,2,3'!V712,\"ERROR\")))","v":"ERROR"},{"$f":"IF(Setup!$B$52=1,'Fert Program 1,2,3'!W596,IF(Setup!$B$52=2,'Fert Program 1,2,3'!W654,IF(Setup!$B$52=3,'Fert Program 1,2,3'!W712,\"ERROR\")))","v":"ERROR"},{"$f":"IF(Setup!$B$52=1,'Fert Program 1,2,3'!X596,IF(Setup!$B$52=2,'Fert Program 1,2,3'!X654,IF(Setup!$B$52=3,'Fert Program 1,2,3'!X712,\"ERROR\")))","v":"ERROR"},null,null,null,{"$f":"AB76","v":0},{"$f":"AB134","v":0},{"$f":"AB192","v":0},{"$f":"AC76","v":0},{"$f":"AC134","v":0},{"$f":"AC192","v":0},{"$f":"AD76","v":0},{"$f":"AD134","v":0},{"$f":"AD192","v":0}]
[{"$f":"A421+7","v":"2014-07-14"},"Week 2",{"$f":"IF(Setup!$B$52=1,'Fert Program 1,2,3'!C597,IF(Setup!$B$52=2,'Fert Program 1,2,3'!C655,IF(Setup!$B$52=3,'Fert Program 1,2,3'!C713,\"ERROR\")))","v":"ERROR"},{"$f":"IF(Setup!$B$52=1,'Fert Program 1,2,3'!D597,IF(Setup!$B$52=2,'Fert Program 1,2,3'!D655,IF(Setup!$B$52=3,'Fert Program 1,2,3'!D713,\"ERROR\")))","v":"ERROR"},{"$f":"IF(Setup!$B$52=1,'Fert Program 1,2,3'!E597,IF(Setup!$B$52=2,'Fert Program 1,2,3'!E655,IF(Setup!$B$52=3,'Fert Program 1,2,3'!E713,\"ERROR\")))","v":"ERROR"},{"$f":"IF(Setup!$B$52=1,'Fert Program 1,2,3'!F597,IF(Setup!$B$52=2,'Fert Program 1,2,3'!F655,IF(Setup!$B$52=3,'Fert Program 1,2,3'!F713,\"ERROR\")))","v":"ERROR"},{"$f":"IF(Setup!$B$52=1,'Fert Program 1,2,3'!G597,IF(Setup!$B$52=2,'Fert Program 1,2,3'!G655,IF(Setup!$B$52=3,'Fert Program 1,2,3'!G713,\"ERROR\")))","v":"ERROR"},{"$f":"IF(Setup!$B$52=1,'Fert Program 1,2,3'!H597,IF(Setup!$B$52=2,'Fert Program 1,2,3'!H655,IF(Setup!$B$52=3,'Fert Program 1,2,3'!H713,\"ERROR\")))","v":"ERROR"},{"$f":"IF(Setup!$B$52=1,'Fert Program 1,2,3'!I597,IF(Setup!$B$52=2,'Fert Program 1,2,3'!I655,IF(Setup!$B$52=3,'Fert Program 1,2,3'!I713,\"ERROR\")))","v":"ERROR"},{"$f":"IF(Setup!$B$52=1,'Fert Program 1,2,3'!J597,IF(Setup!$B$52=2,'Fert Program 1,2,3'!J655,IF(Setup!$B$52=3,'Fert Program 1,2,3'!J713,\"ERROR\")))","v":"ERROR"},{"$f":"IF(Setup!$B$52=1,'Fert Program 1,2,3'!K597,IF(Setup!$B$52=2,'Fert Program 1,2,3'!K655,IF(Setup!$B$52=3,'Fert Program 1,2,3'!K713,\"ERROR\")))","v":"ERROR"},{"$f":"IF(Setup!$B$52=1,'Fert Program 1,2,3'!L597,IF(Setup!$B$52=2,'Fert Program 1,2,3'!L655,IF(Setup!$B$52=3,'Fert Program 1,2,3'!L713,\"ERROR\")))","v":"ERROR"},{"$f":"IF(Setup!$B$52=1,'Fert Program 1,2,3'!M597,IF(Setup!$B$52=2,'Fert Program 1,2,3'!M655,IF(Setup!$B$52=3,'Fert Program 1,2,3'!M713,\"ERROR\")))","v":"ERROR"},{"$f":"IF(Setup!$B$52=1,'Fert Program 1,2,3'!N597,IF(Setup!$B$52=2,'Fert Program 1,2,3'!N655,IF(Setup!$B$52=3,'Fert Program 1,2,3'!N713,\"ERROR\")))","v":"ERROR"},{"$f":"IF(Setup!$B$52=1,'Fert Program 1,2,3'!O597,IF(Setup!$B$52=2,'Fert Program 1,2,3'!O655,IF(Setup!$B$52=3,'Fert Program 1,2,3'!O713,\"ERROR\")))","v":"ERROR"},{"$f":"IF(Setup!$B$52=1,'Fert Program 1,2,3'!P597,IF(Setup!$B$52=2,'Fert Program 1,2,3'!P655,IF(Setup!$B$52=3,'Fert Program 1,2,3'!P713,\"ERROR\")))","v":"ERROR"},{"$f":"IF(Setup!$B$52=1,'Fert Program 1,2,3'!Q597,IF(Setup!$B$52=2,'Fert Program 1,2,3'!Q655,IF(Setup!$B$52=3,'Fert Program 1,2,3'!Q713,\"ERROR\")))","v":"ERROR"},{"$f":"IF(Setup!$B$52=1,'Fert Program 1,2,3'!R597,IF(Setup!$B$52=2,'Fert Program 1,2,3'!R655,IF(Setup!$B$52=3,'Fert Program 1,2,3'!R713,\"ERROR\")))","v":"ERROR"},{"$f":"IF(Setup!$B$52=1,'Fert Program 1,2,3'!S597,IF(Setup!$B$52=2,'Fert Program 1,2,3'!S655,IF(Setup!$B$52=3,'Fert Program 1,2,3'!S713,\"ERROR\")))","v":"ERROR"},{"$f":"IF(Setup!$B$52=1,'Fert Program 1,2,3'!T597,IF(Setup!$B$52=2,'Fert Program 1,2,3'!T655,IF(Setup!$B$52=3,'Fert Program 1,2,3'!T713,\"ERROR\")))","v":"ERROR"},{"$f":"IF(Setup!$B$52=1,'Fert Program 1,2,3'!U597,IF(Setup!$B$52=2,'Fert Program 1,2,3'!U655,IF(Setup!$B$52=3,'Fert Program 1,2,3'!U713,\"ERROR\")))","v":"ERROR"},{"$f":"IF(Setup!$B$52=1,'Fert Program 1,2,3'!V597,IF(Setup!$B$52=2,'Fert Program 1,2,3'!V655,IF(Setup!$B$52=3,'Fert Program 1,2,3'!V713,\"ERROR\")))","v":"ERROR"},{"$f":"IF(Setup!$B$52=1,'Fert Program 1,2,3'!W597,IF(Setup!$B$52=2,'Fert Program 1,2,3'!W655,IF(Setup!$B$52=3,'Fert Program 1,2,3'!W713,\"ERROR\")))","v":"ERROR"},{"$f":"IF(Setup!$B$52=1,'Fert Program 1,2,3'!X597,IF(Setup!$B$52=2,'Fert Program 1,2,3'!X655,IF(Setup!$B$52=3,'Fert Program 1,2,3'!X713,\"ERROR\")))","v":"ERROR"},null,null,null,0,0,0,0,0,0,0,0,0]
["2014-07-21","Week 3",{"$f":"IF(Setup!$B$52=1,'Fert Program 1,2,3'!C598,IF(Setup!$B$52=2,'Fert Program 1,2,3'!C656,IF(Setup!$B$52=3,'Fert Program 1,2,3'!C714,\"ERROR\")))","v":"ERROR"},{"$f":"IF(Setup!$B$52=1,'Fert Program 1,2,3'!D598,IF(Setup!$B$52=2,'Fert Program 1,2,3'!D656,IF(Setup!$B$52=3,'Fert Program 1,2,3'!D714,\"ERROR\")))","v":"ERROR"},{"$f":"IF(Setup!$B$52=1,'Fert Program 1,2,3'!E598,IF(Setup!$B$52=2,'Fert Program 1,2,3'!E656,IF(Setup!$B$52=3,'Fert Program 1,2,3'!E714,\"ERROR\")))","v":"ERROR"},{"$f":"IF(Setup!$B$52=1,'Fert Program 1,2,3'!F598,IF(Setup!$B$52=2,'Fert Program 1,2,3'!F656,IF(Setup!$B$52=3,'Fert Program 1,2,3'!F714,\"ERROR\")))","v":"ERROR"},{"$f":"IF(Setup!$B$52=1,'Fert Program 1,2,3'!G598,IF(Setup!$B$52=2,'Fert Program 1,2,3'!G656,IF(Setup!$B$52=3,'Fert Program 1,2,3'!G714,\"ERROR\")))","v":"ERROR"},{"$f":"IF(Setup!$B$52=1,'Fert Program 1,2,3'!H598,IF(Setup!$B$52=2,'Fert Program 1,2,3'!H656,IF(Setup!$B$52=3,'Fert Program 1,2,3'!H714,\"ERROR\")))","v":"ERROR"},{"$f":"IF(Setup!$B$52=1,'Fert Program 1,2,3'!I598,IF(Setup!$B$52=2,'Fert Program 1,2,3'!I656,IF(Setup!$B$52=3,'Fert Program 1,2,3'!I714,\"ERROR\")))","v":"ERROR"},{"$f":"IF(Setup!$B$52=1,'Fert Program 1,2,3'!J598,IF(Setup!$B$52=2,'Fert Program 1,2,3'!J656,IF(Setup!$B$52=3,'Fert Program 1,2,3'!J714,\"ERROR\")))","v":"ERROR"},{"$f":"IF(Setup!$B$52=1,'Fert Program 1,2,3'!K598,IF(Setup!$B$52=2,'Fert Program 1,2,3'!K656,IF(Setup!$B$52=3,'Fert Program 1,2,3'!K714,\"ERROR\")))","v":"ERROR"},{"$f":"IF(Setup!$B$52=1,'Fert Program 1,2,3'!L598,IF(Setup!$B$52=2,'Fert Program 1,2,3'!L656,IF(Setup!$B$52=3,'Fert Program 1,2,3'!L714,\"ERROR\")))","v":"ERROR"},{"$f":"IF(Setup!$B$52=1,'Fert Program 1,2,3'!M598,IF(Setup!$B$52=2,'Fert Program 1,2,3'!M656,IF(Setup!$B$52=3,'Fert Program 1,2,3'!M714,\"ERROR\")))","v":"ERROR"},{"$f":"IF(Setup!$B$52=1,'Fert Program 1,2,3'!N598,IF(Setup!$B$52=2,'Fert Program 1,2,3'!N656,IF(Setup!$B$52=3,'Fert Program 1,2,3'!N714,\"ERROR\")))","v":"ERROR"},{"$f":"IF(Setup!$B$52=1,'Fert Program 1,2,3'!O598,IF(Setup!$B$52=2,'Fert Program 1,2,3'!O656,IF(Setup!$B$52=3,'Fert Program 1,2,3'!O714,\"ERROR\")))","v":"ERROR"},{"$f":"IF(Setup!$B$52=1,'Fert Program 1,2,3'!P598,IF(Setup!$B$52=2,'Fert Program 1,2,3'!P656,IF(Setup!$B$52=3,'Fert Program 1,2,3'!P714,\"ERROR\")))","v":"ERROR"},{"$f":"IF(Setup!$B$52=1,'Fert Program 1,2,3'!Q598,IF(Setup!$B$52=2,'Fert Program 1,2,3'!Q656,IF(Setup!$B$52=3,'Fert Program 1,2,3'!Q714,\"ERROR\")))","v":"ERROR"},{"$f":"IF(Setup!$B$52=1,'Fert Program 1,2,3'!R598,IF(Setup!$B$52=2,'Fert Program 1,2,3'!R656,IF(Setup!$B$52=3,'Fert Program 1,2,3'!R714,\"ERROR\")))","v":"ERROR"},{"$f":"IF(Setup!$B$52=1,'Fert Program 1,2,3'!S598,IF(Setup!$B$52=2,'Fert Program 1,2,3'!S656,IF(Setup!$B$52=3,'Fert Program 1,2,3'!S714,\"ERROR\")))","v":"ERROR"},{"$f":"IF(Setup!$B$52=1,'Fert Program 1,2,3'!T598,IF(Setup!$B$52=2,'Fert Program 1,2,3'!T656,IF(Setup!$B$52=3,'Fert Program 1,2,3'!T714,\"ERROR\")))","v":"ERROR"},{"$f":"IF(Setup!$B$52=1,'Fert Program 1,2,3'!U598,IF(Setup!$B$52=2,'Fert Program 1,2,3'!U656,IF(Setup!$B$52=3,'Fert Program 1,2,3'!U714,\"ERROR\")))","v":"ERROR"},{"$f":"IF(Setup!$B$52=1,'Fert Program 1,2,3'!V598,IF(Setup!$B$52=2,'Fert Program 1,2,3'!V656,IF(Setup!$B$52=3,'Fert Program 1,2,3'!V714,\"ERROR\")))","v":"ERROR"},{"$f":"IF(Setup!$B$52=1,'Fert Program 1,2,3'!W598,IF(Setup!$B$52=2,'Fert Program 1,2,3'!W656,IF(Setup!$B$52=3,'Fert Program 1,2,3'!W714,\"ERROR\")))","v":"ERROR"},{"$f":"IF(Setup!$B$52=1,'Fert Program 1,2,3'!X598,IF(Setup!$B$52=2,'Fert Program 1,2,3'!X656,IF(Setup!$B$52=3,'Fert Program 1,2,3'!X714,\"ERROR\")))","v":"ERROR"},null,null,null,0,0,0,0,0,0,0,0,0]
["2014-07-28","Week 4",{"$f":"IF(Setup!$B$52=1,'Fert Program 1,2,3'!C599,IF(Setup!$B$52=2,'Fert Program 1,2,3'!C657,IF(Setup!$B$52=3,'Fert Program 1,2,3'!C715,\"ERROR\")))","v":"ERROR"},{"$f":"IF(Setup!$B$52=1,'Fert Program 1,2,3'!D599,IF(Setup!$B$52=2,'Fert Program 1,2,3'!D657,IF(Setup!$B$52=3,'Fert Program 1,2,3'!D715,\"ERROR\")))","v":"ERROR"},{"$f":"IF(Setup!$B$52=1,'Fert Program 1,2,3'!E599,IF(Setup!$B$52=2,'Fert Program 1,2,3'!E657,IF(Setup!$B$52=3,'Fert Program 1,2,3'!E715,\"ERROR\")))","v":"ERROR"},{"$f":"IF(Setup!$B$52=1,'Fert Program 1,2,3'!F599,IF(Setup!$B$52=2,'Fert Program 1,2,3'!F657,IF(Setup!$B$52=3,'Fert Program 1,2,3'!F715,\"ERROR\")))","v":"ERROR"},{"$f":"IF(Setup!$B$52=1,'Fert Program 1,2,3'!G599,IF(Setup!$B$52=2,'Fert Program 1,2,3'!G657,IF(Setup!$B$52=3,'Fert Program 1,2,3'!G715,\"ERROR\")))","v":"ERROR"},{"$f":"IF(Setup!$B$52=1,'Fert Program 1,2,3'!H599,IF(Setup!$B$52=2,'Fert Program 1,2,3'!H657,IF(Setup!$B$52=3,'Fert Program 1,2,3'!H715,\"ERROR\")))","v":"ERROR"},{"$f":"IF(Setup!$B$52=1,'Fert Program 1,2,3'!I599,IF(Setup!$B$52=2,'Fert Program 1,2,3'!I657,IF(Setup!$B$52=3,'Fert Program 1,2,3'!I715,\"ERROR\")))","v":"ERROR"},{"$f":"IF(Setup!$B$52=1,'Fert Program 1,2,3'!J599,IF(Setup!$B$52=2,'Fert Program 1,2,3'!J657,IF(Setup!$B$52=3,'Fert Program 1,2,3'!J715,\"ERROR\")))","v":"ERROR"},{"$f":"IF(Setup!$B$52=1,'Fert Program 1,2,3'!K599,IF(Setup!$B$52=2,'Fert Program 1,2,3'!K657,IF(Setup!$B$52=3,'Fert Program 1,2,3'!K715,\"ERROR\")))","v":"ERROR"},{"$f":"IF(Setup!$B$52=1,'Fert Program 1,2,3'!L599,IF(Setup!$B$52=2,'Fert Program 1,2,3'!L657,IF(Setup!$B$52=3,'Fert Program 1,2,3'!L715,\"ERROR\")))","v":"ERROR"},{"$f":"IF(Setup!$B$52=1,'Fert Program 1,2,3'!M599,IF(Setup!$B$52=2,'Fert Program 1,2,3'!M657,IF(Setup!$B$52=3,'Fert Program 1,2,3'!M715,\"ERROR\")))","v":"ERROR"},{"$f":"IF(Setup!$B$52=1,'Fert Program 1,2,3'!N599,IF(Setup!$B$52=2,'Fert Program 1,2,3'!N657,IF(Setup!$B$52=3,'Fert Program 1,2,3'!N715,\"ERROR\")))","v":"ERROR"},{"$f":"IF(Setup!$B$52=1,'Fert Program 1,2,3'!O599,IF(Setup!$B$52=2,'Fert Program 1,2,3'!O657,IF(Setup!$B$52=3,'Fert Program 1,2,3'!O715,\"ERROR\")))","v":"ERROR"},{"$f":"IF(Setup!$B$52=1,'Fert Program 1,2,3'!P599,IF(Setup!$B$52=2,'Fert Program 1,2,3'!P657,IF(Setup!$B$52=3,'Fert Program 1,2,3'!P715,\"ERROR\")))","v":"ERROR"},{"$f":"IF(Setup!$B$52=1,'Fert Program 1,2,3'!Q599,IF(Setup!$B$52=2,'Fert Program 1,2,3'!Q657,IF(Setup!$B$52=3,'Fert Program 1,2,3'!Q715,\"ERROR\")))","v":"ERROR"},{"$f":"IF(Setup!$B$52=1,'Fert Program 1,2,3'!R599,IF(Setup!$B$52=2,'Fert Program 1,2,3'!R657,IF(Setup!$B$52=3,'Fert Program 1,2,3'!R715,\"ERROR\")))","v":"ERROR"},{"$f":"IF(Setup!$B$52=1,'Fert Program 1,2,3'!S599,IF(Setup!$B$52=2,'Fert Program 1,2,3'!S657,IF(Setup!$B$52=3,'Fert Program 1,2,3'!S715,\"ERROR\")))","v":"ERROR"},{"$f":"IF(Setup!$B$52=1,'Fert Program 1,2,3'!T599,IF(Setup!$B$52=2,'Fert Program 1,2,3'!T657,IF(Setup!$B$52=3,'Fert Program 1,2,3'!T715,\"ERROR\")))","v":"ERROR"},{"$f":"IF(Setup!$B$52=1,'Fert Program 1,2,3'!U599,IF(Setup!$B$52=2,'Fert Program 1,2,3'!U657,IF(Setup!$B$52=3,'Fert Program 1,2,3'!U715,\"ERROR\")))","v":"ERROR"},{"$f":"IF(Setup!$B$52=1,'Fert Program 1,2,3'!V599,IF(Setup!$B$52=2,'Fert Program 1,2,3'!V657,IF(Setup!$B$52=3,'Fert Program 1,2,3'!V715,\"ERROR\")))","v":"ERROR"},{"$f":"IF(Setup!$B$52=1,'Fert Program 1,2,3'!W599,IF(Setup!$B$52=2,'Fert Program 1,2,3'!W657,IF(Setup!$B$52=3,'Fert Program 1,2,3'!W715,\"ERROR\")))","v":"ERROR"},{"$f":"IF(Setup!$B$52=1,'Fert Program 1,2,3'!X599,IF(Setup!$B$52=2,'Fert Program 1,2,3'!X657,IF(Setup!$B$52=3,'Fert Program 1,2,3'!X715,\"ERROR\")))","v":"ERROR"},null,null,null,16.25,0,47.912499999999994,16.25,0,47.912499999999994,16.25,0,47.912499999999994]
["2014-08-04","Week 5",{"$f":"IF(Setup!$B$52=1,'Fert Program 1,2,3'!C600,IF(Setup!$B$52=2,'Fert Program 1,2,3'!C658,IF(Setup!$B$52=3,'Fert Program 1,2,3'!C716,\"ERROR\")))","v":"ERROR"},{"$f":"IF(Setup!$B$52=1,'Fert Program 1,2,3'!D600,IF(Setup!$B$52=2,'Fert Program 1,2,3'!D658,IF(Setup!$B$52=3,'Fert Program 1,2,3'!D716,\"ERROR\")))","v":"ERROR"},{"$f":"IF(Setup!$B$52=1,'Fert Program 1,2,3'!E600,IF(Setup!$B$52=2,'Fert Program 1,2,3'!E658,IF(Setup!$B$52=3,'Fert Program 1,2,3'!E716,\"ERROR\")))","v":"ERROR"},{"$f":"IF(Setup!$B$52=1,'Fert Program 1,2,3'!F600,IF(Setup!$B$52=2,'Fert Program 1,2,3'!F658,IF(Setup!$B$52=3,'Fert Program 1,2,3'!F716,\"ERROR\")))","v":"ERROR"},{"$f":"IF(Setup!$B$52=1,'Fert Program 1,2,3'!G600,IF(Setup!$B$52=2,'Fert Program 1,2,3'!G658,IF(Setup!$B$52=3,'Fert Program 1,2,3'!G716,\"ERROR\")))","v":"ERROR"},{"$f":"IF(Setup!$B$52=1,'Fert Program 1,2,3'!H600,IF(Setup!$B$52=2,'Fert Program 1,2,3'!H658,IF(Setup!$B$52=3,'Fert Program 1,2,3'!H716,\"ERROR\")))","v":"ERROR"},{"$f":"IF(Setup!$B$52=1,'Fert Program 1,2,3'!I600,IF(Setup!$B$52=2,'Fert Program 1,2,3'!I658,IF(Setup!$B$52=3,'Fert Program 1,2,3'!I716,\"ERROR\")))","v":"ERROR"},{"$f":"IF(Setup!$B$52=1,'Fert Program 1,2,3'!J600,IF(Setup!$B$52=2,'Fert Program 1,2,3'!J658,IF(Setup!$B$52=3,'Fert Program 1,2,3'!J716,\"ERROR\")))","v":"ERROR"},{"$f":"IF(Setup!$B$52=1,'Fert Program 1,2,3'!K600,IF(Setup!$B$52=2,'Fert Program 1,2,3'!K658,IF(Setup!$B$52=3,'Fert Program 1,2,3'!K716,\"ERROR\")))","v":"ERROR"},{"$f":"IF(Setup!$B$52=1,'Fert Program 1,2,3'!L600,IF(Setup!$B$52=2,'Fert Program 1,2,3'!L658,IF(Setup!$B$52=3,'Fert Program 1,2,3'!L716,\"ERROR\")))","v":"ERROR"},{"$f":"IF(Setup!$B$52=1,'Fert Program 1,2,3'!M600,IF(Setup!$B$52=2,'Fert Program 1,2,3'!M658,IF(Setup!$B$52=3,'Fert Program 1,2,3'!M716,\"ERROR\")))","v":"ERROR"},{"$f":"IF(Setup!$B$52=1,'Fert Program 1,2,3'!N600,IF(Setup!$B$52=2,'Fert Program 1,2,3'!N658,IF(Setup!$B$52=3,'Fert Program 1,2,3'!N716,\"ERROR\")))","v":"ERROR"},{"$f":"IF(Setup!$B$52=1,'Fert Program 1,2,3'!O600,IF(Setup!$B$52=2,'Fert Program 1,2,3'!O658,IF(Setup!$B$52=3,'Fert Program 1,2,3'!O716,\"ERROR\")))","v":"ERROR"},{"$f":"IF(Setup!$B$52=1,'Fert Program 1,2,3'!P600,IF(Setup!$B$52=2,'Fert Program 1,2,3'!P658,IF(Setup!$B$52=3,'Fert Program 1,2,3'!P716,\"ERROR\")))","v":"ERROR"},{"$f":"IF(Setup!$B$52=1,'Fert Program 1,2,3'!Q600,IF(Setup!$B$52=2,'Fert Program 1,2,3'!Q658,IF(Setup!$B$52=3,'Fert Program 1,2,3'!Q716,\"ERROR\")))","v":"ERROR"},{"$f":"IF(Setup!$B$52=1,'Fert Program 1,2,3'!R600,IF(Setup!$B$52=2,'Fert Program 1,2,3'!R658,IF(Setup!$B$52=3,'Fert Program 1,2,3'!R716,\"ERROR\")))","v":"ERROR"},{"$f":"IF(Setup!$B$52=1,'Fert Program 1,2,3'!S600,IF(Setup!$B$52=2,'Fert Program 1,2,3'!S658,IF(Setup!$B$52=3,'Fert Program 1,2,3'!S716,\"ERROR\")))","v":"ERROR"},{"$f":"IF(Setup!$B$52=1,'Fert Program 1,2,3'!T600,IF(Setup!$B$52=2,'Fert Program 1,2,3'!T658,IF(Setup!$B$52=3,'Fert Program 1,2,3'!T716,\"ERROR\")))","v":"ERROR"},{"$f":"IF(Setup!$B$52=1,'Fert Program 1,2,3'!U600,IF(Setup!$B$52=2,'Fert Program 1,2,3'!U658,IF(Setup!$B$52=3,'Fert Program 1,2,3'!U716,\"ERROR\")))","v":"ERROR"},{"$f":"IF(Setup!$B$52=1,'Fert Program 1,2,3'!V600,IF(Setup!$B$52=2,'Fert Program 1,2,3'!V658,IF(Setup!$B$52=3,'Fert Program 1,2,3'!V716,\"ERROR\")))","v":"ERROR"},{"$f":"IF(Setup!$B$52=1,'Fert Program 1,2,3'!W600,IF(Setup!$B$52=2,'Fert Program 1,2,3'!W658,IF(Setup!$B$52=3,'Fert Program 1,2,3'!W716,\"ERROR\")))","v":"ERROR"},{"$f":"IF(Setup!$B$52=1,'Fert Program 1,2,3'!X600,IF(Setup!$B$52=2,'Fert Program 1,2,3'!X658,IF(Setup!$B$52=3,'Fert Program 1,2,3'!X716,\"ERROR\")))","v":"ERROR"},null,null,null,16.25,0,47.912499999999994,16.25,0,47.912499999999994,16.25,0,47.912499999999994]
["2014-08-11","Week 6",{"$f":"IF(Setup!$B$52=1,'Fert Program 1,2,3'!C601,IF(Setup!$B$52=2,'Fert Program 1,2,3'!C659,IF(Setup!$B$52=3,'Fert Program 1,2,3'!C717,\"ERROR\")))","v":"ERROR"},{"$f":"IF(Setup!$B$52=1,'Fert Program 1,2,3'!D601,IF(Setup!$B$52=2,'Fert Program 1,2,3'!D659,IF(Setup!$B$52=3,'Fert Program 1,2,3'!D717,\"ERROR\")))","v":"ERROR"},{"$f":"IF(Setup!$B$52=1,'Fert Program 1,2,3'!E601,IF(Setup!$B$52=2,'Fert Program 1,2,3'!E659,IF(Setup!$B$52=3,'Fert Program 1,2,3'!E717,\"ERROR\")))","v":"ERROR"},{"$f":"IF(Setup!$B$52=1,'Fert Program 1,2,3'!F601,IF(Setup!$B$52=2,'Fert Program 1,2,3'!F659,IF(Setup!$B$52=3,'Fert Program 1,2,3'!F717,\"ERROR\")))","v":"ERROR"},{"$f":"IF(Setup!$B$52=1,'Fert Program 1,2,3'!G601,IF(Setup!$B$52=2,'Fert Program 1,2,3'!G659,IF(Setup!$B$52=3,'Fert Program 1,2,3'!G717,\"ERROR\")))","v":"ERROR"},{"$f":"IF(Setup!$B$52=1,'Fert Program 1,2,3'!H601,IF(Setup!$B$52=2,'Fert Program 1,2,3'!H659,IF(Setup!$B$52=3,'Fert Program 1,2,3'!H717,\"ERROR\")))","v":"ERROR"},{"$f":"IF(Setup!$B$52=1,'Fert Program 1,2,3'!I601,IF(Setup!$B$52=2,'Fert Program 1,2,3'!I659,IF(Setup!$B$52=3,'Fert Program 1,2,3'!I717,\"ERROR\")))","v":"ERROR"},{"$f":"IF(Setup!$B$52=1,'Fert Program 1,2,3'!J601,IF(Setup!$B$52=2,'Fert Program 1,2,3'!J659,IF(Setup!$B$52=3,'Fert Program 1,2,3'!J717,\"ERROR\")))","v":"ERROR"},{"$f":"IF(Setup!$B$52=1,'Fert Program 1,2,3'!K601,IF(Setup!$B$52=2,'Fert Program 1,2,3'!K659,IF(Setup!$B$52=3,'Fert Program 1,2,3'!K717,\"ERROR\")))","v":"ERROR"},{"$f":"IF(Setup!$B$52=1,'Fert Program 1,2,3'!L601,IF(Setup!$B$52=2,'Fert Program 1,2,3'!L659,IF(Setup!$B$52=3,'Fert Program 1,2,3'!L717,\"ERROR\")))","v":"ERROR"},{"$f":"IF(Setup!$B$52=1,'Fert Program 1,2,3'!M601,IF(Setup!$B$52=2,'Fert Program 1,2,3'!M659,IF(Setup!$B$52=3,'Fert Program 1,2,3'!M717,\"ERROR\")))","v":"ERROR"},{"$f":"IF(Setup!$B$52=1,'Fert Program 1,2,3'!N601,IF(Setup!$B$52=2,'Fert Program 1,2,3'!N659,IF(Setup!$B$52=3,'Fert Program 1,2,3'!N717,\"ERROR\")))","v":"ERROR"},{"$f":"IF(Setup!$B$52=1,'Fert Program 1,2,3'!O601,IF(Setup!$B$52=2,'Fert Program 1,2,3'!O659,IF(Setup!$B$52=3,'Fert Program 1,2,3'!O717,\"ERROR\")))","v":"ERROR"},{"$f":"IF(Setup!$B$52=1,'Fert Program 1,2,3'!P601,IF(Setup!$B$52=2,'Fert Program 1,2,3'!P659,IF(Setup!$B$52=3,'Fert Program 1,2,3'!P717,\"ERROR\")))","v":"ERROR"},{"$f":"IF(Setup!$B$52=1,'Fert Program 1,2,3'!Q601,IF(Setup!$B$52=2,'Fert Program 1,2,3'!Q659,IF(Setup!$B$52=3,'Fert Program 1,2,3'!Q717,\"ERROR\")))","v":"ERROR"},{"$f":"IF(Setup!$B$52=1,'Fert Program 1,2,3'!R601,IF(Setup!$B$52=2,'Fert Program 1,2,3'!R659,IF(Setup!$B$52=3,'Fert Program 1,2,3'!R717,\"ERROR\")))","v":"ERROR"},{"$f":"IF(Setup!$B$52=1,'Fert Program 1,2,3'!S601,IF(Setup!$B$52=2,'Fert Program 1,2,3'!S659,IF(Setup!$B$52=3,'Fert Program 1,2,3'!S717,\"ERROR\")))","v":"ERROR"},{"$f":"IF(Setup!$B$52=1,'Fert Program 1,2,3'!T601,IF(Setup!$B$52=2,'Fert Program 1,2,3'!T659,IF(Setup!$B$52=3,'Fert Program 1,2,3'!T717,\"ERROR\")))","v":"ERROR"},{"$f":"IF(Setup!$B$52=1,'Fert Program 1,2,3'!U601,IF(Setup!$B$52=2,'Fert Program 1,2,3'!U659,IF(Setup!$B$52=3,'Fert Program 1,2,3'!U717,\"ERROR\")))","v":"ERROR"},{"$f":"IF(Setup!$B$52=1,'Fert Program 1,2,3'!V601,IF(Setup!$B$52=2,'Fert Program 1,2,3'!V659,IF(Setup!$B$52=3,'Fert Program 1,2,3'!V717,\"ERROR\")))","v":"ERROR"},{"$f":"IF(Setup!$B$52=1,'Fert Program 1,2,3'!W601,IF(Setup!$B$52=2,'Fert Program 1,2,3'!W659,IF(Setup!$B$52=3,'Fert Program 1,2,3'!W717,\"ERROR\")))","v":"ERROR"},{"$f":"IF(Setup!$B$52=1,'Fert Program 1,2,3'!X601,IF(Setup!$B$52=2,'Fert Program 1,2,3'!X659,IF(Setup!$B$52=3,'Fert Program 1,2,3'!X717,\"ERROR\")))","v":"ERROR"},null,null,null,0,0,0,0,0,0,0,0,0]
["2014-08-18","Week 7",{"$f":"IF(Setup!$B$52=1,'Fert Program 1,2,3'!C602,IF(Setup!$B$52=2,'Fert Program 1,2,3'!C660,IF(Setup!$B$52=3,'Fert Program 1,2,3'!C718,\"ERROR\")))","v":"ERROR"},{"$f":"IF(Setup!$B$52=1,'Fert Program 1,2,3'!D602,IF(Setup!$B$52=2,'Fert Program 1,2,3'!D660,IF(Setup!$B$52=3,'Fert Program 1,2,3'!D718,\"ERROR\")))","v":"ERROR"},{"$f":"IF(Setup!$B$52=1,'Fert Program 1,2,3'!E602,IF(Setup!$B$52=2,'Fert Program 1,2,3'!E660,IF(Setup!$B$52=3,'Fert Program 1,2,3'!E718,\"ERROR\")))","v":"ERROR"},{"$f":"IF(Setup!$B$52=1,'Fert Program 1,2,3'!F602,IF(Setup!$B$52=2,'Fert Program 1,2,3'!F660,IF(Setup!$B$52=3,'Fert Program 1,2,3'!F718,\"ERROR\")))","v":"ERROR"},{"$f":"IF(Setup!$B$52=1,'Fert Program 1,2,3'!G602,IF(Setup!$B$52=2,'Fert Program 1,2,3'!G660,IF(Setup!$B$52=3,'Fert Program 1,2,3'!G718,\"ERROR\")))","v":"ERROR"},{"$f":"IF(Setup!$B$52=1,'Fert Program 1,2,3'!H602,IF(Setup!$B$52=2,'Fert Program 1,2,3'!H660,IF(Setup!$B$52=3,'Fert Program 1,2,3'!H718,\"ERROR\")))","v":"ERROR"},{"$f":"IF(Setup!$B$52=1,'Fert Program 1,2,3'!I602,IF(Setup!$B$52=2,'Fert Program 1,2,3'!I660,IF(Setup!$B$52=3,'Fert Program 1,2,3'!I718,\"ERROR\")))","v":"ERROR"},{"$f":"IF(Setup!$B$52=1,'Fert Program 1,2,3'!J602,IF(Setup!$B$52=2,'Fert Program 1,2,3'!J660,IF(Setup!$B$52=3,'Fert Program 1,2,3'!J718,\"ERROR\")))","v":"ERROR"},{"$f":"IF(Setup!$B$52=1,'Fert Program 1,2,3'!K602,IF(Setup!$B$52=2,'Fert Program 1,2,3'!K660,IF(Setup!$B$52=3,'Fert Program 1,2,3'!K718,\"ERROR\")))","v":"ERROR"},{"$f":"IF(Setup!$B$52=1,'Fert Program 1,2,3'!L602,IF(Setup!$B$52=2,'Fert Program 1,2,3'!L660,IF(Setup!$B$52=3,'Fert Program 1,2,3'!L718,\"ERROR\")))","v":"ERROR"},{"$f":"IF(Setup!$B$52=1,'Fert Program 1,2,3'!M602,IF(Setup!$B$52=2,'Fert Program 1,2,3'!M660,IF(Setup!$B$52=3,'Fert Program 1,2,3'!M718,\"ERROR\")))","v":"ERROR"},{"$f":"IF(Setup!$B$52=1,'Fert Program 1,2,3'!N602,IF(Setup!$B$52=2,'Fert Program 1,2,3'!N660,IF(Setup!$B$52=3,'Fert Program 1,2,3'!N718,\"ERROR\")))","v":"ERROR"},{"$f":"IF(Setup!$B$52=1,'Fert Program 1,2,3'!O602,IF(Setup!$B$52=2,'Fert Program 1,2,3'!O660,IF(Setup!$B$52=3,'Fert Program 1,2,3'!O718,\"ERROR\")))","v":"ERROR"},{"$f":"IF(Setup!$B$52=1,'Fert Program 1,2,3'!P602,IF(Setup!$B$52=2,'Fert Program 1,2,3'!P660,IF(Setup!$B$52=3,'Fert Program 1,2,3'!P718,\"ERROR\")))","v":"ERROR"},{"$f":"IF(Setup!$B$52=1,'Fert Program 1,2,3'!Q602,IF(Setup!$B$52=2,'Fert Program 1,2,3'!Q660,IF(Setup!$B$52=3,'Fert Program 1,2,3'!Q718,\"ERROR\")))","v":"ERROR"},{"$f":"IF(Setup!$B$52=1,'Fert Program 1,2,3'!R602,IF(Setup!$B$52=2,'Fert Program 1,2,3'!R660,IF(Setup!$B$52=3,'Fert Program 1,2,3'!R718,\"ERROR\")))","v":"ERROR"},{"$f":"IF(Setup!$B$52=1,'Fert Program 1,2,3'!S602,IF(Setup!$B$52=2,'Fert Program 1,2,3'!S660,IF(Setup!$B$52=3,'Fert Program 1,2,3'!S718,\"ERROR\")))","v":"ERROR"},{"$f":"IF(Setup!$B$52=1,'Fert Program 1,2,3'!T602,IF(Setup!$B$52=2,'Fert Program 1,2,3'!T660,IF(Setup!$B$52=3,'Fert Program 1,2,3'!T718,\"ERROR\")))","v":"ERROR"},{"$f":"IF(Setup!$B$52=1,'Fert Program 1,2,3'!U602,IF(Setup!$B$52=2,'Fert Program 1,2,3'!U660,IF(Setup!$B$52=3,'Fert Program 1,2,3'!U718,\"ERROR\")))","v":"ERROR"},{"$f":"IF(Setup!$B$52=1,'Fert Program 1,2,3'!V602,IF(Setup!$B$52=2,'Fert Program 1,2,3'!V660,IF(Setup!$B$52=3,'Fert Program 1,2,3'!V718,\"ERROR\")))","v":"ERROR"},{"$f":"IF(Setup!$B$52=1,'Fert Program 1,2,3'!W602,IF(Setup!$B$52=2,'Fert Program 1,2,3'!W660,IF(Setup!$B$52=3,'Fert Program 1,2,3'!W718,\"ERROR\")))","v":"ERROR"},{"$f":"IF(Setup!$B$52=1,'Fert Program 1,2,3'!X602,IF(Setup!$B$52=2,'Fert Program 1,2,3'!X660,IF(Setup!$B$52=3,'Fert Program 1,2,3'!X718,\"ERROR\")))","v":"ERROR"},null,null,null,0,0,0,0,0,0,0,0,0]
["2014-08-25","Week 8",{"$f":"IF(Setup!$B$52=1,'Fert Program 1,2,3'!C603,IF(Setup!$B$52=2,'Fert Program 1,2,3'!C661,IF(Setup!$B$52=3,'Fert Program 1,2,3'!C719,\"ERROR\")))","v":"ERROR"},{"$f":"IF(Setup!$B$52=1,'Fert Program 1,2,3'!D603,IF(Setup!$B$52=2,'Fert Program 1,2,3'!D661,IF(Setup!$B$52=3,'Fert Program 1,2,3'!D719,\"ERROR\")))","v":"ERROR"},{"$f":"IF(Setup!$B$52=1,'Fert Program 1,2,3'!E603,IF(Setup!$B$52=2,'Fert Program 1,2,3'!E661,IF(Setup!$B$52=3,'Fert Program 1,2,3'!E719,\"ERROR\")))","v":"ERROR"},{"$f":"IF(Setup!$B$52=1,'Fert Program 1,2,3'!F603,IF(Setup!$B$52=2,'Fert Program 1,2,3'!F661,IF(Setup!$B$52=3,'Fert Program 1,2,3'!F719,\"ERROR\")))","v":"ERROR"},{"$f":"IF(Setup!$B$52=1,'Fert Program 1,2,3'!G603,IF(Setup!$B$52=2,'Fert Program 1,2,3'!G661,IF(Setup!$B$52=3,'Fert Program 1,2,3'!G719,\"ERROR\")))","v":"ERROR"},{"$f":"IF(Setup!$B$52=1,'Fert Program 1,2,3'!H603,IF(Setup!$B$52=2,'Fert Program 1,2,3'!H661,IF(Setup!$B$52=3,'Fert Program 1,2,3'!H719,\"ERROR\")))","v":"ERROR"},{"$f":"IF(Setup!$B$52=1,'Fert Program 1,2,3'!I603,IF(Setup!$B$52=2,'Fert Program 1,2,3'!I661,IF(Setup!$B$52=3,'Fert Program 1,2,3'!I719,\"ERROR\")))","v":"ERROR"},{"$f":"IF(Setup!$B$52=1,'Fert Program 1,2,3'!J603,IF(Setup!$B$52=2,'Fert Program 1,2,3'!J661,IF(Setup!$B$52=3,'Fert Program 1,2,3'!J719,\"ERROR\")))","v":"ERROR"},{"$f":"IF(Setup!$B$52=1,'Fert Program 1,2,3'!K603,IF(Setup!$B$52=2,'Fert Program 1,2,3'!K661,IF(Setup!$B$52=3,'Fert Program 1,2,3'!K719,\"ERROR\")))","v":"ERROR"},{"$f":"IF(Setup!$B$52=1,'Fert Program 1,2,3'!L603,IF(Setup!$B$52=2,'Fert Program 1,2,3'!L661,IF(Setup!$B$52=3,'Fert Program 1,2,3'!L719,\"ERROR\")))","v":"ERROR"},{"$f":"IF(Setup!$B$52=1,'Fert Program 1,2,3'!M603,IF(Setup!$B$52=2,'Fert Program 1,2,3'!M661,IF(Setup!$B$52=3,'Fert Program 1,2,3'!M719,\"ERROR\")))","v":"ERROR"},{"$f":"IF(Setup!$B$52=1,'Fert Program 1,2,3'!N603,IF(Setup!$B$52=2,'Fert Program 1,2,3'!N661,IF(Setup!$B$52=3,'Fert Program 1,2,3'!N719,\"ERROR\")))","v":"ERROR"},{"$f":"IF(Setup!$B$52=1,'Fert Program 1,2,3'!O603,IF(Setup!$B$52=2,'Fert Program 1,2,3'!O661,IF(Setup!$B$52=3,'Fert Program 1,2,3'!O719,\"ERROR\")))","v":"ERROR"},{"$f":"IF(Setup!$B$52=1,'Fert Program 1,2,3'!P603,IF(Setup!$B$52=2,'Fert Program 1,2,3'!P661,IF(Setup!$B$52=3,'Fert Program 1,2,3'!P719,\"ERROR\")))","v":"ERROR"},{"$f":"IF(Setup!$B$52=1,'Fert Program 1,2,3'!Q603,IF(Setup!$B$52=2,'Fert Program 1,2,3'!Q661,IF(Setup!$B$52=3,'Fert Program 1,2,3'!Q719,\"ERROR\")))","v":"ERROR"},{"$f":"IF(Setup!$B$52=1,'Fert Program 1,2,3'!R603,IF(Setup!$B$52=2,'Fert Program 1,2,3'!R661,IF(Setup!$B$52=3,'Fert Program 1,2,3'!R719,\"ERROR\")))","v":"ERROR"},{"$f":"IF(Setup!$B$52=1,'Fert Program 1,2,3'!S603,IF(Setup!$B$52=2,'Fert Program 1,2,3'!S661,IF(Setup!$B$52=3,'Fert Program 1,2,3'!S719,\"ERROR\")))","v":"ERROR"},{"$f":"IF(Setup!$B$52=1,'Fert Program 1,2,3'!T603,IF(Setup!$B$52=2,'Fert Program 1,2,3'!T661,IF(Setup!$B$52=3,'Fert Program 1,2,3'!T719,\"ERROR\")))","v":"ERROR"},{"$f":"IF(Setup!$B$52=1,'Fert Program 1,2,3'!U603,IF(Setup!$B$52=2,'Fert Program 1,2,3'!U661,IF(Setup!$B$52=3,'Fert Program 1,2,3'!U719,\"ERROR\")))","v":"ERROR"},{"$f":"IF(Setup!$B$52=1,'Fert Program 1,2,3'!V603,IF(Setup!$B$52=2,'Fert Program 1,2,3'!V661,IF(Setup!$B$52=3,'Fert Program 1,2,3'!V719,\"ERROR\")))","v":"ERROR"},{"$f":"IF(Setup!$B$52=1,'Fert Program 1,2,3'!W603,IF(Setup!$B$52=2,'Fert Program 1,2,3'!W661,IF(Setup!$B$52=3,'Fert Program 1,2,3'!W719,\"ERROR\")))","v":"ERROR"},{"$f":"IF(Setup!$B$52=1,'Fert Program 1,2,3'!X603,IF(Setup!$B$52=2,'Fert Program 1,2,3'!X661,IF(Setup!$B$52=3,'Fert Program 1,2,3'!X719,\"ERROR\")))","v":"ERROR"},null,null,null,0,0,0,0,0,0,0,0,0]
["2014-09-01","Week 9",{"$f":"IF(Setup!$B$52=1,'Fert Program 1,2,3'!C604,IF(Setup!$B$52=2,'Fert Program 1,2,3'!C662,IF(Setup!$B$52=3,'Fert Program 1,2,3'!C720,\"ERROR\")))","v":"ERROR"},{"$f":"IF(Setup!$B$52=1,'Fert Program 1,2,3'!D604,IF(Setup!$B$52=2,'Fert Program 1,2,3'!D662,IF(Setup!$B$52=3,'Fert Program 1,2,3'!D720,\"ERROR\")))","v":"ERROR"},{"$f":"IF(Setup!$B$52=1,'Fert Program 1,2,3'!E604,IF(Setup!$B$52=2,'Fert Program 1,2,3'!E662,IF(Setup!$B$52=3,'Fert Program 1,2,3'!E720,\"ERROR\")))","v":"ERROR"},{"$f":"IF(Setup!$B$52=1,'Fert Program 1,2,3'!F604,IF(Setup!$B$52=2,'Fert Program 1,2,3'!F662,IF(Setup!$B$52=3,'Fert Program 1,2,3'!F720,\"ERROR\")))","v":"ERROR"},{"$f":"IF(Setup!$B$52=1,'Fert Program 1,2,3'!G604,IF(Setup!$B$52=2,'Fert Program 1,2,3'!G662,IF(Setup!$B$52=3,'Fert Program 1,2,3'!G720,\"ERROR\")))","v":"ERROR"},{"$f":"IF(Setup!$B$52=1,'Fert Program 1,2,3'!H604,IF(Setup!$B$52=2,'Fert Program 1,2,3'!H662,IF(Setup!$B$52=3,'Fert Program 1,2,3'!H720,\"ERROR\")))","v":"ERROR"},{"$f":"IF(Setup!$B$52=1,'Fert Program 1,2,3'!I604,IF(Setup!$B$52=2,'Fert Program 1,2,3'!I662,IF(Setup!$B$52=3,'Fert Program 1,2,3'!I720,\"ERROR\")))","v":"ERROR"},{"$f":"IF(Setup!$B$52=1,'Fert Program 1,2,3'!J604,IF(Setup!$B$52=2,'Fert Program 1,2,3'!J662,IF(Setup!$B$52=3,'Fert Program 1,2,3'!J720,\"ERROR\")))","v":"ERROR"},{"$f":"IF(Setup!$B$52=1,'Fert Program 1,2,3'!K604,IF(Setup!$B$52=2,'Fert Program 1,2,3'!K662,IF(Setup!$B$52=3,'Fert Program 1,2,3'!K720,\"ERROR\")))","v":"ERROR"},{"$f":"IF(Setup!$B$52=1,'Fert Program 1,2,3'!L604,IF(Setup!$B$52=2,'Fert Program 1,2,3'!L662,IF(Setup!$B$52=3,'Fert Program 1,2,3'!L720,\"ERROR\")))","v":"ERROR"},{"$f":"IF(Setup!$B$52=1,'Fert Program 1,2,3'!M604,IF(Setup!$B$52=2,'Fert Program 1,2,3'!M662,IF(Setup!$B$52=3,'Fert Program 1,2,3'!M720,\"ERROR\")))","v":"ERROR"},{"$f":"IF(Setup!$B$52=1,'Fert Program 1,2,3'!N604,IF(Setup!$B$52=2,'Fert Program 1,2,3'!N662,IF(Setup!$B$52=3,'Fert Program 1,2,3'!N720,\"ERROR\")))","v":"ERROR"},{"$f":"IF(Setup!$B$52=1,'Fert Program 1,2,3'!O604,IF(Setup!$B$52=2,'Fert Program 1,2,3'!O662,IF(Setup!$B$52=3,'Fert Program 1,2,3'!O720,\"ERROR\")))","v":"ERROR"},{"$f":"IF(Setup!$B$52=1,'Fert Program 1,2,3'!P604,IF(Setup!$B$52=2,'Fert Program 1,2,3'!P662,IF(Setup!$B$52=3,'Fert Program 1,2,3'!P720,\"ERROR\")))","v":"ERROR"},{"$f":"IF(Setup!$B$52=1,'Fert Program 1,2,3'!Q604,IF(Setup!$B$52=2,'Fert Program 1,2,3'!Q662,IF(Setup!$B$52=3,'Fert Program 1,2,3'!Q720,\"ERROR\")))","v":"ERROR"},{"$f":"IF(Setup!$B$52=1,'Fert Program 1,2,3'!R604,IF(Setup!$B$52=2,'Fert Program 1,2,3'!R662,IF(Setup!$B$52=3,'Fert Program 1,2,3'!R720,\"ERROR\")))","v":"ERROR"},{"$f":"IF(Setup!$B$52=1,'Fert Program 1,2,3'!S604,IF(Setup!$B$52=2,'Fert Program 1,2,3'!S662,IF(Setup!$B$52=3,'Fert Program 1,2,3'!S720,\"ERROR\")))","v":"ERROR"},{"$f":"IF(Setup!$B$52=1,'Fert Program 1,2,3'!T604,IF(Setup!$B$52=2,'Fert Program 1,2,3'!T662,IF(Setup!$B$52=3,'Fert Program 1,2,3'!T720,\"ERROR\")))","v":"ERROR"},{"$f":"IF(Setup!$B$52=1,'Fert Program 1,2,3'!U604,IF(Setup!$B$52=2,'Fert Program 1,2,3'!U662,IF(Setup!$B$52=3,'Fert Program 1,2,3'!U720,\"ERROR\")))","v":"ERROR"},{"$f":"IF(Setup!$B$52=1,'Fert Program 1,2,3'!V604,IF(Setup!$B$52=2,'Fert Program 1,2,3'!V662,IF(Setup!$B$52=3,'Fert Program 1,2,3'!V720,\"ERROR\")))","v":"ERROR"},{"$f":"IF(Setup!$B$52=1,'Fert Program 1,2,3'!W604,IF(Setup!$B$52=2,'Fert Program 1,2,3'!W662,IF(Setup!$B$52=3,'Fert Program 1,2,3'!W720,\"ERROR\")))","v":"ERROR"},{"$f":"IF(Setup!$B$52=1,'Fert Program 1,2,3'!X604,IF(Setup!$B$52=2,'Fert Program 1,2,3'!X662,IF(Setup!$B$52=3,'Fert Program 1,2,3'!X720,\"ERROR\")))","v":"ERROR"},null,null,null,0,0,0,0,0,0,0,0,0]
["2014-09-08","Week 10",{"$f":"IF(Setup!$B$52=1,'Fert Program 1,2,3'!C605,IF(Setup!$B$52=2,'Fert Program 1,2,3'!C663,IF(Setup!$B$52=3,'Fert Program 1,2,3'!C721,\"ERROR\")))","v":"ERROR"},{"$f":"IF(Setup!$B$52=1,'Fert Program 1,2,3'!D605,IF(Setup!$B$52=2,'Fert Program 1,2,3'!D663,IF(Setup!$B$52=3,'Fert Program 1,2,3'!D721,\"ERROR\")))","v":"ERROR"},{"$f":"IF(Setup!$B$52=1,'Fert Program 1,2,3'!E605,IF(Setup!$B$52=2,'Fert Program 1,2,3'!E663,IF(Setup!$B$52=3,'Fert Program 1,2,3'!E721,\"ERROR\")))","v":"ERROR"},{"$f":"IF(Setup!$B$52=1,'Fert Program 1,2,3'!F605,IF(Setup!$B$52=2,'Fert Program 1,2,3'!F663,IF(Setup!$B$52=3,'Fert Program 1,2,3'!F721,\"ERROR\")))","v":"ERROR"},{"$f":"IF(Setup!$B$52=1,'Fert Program 1,2,3'!G605,IF(Setup!$B$52=2,'Fert Program 1,2,3'!G663,IF(Setup!$B$52=3,'Fert Program 1,2,3'!G721,\"ERROR\")))","v":"ERROR"},{"$f":"IF(Setup!$B$52=1,'Fert Program 1,2,3'!H605,IF(Setup!$B$52=2,'Fert Program 1,2,3'!H663,IF(Setup!$B$52=3,'Fert Program 1,2,3'!H721,\"ERROR\")))","v":"ERROR"},{"$f":"IF(Setup!$B$52=1,'Fert Program 1,2,3'!I605,IF(Setup!$B$52=2,'Fert Program 1,2,3'!I663,IF(Setup!$B$52=3,'Fert Program 1,2,3'!I721,\"ERROR\")))","v":"ERROR"},{"$f":"IF(Setup!$B$52=1,'Fert Program 1,2,3'!J605,IF(Setup!$B$52=2,'Fert Program 1,2,3'!J663,IF(Setup!$B$52=3,'Fert Program 1,2,3'!J721,\"ERROR\")))","v":"ERROR"},{"$f":"IF(Setup!$B$52=1,'Fert Program 1,2,3'!K605,IF(Setup!$B$52=2,'Fert Program 1,2,3'!K663,IF(Setup!$B$52=3,'Fert Program 1,2,3'!K721,\"ERROR\")))","v":"ERROR"},{"$f":"IF(Setup!$B$52=1,'Fert Program 1,2,3'!L605,IF(Setup!$B$52=2,'Fert Program 1,2,3'!L663,IF(Setup!$B$52=3,'Fert Program 1,2,3'!L721,\"ERROR\")))","v":"ERROR"},{"$f":"IF(Setup!$B$52=1,'Fert Program 1,2,3'!M605,IF(Setup!$B$52=2,'Fert Program 1,2,3'!M663,IF(Setup!$B$52=3,'Fert Program 1,2,3'!M721,\"ERROR\")))","v":"ERROR"},{"$f":"IF(Setup!$B$52=1,'Fert Program 1,2,3'!N605,IF(Setup!$B$52=2,'Fert Program 1,2,3'!N663,IF(Setup!$B$52=3,'Fert Program 1,2,3'!N721,\"ERROR\")))","v":"ERROR"},{"$f":"IF(Setup!$B$52=1,'Fert Program 1,2,3'!O605,IF(Setup!$B$52=2,'Fert Program 1,2,3'!O663,IF(Setup!$B$52=3,'Fert Program 1,2,3'!O721,\"ERROR\")))","v":"ERROR"},{"$f":"IF(Setup!$B$52=1,'Fert Program 1,2,3'!P605,IF(Setup!$B$52=2,'Fert Program 1,2,3'!P663,IF(Setup!$B$52=3,'Fert Program 1,2,3'!P721,\"ERROR\")))","v":"ERROR"},{"$f":"IF(Setup!$B$52=1,'Fert Program 1,2,3'!Q605,IF(Setup!$B$52=2,'Fert Program 1,2,3'!Q663,IF(Setup!$B$52=3,'Fert Program 1,2,3'!Q721,\"ERROR\")))","v":"ERROR"},{"$f":"IF(Setup!$B$52=1,'Fert Program 1,2,3'!R605,IF(Setup!$B$52=2,'Fert Program 1,2,3'!R663,IF(Setup!$B$52=3,'Fert Program 1,2,3'!R721,\"ERROR\")))","v":"ERROR"},{"$f":"IF(Setup!$B$52=1,'Fert Program 1,2,3'!S605,IF(Setup!$B$52=2,'Fert Program 1,2,3'!S663,IF(Setup!$B$52=3,'Fert Program 1,2,3'!S721,\"ERROR\")))","v":"ERROR"},{"$f":"IF(Setup!$B$52=1,'Fert Program 1,2,3'!T605,IF(Setup!$B$52=2,'Fert Program 1,2,3'!T663,IF(Setup!$B$52=3,'Fert Program 1,2,3'!T721,\"ERROR\")))","v":"ERROR"},{"$f":"IF(Setup!$B$52=1,'Fert Program 1,2,3'!U605,IF(Setup!$B$52=2,'Fert Program 1,2,3'!U663,IF(Setup!$B$52=3,'Fert Program 1,2,3'!U721,\"ERROR\")))","v":"ERROR"},{"$f":"IF(Setup!$B$52=1,'Fert Program 1,2,3'!V605,IF(Setup!$B$52=2,'Fert Program 1,2,3'!V663,IF(Setup!$B$52=3,'Fert Program 1,2,3'!V721,\"ERROR\")))","v":"ERROR"},{"$f":"IF(Setup!$B$52=1,'Fert Program 1,2,3'!W605,IF(Setup!$B$52=2,'Fert Program 1,2,3'!W663,IF(Setup!$B$52=3,'Fert Program 1,2,3'!W721,\"ERROR\")))","v":"ERROR"},{"$f":"IF(Setup!$B$52=1,'Fert Program 1,2,3'!X605,IF(Setup!$B$52=2,'Fert Program 1,2,3'!X663,IF(Setup!$B$52=3,'Fert Program 1,2,3'!X721,\"ERROR\")))","v":"ERROR"},null,null,null,6,4.55,11.498999999999999,6,4.55,11.498999999999999,6,4.55,11.498999999999999]
["2014-09-15","Week 11",{"$f":"IF(Setup!$B$52=1,'Fert Program 1,2,3'!C606,IF(Setup!$B$52=2,'Fert Program 1,2,3'!C664,IF(Setup!$B$52=3,'Fert Program 1,2,3'!C722,\"ERROR\")))","v":"ERROR"},{"$f":"IF(Setup!$B$52=1,'Fert Program 1,2,3'!D606,IF(Setup!$B$52=2,'Fert Program 1,2,3'!D664,IF(Setup!$B$52=3,'Fert Program 1,2,3'!D722,\"ERROR\")))","v":"ERROR"},{"$f":"IF(Setup!$B$52=1,'Fert Program 1,2,3'!E606,IF(Setup!$B$52=2,'Fert Program 1,2,3'!E664,IF(Setup!$B$52=3,'Fert Program 1,2,3'!E722,\"ERROR\")))","v":"ERROR"},{"$f":"IF(Setup!$B$52=1,'Fert Program 1,2,3'!F606,IF(Setup!$B$52=2,'Fert Program 1,2,3'!F664,IF(Setup!$B$52=3,'Fert Program 1,2,3'!F722,\"ERROR\")))","v":"ERROR"},{"$f":"IF(Setup!$B$52=1,'Fert Program 1,2,3'!G606,IF(Setup!$B$52=2,'Fert Program 1,2,3'!G664,IF(Setup!$B$52=3,'Fert Program 1,2,3'!G722,\"ERROR\")))","v":"ERROR"},{"$f":"IF(Setup!$B$52=1,'Fert Program 1,2,3'!H606,IF(Setup!$B$52=2,'Fert Program 1,2,3'!H664,IF(Setup!$B$52=3,'Fert Program 1,2,3'!H722,\"ERROR\")))","v":"ERROR"},{"$f":"IF(Setup!$B$52=1,'Fert Program 1,2,3'!I606,IF(Setup!$B$52=2,'Fert Program 1,2,3'!I664,IF(Setup!$B$52=3,'Fert Program 1,2,3'!I722,\"ERROR\")))","v":"ERROR"},{"$f":"IF(Setup!$B$52=1,'Fert Program 1,2,3'!J606,IF(Setup!$B$52=2,'Fert Program 1,2,3'!J664,IF(Setup!$B$52=3,'Fert Program 1,2,3'!J722,\"ERROR\")))","v":"ERROR"},{"$f":"IF(Setup!$B$52=1,'Fert Program 1,2,3'!K606,IF(Setup!$B$52=2,'Fert Program 1,2,3'!K664,IF(Setup!$B$52=3,'Fert Program 1,2,3'!K722,\"ERROR\")))","v":"ERROR"},{"$f":"IF(Setup!$B$52=1,'Fert Program 1,2,3'!L606,IF(Setup!$B$52=2,'Fert Program 1,2,3'!L664,IF(Setup!$B$52=3,'Fert Program 1,2,3'!L722,\"ERROR\")))","v":"ERROR"},{"$f":"IF(Setup!$B$52=1,'Fert Program 1,2,3'!M606,IF(Setup!$B$52=2,'Fert Program 1,2,3'!M664,IF(Setup!$B$52=3,'Fert Program 1,2,3'!M722,\"ERROR\")))","v":"ERROR"},{"$f":"IF(Setup!$B$52=1,'Fert Program 1,2,3'!N606,IF(Setup!$B$52=2,'Fert Program 1,2,3'!N664,IF(Setup!$B$52=3,'Fert Program 1,2,3'!N722,\"ERROR\")))","v":"ERROR"},{"$f":"IF(Setup!$B$52=1,'Fert Program 1,2,3'!O606,IF(Setup!$B$52=2,'Fert Program 1,2,3'!O664,IF(Setup!$B$52=3,'Fert Program 1,2,3'!O722,\"ERROR\")))","v":"ERROR"},{"$f":"IF(Setup!$B$52=1,'Fert Program 1,2,3'!P606,IF(Setup!$B$52=2,'Fert Program 1,2,3'!P664,IF(Setup!$B$52=3,'Fert Program 1,2,3'!P722,\"ERROR\")))","v":"ERROR"},{"$f":"IF(Setup!$B$52=1,'Fert Program 1,2,3'!Q606,IF(Setup!$B$52=2,'Fert Program 1,2,3'!Q664,IF(Setup!$B$52=3,'Fert Program 1,2,3'!Q722,\"ERROR\")))","v":"ERROR"},{"$f":"IF(Setup!$B$52=1,'Fert Program 1,2,3'!R606,IF(Setup!$B$52=2,'Fert Program 1,2,3'!R664,IF(Setup!$B$52=3,'Fert Program 1,2,3'!R722,\"ERROR\")))","v":"ERROR"},{"$f":"IF(Setup!$B$52=1,'Fert Program 1,2,3'!S606,IF(Setup!$B$52=2,'Fert Program 1,2,3'!S664,IF(Setup!$B$52=3,'Fert Program 1,2,3'!S722,\"ERROR\")))","v":"ERROR"},{"$f":"IF(Setup!$B$52=1,'Fert Program 1,2,3'!T606,IF(Setup!$B$52=2,'Fert Program 1,2,3'!T664,IF(Setup!$B$52=3,'Fert Program 1,2,3'!T722,\"ERROR\")))","v":"ERROR"},{"$f":"IF(Setup!$B$52=1,'Fert Program 1,2,3'!U606,IF(Setup!$B$52=2,'Fert Program 1,2,3'!U664,IF(Setup!$B$52=3,'Fert Program 1,2,3'!U722,\"ERROR\")))","v":"ERROR"},{"$f":"IF(Setup!$B$52=1,'Fert Program 1,2,3'!V606,IF(Setup!$B$52=2,'Fert Program 1,2,3'!V664,IF(Setup!$B$52=3,'Fert Program 1,2,3'!V722,\"ERROR\")))","v":"ERROR"},{"$f":"IF(Setup!$B$52=1,'Fert Program 1,2,3'!W606,IF(Setup!$B$52=2,'Fert Program 1,2,3'!W664,IF(Setup!$B$52=3,'Fert Program 1,2,3'!W722,\"ERROR\")))","v":"ERROR"},{"$f":"IF(Setup!$B$52=1,'Fert Program 1,2,3'!X606,IF(Setup!$B$52=2,'Fert Program 1,2,3'!X664,IF(Setup!$B$52=3,'Fert Program 1,2,3'!X722,\"ERROR\")))","v":"ERROR"},null,null,null,6,4.55,11.498999999999999,6,4.55,11.498999999999999,6,4.55,11.498999999999999]
["2014-09-22","Week 12",{"$f":"IF(Setup!$B$52=1,'Fert Program 1,2,3'!C607,IF(Setup!$B$52=2,'Fert Program 1,2,3'!C665,IF(Setup!$B$52=3,'Fert Program 1,2,3'!C723,\"ERROR\")))","v":"ERROR"},{"$f":"IF(Setup!$B$52=1,'Fert Program 1,2,3'!D607,IF(Setup!$B$52=2,'Fert Program 1,2,3'!D665,IF(Setup!$B$52=3,'Fert Program 1,2,3'!D723,\"ERROR\")))","v":"ERROR"},{"$f":"IF(Setup!$B$52=1,'Fert Program 1,2,3'!E607,IF(Setup!$B$52=2,'Fert Program 1,2,3'!E665,IF(Setup!$B$52=3,'Fert Program 1,2,3'!E723,\"ERROR\")))","v":"ERROR"},{"$f":"IF(Setup!$B$52=1,'Fert Program 1,2,3'!F607,IF(Setup!$B$52=2,'Fert Program 1,2,3'!F665,IF(Setup!$B$52=3,'Fert Program 1,2,3'!F723,\"ERROR\")))","v":"ERROR"},{"$f":"IF(Setup!$B$52=1,'Fert Program 1,2,3'!G607,IF(Setup!$B$52=2,'Fert Program 1,2,3'!G665,IF(Setup!$B$52=3,'Fert Program 1,2,3'!G723,\"ERROR\")))","v":"ERROR"},{"$f":"IF(Setup!$B$52=1,'Fert Program 1,2,3'!H607,IF(Setup!$B$52=2,'Fert Program 1,2,3'!H665,IF(Setup!$B$52=3,'Fert Program 1,2,3'!H723,\"ERROR\")))","v":"ERROR"},{"$f":"IF(Setup!$B$52=1,'Fert Program 1,2,3'!I607,IF(Setup!$B$52=2,'Fert Program 1,2,3'!I665,IF(Setup!$B$52=3,'Fert Program 1,2,3'!I723,\"ERROR\")))","v":"ERROR"},{"$f":"IF(Setup!$B$52=1,'Fert Program 1,2,3'!J607,IF(Setup!$B$52=2,'Fert Program 1,2,3'!J665,IF(Setup!$B$52=3,'Fert Program 1,2,3'!J723,\"ERROR\")))","v":"ERROR"},{"$f":"IF(Setup!$B$52=1,'Fert Program 1,2,3'!K607,IF(Setup!$B$52=2,'Fert Program 1,2,3'!K665,IF(Setup!$B$52=3,'Fert Program 1,2,3'!K723,\"ERROR\")))","v":"ERROR"},{"$f":"IF(Setup!$B$52=1,'Fert Program 1,2,3'!L607,IF(Setup!$B$52=2,'Fert Program 1,2,3'!L665,IF(Setup!$B$52=3,'Fert Program 1,2,3'!L723,\"ERROR\")))","v":"ERROR"},{"$f":"IF(Setup!$B$52=1,'Fert Program 1,2,3'!M607,IF(Setup!$B$52=2,'Fert Program 1,2,3'!M665,IF(Setup!$B$52=3,'Fert Program 1,2,3'!M723,\"ERROR\")))","v":"ERROR"},{"$f":"IF(Setup!$B$52=1,'Fert Program 1,2,3'!N607,IF(Setup!$B$52=2,'Fert Program 1,2,3'!N665,IF(Setup!$B$52=3,'Fert Program 1,2,3'!N723,\"ERROR\")))","v":"ERROR"},{"$f":"IF(Setup!$B$52=1,'Fert Program 1,2,3'!O607,IF(Setup!$B$52=2,'Fert Program 1,2,3'!O665,IF(Setup!$B$52=3,'Fert Program 1,2,3'!O723,\"ERROR\")))","v":"ERROR"},{"$f":"IF(Setup!$B$52=1,'Fert Program 1,2,3'!P607,IF(Setup!$B$52=2,'Fert Program 1,2,3'!P665,IF(Setup!$B$52=3,'Fert Program 1,2,3'!P723,\"ERROR\")))","v":"ERROR"},{"$f":"IF(Setup!$B$52=1,'Fert Program 1,2,3'!Q607,IF(Setup!$B$52=2,'Fert Program 1,2,3'!Q665,IF(Setup!$B$52=3,'Fert Program 1,2,3'!Q723,\"ERROR\")))","v":"ERROR"},{"$f":"IF(Setup!$B$52=1,'Fert Program 1,2,3'!R607,IF(Setup!$B$52=2,'Fert Program 1,2,3'!R665,IF(Setup!$B$52=3,'Fert Program 1,2,3'!R723,\"ERROR\")))","v":"ERROR"},{"$f":"IF(Setup!$B$52=1,'Fert Program 1,2,3'!S607,IF(Setup!$B$52=2,'Fert Program 1,2,3'!S665,IF(Setup!$B$52=3,'Fert Program 1,2,3'!S723,\"ERROR\")))","v":"ERROR"},{"$f":"IF(Setup!$B$52=1,'Fert Program 1,2,3'!T607,IF(Setup!$B$52=2,'Fert Program 1,2,3'!T665,IF(Setup!$B$52=3,'Fert Program 1,2,3'!T723,\"ERROR\")))","v":"ERROR"},{"$f":"IF(Setup!$B$52=1,'Fert Program 1,2,3'!U607,IF(Setup!$B$52=2,'Fert Program 1,2,3'!U665,IF(Setup!$B$52=3,'Fert Program 1,2,3'!U723,\"ERROR\")))","v":"ERROR"},{"$f":"IF(Setup!$B$52=1,'Fert Program 1,2,3'!V607,IF(Setup!$B$52=2,'Fert Program 1,2,3'!V665,IF(Setup!$B$52=3,'Fert Program 1,2,3'!V723,\"ERROR\")))","v":"ERROR"},{"$f":"IF(Setup!$B$52=1,'Fert Program 1,2,3'!W607,IF(Setup!$B$52=2,'Fert Program 1,2,3'!W665,IF(Setup!$B$52=3,'Fert Program 1,2,3'!W723,\"ERROR\")))","v":"ERROR"},{"$f":"IF(Setup!$B$52=1,'Fert Program 1,2,3'!X607,IF(Setup!$B$52=2,'Fert Program 1,2,3'!X665,IF(Setup!$B$52=3,'Fert Program 1,2,3'!X723,\"ERROR\")))","v":"ERROR"},null,null,null,6,4.55,11.498999999999999,6,4.55,11.498999999999999,6,4.55,11.498999999999999]
["2014-09-29","Week 13",{"$f":"IF(Setup!$B$52=1,'Fert Program 1,2,3'!C608,IF(Setup!$B$52=2,'Fert Program 1,2,3'!C666,IF(Setup!$B$52=3,'Fert Program 1,2,3'!C724,\"ERROR\")))","v":"ERROR"},{"$f":"IF(Setup!$B$52=1,'Fert Program 1,2,3'!D608,IF(Setup!$B$52=2,'Fert Program 1,2,3'!D666,IF(Setup!$B$52=3,'Fert Program 1,2,3'!D724,\"ERROR\")))","v":"ERROR"},{"$f":"IF(Setup!$B$52=1,'Fert Program 1,2,3'!E608,IF(Setup!$B$52=2,'Fert Program 1,2,3'!E666,IF(Setup!$B$52=3,'Fert Program 1,2,3'!E724,\"ERROR\")))","v":"ERROR"},{"$f":"IF(Setup!$B$52=1,'Fert Program 1,2,3'!F608,IF(Setup!$B$52=2,'Fert Program 1,2,3'!F666,IF(Setup!$B$52=3,'Fert Program 1,2,3'!F724,\"ERROR\")))","v":"ERROR"},{"$f":"IF(Setup!$B$52=1,'Fert Program 1,2,3'!G608,IF(Setup!$B$52=2,'Fert Program 1,2,3'!G666,IF(Setup!$B$52=3,'Fert Program 1,2,3'!G724,\"ERROR\")))","v":"ERROR"},{"$f":"IF(Setup!$B$52=1,'Fert Program 1,2,3'!H608,IF(Setup!$B$52=2,'Fert Program 1,2,3'!H666,IF(Setup!$B$52=3,'Fert Program 1,2,3'!H724,\"ERROR\")))","v":"ERROR"},{"$f":"IF(Setup!$B$52=1,'Fert Program 1,2,3'!I608,IF(Setup!$B$52=2,'Fert Program 1,2,3'!I666,IF(Setup!$B$52=3,'Fert Program 1,2,3'!I724,\"ERROR\")))","v":"ERROR"},{"$f":"IF(Setup!$B$52=1,'Fert Program 1,2,3'!J608,IF(Setup!$B$52=2,'Fert Program 1,2,3'!J666,IF(Setup!$B$52=3,'Fert Program 1,2,3'!J724,\"ERROR\")))","v":"ERROR"},{"$f":"IF(Setup!$B$52=1,'Fert Program 1,2,3'!K608,IF(Setup!$B$52=2,'Fert Program 1,2,3'!K666,IF(Setup!$B$52=3,'Fert Program 1,2,3'!K724,\"ERROR\")))","v":"ERROR"},{"$f":"IF(Setup!$B$52=1,'Fert Program 1,2,3'!L608,IF(Setup!$B$52=2,'Fert Program 1,2,3'!L666,IF(Setup!$B$52=3,'Fert Program 1,2,3'!L724,\"ERROR\")))","v":"ERROR"},{"$f":"IF(Setup!$B$52=1,'Fert Program 1,2,3'!M608,IF(Setup!$B$52=2,'Fert Program 1,2,3'!M666,IF(Setup!$B$52=3,'Fert Program 1,2,3'!M724,\"ERROR\")))","v":"ERROR"},{"$f":"IF(Setup!$B$52=1,'Fert Program 1,2,3'!N608,IF(Setup!$B$52=2,'Fert Program 1,2,3'!N666,IF(Setup!$B$52=3,'Fert Program 1,2,3'!N724,\"ERROR\")))","v":"ERROR"},{"$f":"IF(Setup!$B$52=1,'Fert Program 1,2,3'!O608,IF(Setup!$B$52=2,'Fert Program 1,2,3'!O666,IF(Setup!$B$52=3,'Fert Program 1,2,3'!O724,\"ERROR\")))","v":"ERROR"},{"$f":"IF(Setup!$B$52=1,'Fert Program 1,2,3'!P608,IF(Setup!$B$52=2,'Fert Program 1,2,3'!P666,IF(Setup!$B$52=3,'Fert Program 1,2,3'!P724,\"ERROR\")))","v":"ERROR"},{"$f":"IF(Setup!$B$52=1,'Fert Program 1,2,3'!Q608,IF(Setup!$B$52=2,'Fert Program 1,2,3'!Q666,IF(Setup!$B$52=3,'Fert Program 1,2,3'!Q724,\"ERROR\")))","v":"ERROR"},{"$f":"IF(Setup!$B$52=1,'Fert Program 1,2,3'!R608,IF(Setup!$B$52=2,'Fert Program 1,2,3'!R666,IF(Setup!$B$52=3,'Fert Program 1,2,3'!R724,\"ERROR\")))","v":"ERROR"},{"$f":"IF(Setup!$B$52=1,'Fert Program 1,2,3'!S608,IF(Setup!$B$52=2,'Fert Program 1,2,3'!S666,IF(Setup!$B$52=3,'Fert Program 1,2,3'!S724,\"ERROR\")))","v":"ERROR"},{"$f":"IF(Setup!$B$52=1,'Fert Program 1,2,3'!T608,IF(Setup!$B$52=2,'Fert Program 1,2,3'!T666,IF(Setup!$B$52=3,'Fert Program 1,2,3'!T724,\"ERROR\")))","v":"ERROR"},{"$f":"IF(Setup!$B$52=1,'Fert Program 1,2,3'!U608,IF(Setup!$B$52=2,'Fert Program 1,2,3'!U666,IF(Setup!$B$52=3,'Fert Program 1,2,3'!U724,\"ERROR\")))","v":"ERROR"},{"$f":"IF(Setup!$B$52=1,'Fert Program 1,2,3'!V608,IF(Setup!$B$52=2,'Fert Program 1,2,3'!V666,IF(Setup!$B$52=3,'Fert Program 1,2,3'!V724,\"ERROR\")))","v":"ERROR"},{"$f":"IF(Setup!$B$52=1,'Fert Program 1,2,3'!W608,IF(Setup!$B$52=2,'Fert Program 1,2,3'!W666,IF(Setup!$B$52=3,'Fert Program 1,2,3'!W724,\"ERROR\")))","v":"ERROR"},{"$f":"IF(Setup!$B$52=1,'Fert Program 1,2,3'!X608,IF(Setup!$B$52=2,'Fert Program 1,2,3'!X666,IF(Setup!$B$52=3,'Fert Program 1,2,3'!X724,\"ERROR\")))","v":"ERROR"},null,null,null,19.399999999999999,4.55,26.298999999999999,19.399999999999999,4.55,28.698999999999998,19.399999999999999,4.55,15.498999999999999]
["2014-10-06","Week 14",{"$f":"IF(Setup!$B$52=1,'Fert Program 1,2,3'!C609,IF(Setup!$B$52=2,'Fert Program 1,2,3'!C667,IF(Setup!$B$52=3,'Fert Program 1,2,3'!C725,\"ERROR\")))","v":"ERROR"},{"$f":"IF(Setup!$B$52=1,'Fert Program 1,2,3'!D609,IF(Setup!$B$52=2,'Fert Program 1,2,3'!D667,IF(Setup!$B$52=3,'Fert Program 1,2,3'!D725,\"ERROR\")))","v":"ERROR"},{"$f":"IF(Setup!$B$52=1,'Fert Program 1,2,3'!E609,IF(Setup!$B$52=2,'Fert Program 1,2,3'!E667,IF(Setup!$B$52=3,'Fert Program 1,2,3'!E725,\"ERROR\")))","v":"ERROR"},{"$f":"IF(Setup!$B$52=1,'Fert Program 1,2,3'!F609,IF(Setup!$B$52=2,'Fert Program 1,2,3'!F667,IF(Setup!$B$52=3,'Fert Program 1,2,3'!F725,\"ERROR\")))","v":"ERROR"},{"$f":"IF(Setup!$B$52=1,'Fert Program 1,2,3'!G609,IF(Setup!$B$52=2,'Fert Program 1,2,3'!G667,IF(Setup!$B$52=3,'Fert Program 1,2,3'!G725,\"ERROR\")))","v":"ERROR"},{"$f":"IF(Setup!$B$52=1,'Fert Program 1,2,3'!H609,IF(Setup!$B$52=2,'Fert Program 1,2,3'!H667,IF(Setup!$B$52=3,'Fert Program 1,2,3'!H725,\"ERROR\")))","v":"ERROR"},{"$f":"IF(Setup!$B$52=1,'Fert Program 1,2,3'!I609,IF(Setup!$B$52=2,'Fert Program 1,2,3'!I667,IF(Setup!$B$52=3,'Fert Program 1,2,3'!I725,\"ERROR\")))","v":"ERROR"},{"$f":"IF(Setup!$B$52=1,'Fert Program 1,2,3'!J609,IF(Setup!$B$52=2,'Fert Program 1,2,3'!J667,IF(Setup!$B$52=3,'Fert Program 1,2,3'!J725,\"ERROR\")))","v":"ERROR"},{"$f":"IF(Setup!$B$52=1,'Fert Program 1,2,3'!K609,IF(Setup!$B$52=2,'Fert Program 1,2,3'!K667,IF(Setup!$B$52=3,'Fert Program 1,2,3'!K725,\"ERROR\")))","v":"ERROR"},{"$f":"IF(Setup!$B$52=1,'Fert Program 1,2,3'!L609,IF(Setup!$B$52=2,'Fert Program 1,2,3'!L667,IF(Setup!$B$52=3,'Fert Program 1,2,3'!L725,\"ERROR\")))","v":"ERROR"},{"$f":"IF(Setup!$B$52=1,'Fert Program 1,2,3'!M609,IF(Setup!$B$52=2,'Fert Program 1,2,3'!M667,IF(Setup!$B$52=3,'Fert Program 1,2,3'!M725,\"ERROR\")))","v":"ERROR"},{"$f":"IF(Setup!$B$52=1,'Fert Program 1,2,3'!N609,IF(Setup!$B$52=2,'Fert Program 1,2,3'!N667,IF(Setup!$B$52=3,'Fert Program 1,2,3'!N725,\"ERROR\")))","v":"ERROR"},{"$f":"IF(Setup!$B$52=1,'Fert Program 1,2,3'!O609,IF(Setup!$B$52=2,'Fert Program 1,2,3'!O667,IF(Setup!$B$52=3,'Fert Program 1,2,3'!O725,\"ERROR\")))","v":"ERROR"},{"$f":"IF(Setup!$B$52=1,'Fert Program 1,2,3'!P609,IF(Setup!$B$52=2,'Fert Program 1,2,3'!P667,IF(Setup!$B$52=3,'Fert Program 1,2,3'!P725,\"ERROR\")))","v":"ERROR"},{"$f":"IF(Setup!$B$52=1,'Fert Program 1,2,3'!Q609,IF(Setup!$B$52=2,'Fert Program 1,2,3'!Q667,IF(Setup!$B$52=3,'Fert Program 1,2,3'!Q725,\"ERROR\")))","v":"ERROR"},{"$f":"IF(Setup!$B$52=1,'Fert Program 1,2,3'!R609,IF(Setup!$B$52=2,'Fert Program 1,2,3'!R667,IF(Setup!$B$52=3,'Fert Program 1,2,3'!R725,\"ERROR\")))","v":"ERROR"},{"$f":"IF(Setup!$B$52=1,'Fert Program 1,2,3'!S609,IF(Setup!$B$52=2,'Fert Program 1,2,3'!S667,IF(Setup!$B$52=3,'Fert Program 1,2,3'!S725,\"ERROR\")))","v":"ERROR"},{"$f":"IF(Setup!$B$52=1,'Fert Program 1,2,3'!T609,IF(Setup!$B$52=2,'Fert Program 1,2,3'!T667,IF(Setup!$B$52=3,'Fert Program 1,2,3'!T725,\"ERROR\")))","v":"ERROR"},{"$f":"IF(Setup!$B$52=1,'Fert Program 1,2,3'!U609,IF(Setup!$B$52=2,'Fert Program 1,2,3'!U667,IF(Setup!$B$52=3,'Fert Program 1,2,3'!U725,\"ERROR\")))","v":"ERROR"},{"$f":"IF(Setup!$B$52=1,'Fert Program 1,2,3'!V609,IF(Setup!$B$52=2,'Fert Program 1,2,3'!V667,IF(Setup!$B$52=3,'Fert Program 1,2,3'!V725,\"ERROR\")))","v":"ERROR"},{"$f":"IF(Setup!$B$52=1,'Fert Program 1,2,3'!W609,IF(Setup!$B$52=2,'Fert Program 1,2,3'!W667,IF(Setup!$B$52=3,'Fert Program 1,2,3'!W725,\"ERROR\")))","v":"ERROR"},{"$f":"IF(Setup!$B$52=1,'Fert Program 1,2,3'!X609,IF(Setup!$B$52=2,'Fert Program 1,2,3'!X667,IF(Setup!$B$52=3,'Fert Program 1,2,3'!X725,\"ERROR\")))","v":"ERROR"},null,null,null,19.399999999999999,4.55,26.298999999999999,19.399999999999999,4.55,28.698999999999998,19.399999999999999,4.55,15.498999999999999]
["2014-10-13","Week 15",{"$f":"IF(Setup!$B$52=1,'Fert Program 1,2,3'!C610,IF(Setup!$B$52=2,'Fert Program 1,2,3'!C668,IF(Setup!$B$52=3,'Fert Program 1,2,3'!C726,\"ERROR\")))","v":"ERROR"},{"$f":"IF(Setup!$B$52=1,'Fert Program 1,2,3'!D610,IF(Setup!$B$52=2,'Fert Program 1,2,3'!D668,IF(Setup!$B$52=3,'Fert Program 1,2,3'!D726,\"ERROR\")))","v":"ERROR"},{"$f":"IF(Setup!$B$52=1,'Fert Program 1,2,3'!E610,IF(Setup!$B$52=2,'Fert Program 1,2,3'!E668,IF(Setup!$B$52=3,'Fert Program 1,2,3'!E726,\"ERROR\")))","v":"ERROR"},{"$f":"IF(Setup!$B$52=1,'Fert Program 1,2,3'!F610,IF(Setup!$B$52=2,'Fert Program 1,2,3'!F668,IF(Setup!$B$52=3,'Fert Program 1,2,3'!F726,\"ERROR\")))","v":"ERROR"},{"$f":"IF(Setup!$B$52=1,'Fert Program 1,2,3'!G610,IF(Setup!$B$52=2,'Fert Program 1,2,3'!G668,IF(Setup!$B$52=3,'Fert Program 1,2,3'!G726,\"ERROR\")))","v":"ERROR"},{"$f":"IF(Setup!$B$52=1,'Fert Program 1,2,3'!H610,IF(Setup!$B$52=2,'Fert Program 1,2,3'!H668,IF(Setup!$B$52=3,'Fert Program 1,2,3'!H726,\"ERROR\")))","v":"ERROR"},{"$f":"IF(Setup!$B$52=1,'Fert Program 1,2,3'!I610,IF(Setup!$B$52=2,'Fert Program 1,2,3'!I668,IF(Setup!$B$52=3,'Fert Program 1,2,3'!I726,\"ERROR\")))","v":"ERROR"},{"$f":"IF(Setup!$B$52=1,'Fert Program 1,2,3'!J610,IF(Setup!$B$52=2,'Fert Program 1,2,3'!J668,IF(Setup!$B$52=3,'Fert Program 1,2,3'!J726,\"ERROR\")))","v":"ERROR"},{"$f":"IF(Setup!$B$52=1,'Fert Program 1,2,3'!K610,IF(Setup!$B$52=2,'Fert Program 1,2,3'!K668,IF(Setup!$B$52=3,'Fert Program 1,2,3'!K726,\"ERROR\")))","v":"ERROR"},{"$f":"IF(Setup!$B$52=1,'Fert Program 1,2,3'!L610,IF(Setup!$B$52=2,'Fert Program 1,2,3'!L668,IF(Setup!$B$52=3,'Fert Program 1,2,3'!L726,\"ERROR\")))","v":"ERROR"},{"$f":"IF(Setup!$B$52=1,'Fert Program 1,2,3'!M610,IF(Setup!$B$52=2,'Fert Program 1,2,3'!M668,IF(Setup!$B$52=3,'Fert Program 1,2,3'!M726,\"ERROR\")))","v":"ERROR"},{"$f":"IF(Setup!$B$52=1,'Fert Program 1,2,3'!N610,IF(Setup!$B$52=2,'Fert Program 1,2,3'!N668,IF(Setup!$B$52=3,'Fert Program 1,2,3'!N726,\"ERROR\")))","v":"ERROR"},{"$f":"IF(Setup!$B$52=1,'Fert Program 1,2,3'!O610,IF(Setup!$B$52=2,'Fert Program 1,2,3'!O668,IF(Setup!$B$52=3,'Fert Program 1,2,3'!O726,\"ERROR\")))","v":"ERROR"},{"$f":"IF(Setup!$B$52=1,'Fert Program 1,2,3'!P610,IF(Setup!$B$52=2,'Fert Program 1,2,3'!P668,IF(Setup!$B$52=3,'Fert Program 1,2,3'!P726,\"ERROR\")))","v":"ERROR"},{"$f":"IF(Setup!$B$52=1,'Fert Program 1,2,3'!Q610,IF(Setup!$B$52=2,'Fert Program 1,2,3'!Q668,IF(Setup!$B$52=3,'Fert Program 1,2,3'!Q726,\"ERROR\")))","v":"ERROR"},{"$f":"IF(Setup!$B$52=1,'Fert Program 1,2,3'!R610,IF(Setup!$B$52=2,'Fert Program 1,2,3'!R668,IF(Setup!$B$52=3,'Fert Program 1,2,3'!R726,\"ERROR\")))","v":"ERROR"},{"$f":"IF(Setup!$B$52=1,'Fert Program 1,2,3'!S610,IF(Setup!$B$52=2,'Fert Program 1,2,3'!S668,IF(Setup!$B$52=3,'Fert Program 1,2,3'!S726,\"ERROR\")))","v":"ERROR"},{"$f":"IF(Setup!$B$52=1,'Fert Program 1,2,3'!T610,IF(Setup!$B$52=2,'Fert Program 1,2,3'!T668,IF(Setup!$B$52=3,'Fert Program 1,2,3'!T726,\"ERROR\")))","v":"ERROR"},{"$f":"IF(Setup!$B$52=1,'Fert Program 1,2,3'!U610,IF(Setup!$B$52=2,'Fert Program 1,2,3'!U668,IF(Setup!$B$52=3,'Fert Program 1,2,3'!U726,\"ERROR\")))","v":"ERROR"},{"$f":"IF(Setup!$B$52=1,'Fert Program 1,2,3'!V610,IF(Setup!$B$52=2,'Fert Program 1,2,3'!V668,IF(Setup!$B$52=3,'Fert Program 1,2,3'!V726,\"ERROR\")))","v":"ERROR"},{"$f":"IF(Setup!$B$52=1,'Fert Program 1,2,3'!W610,IF(Setup!$B$52=2,'Fert Program 1,2,3'!W668,IF(Setup!$B$52=3,'Fert Program 1,2,3'!W726,\"ERROR\")))","v":"ERROR"},{"$f":"IF(Setup!$B$52=1,'Fert Program 1,2,3'!X610,IF(Setup!$B$52=2,'Fert Program 1,2,3'!X668,IF(Setup!$B$52=3,'Fert Program 1,2,3'!X726,\"ERROR\")))","v":"ERROR"},null,null,null,19.399999999999999,4.55,26.298999999999999,19.399999999999999,4.55,28.698999999999998,19.399999999999999,4.55,15.498999999999999]
["2014-10-20","Week 16",{"$f":"IF(Setup!$B$52=1,'Fert Program 1,2,3'!C611,IF(Setup!$B$52=2,'Fert Program 1,2,3'!C669,IF(Setup!$B$52=3,'Fert Program 1,2,3'!C727,\"ERROR\")))","v":"ERROR"},{"$f":"IF(Setup!$B$52=1,'Fert Program 1,2,3'!D611,IF(Setup!$B$52=2,'Fert Program 1,2,3'!D669,IF(Setup!$B$52=3,'Fert Program 1,2,3'!D727,\"ERROR\")))","v":"ERROR"},{"$f":"IF(Setup!$B$52=1,'Fert Program 1,2,3'!E611,IF(Setup!$B$52=2,'Fert Program 1,2,3'!E669,IF(Setup!$B$52=3,'Fert Program 1,2,3'!E727,\"ERROR\")))","v":"ERROR"},{"$f":"IF(Setup!$B$52=1,'Fert Program 1,2,3'!F611,IF(Setup!$B$52=2,'Fert Program 1,2,3'!F669,IF(Setup!$B$52=3,'Fert Program 1,2,3'!F727,\"ERROR\")))","v":"ERROR"},{"$f":"IF(Setup!$B$52=1,'Fert Program 1,2,3'!G611,IF(Setup!$B$52=2,'Fert Program 1,2,3'!G669,IF(Setup!$B$52=3,'Fert Program 1,2,3'!G727,\"ERROR\")))","v":"ERROR"},{"$f":"IF(Setup!$B$52=1,'Fert Program 1,2,3'!H611,IF(Setup!$B$52=2,'Fert Program 1,2,3'!H669,IF(Setup!$B$52=3,'Fert Program 1,2,3'!H727,\"ERROR\")))","v":"ERROR"},{"$f":"IF(Setup!$B$52=1,'Fert Program 1,2,3'!I611,IF(Setup!$B$52=2,'Fert Program 1,2,3'!I669,IF(Setup!$B$52=3,'Fert Program 1,2,3'!I727,\"ERROR\")))","v":"ERROR"},{"$f":"IF(Setup!$B$52=1,'Fert Program 1,2,3'!J611,IF(Setup!$B$52=2,'Fert Program 1,2,3'!J669,IF(Setup!$B$52=3,'Fert Program 1,2,3'!J727,\"ERROR\")))","v":"ERROR"},{"$f":"IF(Setup!$B$52=1,'Fert Program 1,2,3'!K611,IF(Setup!$B$52=2,'Fert Program 1,2,3'!K669,IF(Setup!$B$52=3,'Fert Program 1,2,3'!K727,\"ERROR\")))","v":"ERROR"},{"$f":"IF(Setup!$B$52=1,'Fert Program 1,2,3'!L611,IF(Setup!$B$52=2,'Fert Program 1,2,3'!L669,IF(Setup!$B$52=3,'Fert Program 1,2,3'!L727,\"ERROR\")))","v":"ERROR"},{"$f":"IF(Setup!$B$52=1,'Fert Program 1,2,3'!M611,IF(Setup!$B$52=2,'Fert Program 1,2,3'!M669,IF(Setup!$B$52=3,'Fert Program 1,2,3'!M727,\"ERROR\")))","v":"ERROR"},{"$f":"IF(Setup!$B$52=1,'Fert Program 1,2,3'!N611,IF(Setup!$B$52=2,'Fert Program 1,2,3'!N669,IF(Setup!$B$52=3,'Fert Program 1,2,3'!N727,\"ERROR\")))","v":"ERROR"},{"$f":"IF(Setup!$B$52=1,'Fert Program 1,2,3'!O611,IF(Setup!$B$52=2,'Fert Program 1,2,3'!O669,IF(Setup!$B$52=3,'Fert Program 1,2,3'!O727,\"ERROR\")))","v":"ERROR"},{"$f":"IF(Setup!$B$52=1,'Fert Program 1,2,3'!P611,IF(Setup!$B$52=2,'Fert Program 1,2,3'!P669,IF(Setup!$B$52=3,'Fert Program 1,2,3'!P727,\"ERROR\")))","v":"ERROR"},{"$f":"IF(Setup!$B$52=1,'Fert Program 1,2,3'!Q611,IF(Setup!$B$52=2,'Fert Program 1,2,3'!Q669,IF(Setup!$B$52=3,'Fert Program 1,2,3'!Q727,\"ERROR\")))","v":"ERROR"},{"$f":"IF(Setup!$B$52=1,'Fert Program 1,2,3'!R611,IF(Setup!$B$52=2,'Fert Program 1,2,3'!R669,IF(Setup!$B$52=3,'Fert Program 1,2,3'!R727,\"ERROR\")))","v":"ERROR"},{"$f":"IF(Setup!$B$52=1,'Fert Program 1,2,3'!S611,IF(Setup!$B$52=2,'Fert Program 1,2,3'!S669,IF(Setup!$B$52=3,'Fert Program 1,2,3'!S727,\"ERROR\")))","v":"ERROR"},{"$f":"IF(Setup!$B$52=1,'Fert Program 1,2,3'!T611,IF(Setup!$B$52=2,'Fert Program 1,2,3'!T669,IF(Setup!$B$52=3,'Fert Program 1,2,3'!T727,\"ERROR\")))","v":"ERROR"},{"$f":"IF(Setup!$B$52=1,'Fert Program 1,2,3'!U611,IF(Setup!$B$52=2,'Fert Program 1,2,3'!U669,IF(Setup!$B$52=3,'Fert Program 1,2,3'!U727,\"ERROR\")))","v":"ERROR"},{"$f":"IF(Setup!$B$52=1,'Fert Program 1,2,3'!V611,IF(Setup!$B$52=2,'Fert Program 1,2,3'!V669,IF(Setup!$B$52=3,'Fert Program 1,2,3'!V727,\"ERROR\")))","v":"ERROR"},{"$f":"IF(Setup!$B$52=1,'Fert Program 1,2,3'!W611,IF(Setup!$B$52=2,'Fert Program 1,2,3'!W669,IF(Setup!$B$52=3,'Fert Program 1,2,3'!W727,\"ERROR\")))","v":"ERROR"},{"$f":"IF(Setup!$B$52=1,'Fert Program 1,2,3'!X611,IF(Setup!$B$52=2,'Fert Program 1,2,3'!X669,IF(Setup!$B$52=3,'Fert Program 1,2,3'!X727,\"ERROR\")))","v":"ERROR"},null,null,null,19.399999999999999,4.55,26.298999999999999,19.399999999999999,4.55,28.698999999999998,19.399999999999999,4.55,15.498999999999999]
["2014-10-27","Week 17",{"$f":"IF(Setup!$B$52=1,'Fert Program 1,2,3'!C612,IF(Setup!$B$52=2,'Fert Program 1,2,3'!C670,IF(Setup!$B$52=3,'Fert Program 1,2,3'!C728,\"ERROR\")))","v":"ERROR"},{"$f":"IF(Setup!$B$52=1,'Fert Program 1,2,3'!D612,IF(Setup!$B$52=2,'Fert Program 1,2,3'!D670,IF(Setup!$B$52=3,'Fert Program 1,2,3'!D728,\"ERROR\")))","v":"ERROR"},{"$f":"IF(Setup!$B$52=1,'Fert Program 1,2,3'!E612,IF(Setup!$B$52=2,'Fert Program 1,2,3'!E670,IF(Setup!$B$52=3,'Fert Program 1,2,3'!E728,\"ERROR\")))","v":"ERROR"},{"$f":"IF(Setup!$B$52=1,'Fert Program 1,2,3'!F612,IF(Setup!$B$52=2,'Fert Program 1,2,3'!F670,IF(Setup!$B$52=3,'Fert Program 1,2,3'!F728,\"ERROR\")))","v":"ERROR"},{"$f":"IF(Setup!$B$52=1,'Fert Program 1,2,3'!G612,IF(Setup!$B$52=2,'Fert Program 1,2,3'!G670,IF(Setup!$B$52=3,'Fert Program 1,2,3'!G728,\"ERROR\")))","v":"ERROR"},{"$f":"IF(Setup!$B$52=1,'Fert Program 1,2,3'!H612,IF(Setup!$B$52=2,'Fert Program 1,2,3'!H670,IF(Setup!$B$52=3,'Fert Program 1,2,3'!H728,\"ERROR\")))","v":"ERROR"},{"$f":"IF(Setup!$B$52=1,'Fert Program 1,2,3'!I612,IF(Setup!$B$52=2,'Fert Program 1,2,3'!I670,IF(Setup!$B$52=3,'Fert Program 1,2,3'!I728,\"ERROR\")))","v":"ERROR"},{"$f":"IF(Setup!$B$52=1,'Fert Program 1,2,3'!J612,IF(Setup!$B$52=2,'Fert Program 1,2,3'!J670,IF(Setup!$B$52=3,'Fert Program 1,2,3'!J728,\"ERROR\")))","v":"ERROR"},{"$f":"IF(Setup!$B$52=1,'Fert Program 1,2,3'!K612,IF(Setup!$B$52=2,'Fert Program 1,2,3'!K670,IF(Setup!$B$52=3,'Fert Program 1,2,3'!K728,\"ERROR\")))","v":"ERROR"},{"$f":"IF(Setup!$B$52=1,'Fert Program 1,2,3'!L612,IF(Setup!$B$52=2,'Fert Program 1,2,3'!L670,IF(Setup!$B$52=3,'Fert Program 1,2,3'!L728,\"ERROR\")))","v":"ERROR"},{"$f":"IF(Setup!$B$52=1,'Fert Program 1,2,3'!M612,IF(Setup!$B$52=2,'Fert Program 1,2,3'!M670,IF(Setup!$B$52=3,'Fert Program 1,2,3'!M728,\"ERROR\")))","v":"ERROR"},{"$f":"IF(Setup!$B$52=1,'Fert Program 1,2,3'!N612,IF(Setup!$B$52=2,'Fert Program 1,2,3'!N670,IF(Setup!$B$52=3,'Fert Program 1,2,3'!N728,\"ERROR\")))","v":"ERROR"},{"$f":"IF(Setup!$B$52=1,'Fert Program 1,2,3'!O612,IF(Setup!$B$52=2,'Fert Program 1,2,3'!O670,IF(Setup!$B$52=3,'Fert Program 1,2,3'!O728,\"ERROR\")))","v":"ERROR"},{"$f":"IF(Setup!$B$52=1,'Fert Program 1,2,3'!P612,IF(Setup!$B$52=2,'Fert Program 1,2,3'!P670,IF(Setup!$B$52=3,'Fert Program 1,2,3'!P728,\"ERROR\")))","v":"ERROR"},{"$f":"IF(Setup!$B$52=1,'Fert Program 1,2,3'!Q612,IF(Setup!$B$52=2,'Fert Program 1,2,3'!Q670,IF(Setup!$B$52=3,'Fert Program 1,2,3'!Q728,\"ERROR\")))","v":"ERROR"},{"$f":"IF(Setup!$B$52=1,'Fert Program 1,2,3'!R612,IF(Setup!$B$52=2,'Fert Program 1,2,3'!R670,IF(Setup!$B$52=3,'Fert Program 1,2,3'!R728,\"ERROR\")))","v":"ERROR"},{"$f":"IF(Setup!$B$52=1,'Fert Program 1,2,3'!S612,IF(Setup!$B$52=2,'Fert Program 1,2,3'!S670,IF(Setup!$B$52=3,'Fert Program 1,2,3'!S728,\"ERROR\")))","v":"ERROR"},{"$f":"IF(Setup!$B$52=1,'Fert Program 1,2,3'!T612,IF(Setup!$B$52=2,'Fert Program 1,2,3'!T670,IF(Setup!$B$52=3,'Fert Program 1,2,3'!T728,\"ERROR\")))","v":"ERROR"},{"$f":"IF(Setup!$B$52=1,'Fert Program 1,2,3'!U612,IF(Setup!$B$52=2,'Fert Program 1,2,3'!U670,IF(Setup!$B$52=3,'Fert Program 1,2,3'!U728,\"ERROR\")))","v":"ERROR"},{"$f":"IF(Setup!$B$52=1,'Fert Program 1,2,3'!V612,IF(Setup!$B$52=2,'Fert Program 1,2,3'!V670,IF(Setup!$B$52=3,'Fert Program 1,2,3'!V728,\"ERROR\")))","v":"ERROR"},{"$f":"IF(Setup!$B$52=1,'Fert Program 1,2,3'!W612,IF(Setup!$B$52=2,'Fert Program 1,2,3'!W670,IF(Setup!$B$52=3,'Fert Program 1,2,3'!W728,\"ERROR\")))","v":"ERROR"},{"$f":"IF(Setup!$B$52=1,'Fert Program 1,2,3'!X612,IF(Setup!$B$52=2,'Fert Program 1,2,3'!X670,IF(Setup!$B$52=3,'Fert Program 1,2,3'!X728,\"ERROR\")))","v":"ERROR"},null,null,null,19.399999999999999,4.55,24.298999999999999,19.399999999999999,4.55,28.698999999999998,19.399999999999999,4.55,15.498999999999999]
["2014-11-03","Week 18",{"$f":"IF(Setup!$B$52=1,'Fert Program 1,2,3'!C613,IF(Setup!$B$52=2,'Fert Program 1,2,3'!C671,IF(Setup!$B$52=3,'Fert Program 1,2,3'!C729,\"ERROR\")))","v":"ERROR"},{"$f":"IF(Setup!$B$52=1,'Fert Program 1,2,3'!D613,IF(Setup!$B$52=2,'Fert Program 1,2,3'!D671,IF(Setup!$B$52=3,'Fert Program 1,2,3'!D729,\"ERROR\")))","v":"ERROR"},{"$f":"IF(Setup!$B$52=1,'Fert Program 1,2,3'!E613,IF(Setup!$B$52=2,'Fert Program 1,2,3'!E671,IF(Setup!$B$52=3,'Fert Program 1,2,3'!E729,\"ERROR\")))","v":"ERROR"},{"$f":"IF(Setup!$B$52=1,'Fert Program 1,2,3'!F613,IF(Setup!$B$52=2,'Fert Program 1,2,3'!F671,IF(Setup!$B$52=3,'Fert Program 1,2,3'!F729,\"ERROR\")))","v":"ERROR"},{"$f":"IF(Setup!$B$52=1,'Fert Program 1,2,3'!G613,IF(Setup!$B$52=2,'Fert Program 1,2,3'!G671,IF(Setup!$B$52=3,'Fert Program 1,2,3'!G729,\"ERROR\")))","v":"ERROR"},{"$f":"IF(Setup!$B$52=1,'Fert Program 1,2,3'!H613,IF(Setup!$B$52=2,'Fert Program 1,2,3'!H671,IF(Setup!$B$52=3,'Fert Program 1,2,3'!H729,\"ERROR\")))","v":"ERROR"},{"$f":"IF(Setup!$B$52=1,'Fert Program 1,2,3'!I613,IF(Setup!$B$52=2,'Fert Program 1,2,3'!I671,IF(Setup!$B$52=3,'Fert Program 1,2,3'!I729,\"ERROR\")))","v":"ERROR"},{"$f":"IF(Setup!$B$52=1,'Fert Program 1,2,3'!J613,IF(Setup!$B$52=2,'Fert Program 1,2,3'!J671,IF(Setup!$B$52=3,'Fert Program 1,2,3'!J729,\"ERROR\")))","v":"ERROR"},{"$f":"IF(Setup!$B$52=1,'Fert Program 1,2,3'!K613,IF(Setup!$B$52=2,'Fert Program 1,2,3'!K671,IF(Setup!$B$52=3,'Fert Program 1,2,3'!K729,\"ERROR\")))","v":"ERROR"},{"$f":"IF(Setup!$B$52=1,'Fert Program 1,2,3'!L613,IF(Setup!$B$52=2,'Fert Program 1,2,3'!L671,IF(Setup!$B$52=3,'Fert Program 1,2,3'!L729,\"ERROR\")))","v":"ERROR"},{"$f":"IF(Setup!$B$52=1,'Fert Program 1,2,3'!M613,IF(Setup!$B$52=2,'Fert Program 1,2,3'!M671,IF(Setup!$B$52=3,'Fert Program 1,2,3'!M729,\"ERROR\")))","v":"ERROR"},{"$f":"IF(Setup!$B$52=1,'Fert Program 1,2,3'!N613,IF(Setup!$B$52=2,'Fert Program 1,2,3'!N671,IF(Setup!$B$52=3,'Fert Program 1,2,3'!N729,\"ERROR\")))","v":"ERROR"},{"$f":"IF(Setup!$B$52=1,'Fert Program 1,2,3'!O613,IF(Setup!$B$52=2,'Fert Program 1,2,3'!O671,IF(Setup!$B$52=3,'Fert Program 1,2,3'!O729,\"ERROR\")))","v":"ERROR"},{"$f":"IF(Setup!$B$52=1,'Fert Program 1,2,3'!P613,IF(Setup!$B$52=2,'Fert Program 1,2,3'!P671,IF(Setup!$B$52=3,'Fert Program 1,2,3'!P729,\"ERROR\")))","v":"ERROR"},{"$f":"IF(Setup!$B$52=1,'Fert Program 1,2,3'!Q613,IF(Setup!$B$52=2,'Fert Program 1,2,3'!Q671,IF(Setup!$B$52=3,'Fert Program 1,2,3'!Q729,\"ERROR\")))","v":"ERROR"},{"$f":"IF(Setup!$B$52=1,'Fert Program 1,2,3'!R613,IF(Setup!$B$52=2,'Fert Program 1,2,3'!R671,IF(Setup!$B$52=3,'Fert Program 1,2,3'!R729,\"ERROR\")))","v":"ERROR"},{"$f":"IF(Setup!$B$52=1,'Fert Program 1,2,3'!S613,IF(Setup!$B$52=2,'Fert Program 1,2,3'!S671,IF(Setup!$B$52=3,'Fert Program 1,2,3'!S729,\"ERROR\")))","v":"ERROR"},{"$f":"IF(Setup!$B$52=1,'Fert Program 1,2,3'!T613,IF(Setup!$B$52=2,'Fert Program 1,2,3'!T671,IF(Setup!$B$52=3,'Fert Program 1,2,3'!T729,\"ERROR\")))","v":"ERROR"},{"$f":"IF(Setup!$B$52=1,'Fert Program 1,2,3'!U613,IF(Setup!$B$52=2,'Fert Program 1,2,3'!U671,IF(Setup!$B$52=3,'Fert Program 1,2,3'!U729,\"ERROR\")))","v":"ERROR"},{"$f":"IF(Setup!$B$52=1,'Fert Program 1,2,3'!V613,IF(Setup!$B$52=2,'Fert Program 1,2,3'!V671,IF(Setup!$B$52=3,'Fert Program 1,2,3'!V729,\"ERROR\")))","v":"ERROR"},{"$f":"IF(Setup!$B$52=1,'Fert Program 1,2,3'!W613,IF(Setup!$B$52=2,'Fert Program 1,2,3'!W671,IF(Setup!$B$52=3,'Fert Program 1,2,3'!W729,\"ERROR\")))","v":"ERROR"},{"$f":"IF(Setup!$B$52=1,'Fert Program 1,2,3'!X613,IF(Setup!$B$52=2,'Fert Program 1,2,3'!X671,IF(Setup!$B$52=3,'Fert Program 1,2,3'!X729,\"ERROR\")))","v":"ERROR"},null,null,null,11.025,4.55,11.498999999999999,19.399999999999999,4.55,28.698999999999998,19.399999999999999,4.55,15.498999999999999]
["2014-11-10","Week 19",{"$f":"IF(Setup!$B$52=1,'Fert Program 1,2,3'!C614,IF(Setup!$B$52=2,'Fert Program 1,2,3'!C672,IF(Setup!$B$52=3,'Fert Program 1,2,3'!C730,\"ERROR\")))","v":"ERROR"},{"$f":"IF(Setup!$B$52=1,'Fert Program 1,2,3'!D614,IF(Setup!$B$52=2,'Fert Program 1,2,3'!D672,IF(Setup!$B$52=3,'Fert Program 1,2,3'!D730,\"ERROR\")))","v":"ERROR"},{"$f":"IF(Setup!$B$52=1,'Fert Program 1,2,3'!E614,IF(Setup!$B$52=2,'Fert Program 1,2,3'!E672,IF(Setup!$B$52=3,'Fert Program 1,2,3'!E730,\"ERROR\")))","v":"ERROR"},{"$f":"IF(Setup!$B$52=1,'Fert Program 1,2,3'!F614,IF(Setup!$B$52=2,'Fert Program 1,2,3'!F672,IF(Setup!$B$52=3,'Fert Program 1,2,3'!F730,\"ERROR\")))","v":"ERROR"},{"$f":"IF(Setup!$B$52=1,'Fert Program 1,2,3'!G614,IF(Setup!$B$52=2,'Fert Program 1,2,3'!G672,IF(Setup!$B$52=3,'Fert Program 1,2,3'!G730,\"ERROR\")))","v":"ERROR"},{"$f":"IF(Setup!$B$52=1,'Fert Program 1,2,3'!H614,IF(Setup!$B$52=2,'Fert Program 1,2,3'!H672,IF(Setup!$B$52=3,'Fert Program 1,2,3'!H730,\"ERROR\")))","v":"ERROR"},{"$f":"IF(Setup!$B$52=1,'Fert Program 1,2,3'!I614,IF(Setup!$B$52=2,'Fert Program 1,2,3'!I672,IF(Setup!$B$52=3,'Fert Program 1,2,3'!I730,\"ERROR\")))","v":"ERROR"},{"$f":"IF(Setup!$B$52=1,'Fert Program 1,2,3'!J614,IF(Setup!$B$52=2,'Fert Program 1,2,3'!J672,IF(Setup!$B$52=3,'Fert Program 1,2,3'!J730,\"ERROR\")))","v":"ERROR"},{"$f":"IF(Setup!$B$52=1,'Fert Program 1,2,3'!K614,IF(Setup!$B$52=2,'Fert Program 1,2,3'!K672,IF(Setup!$B$52=3,'Fert Program 1,2,3'!K730,\"ERROR\")))","v":"ERROR"},{"$f":"IF(Setup!$B$52=1,'Fert Program 1,2,3'!L614,IF(Setup!$B$52=2,'Fert Program 1,2,3'!L672,IF(Setup!$B$52=3,'Fert Program 1,2,3'!L730,\"ERROR\")))","v":"ERROR"},{"$f":"IF(Setup!$B$52=1,'Fert Program 1,2,3'!M614,IF(Setup!$B$52=2,'Fert Program 1,2,3'!M672,IF(Setup!$B$52=3,'Fert Program 1,2,3'!M730,\"ERROR\")))","v":"ERROR"},{"$f":"IF(Setup!$B$52=1,'Fert Program 1,2,3'!N614,IF(Setup!$B$52=2,'Fert Program 1,2,3'!N672,IF(Setup!$B$52=3,'Fert Program 1,2,3'!N730,\"ERROR\")))","v":"ERROR"},{"$f":"IF(Setup!$B$52=1,'Fert Program 1,2,3'!O614,IF(Setup!$B$52=2,'Fert Program 1,2,3'!O672,IF(Setup!$B$52=3,'Fert Program 1,2,3'!O730,\"ERROR\")))","v":"ERROR"},{"$f":"IF(Setup!$B$52=1,'Fert Program 1,2,3'!P614,IF(Setup!$B$52=2,'Fert Program 1,2,3'!P672,IF(Setup!$B$52=3,'Fert Program 1,2,3'!P730,\"ERROR\")))","v":"ERROR"},{"$f":"IF(Setup!$B$52=1,'Fert Program 1,2,3'!Q614,IF(Setup!$B$52=2,'Fert Program 1,2,3'!Q672,IF(Setup!$B$52=3,'Fert Program 1,2,3'!Q730,\"ERROR\")))","v":"ERROR"},{"$f":"IF(Setup!$B$52=1,'Fert Program 1,2,3'!R614,IF(Setup!$B$52=2,'Fert Program 1,2,3'!R672,IF(Setup!$B$52=3,'Fert Program 1,2,3'!R730,\"ERROR\")))","v":"ERROR"},{"$f":"IF(Setup!$B$52=1,'Fert Program 1,2,3'!S614,IF(Setup!$B$52=2,'Fert Program 1,2,3'!S672,IF(Setup!$B$52=3,'Fert Program 1,2,3'!S730,\"ERROR\")))","v":"ERROR"},{"$f":"IF(Setup!$B$52=1,'Fert Program 1,2,3'!T614,IF(Setup!$B$52=2,'Fert Program 1,2,3'!T672,IF(Setup!$B$52=3,'Fert Program 1,2,3'!T730,\"ERROR\")))","v":"ERROR"},{"$f":"IF(Setup!$B$52=1,'Fert Program 1,2,3'!U614,IF(Setup!$B$52=2,'Fert Program 1,2,3'!U672,IF(Setup!$B$52=3,'Fert Program 1,2,3'!U730,\"ERROR\")))","v":"ERROR"},{"$f":"IF(Setup!$B$52=1,'Fert Program 1,2,3'!V614,IF(Setup!$B$52=2,'Fert Program 1,2,3'!V672,IF(Setup!$B$52=3,'Fert Program 1,2,3'!V730,\"ERROR\")))","v":"ERROR"},{"$f":"IF(Setup!$B$52=1,'Fert Program 1,2,3'!W614,IF(Setup!$B$52=2,'Fert Program 1,2,3'!W672,IF(Setup!$B$52=3,'Fert Program 1,2,3'!W730,\"ERROR\")))","v":"ERROR"},{"$f":"IF(Setup!$B$52=1,'Fert Program 1,2,3'!X614,IF(Setup!$B$52=2,'Fert Program 1,2,3'!X672,IF(Setup!$B$52=3,'Fert Program 1,2,3'!X730,\"ERROR\")))","v":"ERROR"},null,null,null,2.1,4.55,0,19.8,4.55,28.698999999999998,19.8,4.55,15.498999999999999]
["2014-11-17","Week 20",{"$f":"IF(Setup!$B$52=1,'Fert Program 1,2,3'!C615,IF(Setup!$B$52=2,'Fert Program 1,2,3'!C673,IF(Setup!$B$52=3,'Fert Program 1,2,3'!C731,\"ERROR\")))","v":"ERROR"},{"$f":"IF(Setup!$B$52=1,'Fert Program 1,2,3'!D615,IF(Setup!$B$52=2,'Fert Program 1,2,3'!D673,IF(Setup!$B$52=3,'Fert Program 1,2,3'!D731,\"ERROR\")))","v":"ERROR"},{"$f":"IF(Setup!$B$52=1,'Fert Program 1,2,3'!E615,IF(Setup!$B$52=2,'Fert Program 1,2,3'!E673,IF(Setup!$B$52=3,'Fert Program 1,2,3'!E731,\"ERROR\")))","v":"ERROR"},{"$f":"IF(Setup!$B$52=1,'Fert Program 1,2,3'!F615,IF(Setup!$B$52=2,'Fert Program 1,2,3'!F673,IF(Setup!$B$52=3,'Fert Program 1,2,3'!F731,\"ERROR\")))","v":"ERROR"},{"$f":"IF(Setup!$B$52=1,'Fert Program 1,2,3'!G615,IF(Setup!$B$52=2,'Fert Program 1,2,3'!G673,IF(Setup!$B$52=3,'Fert Program 1,2,3'!G731,\"ERROR\")))","v":"ERROR"},{"$f":"IF(Setup!$B$52=1,'Fert Program 1,2,3'!H615,IF(Setup!$B$52=2,'Fert Program 1,2,3'!H673,IF(Setup!$B$52=3,'Fert Program 1,2,3'!H731,\"ERROR\")))","v":"ERROR"},{"$f":"IF(Setup!$B$52=1,'Fert Program 1,2,3'!I615,IF(Setup!$B$52=2,'Fert Program 1,2,3'!I673,IF(Setup!$B$52=3,'Fert Program 1,2,3'!I731,\"ERROR\")))","v":"ERROR"},{"$f":"IF(Setup!$B$52=1,'Fert Program 1,2,3'!J615,IF(Setup!$B$52=2,'Fert Program 1,2,3'!J673,IF(Setup!$B$52=3,'Fert Program 1,2,3'!J731,\"ERROR\")))","v":"ERROR"},{"$f":"IF(Setup!$B$52=1,'Fert Program 1,2,3'!K615,IF(Setup!$B$52=2,'Fert Program 1,2,3'!K673,IF(Setup!$B$52=3,'Fert Program 1,2,3'!K731,\"ERROR\")))","v":"ERROR"},{"$f":"IF(Setup!$B$52=1,'Fert Program 1,2,3'!L615,IF(Setup!$B$52=2,'Fert Program 1,2,3'!L673,IF(Setup!$B$52=3,'Fert Program 1,2,3'!L731,\"ERROR\")))","v":"ERROR"},{"$f":"IF(Setup!$B$52=1,'Fert Program 1,2,3'!M615,IF(Setup!$B$52=2,'Fert Program 1,2,3'!M673,IF(Setup!$B$52=3,'Fert Program 1,2,3'!M731,\"ERROR\")))","v":"ERROR"},{"$f":"IF(Setup!$B$52=1,'Fert Program 1,2,3'!N615,IF(Setup!$B$52=2,'Fert Program 1,2,3'!N673,IF(Setup!$B$52=3,'Fert Program 1,2,3'!N731,\"ERROR\")))","v":"ERROR"},{"$f":"IF(Setup!$B$52=1,'Fert Program 1,2,3'!O615,IF(Setup!$B$52=2,'Fert Program 1,2,3'!O673,IF(Setup!$B$52=3,'Fert Program 1,2,3'!O731,\"ERROR\")))","v":"ERROR"},{"$f":"IF(Setup!$B$52=1,'Fert Program 1,2,3'!P615,IF(Setup!$B$52=2,'Fert Program 1,2,3'!P673,IF(Setup!$B$52=3,'Fert Program 1,2,3'!P731,\"ERROR\")))","v":"ERROR"},{"$f":"IF(Setup!$B$52=1,'Fert Program 1,2,3'!Q615,IF(Setup!$B$52=2,'Fert Program 1,2,3'!Q673,IF(Setup!$B$52=3,'Fert Program 1,2,3'!Q731,\"ERROR\")))","v":"ERROR"},{"$f":"IF(Setup!$B$52=1,'Fert Program 1,2,3'!R615,IF(Setup!$B$52=2,'Fert Program 1,2,3'!R673,IF(Setup!$B$52=3,'Fert Program 1,2,3'!R731,\"ERROR\")))","v":"ERROR"},{"$f":"IF(Setup!$B$52=1,'Fert Program 1,2,3'!S615,IF(Setup!$B$52=2,'Fert Program 1,2,3'!S673,IF(Setup!$B$52=3,'Fert Program 1,2,3'!S731,\"ERROR\")))","v":"ERROR"},{"$f":"IF(Setup!$B$52=1,'Fert Program 1,2,3'!T615,IF(Setup!$B$52=2,'Fert Program 1,2,3'!T673,IF(Setup!$B$52=3,'Fert Program 1,2,3'!T731,\"ERROR\")))","v":"ERROR"},{"$f":"IF(Setup!$B$52=1,'Fert Program 1,2,3'!U615,IF(Setup!$B$52=2,'Fert Program 1,2,3'!U673,IF(Setup!$B$52=3,'Fert Program 1,2,3'!U731,\"ERROR\")))","v":"ERROR"},{"$f":"IF(Setup!$B$52=1,'Fert Program 1,2,3'!V615,IF(Setup!$B$52=2,'Fert Program 1,2,3'!V673,IF(Setup!$B$52=3,'Fert Program 1,2,3'!V731,\"ERROR\")))","v":"ERROR"},{"$f":"IF(Setup!$B$52=1,'Fert Program 1,2,3'!W615,IF(Setup!$B$52=2,'Fert Program 1,2,3'!W673,IF(Setup!$B$52=3,'Fert Program 1,2,3'!W731,\"ERROR\")))","v":"ERROR"},{"$f":"IF(Setup!$B$52=1,'Fert Program 1,2,3'!X615,IF(Setup!$B$52=2,'Fert Program 1,2,3'!X673,IF(Setup!$B$52=3,'Fert Program 1,2,3'!X731,\"ERROR\")))","v":"ERROR"},null,null,null,2.1,4.55,0,19.8,4.55,28.698999999999998,19.8,4.55,15.498999999999999]
["2014-11-24","Week 21",{"$f":"IF(Setup!$B$52=1,'Fert Program 1,2,3'!C616,IF(Setup!$B$52=2,'Fert Program 1,2,3'!C674,IF(Setup!$B$52=3,'Fert Program 1,2,3'!C732,\"ERROR\")))","v":"ERROR"},{"$f":"IF(Setup!$B$52=1,'Fert Program 1,2,3'!D616,IF(Setup!$B$52=2,'Fert Program 1,2,3'!D674,IF(Setup!$B$52=3,'Fert Program 1,2,3'!D732,\"ERROR\")))","v":"ERROR"},{"$f":"IF(Setup!$B$52=1,'Fert Program 1,2,3'!E616,IF(Setup!$B$52=2,'Fert Program 1,2,3'!E674,IF(Setup!$B$52=3,'Fert Program 1,2,3'!E732,\"ERROR\")))","v":"ERROR"},{"$f":"IF(Setup!$B$52=1,'Fert Program 1,2,3'!F616,IF(Setup!$B$52=2,'Fert Program 1,2,3'!F674,IF(Setup!$B$52=3,'Fert Program 1,2,3'!F732,\"ERROR\")))","v":"ERROR"},{"$f":"IF(Setup!$B$52=1,'Fert Program 1,2,3'!G616,IF(Setup!$B$52=2,'Fert Program 1,2,3'!G674,IF(Setup!$B$52=3,'Fert Program 1,2,3'!G732,\"ERROR\")))","v":"ERROR"},{"$f":"IF(Setup!$B$52=1,'Fert Program 1,2,3'!H616,IF(Setup!$B$52=2,'Fert Program 1,2,3'!H674,IF(Setup!$B$52=3,'Fert Program 1,2,3'!H732,\"ERROR\")))","v":"ERROR"},{"$f":"IF(Setup!$B$52=1,'Fert Program 1,2,3'!I616,IF(Setup!$B$52=2,'Fert Program 1,2,3'!I674,IF(Setup!$B$52=3,'Fert Program 1,2,3'!I732,\"ERROR\")))","v":"ERROR"},{"$f":"IF(Setup!$B$52=1,'Fert Program 1,2,3'!J616,IF(Setup!$B$52=2,'Fert Program 1,2,3'!J674,IF(Setup!$B$52=3,'Fert Program 1,2,3'!J732,\"ERROR\")))","v":"ERROR"},{"$f":"IF(Setup!$B$52=1,'Fert Program 1,2,3'!K616,IF(Setup!$B$52=2,'Fert Program 1,2,3'!K674,IF(Setup!$B$52=3,'Fert Program 1,2,3'!K732,\"ERROR\")))","v":"ERROR"},{"$f":"IF(Setup!$B$52=1,'Fert Program 1,2,3'!L616,IF(Setup!$B$52=2,'Fert Program 1,2,3'!L674,IF(Setup!$B$52=3,'Fert Program 1,2,3'!L732,\"ERROR\")))","v":"ERROR"},{"$f":"IF(Setup!$B$52=1,'Fert Program 1,2,3'!M616,IF(Setup!$B$52=2,'Fert Program 1,2,3'!M674,IF(Setup!$B$52=3,'Fert Program 1,2,3'!M732,\"ERROR\")))","v":"ERROR"},{"$f":"IF(Setup!$B$52=1,'Fert Program 1,2,3'!N616,IF(Setup!$B$52=2,'Fert Program 1,2,3'!N674,IF(Setup!$B$52=3,'Fert Program 1,2,3'!N732,\"ERROR\")))","v":"ERROR"},{"$f":"IF(Setup!$B$52=1,'Fert Program 1,2,3'!O616,IF(Setup!$B$52=2,'Fert Program 1,2,3'!O674,IF(Setup!$B$52=3,'Fert Program 1,2,3'!O732,\"ERROR\")))","v":"ERROR"},{"$f":"IF(Setup!$B$52=1,'Fert Program 1,2,3'!P616,IF(Setup!$B$52=2,'Fert Program 1,2,3'!P674,IF(Setup!$B$52=3,'Fert Program 1,2,3'!P732,\"ERROR\")))","v":"ERROR"},{"$f":"IF(Setup!$B$52=1,'Fert Program 1,2,3'!Q616,IF(Setup!$B$52=2,'Fert Program 1,2,3'!Q674,IF(Setup!$B$52=3,'Fert Program 1,2,3'!Q732,\"ERROR\")))","v":"ERROR"},{"$f":"IF(Setup!$B$52=1,'Fert Program 1,2,3'!R616,IF(Setup!$B$52=2,'Fert Program 1,2,3'!R674,IF(Setup!$B$52=3,'Fert Program 1,2,3'!R732,\"ERROR\")))","v":"ERROR"},{"$f":"IF(Setup!$B$52=1,'Fert Program 1,2,3'!S616,IF(Setup!$B$52=2,'Fert Program 1,2,3'!S674,IF(Setup!$B$52=3,'Fert Program 1,2,3'!S732,\"ERROR\")))","v":"ERROR"},{"$f":"IF(Setup!$B$52=1,'Fert Program 1,2,3'!T616,IF(Setup!$B$52=2,'Fert Program 1,2,3'!T674,IF(Setup!$B$52=3,'Fert Program 1,2,3'!T732,\"ERROR\")))","v":"ERROR"},{"$f":"IF(Setup!$B$52=1,'Fert Program 1,2,3'!U616,IF(Setup!$B$52=2,'Fert Program 1,2,3'!U674,IF(Setup!$B$52=3,'Fert Program 1,2,3'!U732,\"ERROR\")))","v":"ERROR"},{"$f":"IF(Setup!$B$52=1,'Fert Program 1,2,3'!V616,IF(Setup!$B$52=2,'Fert Program 1,2,3'!V674,IF(Setup!$B$52=3,'Fert Program 1,2,3'!V732,\"ERROR\")))","v":"ERROR"},{"$f":"IF(Setup!$B$52=1,'Fert Program 1,2,3'!W616,IF(Setup!$B$52=2,'Fert Program 1,2,3'!W674,IF(Setup!$B$52=3,'Fert Program 1,2,3'!W732,\"ERROR\")))","v":"ERROR"},{"$f":"IF(Setup!$B$52=1,'Fert Program 1,2,3'!X616,IF(Setup!$B$52=2,'Fert Program 1,2,3'!X674,IF(Setup!$B$52=3,'Fert Program 1,2,3'!X732,\"ERROR\")))","v":"ERROR"},null,null,null,0,0,0,17.3,0,28.698999999999998,17.3,0,15.498999999999999]
["2014-12-01","Week 22",{"$f":"IF(Setup!$B$52=1,'Fert Program 1,2,3'!C617,IF(Setup!$B$52=2,'Fert Program 1,2,3'!C675,IF(Setup!$B$52=3,'Fert Program 1,2,3'!C733,\"ERROR\")))","v":"ERROR"},{"$f":"IF(Setup!$B$52=1,'Fert Program 1,2,3'!D617,IF(Setup!$B$52=2,'Fert Program 1,2,3'!D675,IF(Setup!$B$52=3,'Fert Program 1,2,3'!D733,\"ERROR\")))","v":"ERROR"},{"$f":"IF(Setup!$B$52=1,'Fert Program 1,2,3'!E617,IF(Setup!$B$52=2,'Fert Program 1,2,3'!E675,IF(Setup!$B$52=3,'Fert Program 1,2,3'!E733,\"ERROR\")))","v":"ERROR"},{"$f":"IF(Setup!$B$52=1,'Fert Program 1,2,3'!F617,IF(Setup!$B$52=2,'Fert Program 1,2,3'!F675,IF(Setup!$B$52=3,'Fert Program 1,2,3'!F733,\"ERROR\")))","v":"ERROR"},{"$f":"IF(Setup!$B$52=1,'Fert Program 1,2,3'!G617,IF(Setup!$B$52=2,'Fert Program 1,2,3'!G675,IF(Setup!$B$52=3,'Fert Program 1,2,3'!G733,\"ERROR\")))","v":"ERROR"},{"$f":"IF(Setup!$B$52=1,'Fert Program 1,2,3'!H617,IF(Setup!$B$52=2,'Fert Program 1,2,3'!H675,IF(Setup!$B$52=3,'Fert Program 1,2,3'!H733,\"ERROR\")))","v":"ERROR"},{"$f":"IF(Setup!$B$52=1,'Fert Program 1,2,3'!I617,IF(Setup!$B$52=2,'Fert Program 1,2,3'!I675,IF(Setup!$B$52=3,'Fert Program 1,2,3'!I733,\"ERROR\")))","v":"ERROR"},{"$f":"IF(Setup!$B$52=1,'Fert Program 1,2,3'!J617,IF(Setup!$B$52=2,'Fert Program 1,2,3'!J675,IF(Setup!$B$52=3,'Fert Program 1,2,3'!J733,\"ERROR\")))","v":"ERROR"},{"$f":"IF(Setup!$B$52=1,'Fert Program 1,2,3'!K617,IF(Setup!$B$52=2,'Fert Program 1,2,3'!K675,IF(Setup!$B$52=3,'Fert Program 1,2,3'!K733,\"ERROR\")))","v":"ERROR"},{"$f":"IF(Setup!$B$52=1,'Fert Program 1,2,3'!L617,IF(Setup!$B$52=2,'Fert Program 1,2,3'!L675,IF(Setup!$B$52=3,'Fert Program 1,2,3'!L733,\"ERROR\")))","v":"ERROR"},{"$f":"IF(Setup!$B$52=1,'Fert Program 1,2,3'!M617,IF(Setup!$B$52=2,'Fert Program 1,2,3'!M675,IF(Setup!$B$52=3,'Fert Program 1,2,3'!M733,\"ERROR\")))","v":"ERROR"},{"$f":"IF(Setup!$B$52=1,'Fert Program 1,2,3'!N617,IF(Setup!$B$52=2,'Fert Program 1,2,3'!N675,IF(Setup!$B$52=3,'Fert Program 1,2,3'!N733,\"ERROR\")))","v":"ERROR"},{"$f":"IF(Setup!$B$52=1,'Fert Program 1,2,3'!O617,IF(Setup!$B$52=2,'Fert Program 1,2,3'!O675,IF(Setup!$B$52=3,'Fert Program 1,2,3'!O733,\"ERROR\")))","v":"ERROR"},{"$f":"IF(Setup!$B$52=1,'Fert Program 1,2,3'!P617,IF(Setup!$B$52=2,'Fert Program 1,2,3'!P675,IF(Setup!$B$52=3,'Fert Program 1,2,3'!P733,\"ERROR\")))","v":"ERROR"},{"$f":"IF(Setup!$B$52=1,'Fert Program 1,2,3'!Q617,IF(Setup!$B$52=2,'Fert Program 1,2,3'!Q675,IF(Setup!$B$52=3,'Fert Program 1,2,3'!Q733,\"ERROR\")))","v":"ERROR"},{"$f":"IF(Setup!$B$52=1,'Fert Program 1,2,3'!R617,IF(Setup!$B$52=2,'Fert Program 1,2,3'!R675,IF(Setup!$B$52=3,'Fert Program 1,2,3'!R733,\"ERROR\")))","v":"ERROR"},{"$f":"IF(Setup!$B$52=1,'Fert Program 1,2,3'!S617,IF(Setup!$B$52=2,'Fert Program 1,2,3'!S675,IF(Setup!$B$52=3,'Fert Program 1,2,3'!S733,\"ERROR\")))","v":"ERROR"},{"$f":"IF(Setup!$B$52=1,'Fert Program 1,2,3'!T617,IF(Setup!$B$52=2,'Fert Program 1,2,3'!T675,IF(Setup!$B$52=3,'Fert Program 1,2,3'!T733,\"ERROR\")))","v":"ERROR"},{"$f":"IF(Setup!$B$52=1,'Fert Program 1,2,3'!U617,IF(Setup!$B$52=2,'Fert Program 1,2,3'!U675,IF(Setup!$B$52=3,'Fert Program 1,2,3'!U733,\"ERROR\")))","v":"ERROR"},{"$f":"IF(Setup!$B$52=1,'Fert Program 1,2,3'!V617,IF(Setup!$B$52=2,'Fert Program 1,2,3'!V675,IF(Setup!$B$52=3,'Fert Program 1,2,3'!V733,\"ERROR\")))","v":"ERROR"},{"$f":"IF(Setup!$B$52=1,'Fert Program 1,2,3'!W617,IF(Setup!$B$52=2,'Fert Program 1,2,3'!W675,IF(Setup!$B$52=3,'Fert Program 1,2,3'!W733,\"ERROR\")))","v":"ERROR"},{"$f":"IF(Setup!$B$52=1,'Fert Program 1,2,3'!X617,IF(Setup!$B$52=2,'Fert Program 1,2,3'!X675,IF(Setup!$B$52=3,'Fert Program 1,2,3'!X733,\"ERROR\")))","v":"ERROR"},null,null,null,0,0,0,13.8,0,17.2,13.8,0,1.2000000000000002]
["2014-12-08","Week 23",{"$f":"IF(Setup!$B$52=1,'Fert Program 1,2,3'!C618,IF(Setup!$B$52=2,'Fert Program 1,2,3'!C676,IF(Setup!$B$52=3,'Fert Program 1,2,3'!C734,\"ERROR\")))","v":"ERROR"},{"$f":"IF(Setup!$B$52=1,'Fert Program 1,2,3'!D618,IF(Setup!$B$52=2,'Fert Program 1,2,3'!D676,IF(Setup!$B$52=3,'Fert Program 1,2,3'!D734,\"ERROR\")))","v":"ERROR"},{"$f":"IF(Setup!$B$52=1,'Fert Program 1,2,3'!E618,IF(Setup!$B$52=2,'Fert Program 1,2,3'!E676,IF(Setup!$B$52=3,'Fert Program 1,2,3'!E734,\"ERROR\")))","v":"ERROR"},{"$f":"IF(Setup!$B$52=1,'Fert Program 1,2,3'!F618,IF(Setup!$B$52=2,'Fert Program 1,2,3'!F676,IF(Setup!$B$52=3,'Fert Program 1,2,3'!F734,\"ERROR\")))","v":"ERROR"},{"$f":"IF(Setup!$B$52=1,'Fert Program 1,2,3'!G618,IF(Setup!$B$52=2,'Fert Program 1,2,3'!G676,IF(Setup!$B$52=3,'Fert Program 1,2,3'!G734,\"ERROR\")))","v":"ERROR"},{"$f":"IF(Setup!$B$52=1,'Fert Program 1,2,3'!H618,IF(Setup!$B$52=2,'Fert Program 1,2,3'!H676,IF(Setup!$B$52=3,'Fert Program 1,2,3'!H734,\"ERROR\")))","v":"ERROR"},{"$f":"IF(Setup!$B$52=1,'Fert Program 1,2,3'!I618,IF(Setup!$B$52=2,'Fert Program 1,2,3'!I676,IF(Setup!$B$52=3,'Fert Program 1,2,3'!I734,\"ERROR\")))","v":"ERROR"},{"$f":"IF(Setup!$B$52=1,'Fert Program 1,2,3'!J618,IF(Setup!$B$52=2,'Fert Program 1,2,3'!J676,IF(Setup!$B$52=3,'Fert Program 1,2,3'!J734,\"ERROR\")))","v":"ERROR"},{"$f":"IF(Setup!$B$52=1,'Fert Program 1,2,3'!K618,IF(Setup!$B$52=2,'Fert Program 1,2,3'!K676,IF(Setup!$B$52=3,'Fert Program 1,2,3'!K734,\"ERROR\")))","v":"ERROR"},{"$f":"IF(Setup!$B$52=1,'Fert Program 1,2,3'!L618,IF(Setup!$B$52=2,'Fert Program 1,2,3'!L676,IF(Setup!$B$52=3,'Fert Program 1,2,3'!L734,\"ERROR\")))","v":"ERROR"},{"$f":"IF(Setup!$B$52=1,'Fert Program 1,2,3'!M618,IF(Setup!$B$52=2,'Fert Program 1,2,3'!M676,IF(Setup!$B$52=3,'Fert Program 1,2,3'!M734,\"ERROR\")))","v":"ERROR"},{"$f":"IF(Setup!$B$52=1,'Fert Program 1,2,3'!N618,IF(Setup!$B$52=2,'Fert Program 1,2,3'!N676,IF(Setup!$B$52=3,'Fert Program 1,2,3'!N734,\"ERROR\")))","v":"ERROR"},{"$f":"IF(Setup!$B$52=1,'Fert Program 1,2,3'!O618,IF(Setup!$B$52=2,'Fert Program 1,2,3'!O676,IF(Setup!$B$52=3,'Fert Program 1,2,3'!O734,\"ERROR\")))","v":"ERROR"},{"$f":"IF(Setup!$B$52=1,'Fert Program 1,2,3'!P618,IF(Setup!$B$52=2,'Fert Program 1,2,3'!P676,IF(Setup!$B$52=3,'Fert Program 1,2,3'!P734,\"ERROR\")))","v":"ERROR"},{"$f":"IF(Setup!$B$52=1,'Fert Program 1,2,3'!Q618,IF(Setup!$B$52=2,'Fert Program 1,2,3'!Q676,IF(Setup!$B$52=3,'Fert Program 1,2,3'!Q734,\"ERROR\")))","v":"ERROR"},{"$f":"IF(Setup!$B$52=1,'Fert Program 1,2,3'!R618,IF(Setup!$B$52=2,'Fert Program 1,2,3'!R676,IF(Setup!$B$52=3,'Fert Program 1,2,3'!R734,\"ERROR\")))","v":"ERROR"},{"$f":"IF(Setup!$B$52=1,'Fert Program 1,2,3'!S618,IF(Setup!$B$52=2,'Fert Program 1,2,3'!S676,IF(Setup!$B$52=3,'Fert Program 1,2,3'!S734,\"ERROR\")))","v":"ERROR"},{"$f":"IF(Setup!$B$52=1,'Fert Program 1,2,3'!T618,IF(Setup!$B$52=2,'Fert Program 1,2,3'!T676,IF(Setup!$B$52=3,'Fert Program 1,2,3'!T734,\"ERROR\")))","v":"ERROR"},{"$f":"IF(Setup!$B$52=1,'Fert Program 1,2,3'!U618,IF(Setup!$B$52=2,'Fert Program 1,2,3'!U676,IF(Setup!$B$52=3,'Fert Program 1,2,3'!U734,\"ERROR\")))","v":"ERROR"},{"$f":"IF(Setup!$B$52=1,'Fert Program 1,2,3'!V618,IF(Setup!$B$52=2,'Fert Program 1,2,3'!V676,IF(Setup!$B$52=3,'Fert Program 1,2,3'!V734,\"ERROR\")))","v":"ERROR"},{"$f":"IF(Setup!$B$52=1,'Fert Program 1,2,3'!W618,IF(Setup!$B$52=2,'Fert Program 1,2,3'!W676,IF(Setup!$B$52=3,'Fert Program 1,2,3'!W734,\"ERROR\")))","v":"ERROR"},{"$f":"IF(Setup!$B$52=1,'Fert Program 1,2,3'!X618,IF(Setup!$B$52=2,'Fert Program 1,2,3'!X676,IF(Setup!$B$52=3,'Fert Program 1,2,3'!X734,\"ERROR\")))","v":"ERROR"},null,null,null,0,0,0,4.6000000000000005,0,17.2,4.6000000000000005,0,0]
["2014-12-15","Week 24",{"$f":"IF(Setup!$B$52=1,'Fert Program 1,2,3'!C619,IF(Setup!$B$52=2,'Fert Program 1,2,3'!C677,IF(Setup!$B$52=3,'Fert Program 1,2,3'!C735,\"ERROR\")))","v":"ERROR"},{"$f":"IF(Setup!$B$52=1,'Fert Program 1,2,3'!D619,IF(Setup!$B$52=2,'Fert Program 1,2,3'!D677,IF(Setup!$B$52=3,'Fert Program 1,2,3'!D735,\"ERROR\")))","v":"ERROR"},{"$f":"IF(Setup!$B$52=1,'Fert Program 1,2,3'!E619,IF(Setup!$B$52=2,'Fert Program 1,2,3'!E677,IF(Setup!$B$52=3,'Fert Program 1,2,3'!E735,\"ERROR\")))","v":"ERROR"},{"$f":"IF(Setup!$B$52=1,'Fert Program 1,2,3'!F619,IF(Setup!$B$52=2,'Fert Program 1,2,3'!F677,IF(Setup!$B$52=3,'Fert Program 1,2,3'!F735,\"ERROR\")))","v":"ERROR"},{"$f":"IF(Setup!$B$52=1,'Fert Program 1,2,3'!G619,IF(Setup!$B$52=2,'Fert Program 1,2,3'!G677,IF(Setup!$B$52=3,'Fert Program 1,2,3'!G735,\"ERROR\")))","v":"ERROR"},{"$f":"IF(Setup!$B$52=1,'Fert Program 1,2,3'!H619,IF(Setup!$B$52=2,'Fert Program 1,2,3'!H677,IF(Setup!$B$52=3,'Fert Program 1,2,3'!H735,\"ERROR\")))","v":"ERROR"},{"$f":"IF(Setup!$B$52=1,'Fert Program 1,2,3'!I619,IF(Setup!$B$52=2,'Fert Program 1,2,3'!I677,IF(Setup!$B$52=3,'Fert Program 1,2,3'!I735,\"ERROR\")))","v":"ERROR"},{"$f":"IF(Setup!$B$52=1,'Fert Program 1,2,3'!J619,IF(Setup!$B$52=2,'Fert Program 1,2,3'!J677,IF(Setup!$B$52=3,'Fert Program 1,2,3'!J735,\"ERROR\")))","v":"ERROR"},{"$f":"IF(Setup!$B$52=1,'Fert Program 1,2,3'!K619,IF(Setup!$B$52=2,'Fert Program 1,2,3'!K677,IF(Setup!$B$52=3,'Fert Program 1,2,3'!K735,\"ERROR\")))","v":"ERROR"},{"$f":"IF(Setup!$B$52=1,'Fert Program 1,2,3'!L619,IF(Setup!$B$52=2,'Fert Program 1,2,3'!L677,IF(Setup!$B$52=3,'Fert Program 1,2,3'!L735,\"ERROR\")))","v":"ERROR"},{"$f":"IF(Setup!$B$52=1,'Fert Program 1,2,3'!M619,IF(Setup!$B$52=2,'Fert Program 1,2,3'!M677,IF(Setup!$B$52=3,'Fert Program 1,2,3'!M735,\"ERROR\")))","v":"ERROR"},{"$f":"IF(Setup!$B$52=1,'Fert Program 1,2,3'!N619,IF(Setup!$B$52=2,'Fert Program 1,2,3'!N677,IF(Setup!$B$52=3,'Fert Program 1,2,3'!N735,\"ERROR\")))","v":"ERROR"},{"$f":"IF(Setup!$B$52=1,'Fert Program 1,2,3'!O619,IF(Setup!$B$52=2,'Fert Program 1,2,3'!O677,IF(Setup!$B$52=3,'Fert Program 1,2,3'!O735,\"ERROR\")))","v":"ERROR"},{"$f":"IF(Setup!$B$52=1,'Fert Program 1,2,3'!P619,IF(Setup!$B$52=2,'Fert Program 1,2,3'!P677,IF(Setup!$B$52=3,'Fert Program 1,2,3'!P735,\"ERROR\")))","v":"ERROR"},{"$f":"IF(Setup!$B$52=1,'Fert Program 1,2,3'!Q619,IF(Setup!$B$52=2,'Fert Program 1,2,3'!Q677,IF(Setup!$B$52=3,'Fert Program 1,2,3'!Q735,\"ERROR\")))","v":"ERROR"},{"$f":"IF(Setup!$B$52=1,'Fert Program 1,2,3'!R619,IF(Setup!$B$52=2,'Fert Program 1,2,3'!R677,IF(Setup!$B$52=3,'Fert Program 1,2,3'!R735,\"ERROR\")))","v":"ERROR"},{"$f":"IF(Setup!$B$52=1,'Fert Program 1,2,3'!S619,IF(Setup!$B$52=2,'Fert Program 1,2,3'!S677,IF(Setup!$B$52=3,'Fert Program 1,2,3'!S735,\"ERROR\")))","v":"ERROR"},{"$f":"IF(Setup!$B$52=1,'Fert Program 1,2,3'!T619,IF(Setup!$B$52=2,'Fert Program 1,2,3'!T677,IF(Setup!$B$52=3,'Fert Program 1,2,3'!T735,\"ERROR\")))","v":"ERROR"},{"$f":"IF(Setup!$B$52=1,'Fert Program 1,2,3'!U619,IF(Setup!$B$52=2,'Fert Program 1,2,3'!U677,IF(Setup!$B$52=3,'Fert Program 1,2,3'!U735,\"ERROR\")))","v":"ERROR"},{"$f":"IF(Setup!$B$52=1,'Fert Program 1,2,3'!V619,IF(Setup!$B$52=2,'Fert Program 1,2,3'!V677,IF(Setup!$B$52=3,'Fert Program 1,2,3'!V735,\"ERROR\")))","v":"ERROR"},{"$f":"IF(Setup!$B$52=1,'Fert Program 1,2,3'!W619,IF(Setup!$B$52=2,'Fert Program 1,2,3'!W677,IF(Setup!$B$52=3,'Fert Program 1,2,3'!W735,\"ERROR\")))","v":"ERROR"},{"$f":"IF(Setup!$B$52=1,'Fert Program 1,2,3'!X619,IF(Setup!$B$52=2,'Fert Program 1,2,3'!X677,IF(Setup!$B$52=3,'Fert Program 1,2,3'!X735,\"ERROR\")))","v":"ERROR"},null,null,null,0,0,0,0,0,17.2,0,0,0]
["2014-12-22","Week 25",{"$f":"IF(Setup!$B$52=1,'Fert Program 1,2,3'!C620,IF(Setup!$B$52=2,'Fert Program 1,2,3'!C678,IF(Setup!$B$52=3,'Fert Program 1,2,3'!C736,\"ERROR\")))","v":"ERROR"},{"$f":"IF(Setup!$B$52=1,'Fert Program 1,2,3'!D620,IF(Setup!$B$52=2,'Fert Program 1,2,3'!D678,IF(Setup!$B$52=3,'Fert Program 1,2,3'!D736,\"ERROR\")))","v":"ERROR"},{"$f":"IF(Setup!$B$52=1,'Fert Program 1,2,3'!E620,IF(Setup!$B$52=2,'Fert Program 1,2,3'!E678,IF(Setup!$B$52=3,'Fert Program 1,2,3'!E736,\"ERROR\")))","v":"ERROR"},{"$f":"IF(Setup!$B$52=1,'Fert Program 1,2,3'!F620,IF(Setup!$B$52=2,'Fert Program 1,2,3'!F678,IF(Setup!$B$52=3,'Fert Program 1,2,3'!F736,\"ERROR\")))","v":"ERROR"},{"$f":"IF(Setup!$B$52=1,'Fert Program 1,2,3'!G620,IF(Setup!$B$52=2,'Fert Program 1,2,3'!G678,IF(Setup!$B$52=3,'Fert Program 1,2,3'!G736,\"ERROR\")))","v":"ERROR"},{"$f":"IF(Setup!$B$52=1,'Fert Program 1,2,3'!H620,IF(Setup!$B$52=2,'Fert Program 1,2,3'!H678,IF(Setup!$B$52=3,'Fert Program 1,2,3'!H736,\"ERROR\")))","v":"ERROR"},{"$f":"IF(Setup!$B$52=1,'Fert Program 1,2,3'!I620,IF(Setup!$B$52=2,'Fert Program 1,2,3'!I678,IF(Setup!$B$52=3,'Fert Program 1,2,3'!I736,\"ERROR\")))","v":"ERROR"},{"$f":"IF(Setup!$B$52=1,'Fert Program 1,2,3'!J620,IF(Setup!$B$52=2,'Fert Program 1,2,3'!J678,IF(Setup!$B$52=3,'Fert Program 1,2,3'!J736,\"ERROR\")))","v":"ERROR"},{"$f":"IF(Setup!$B$52=1,'Fert Program 1,2,3'!K620,IF(Setup!$B$52=2,'Fert Program 1,2,3'!K678,IF(Setup!$B$52=3,'Fert Program 1,2,3'!K736,\"ERROR\")))","v":"ERROR"},{"$f":"IF(Setup!$B$52=1,'Fert Program 1,2,3'!L620,IF(Setup!$B$52=2,'Fert Program 1,2,3'!L678,IF(Setup!$B$52=3,'Fert Program 1,2,3'!L736,\"ERROR\")))","v":"ERROR"},{"$f":"IF(Setup!$B$52=1,'Fert Program 1,2,3'!M620,IF(Setup!$B$52=2,'Fert Program 1,2,3'!M678,IF(Setup!$B$52=3,'Fert Program 1,2,3'!M736,\"ERROR\")))","v":"ERROR"},{"$f":"IF(Setup!$B$52=1,'Fert Program 1,2,3'!N620,IF(Setup!$B$52=2,'Fert Program 1,2,3'!N678,IF(Setup!$B$52=3,'Fert Program 1,2,3'!N736,\"ERROR\")))","v":"ERROR"},{"$f":"IF(Setup!$B$52=1,'Fert Program 1,2,3'!O620,IF(Setup!$B$52=2,'Fert Program 1,2,3'!O678,IF(Setup!$B$52=3,'Fert Program 1,2,3'!O736,\"ERROR\")))","v":"ERROR"},{"$f":"IF(Setup!$B$52=1,'Fert Program 1,2,3'!P620,IF(Setup!$B$52=2,'Fert Program 1,2,3'!P678,IF(Setup!$B$52=3,'Fert Program 1,2,3'!P736,\"ERROR\")))","v":"ERROR"},{"$f":"IF(Setup!$B$52=1,'Fert Program 1,2,3'!Q620,IF(Setup!$B$52=2,'Fert Program 1,2,3'!Q678,IF(Setup!$B$52=3,'Fert Program 1,2,3'!Q736,\"ERROR\")))","v":"ERROR"},{"$f":"IF(Setup!$B$52=1,'Fert Program 1,2,3'!R620,IF(Setup!$B$52=2,'Fert Program 1,2,3'!R678,IF(Setup!$B$52=3,'Fert Program 1,2,3'!R736,\"ERROR\")))","v":"ERROR"},{"$f":"IF(Setup!$B$52=1,'Fert Program 1,2,3'!S620,IF(Setup!$B$52=2,'Fert Program 1,2,3'!S678,IF(Setup!$B$52=3,'Fert Program 1,2,3'!S736,\"ERROR\")))","v":"ERROR"},{"$f":"IF(Setup!$B$52=1,'Fert Program 1,2,3'!T620,IF(Setup!$B$52=2,'Fert Program 1,2,3'!T678,IF(Setup!$B$52=3,'Fert Program 1,2,3'!T736,\"ERROR\")))","v":"ERROR"},{"$f":"IF(Setup!$B$52=1,'Fert Program 1,2,3'!U620,IF(Setup!$B$52=2,'Fert Program 1,2,3'!U678,IF(Setup!$B$52=3,'Fert Program 1,2,3'!U736,\"ERROR\")))","v":"ERROR"},{"$f":"IF(Setup!$B$52=1,'Fert Program 1,2,3'!V620,IF(Setup!$B$52=2,'Fert Program 1,2,3'!V678,IF(Setup!$B$52=3,'Fert Program 1,2,3'!V736,\"ERROR\")))","v":"ERROR"},{"$f":"IF(Setup!$B$52=1,'Fert Program 1,2,3'!W620,IF(Setup!$B$52=2,'Fert Program 1,2,3'!W678,IF(Setup!$B$52=3,'Fert Program 1,2,3'!W736,\"ERROR\")))","v":"ERROR"},{"$f":"IF(Setup!$B$52=1,'Fert Program 1,2,3'!X620,IF(Setup!$B$52=2,'Fert Program 1,2,3'!X678,IF(Setup!$B$52=3,'Fert Program 1,2,3'!X736,\"ERROR\")))","v":"ERROR"},null,null,null,0,0,0,0,0,17.2,0,0,0]
["2014-12-29","Week 26",{"$f":"IF(Setup!$B$52=1,'Fert Program 1,2,3'!C621,IF(Setup!$B$52=2,'Fert Program 1,2,3'!C679,IF(Setup!$B$52=3,'Fert Program 1,2,3'!C737,\"ERROR\")))","v":"ERROR"},{"$f":"IF(Setup!$B$52=1,'Fert Program 1,2,3'!D621,IF(Setup!$B$52=2,'Fert Program 1,2,3'!D679,IF(Setup!$B$52=3,'Fert Program 1,2,3'!D737,\"ERROR\")))","v":"ERROR"},{"$f":"IF(Setup!$B$52=1,'Fert Program 1,2,3'!E621,IF(Setup!$B$52=2,'Fert Program 1,2,3'!E679,IF(Setup!$B$52=3,'Fert Program 1,2,3'!E737,\"ERROR\")))","v":"ERROR"},{"$f":"IF(Setup!$B$52=1,'Fert Program 1,2,3'!F621,IF(Setup!$B$52=2,'Fert Program 1,2,3'!F679,IF(Setup!$B$52=3,'Fert Program 1,2,3'!F737,\"ERROR\")))","v":"ERROR"},{"$f":"IF(Setup!$B$52=1,'Fert Program 1,2,3'!G621,IF(Setup!$B$52=2,'Fert Program 1,2,3'!G679,IF(Setup!$B$52=3,'Fert Program 1,2,3'!G737,\"ERROR\")))","v":"ERROR"},{"$f":"IF(Setup!$B$52=1,'Fert Program 1,2,3'!H621,IF(Setup!$B$52=2,'Fert Program 1,2,3'!H679,IF(Setup!$B$52=3,'Fert Program 1,2,3'!H737,\"ERROR\")))","v":"ERROR"},{"$f":"IF(Setup!$B$52=1,'Fert Program 1,2,3'!I621,IF(Setup!$B$52=2,'Fert Program 1,2,3'!I679,IF(Setup!$B$52=3,'Fert Program 1,2,3'!I737,\"ERROR\")))","v":"ERROR"},{"$f":"IF(Setup!$B$52=1,'Fert Program 1,2,3'!J621,IF(Setup!$B$52=2,'Fert Program 1,2,3'!J679,IF(Setup!$B$52=3,'Fert Program 1,2,3'!J737,\"ERROR\")))","v":"ERROR"},{"$f":"IF(Setup!$B$52=1,'Fert Program 1,2,3'!K621,IF(Setup!$B$52=2,'Fert Program 1,2,3'!K679,IF(Setup!$B$52=3,'Fert Program 1,2,3'!K737,\"ERROR\")))","v":"ERROR"},{"$f":"IF(Setup!$B$52=1,'Fert Program 1,2,3'!L621,IF(Setup!$B$52=2,'Fert Program 1,2,3'!L679,IF(Setup!$B$52=3,'Fert Program 1,2,3'!L737,\"ERROR\")))","v":"ERROR"},{"$f":"IF(Setup!$B$52=1,'Fert Program 1,2,3'!M621,IF(Setup!$B$52=2,'Fert Program 1,2,3'!M679,IF(Setup!$B$52=3,'Fert Program 1,2,3'!M737,\"ERROR\")))","v":"ERROR"},{"$f":"IF(Setup!$B$52=1,'Fert Program 1,2,3'!N621,IF(Setup!$B$52=2,'Fert Program 1,2,3'!N679,IF(Setup!$B$52=3,'Fert Program 1,2,3'!N737,\"ERROR\")))","v":"ERROR"},{"$f":"IF(Setup!$B$52=1,'Fert Program 1,2,3'!O621,IF(Setup!$B$52=2,'Fert Program 1,2,3'!O679,IF(Setup!$B$52=3,'Fert Program 1,2,3'!O737,\"ERROR\")))","v":"ERROR"},{"$f":"IF(Setup!$B$52=1,'Fert Program 1,2,3'!P621,IF(Setup!$B$52=2,'Fert Program 1,2,3'!P679,IF(Setup!$B$52=3,'Fert Program 1,2,3'!P737,\"ERROR\")))","v":"ERROR"},{"$f":"IF(Setup!$B$52=1,'Fert Program 1,2,3'!Q621,IF(Setup!$B$52=2,'Fert Program 1,2,3'!Q679,IF(Setup!$B$52=3,'Fert Program 1,2,3'!Q737,\"ERROR\")))","v":"ERROR"},{"$f":"IF(Setup!$B$52=1,'Fert Program 1,2,3'!R621,IF(Setup!$B$52=2,'Fert Program 1,2,3'!R679,IF(Setup!$B$52=3,'Fert Program 1,2,3'!R737,\"ERROR\")))","v":"ERROR"},{"$f":"IF(Setup!$B$52=1,'Fert Program 1,2,3'!S621,IF(Setup!$B$52=2,'Fert Program 1,2,3'!S679,IF(Setup!$B$52=3,'Fert Program 1,2,3'!S737,\"ERROR\")))","v":"ERROR"},{"$f":"IF(Setup!$B$52=1,'Fert Program 1,2,3'!T621,IF(Setup!$B$52=2,'Fert Program 1,2,3'!T679,IF(Setup!$B$52=3,'Fert Program 1,2,3'!T737,\"ERROR\")))","v":"ERROR"},{"$f":"IF(Setup!$B$52=1,'Fert Program 1,2,3'!U621,IF(Setup!$B$52=2,'Fert Program 1,2,3'!U679,IF(Setup!$B$52=3,'Fert Program 1,2,3'!U737,\"ERROR\")))","v":"ERROR"},{"$f":"IF(Setup!$B$52=1,'Fert Program 1,2,3'!V621,IF(Setup!$B$52=2,'Fert Program 1,2,3'!V679,IF(Setup!$B$52=3,'Fert Program 1,2,3'!V737,\"ERROR\")))","v":"ERROR"},{"$f":"IF(Setup!$B$52=1,'Fert Program 1,2,3'!W621,IF(Setup!$B$52=2,'Fert Program 1,2,3'!W679,IF(Setup!$B$52=3,'Fert Program 1,2,3'!W737,\"ERROR\")))","v":"ERROR"},{"$f":"IF(Setup!$B$52=1,'Fert Program 1,2,3'!X621,IF(Setup!$B$52=2,'Fert Program 1,2,3'!X679,IF(Setup!$B$52=3,'Fert Program 1,2,3'!X737,\"ERROR\")))","v":"ERROR"},null,null,null,0,0,0,0,0,14,0,0,0]
["2015-01-05","Week 27",{"$f":"IF(Setup!$B$52=1,'Fert Program 1,2,3'!C622,IF(Setup!$B$52=2,'Fert Program 1,2,3'!C680,IF(Setup!$B$52=3,'Fert Program 1,2,3'!C738,\"ERROR\")))","v":"ERROR"},{"$f":"IF(Setup!$B$52=1,'Fert Program 1,2,3'!D622,IF(Setup!$B$52=2,'Fert Program 1,2,3'!D680,IF(Setup!$B$52=3,'Fert Program 1,2,3'!D738,\"ERROR\")))","v":"ERROR"},{"$f":"IF(Setup!$B$52=1,'Fert Program 1,2,3'!E622,IF(Setup!$B$52=2,'Fert Program 1,2,3'!E680,IF(Setup!$B$52=3,'Fert Program 1,2,3'!E738,\"ERROR\")))","v":"ERROR"},{"$f":"IF(Setup!$B$52=1,'Fert Program 1,2,3'!F622,IF(Setup!$B$52=2,'Fert Program 1,2,3'!F680,IF(Setup!$B$52=3,'Fert Program 1,2,3'!F738,\"ERROR\")))","v":"ERROR"},{"$f":"IF(Setup!$B$52=1,'Fert Program 1,2,3'!G622,IF(Setup!$B$52=2,'Fert Program 1,2,3'!G680,IF(Setup!$B$52=3,'Fert Program 1,2,3'!G738,\"ERROR\")))","v":"ERROR"},{"$f":"IF(Setup!$B$52=1,'Fert Program 1,2,3'!H622,IF(Setup!$B$52=2,'Fert Program 1,2,3'!H680,IF(Setup!$B$52=3,'Fert Program 1,2,3'!H738,\"ERROR\")))","v":"ERROR"},{"$f":"IF(Setup!$B$52=1,'Fert Program 1,2,3'!I622,IF(Setup!$B$52=2,'Fert Program 1,2,3'!I680,IF(Setup!$B$52=3,'Fert Program 1,2,3'!I738,\"ERROR\")))","v":"ERROR"},{"$f":"IF(Setup!$B$52=1,'Fert Program 1,2,3'!J622,IF(Setup!$B$52=2,'Fert Program 1,2,3'!J680,IF(Setup!$B$52=3,'Fert Program 1,2,3'!J738,\"ERROR\")))","v":"ERROR"},{"$f":"IF(Setup!$B$52=1,'Fert Program 1,2,3'!K622,IF(Setup!$B$52=2,'Fert Program 1,2,3'!K680,IF(Setup!$B$52=3,'Fert Program 1,2,3'!K738,\"ERROR\")))","v":"ERROR"},{"$f":"IF(Setup!$B$52=1,'Fert Program 1,2,3'!L622,IF(Setup!$B$52=2,'Fert Program 1,2,3'!L680,IF(Setup!$B$52=3,'Fert Program 1,2,3'!L738,\"ERROR\")))","v":"ERROR"},{"$f":"IF(Setup!$B$52=1,'Fert Program 1,2,3'!M622,IF(Setup!$B$52=2,'Fert Program 1,2,3'!M680,IF(Setup!$B$52=3,'Fert Program 1,2,3'!M738,\"ERROR\")))","v":"ERROR"},{"$f":"IF(Setup!$B$52=1,'Fert Program 1,2,3'!N622,IF(Setup!$B$52=2,'Fert Program 1,2,3'!N680,IF(Setup!$B$52=3,'Fert Program 1,2,3'!N738,\"ERROR\")))","v":"ERROR"},{"$f":"IF(Setup!$B$52=1,'Fert Program 1,2,3'!O622,IF(Setup!$B$52=2,'Fert Program 1,2,3'!O680,IF(Setup!$B$52=3,'Fert Program 1,2,3'!O738,\"ERROR\")))","v":"ERROR"},{"$f":"IF(Setup!$B$52=1,'Fert Program 1,2,3'!P622,IF(Setup!$B$52=2,'Fert Program 1,2,3'!P680,IF(Setup!$B$52=3,'Fert Program 1,2,3'!P738,\"ERROR\")))","v":"ERROR"},{"$f":"IF(Setup!$B$52=1,'Fert Program 1,2,3'!Q622,IF(Setup!$B$52=2,'Fert Program 1,2,3'!Q680,IF(Setup!$B$52=3,'Fert Program 1,2,3'!Q738,\"ERROR\")))","v":"ERROR"},{"$f":"IF(Setup!$B$52=1,'Fert Program 1,2,3'!R622,IF(Setup!$B$52=2,'Fert Program 1,2,3'!R680,IF(Setup!$B$52=3,'Fert Program 1,2,3'!R738,\"ERROR\")))","v":"ERROR"},{"$f":"IF(Setup!$B$52=1,'Fert Program 1,2,3'!S622,IF(Setup!$B$52=2,'Fert Program 1,2,3'!S680,IF(Setup!$B$52=3,'Fert Program 1,2,3'!S738,\"ERROR\")))","v":"ERROR"},{"$f":"IF(Setup!$B$52=1,'Fert Program 1,2,3'!T622,IF(Setup!$B$52=2,'Fert Program 1,2,3'!T680,IF(Setup!$B$52=3,'Fert Program 1,2,3'!T738,\"ERROR\")))","v":"ERROR"},{"$f":"IF(Setup!$B$52=1,'Fert Program 1,2,3'!U622,IF(Setup!$B$52=2,'Fert Program 1,2,3'!U680,IF(Setup!$B$52=3,'Fert Program 1,2,3'!U738,\"ERROR\")))","v":"ERROR"},{"$f":"IF(Setup!$B$52=1,'Fert Program 1,2,3'!V622,IF(Setup!$B$52=2,'Fert Program 1,2,3'!V680,IF(Setup!$B$52=3,'Fert Program 1,2,3'!V738,\"ERROR\")))","v":"ERROR"},{"$f":"IF(Setup!$B$52=1,'Fert Program 1,2,3'!W622,IF(Setup!$B$52=2,'Fert Program 1,2,3'!W680,IF(Setup!$B$52=3,'Fert Program 1,2,3'!W738,\"ERROR\")))","v":"ERROR"},{"$f":"IF(Setup!$B$52=1,'Fert Program 1,2,3'!X622,IF(Setup!$B$52=2,'Fert Program 1,2,3'!X680,IF(Setup!$B$52=3,'Fert Program 1,2,3'!X738,\"ERROR\")))","v":"ERROR"},null,null,null,0,0,0,0,0,0,0,0,0]
["2015-01-12","Week 28",{"$f":"IF(Setup!$B$52=1,'Fert Program 1,2,3'!C623,IF(Setup!$B$52=2,'Fert Program 1,2,3'!C681,IF(Setup!$B$52=3,'Fert Program 1,2,3'!C739,\"ERROR\")))","v":"ERROR"},{"$f":"IF(Setup!$B$52=1,'Fert Program 1,2,3'!D623,IF(Setup!$B$52=2,'Fert Program 1,2,3'!D681,IF(Setup!$B$52=3,'Fert Program 1,2,3'!D739,\"ERROR\")))","v":"ERROR"},{"$f":"IF(Setup!$B$52=1,'Fert Program 1,2,3'!E623,IF(Setup!$B$52=2,'Fert Program 1,2,3'!E681,IF(Setup!$B$52=3,'Fert Program 1,2,3'!E739,\"ERROR\")))","v":"ERROR"},{"$f":"IF(Setup!$B$52=1,'Fert Program 1,2,3'!F623,IF(Setup!$B$52=2,'Fert Program 1,2,3'!F681,IF(Setup!$B$52=3,'Fert Program 1,2,3'!F739,\"ERROR\")))","v":"ERROR"},{"$f":"IF(Setup!$B$52=1,'Fert Program 1,2,3'!G623,IF(Setup!$B$52=2,'Fert Program 1,2,3'!G681,IF(Setup!$B$52=3,'Fert Program 1,2,3'!G739,\"ERROR\")))","v":"ERROR"},{"$f":"IF(Setup!$B$52=1,'Fert Program 1,2,3'!H623,IF(Setup!$B$52=2,'Fert Program 1,2,3'!H681,IF(Setup!$B$52=3,'Fert Program 1,2,3'!H739,\"ERROR\")))","v":"ERROR"},{"$f":"IF(Setup!$B$52=1,'Fert Program 1,2,3'!I623,IF(Setup!$B$52=2,'Fert Program 1,2,3'!I681,IF(Setup!$B$52=3,'Fert Program 1,2,3'!I739,\"ERROR\")))","v":"ERROR"},{"$f":"IF(Setup!$B$52=1,'Fert Program 1,2,3'!J623,IF(Setup!$B$52=2,'Fert Program 1,2,3'!J681,IF(Setup!$B$52=3,'Fert Program 1,2,3'!J739,\"ERROR\")))","v":"ERROR"},{"$f":"IF(Setup!$B$52=1,'Fert Program 1,2,3'!K623,IF(Setup!$B$52=2,'Fert Program 1,2,3'!K681,IF(Setup!$B$52=3,'Fert Program 1,2,3'!K739,\"ERROR\")))","v":"ERROR"},{"$f":"IF(Setup!$B$52=1,'Fert Program 1,2,3'!L623,IF(Setup!$B$52=2,'Fert Program 1,2,3'!L681,IF(Setup!$B$52=3,'Fert Program 1,2,3'!L739,\"ERROR\")))","v":"ERROR"},{"$f":"IF(Setup!$B$52=1,'Fert Program 1,2,3'!M623,IF(Setup!$B$52=2,'Fert Program 1,2,3'!M681,IF(Setup!$B$52=3,'Fert Program 1,2,3'!M739,\"ERROR\")))","v":"ERROR"},{"$f":"IF(Setup!$B$52=1,'Fert Program 1,2,3'!N623,IF(Setup!$B$52=2,'Fert Program 1,2,3'!N681,IF(Setup!$B$52=3,'Fert Program 1,2,3'!N739,\"ERROR\")))","v":"ERROR"},{"$f":"IF(Setup!$B$52=1,'Fert Program 1,2,3'!O623,IF(Setup!$B$52=2,'Fert Program 1,2,3'!O681,IF(Setup!$B$52=3,'Fert Program 1,2,3'!O739,\"ERROR\")))","v":"ERROR"},{"$f":"IF(Setup!$B$52=1,'Fert Program 1,2,3'!P623,IF(Setup!$B$52=2,'Fert Program 1,2,3'!P681,IF(Setup!$B$52=3,'Fert Program 1,2,3'!P739,\"ERROR\")))","v":"ERROR"},{"$f":"IF(Setup!$B$52=1,'Fert Program 1,2,3'!Q623,IF(Setup!$B$52=2,'Fert Program 1,2,3'!Q681,IF(Setup!$B$52=3,'Fert Program 1,2,3'!Q739,\"ERROR\")))","v":"ERROR"},{"$f":"IF(Setup!$B$52=1,'Fert Program 1,2,3'!R623,IF(Setup!$B$52=2,'Fert Program 1,2,3'!R681,IF(Setup!$B$52=3,'Fert Program 1,2,3'!R739,\"ERROR\")))","v":"ERROR"},{"$f":"IF(Setup!$B$52=1,'Fert Program 1,2,3'!S623,IF(Setup!$B$52=2,'Fert Program 1,2,3'!S681,IF(Setup!$B$52=3,'Fert Program 1,2,3'!S739,\"ERROR\")))","v":"ERROR"},{"$f":"IF(Setup!$B$52=1,'Fert Program 1,2,3'!T623,IF(Setup!$B$52=2,'Fert Program 1,2,3'!T681,IF(Setup!$B$52=3,'Fert Program 1,2,3'!T739,\"ERROR\")))","v":"ERROR"},{"$f":"IF(Setup!$B$52=1,'Fert Program 1,2,3'!U623,IF(Setup!$B$52=2,'Fert Program 1,2,3'!U681,IF(Setup!$B$52=3,'Fert Program 1,2,3'!U739,\"ERROR\")))","v":"ERROR"},{"$f":"IF(Setup!$B$52=1,'Fert Program 1,2,3'!V623,IF(Setup!$B$52=2,'Fert Program 1,2,3'!V681,IF(Setup!$B$52=3,'Fert Program 1,2,3'!V739,\"ERROR\")))","v":"ERROR"},{"$f":"IF(Setup!$B$52=1,'Fert Program 1,2,3'!W623,IF(Setup!$B$52=2,'Fert Program 1,2,3'!W681,IF(Setup!$B$52=3,'Fert Program 1,2,3'!W739,\"ERROR\")))","v":"ERROR"},{"$f":"IF(Setup!$B$52=1,'Fert Program 1,2,3'!X623,IF(Setup!$B$52=2,'Fert Program 1,2,3'!X681,IF(Setup!$B$52=3,'Fert Program 1,2,3'!X739,\"ERROR\")))","v":"ERROR"},null,null,null,0,0,0,0,0,0,0,0,0]
["2015-01-19","Week 29",{"$f":"IF(Setup!$B$52=1,'Fert Program 1,2,3'!C624,IF(Setup!$B$52=2,'Fert Program 1,2,3'!C682,IF(Setup!$B$52=3,'Fert Program 1,2,3'!C740,\"ERROR\")))","v":"ERROR"},{"$f":"IF(Setup!$B$52=1,'Fert Program 1,2,3'!D624,IF(Setup!$B$52=2,'Fert Program 1,2,3'!D682,IF(Setup!$B$52=3,'Fert Program 1,2,3'!D740,\"ERROR\")))","v":"ERROR"},{"$f":"IF(Setup!$B$52=1,'Fert Program 1,2,3'!E624,IF(Setup!$B$52=2,'Fert Program 1,2,3'!E682,IF(Setup!$B$52=3,'Fert Program 1,2,3'!E740,\"ERROR\")))","v":"ERROR"},{"$f":"IF(Setup!$B$52=1,'Fert Program 1,2,3'!F624,IF(Setup!$B$52=2,'Fert Program 1,2,3'!F682,IF(Setup!$B$52=3,'Fert Program 1,2,3'!F740,\"ERROR\")))","v":"ERROR"},{"$f":"IF(Setup!$B$52=1,'Fert Program 1,2,3'!G624,IF(Setup!$B$52=2,'Fert Program 1,2,3'!G682,IF(Setup!$B$52=3,'Fert Program 1,2,3'!G740,\"ERROR\")))","v":"ERROR"},{"$f":"IF(Setup!$B$52=1,'Fert Program 1,2,3'!H624,IF(Setup!$B$52=2,'Fert Program 1,2,3'!H682,IF(Setup!$B$52=3,'Fert Program 1,2,3'!H740,\"ERROR\")))","v":"ERROR"},{"$f":"IF(Setup!$B$52=1,'Fert Program 1,2,3'!I624,IF(Setup!$B$52=2,'Fert Program 1,2,3'!I682,IF(Setup!$B$52=3,'Fert Program 1,2,3'!I740,\"ERROR\")))","v":"ERROR"},{"$f":"IF(Setup!$B$52=1,'Fert Program 1,2,3'!J624,IF(Setup!$B$52=2,'Fert Program 1,2,3'!J682,IF(Setup!$B$52=3,'Fert Program 1,2,3'!J740,\"ERROR\")))","v":"ERROR"},{"$f":"IF(Setup!$B$52=1,'Fert Program 1,2,3'!K624,IF(Setup!$B$52=2,'Fert Program 1,2,3'!K682,IF(Setup!$B$52=3,'Fert Program 1,2,3'!K740,\"ERROR\")))","v":"ERROR"},{"$f":"IF(Setup!$B$52=1,'Fert Program 1,2,3'!L624,IF(Setup!$B$52=2,'Fert Program 1,2,3'!L682,IF(Setup!$B$52=3,'Fert Program 1,2,3'!L740,\"ERROR\")))","v":"ERROR"},{"$f":"IF(Setup!$B$52=1,'Fert Program 1,2,3'!M624,IF(Setup!$B$52=2,'Fert Program 1,2,3'!M682,IF(Setup!$B$52=3,'Fert Program 1,2,3'!M740,\"ERROR\")))","v":"ERROR"},{"$f":"IF(Setup!$B$52=1,'Fert Program 1,2,3'!N624,IF(Setup!$B$52=2,'Fert Program 1,2,3'!N682,IF(Setup!$B$52=3,'Fert Program 1,2,3'!N740,\"ERROR\")))","v":"ERROR"},{"$f":"IF(Setup!$B$52=1,'Fert Program 1,2,3'!O624,IF(Setup!$B$52=2,'Fert Program 1,2,3'!O682,IF(Setup!$B$52=3,'Fert Program 1,2,3'!O740,\"ERROR\")))","v":"ERROR"},{"$f":"IF(Setup!$B$52=1,'Fert Program 1,2,3'!P624,IF(Setup!$B$52=2,'Fert Program 1,2,3'!P682,IF(Setup!$B$52=3,'Fert Program 1,2,3'!P740,\"ERROR\")))","v":"ERROR"},{"$f":"IF(Setup!$B$52=1,'Fert Program 1,2,3'!Q624,IF(Setup!$B$52=2,'Fert Program 1,2,3'!Q682,IF(Setup!$B$52=3,'Fert Program 1,2,3'!Q740,\"ERROR\")))","v":"ERROR"},{"$f":"IF(Setup!$B$52=1,'Fert Program 1,2,3'!R624,IF(Setup!$B$52=2,'Fert Program 1,2,3'!R682,IF(Setup!$B$52=3,'Fert Program 1,2,3'!R740,\"ERROR\")))","v":"ERROR"},{"$f":"IF(Setup!$B$52=1,'Fert Program 1,2,3'!S624,IF(Setup!$B$52=2,'Fert Program 1,2,3'!S682,IF(Setup!$B$52=3,'Fert Program 1,2,3'!S740,\"ERROR\")))","v":"ERROR"},{"$f":"IF(Setup!$B$52=1,'Fert Program 1,2,3'!T624,IF(Setup!$B$52=2,'Fert Program 1,2,3'!T682,IF(Setup!$B$52=3,'Fert Program 1,2,3'!T740,\"ERROR\")))","v":"ERROR"},{"$f":"IF(Setup!$B$52=1,'Fert Program 1,2,3'!U624,IF(Setup!$B$52=2,'Fert Program 1,2,3'!U682,IF(Setup!$B$52=3,'Fert Program 1,2,3'!U740,\"ERROR\")))","v":"ERROR"},{"$f":"IF(Setup!$B$52=1,'Fert Program 1,2,3'!V624,IF(Setup!$B$52=2,'Fert Program 1,2,3'!V682,IF(Setup!$B$52=3,'Fert Program 1,2,3'!V740,\"ERROR\")))","v":"ERROR"},{"$f":"IF(Setup!$B$52=1,'Fert Program 1,2,3'!W624,IF(Setup!$B$52=2,'Fert Program 1,2,3'!W682,IF(Setup!$B$52=3,'Fert Program 1,2,3'!W740,\"ERROR\")))","v":"ERROR"},{"$f":"IF(Setup!$B$52=1,'Fert Program 1,2,3'!X624,IF(Setup!$B$52=2,'Fert Program 1,2,3'!X682,IF(Setup!$B$52=3,'Fert Program 1,2,3'!X740,\"ERROR\")))","v":"ERROR"},null,null,null,0,0,0,0,0,0,0,0,0]
["2015-01-26","Week 30",{"$f":"IF(Setup!$B$52=1,'Fert Program 1,2,3'!C625,IF(Setup!$B$52=2,'Fert Program 1,2,3'!C683,IF(Setup!$B$52=3,'Fert Program 1,2,3'!C741,\"ERROR\")))","v":"ERROR"},{"$f":"IF(Setup!$B$52=1,'Fert Program 1,2,3'!D625,IF(Setup!$B$52=2,'Fert Program 1,2,3'!D683,IF(Setup!$B$52=3,'Fert Program 1,2,3'!D741,\"ERROR\")))","v":"ERROR"},{"$f":"IF(Setup!$B$52=1,'Fert Program 1,2,3'!E625,IF(Setup!$B$52=2,'Fert Program 1,2,3'!E683,IF(Setup!$B$52=3,'Fert Program 1,2,3'!E741,\"ERROR\")))","v":"ERROR"},{"$f":"IF(Setup!$B$52=1,'Fert Program 1,2,3'!F625,IF(Setup!$B$52=2,'Fert Program 1,2,3'!F683,IF(Setup!$B$52=3,'Fert Program 1,2,3'!F741,\"ERROR\")))","v":"ERROR"},{"$f":"IF(Setup!$B$52=1,'Fert Program 1,2,3'!G625,IF(Setup!$B$52=2,'Fert Program 1,2,3'!G683,IF(Setup!$B$52=3,'Fert Program 1,2,3'!G741,\"ERROR\")))","v":"ERROR"},{"$f":"IF(Setup!$B$52=1,'Fert Program 1,2,3'!H625,IF(Setup!$B$52=2,'Fert Program 1,2,3'!H683,IF(Setup!$B$52=3,'Fert Program 1,2,3'!H741,\"ERROR\")))","v":"ERROR"},{"$f":"IF(Setup!$B$52=1,'Fert Program 1,2,3'!I625,IF(Setup!$B$52=2,'Fert Program 1,2,3'!I683,IF(Setup!$B$52=3,'Fert Program 1,2,3'!I741,\"ERROR\")))","v":"ERROR"},{"$f":"IF(Setup!$B$52=1,'Fert Program 1,2,3'!J625,IF(Setup!$B$52=2,'Fert Program 1,2,3'!J683,IF(Setup!$B$52=3,'Fert Program 1,2,3'!J741,\"ERROR\")))","v":"ERROR"},{"$f":"IF(Setup!$B$52=1,'Fert Program 1,2,3'!K625,IF(Setup!$B$52=2,'Fert Program 1,2,3'!K683,IF(Setup!$B$52=3,'Fert Program 1,2,3'!K741,\"ERROR\")))","v":"ERROR"},{"$f":"IF(Setup!$B$52=1,'Fert Program 1,2,3'!L625,IF(Setup!$B$52=2,'Fert Program 1,2,3'!L683,IF(Setup!$B$52=3,'Fert Program 1,2,3'!L741,\"ERROR\")))","v":"ERROR"},{"$f":"IF(Setup!$B$52=1,'Fert Program 1,2,3'!M625,IF(Setup!$B$52=2,'Fert Program 1,2,3'!M683,IF(Setup!$B$52=3,'Fert Program 1,2,3'!M741,\"ERROR\")))","v":"ERROR"},{"$f":"IF(Setup!$B$52=1,'Fert Program 1,2,3'!N625,IF(Setup!$B$52=2,'Fert Program 1,2,3'!N683,IF(Setup!$B$52=3,'Fert Program 1,2,3'!N741,\"ERROR\")))","v":"ERROR"},{"$f":"IF(Setup!$B$52=1,'Fert Program 1,2,3'!O625,IF(Setup!$B$52=2,'Fert Program 1,2,3'!O683,IF(Setup!$B$52=3,'Fert Program 1,2,3'!O741,\"ERROR\")))","v":"ERROR"},{"$f":"IF(Setup!$B$52=1,'Fert Program 1,2,3'!P625,IF(Setup!$B$52=2,'Fert Program 1,2,3'!P683,IF(Setup!$B$52=3,'Fert Program 1,2,3'!P741,\"ERROR\")))","v":"ERROR"},{"$f":"IF(Setup!$B$52=1,'Fert Program 1,2,3'!Q625,IF(Setup!$B$52=2,'Fert Program 1,2,3'!Q683,IF(Setup!$B$52=3,'Fert Program 1,2,3'!Q741,\"ERROR\")))","v":"ERROR"},{"$f":"IF(Setup!$B$52=1,'Fert Program 1,2,3'!R625,IF(Setup!$B$52=2,'Fert Program 1,2,3'!R683,IF(Setup!$B$52=3,'Fert Program 1,2,3'!R741,\"ERROR\")))","v":"ERROR"},{"$f":"IF(Setup!$B$52=1,'Fert Program 1,2,3'!S625,IF(Setup!$B$52=2,'Fert Program 1,2,3'!S683,IF(Setup!$B$52=3,'Fert Program 1,2,3'!S741,\"ERROR\")))","v":"ERROR"},{"$f":"IF(Setup!$B$52=1,'Fert Program 1,2,3'!T625,IF(Setup!$B$52=2,'Fert Program 1,2,3'!T683,IF(Setup!$B$52=3,'Fert Program 1,2,3'!T741,\"ERROR\")))","v":"ERROR"},{"$f":"IF(Setup!$B$52=1,'Fert Program 1,2,3'!U625,IF(Setup!$B$52=2,'Fert Program 1,2,3'!U683,IF(Setup!$B$52=3,'Fert Program 1,2,3'!U741,\"ERROR\")))","v":"ERROR"},{"$f":"IF(Setup!$B$52=1,'Fert Program 1,2,3'!V625,IF(Setup!$B$52=2,'Fert Program 1,2,3'!V683,IF(Setup!$B$52=3,'Fert Program 1,2,3'!V741,\"ERROR\")))","v":"ERROR"},{"$f":"IF(Setup!$B$52=1,'Fert Program 1,2,3'!W625,IF(Setup!$B$52=2,'Fert Program 1,2,3'!W683,IF(Setup!$B$52=3,'Fert Program 1,2,3'!W741,\"ERROR\")))","v":"ERROR"},{"$f":"IF(Setup!$B$52=1,'Fert Program 1,2,3'!X625,IF(Setup!$B$52=2,'Fert Program 1,2,3'!X683,IF(Setup!$B$52=3,'Fert Program 1,2,3'!X741,\"ERROR\")))","v":"ERROR"},null,null,null,0,0,0,0,0,0,0,0,0]
["2015-02-02","Week 31",{"$f":"IF(Setup!$B$52=1,'Fert Program 1,2,3'!C626,IF(Setup!$B$52=2,'Fert Program 1,2,3'!C684,IF(Setup!$B$52=3,'Fert Program 1,2,3'!C742,\"ERROR\")))","v":"ERROR"},{"$f":"IF(Setup!$B$52=1,'Fert Program 1,2,3'!D626,IF(Setup!$B$52=2,'Fert Program 1,2,3'!D684,IF(Setup!$B$52=3,'Fert Program 1,2,3'!D742,\"ERROR\")))","v":"ERROR"},{"$f":"IF(Setup!$B$52=1,'Fert Program 1,2,3'!E626,IF(Setup!$B$52=2,'Fert Program 1,2,3'!E684,IF(Setup!$B$52=3,'Fert Program 1,2,3'!E742,\"ERROR\")))","v":"ERROR"},{"$f":"IF(Setup!$B$52=1,'Fert Program 1,2,3'!F626,IF(Setup!$B$52=2,'Fert Program 1,2,3'!F684,IF(Setup!$B$52=3,'Fert Program 1,2,3'!F742,\"ERROR\")))","v":"ERROR"},{"$f":"IF(Setup!$B$52=1,'Fert Program 1,2,3'!G626,IF(Setup!$B$52=2,'Fert Program 1,2,3'!G684,IF(Setup!$B$52=3,'Fert Program 1,2,3'!G742,\"ERROR\")))","v":"ERROR"},{"$f":"IF(Setup!$B$52=1,'Fert Program 1,2,3'!H626,IF(Setup!$B$52=2,'Fert Program 1,2,3'!H684,IF(Setup!$B$52=3,'Fert Program 1,2,3'!H742,\"ERROR\")))","v":"ERROR"},{"$f":"IF(Setup!$B$52=1,'Fert Program 1,2,3'!I626,IF(Setup!$B$52=2,'Fert Program 1,2,3'!I684,IF(Setup!$B$52=3,'Fert Program 1,2,3'!I742,\"ERROR\")))","v":"ERROR"},{"$f":"IF(Setup!$B$52=1,'Fert Program 1,2,3'!J626,IF(Setup!$B$52=2,'Fert Program 1,2,3'!J684,IF(Setup!$B$52=3,'Fert Program 1,2,3'!J742,\"ERROR\")))","v":"ERROR"},{"$f":"IF(Setup!$B$52=1,'Fert Program 1,2,3'!K626,IF(Setup!$B$52=2,'Fert Program 1,2,3'!K684,IF(Setup!$B$52=3,'Fert Program 1,2,3'!K742,\"ERROR\")))","v":"ERROR"},{"$f":"IF(Setup!$B$52=1,'Fert Program 1,2,3'!L626,IF(Setup!$B$52=2,'Fert Program 1,2,3'!L684,IF(Setup!$B$52=3,'Fert Program 1,2,3'!L742,\"ERROR\")))","v":"ERROR"},{"$f":"IF(Setup!$B$52=1,'Fert Program 1,2,3'!M626,IF(Setup!$B$52=2,'Fert Program 1,2,3'!M684,IF(Setup!$B$52=3,'Fert Program 1,2,3'!M742,\"ERROR\")))","v":"ERROR"},{"$f":"IF(Setup!$B$52=1,'Fert Program 1,2,3'!N626,IF(Setup!$B$52=2,'Fert Program 1,2,3'!N684,IF(Setup!$B$52=3,'Fert Program 1,2,3'!N742,\"ERROR\")))","v":"ERROR"},{"$f":"IF(Setup!$B$52=1,'Fert Program 1,2,3'!O626,IF(Setup!$B$52=2,'Fert Program 1,2,3'!O684,IF(Setup!$B$52=3,'Fert Program 1,2,3'!O742,\"ERROR\")))","v":"ERROR"},{"$f":"IF(Setup!$B$52=1,'Fert Program 1,2,3'!P626,IF(Setup!$B$52=2,'Fert Program 1,2,3'!P684,IF(Setup!$B$52=3,'Fert Program 1,2,3'!P742,\"ERROR\")))","v":"ERROR"},{"$f":"IF(Setup!$B$52=1,'Fert Program 1,2,3'!Q626,IF(Setup!$B$52=2,'Fert Program 1,2,3'!Q684,IF(Setup!$B$52=3,'Fert Program 1,2,3'!Q742,\"ERROR\")))","v":"ERROR"},{"$f":"IF(Setup!$B$52=1,'Fert Program 1,2,3'!R626,IF(Setup!$B$52=2,'Fert Program 1,2,3'!R684,IF(Setup!$B$52=3,'Fert Program 1,2,3'!R742,\"ERROR\")))","v":"ERROR"},{"$f":"IF(Setup!$B$52=1,'Fert Program 1,2,3'!S626,IF(Setup!$B$52=2,'Fert Program 1,2,3'!S684,IF(Setup!$B$52=3,'Fert Program 1,2,3'!S742,\"ERROR\")))","v":"ERROR"},{"$f":"IF(Setup!$B$52=1,'Fert Program 1,2,3'!T626,IF(Setup!$B$52=2,'Fert Program 1,2,3'!T684,IF(Setup!$B$52=3,'Fert Program 1,2,3'!T742,\"ERROR\")))","v":"ERROR"},{"$f":"IF(Setup!$B$52=1,'Fert Program 1,2,3'!U626,IF(Setup!$B$52=2,'Fert Program 1,2,3'!U684,IF(Setup!$B$52=3,'Fert Program 1,2,3'!U742,\"ERROR\")))","v":"ERROR"},{"$f":"IF(Setup!$B$52=1,'Fert Program 1,2,3'!V626,IF(Setup!$B$52=2,'Fert Program 1,2,3'!V684,IF(Setup!$B$52=3,'Fert Program 1,2,3'!V742,\"ERROR\")))","v":"ERROR"},{"$f":"IF(Setup!$B$52=1,'Fert Program 1,2,3'!W626,IF(Setup!$B$52=2,'Fert Program 1,2,3'!W684,IF(Setup!$B$52=3,'Fert Program 1,2,3'!W742,\"ERROR\")))","v":"ERROR"},{"$f":"IF(Setup!$B$52=1,'Fert Program 1,2,3'!X626,IF(Setup!$B$52=2,'Fert Program 1,2,3'!X684,IF(Setup!$B$52=3,'Fert Program 1,2,3'!X742,\"ERROR\")))","v":"ERROR"},null,null,null,0,0,0,0,0,0,0,0,0]
["2015-02-09","Week 32",{"$f":"IF(Setup!$B$52=1,'Fert Program 1,2,3'!C627,IF(Setup!$B$52=2,'Fert Program 1,2,3'!C685,IF(Setup!$B$52=3,'Fert Program 1,2,3'!C743,\"ERROR\")))","v":"ERROR"},{"$f":"IF(Setup!$B$52=1,'Fert Program 1,2,3'!D627,IF(Setup!$B$52=2,'Fert Program 1,2,3'!D685,IF(Setup!$B$52=3,'Fert Program 1,2,3'!D743,\"ERROR\")))","v":"ERROR"},{"$f":"IF(Setup!$B$52=1,'Fert Program 1,2,3'!E627,IF(Setup!$B$52=2,'Fert Program 1,2,3'!E685,IF(Setup!$B$52=3,'Fert Program 1,2,3'!E743,\"ERROR\")))","v":"ERROR"},{"$f":"IF(Setup!$B$52=1,'Fert Program 1,2,3'!F627,IF(Setup!$B$52=2,'Fert Program 1,2,3'!F685,IF(Setup!$B$52=3,'Fert Program 1,2,3'!F743,\"ERROR\")))","v":"ERROR"},{"$f":"IF(Setup!$B$52=1,'Fert Program 1,2,3'!G627,IF(Setup!$B$52=2,'Fert Program 1,2,3'!G685,IF(Setup!$B$52=3,'Fert Program 1,2,3'!G743,\"ERROR\")))","v":"ERROR"},{"$f":"IF(Setup!$B$52=1,'Fert Program 1,2,3'!H627,IF(Setup!$B$52=2,'Fert Program 1,2,3'!H685,IF(Setup!$B$52=3,'Fert Program 1,2,3'!H743,\"ERROR\")))","v":"ERROR"},{"$f":"IF(Setup!$B$52=1,'Fert Program 1,2,3'!I627,IF(Setup!$B$52=2,'Fert Program 1,2,3'!I685,IF(Setup!$B$52=3,'Fert Program 1,2,3'!I743,\"ERROR\")))","v":"ERROR"},{"$f":"IF(Setup!$B$52=1,'Fert Program 1,2,3'!J627,IF(Setup!$B$52=2,'Fert Program 1,2,3'!J685,IF(Setup!$B$52=3,'Fert Program 1,2,3'!J743,\"ERROR\")))","v":"ERROR"},{"$f":"IF(Setup!$B$52=1,'Fert Program 1,2,3'!K627,IF(Setup!$B$52=2,'Fert Program 1,2,3'!K685,IF(Setup!$B$52=3,'Fert Program 1,2,3'!K743,\"ERROR\")))","v":"ERROR"},{"$f":"IF(Setup!$B$52=1,'Fert Program 1,2,3'!L627,IF(Setup!$B$52=2,'Fert Program 1,2,3'!L685,IF(Setup!$B$52=3,'Fert Program 1,2,3'!L743,\"ERROR\")))","v":"ERROR"},{"$f":"IF(Setup!$B$52=1,'Fert Program 1,2,3'!M627,IF(Setup!$B$52=2,'Fert Program 1,2,3'!M685,IF(Setup!$B$52=3,'Fert Program 1,2,3'!M743,\"ERROR\")))","v":"ERROR"},{"$f":"IF(Setup!$B$52=1,'Fert Program 1,2,3'!N627,IF(Setup!$B$52=2,'Fert Program 1,2,3'!N685,IF(Setup!$B$52=3,'Fert Program 1,2,3'!N743,\"ERROR\")))","v":"ERROR"},{"$f":"IF(Setup!$B$52=1,'Fert Program 1,2,3'!O627,IF(Setup!$B$52=2,'Fert Program 1,2,3'!O685,IF(Setup!$B$52=3,'Fert Program 1,2,3'!O743,\"ERROR\")))","v":"ERROR"},{"$f":"IF(Setup!$B$52=1,'Fert Program 1,2,3'!P627,IF(Setup!$B$52=2,'Fert Program 1,2,3'!P685,IF(Setup!$B$52=3,'Fert Program 1,2,3'!P743,\"ERROR\")))","v":"ERROR"},{"$f":"IF(Setup!$B$52=1,'Fert Program 1,2,3'!Q627,IF(Setup!$B$52=2,'Fert Program 1,2,3'!Q685,IF(Setup!$B$52=3,'Fert Program 1,2,3'!Q743,\"ERROR\")))","v":"ERROR"},{"$f":"IF(Setup!$B$52=1,'Fert Program 1,2,3'!R627,IF(Setup!$B$52=2,'Fert Program 1,2,3'!R685,IF(Setup!$B$52=3,'Fert Program 1,2,3'!R743,\"ERROR\")))","v":"ERROR"},{"$f":"IF(Setup!$B$52=1,'Fert Program 1,2,3'!S627,IF(Setup!$B$52=2,'Fert Program 1,2,3'!S685,IF(Setup!$B$52=3,'Fert Program 1,2,3'!S743,\"ERROR\")))","v":"ERROR"},{"$f":"IF(Setup!$B$52=1,'Fert Program 1,2,3'!T627,IF(Setup!$B$52=2,'Fert Program 1,2,3'!T685,IF(Setup!$B$52=3,'Fert Program 1,2,3'!T743,\"ERROR\")))","v":"ERROR"},{"$f":"IF(Setup!$B$52=1,'Fert Program 1,2,3'!U627,IF(Setup!$B$52=2,'Fert Program 1,2,3'!U685,IF(Setup!$B$52=3,'Fert Program 1,2,3'!U743,\"ERROR\")))","v":"ERROR"},{"$f":"IF(Setup!$B$52=1,'Fert Program 1,2,3'!V627,IF(Setup!$B$52=2,'Fert Program 1,2,3'!V685,IF(Setup!$B$52=3,'Fert Program 1,2,3'!V743,\"ERROR\")))","v":"ERROR"},{"$f":"IF(Setup!$B$52=1,'Fert Program 1,2,3'!W627,IF(Setup!$B$52=2,'Fert Program 1,2,3'!W685,IF(Setup!$B$52=3,'Fert Program 1,2,3'!W743,\"ERROR\")))","v":"ERROR"},{"$f":"IF(Setup!$B$52=1,'Fert Program 1,2,3'!X627,IF(Setup!$B$52=2,'Fert Program 1,2,3'!X685,IF(Setup!$B$52=3,'Fert Program 1,2,3'!X743,\"ERROR\")))","v":"ERROR"},null,null,null,0,0,0,0,0,0,0,0,0]
["2015-02-16","Week 33",{"$f":"IF(Setup!$B$52=1,'Fert Program 1,2,3'!C628,IF(Setup!$B$52=2,'Fert Program 1,2,3'!C686,IF(Setup!$B$52=3,'Fert Program 1,2,3'!C744,\"ERROR\")))","v":"ERROR"},{"$f":"IF(Setup!$B$52=1,'Fert Program 1,2,3'!D628,IF(Setup!$B$52=2,'Fert Program 1,2,3'!D686,IF(Setup!$B$52=3,'Fert Program 1,2,3'!D744,\"ERROR\")))","v":"ERROR"},{"$f":"IF(Setup!$B$52=1,'Fert Program 1,2,3'!E628,IF(Setup!$B$52=2,'Fert Program 1,2,3'!E686,IF(Setup!$B$52=3,'Fert Program 1,2,3'!E744,\"ERROR\")))","v":"ERROR"},{"$f":"IF(Setup!$B$52=1,'Fert Program 1,2,3'!F628,IF(Setup!$B$52=2,'Fert Program 1,2,3'!F686,IF(Setup!$B$52=3,'Fert Program 1,2,3'!F744,\"ERROR\")))","v":"ERROR"},{"$f":"IF(Setup!$B$52=1,'Fert Program 1,2,3'!G628,IF(Setup!$B$52=2,'Fert Program 1,2,3'!G686,IF(Setup!$B$52=3,'Fert Program 1,2,3'!G744,\"ERROR\")))","v":"ERROR"},{"$f":"IF(Setup!$B$52=1,'Fert Program 1,2,3'!H628,IF(Setup!$B$52=2,'Fert Program 1,2,3'!H686,IF(Setup!$B$52=3,'Fert Program 1,2,3'!H744,\"ERROR\")))","v":"ERROR"},{"$f":"IF(Setup!$B$52=1,'Fert Program 1,2,3'!I628,IF(Setup!$B$52=2,'Fert Program 1,2,3'!I686,IF(Setup!$B$52=3,'Fert Program 1,2,3'!I744,\"ERROR\")))","v":"ERROR"},{"$f":"IF(Setup!$B$52=1,'Fert Program 1,2,3'!J628,IF(Setup!$B$52=2,'Fert Program 1,2,3'!J686,IF(Setup!$B$52=3,'Fert Program 1,2,3'!J744,\"ERROR\")))","v":"ERROR"},{"$f":"IF(Setup!$B$52=1,'Fert Program 1,2,3'!K628,IF(Setup!$B$52=2,'Fert Program 1,2,3'!K686,IF(Setup!$B$52=3,'Fert Program 1,2,3'!K744,\"ERROR\")))","v":"ERROR"},{"$f":"IF(Setup!$B$52=1,'Fert Program 1,2,3'!L628,IF(Setup!$B$52=2,'Fert Program 1,2,3'!L686,IF(Setup!$B$52=3,'Fert Program 1,2,3'!L744,\"ERROR\")))","v":"ERROR"},{"$f":"IF(Setup!$B$52=1,'Fert Program 1,2,3'!M628,IF(Setup!$B$52=2,'Fert Program 1,2,3'!M686,IF(Setup!$B$52=3,'Fert Program 1,2,3'!M744,\"ERROR\")))","v":"ERROR"},{"$f":"IF(Setup!$B$52=1,'Fert Program 1,2,3'!N628,IF(Setup!$B$52=2,'Fert Program 1,2,3'!N686,IF(Setup!$B$52=3,'Fert Program 1,2,3'!N744,\"ERROR\")))","v":"ERROR"},{"$f":"IF(Setup!$B$52=1,'Fert Program 1,2,3'!O628,IF(Setup!$B$52=2,'Fert Program 1,2,3'!O686,IF(Setup!$B$52=3,'Fert Program 1,2,3'!O744,\"ERROR\")))","v":"ERROR"},{"$f":"IF(Setup!$B$52=1,'Fert Program 1,2,3'!P628,IF(Setup!$B$52=2,'Fert Program 1,2,3'!P686,IF(Setup!$B$52=3,'Fert Program 1,2,3'!P744,\"ERROR\")))","v":"ERROR"},{"$f":"IF(Setup!$B$52=1,'Fert Program 1,2,3'!Q628,IF(Setup!$B$52=2,'Fert Program 1,2,3'!Q686,IF(Setup!$B$52=3,'Fert Program 1,2,3'!Q744,\"ERROR\")))","v":"ERROR"},{"$f":"IF(Setup!$B$52=1,'Fert Program 1,2,3'!R628,IF(Setup!$B$52=2,'Fert Program 1,2,3'!R686,IF(Setup!$B$52=3,'Fert Program 1,2,3'!R744,\"ERROR\")))","v":"ERROR"},{"$f":"IF(Setup!$B$52=1,'Fert Program 1,2,3'!S628,IF(Setup!$B$52=2,'Fert Program 1,2,3'!S686,IF(Setup!$B$52=3,'Fert Program 1,2,3'!S744,\"ERROR\")))","v":"ERROR"},{"$f":"IF(Setup!$B$52=1,'Fert Program 1,2,3'!T628,IF(Setup!$B$52=2,'Fert Program 1,2,3'!T686,IF(Setup!$B$52=3,'Fert Program 1,2,3'!T744,\"ERROR\")))","v":"ERROR"},{"$f":"IF(Setup!$B$52=1,'Fert Program 1,2,3'!U628,IF(Setup!$B$52=2,'Fert Program 1,2,3'!U686,IF(Setup!$B$52=3,'Fert Program 1,2,3'!U744,\"ERROR\")))","v":"ERROR"},{"$f":"IF(Setup!$B$52=1,'Fert Program 1,2,3'!V628,IF(Setup!$B$52=2,'Fert Program 1,2,3'!V686,IF(Setup!$B$52=3,'Fert Program 1,2,3'!V744,\"ERROR\")))","v":"ERROR"},{"$f":"IF(Setup!$B$52=1,'Fert Program 1,2,3'!W628,IF(Setup!$B$52=2,'Fert Program 1,2,3'!W686,IF(Setup!$B$52=3,'Fert Program 1,2,3'!W744,\"ERROR\")))","v":"ERROR"},{"$f":"IF(Setup!$B$52=1,'Fert Program 1,2,3'!X628,IF(Setup!$B$52=2,'Fert Program 1,2,3'!X686,IF(Setup!$B$52=3,'Fert Program 1,2,3'!X744,\"ERROR\")))","v":"ERROR"},null,null,null,{"$f":"AB108","v":0},{"$f":"AB166","v":0},{"$f":"AB224","v":0},{"$f":"AC108","v":0},{"$f":"AC166","v":0},{"$f":"AC224","v":0},{"$f":"AD108","v":0},{"$f":"AD166","v":0},{"$f":"AD224","v":0}]
[{"$f":"A453+7","v":"2015-02-23"},"Week 34",{"$f":"IF(Setup!$B$52=1,'Fert Program 1,2,3'!C629,IF(Setup!$B$52=2,'Fert Program 1,2,3'!C687,IF(Setup!$B$52=3,'Fert Program 1,2,3'!C745,\"ERROR\")))","v":"ERROR"},{"$f":"IF(Setup!$B$52=1,'Fert Program 1,2,3'!D629,IF(Setup!$B$52=2,'Fert Program 1,2,3'!D687,IF(Setup!$B$52=3,'Fert Program 1,2,3'!D745,\"ERROR\")))","v":"ERROR"},{"$f":"IF(Setup!$B$52=1,'Fert Program 1,2,3'!E629,IF(Setup!$B$52=2,'Fert Program 1,2,3'!E687,IF(Setup!$B$52=3,'Fert Program 1,2,3'!E745,\"ERROR\")))","v":"ERROR"},{"$f":"IF(Setup!$B$52=1,'Fert Program 1,2,3'!F629,IF(Setup!$B$52=2,'Fert Program 1,2,3'!F687,IF(Setup!$B$52=3,'Fert Program 1,2,3'!F745,\"ERROR\")))","v":"ERROR"},{"$f":"IF(Setup!$B$52=1,'Fert Program 1,2,3'!G629,IF(Setup!$B$52=2,'Fert Program 1,2,3'!G687,IF(Setup!$B$52=3,'Fert Program 1,2,3'!G745,\"ERROR\")))","v":"ERROR"},{"$f":"IF(Setup!$B$52=1,'Fert Program 1,2,3'!H629,IF(Setup!$B$52=2,'Fert Program 1,2,3'!H687,IF(Setup!$B$52=3,'Fert Program 1,2,3'!H745,\"ERROR\")))","v":"ERROR"},{"$f":"IF(Setup!$B$52=1,'Fert Program 1,2,3'!I629,IF(Setup!$B$52=2,'Fert Program 1,2,3'!I687,IF(Setup!$B$52=3,'Fert Program 1,2,3'!I745,\"ERROR\")))","v":"ERROR"},{"$f":"IF(Setup!$B$52=1,'Fert Program 1,2,3'!J629,IF(Setup!$B$52=2,'Fert Program 1,2,3'!J687,IF(Setup!$B$52=3,'Fert Program 1,2,3'!J745,\"ERROR\")))","v":"ERROR"},{"$f":"IF(Setup!$B$52=1,'Fert Program 1,2,3'!K629,IF(Setup!$B$52=2,'Fert Program 1,2,3'!K687,IF(Setup!$B$52=3,'Fert Program 1,2,3'!K745,\"ERROR\")))","v":"ERROR"},{"$f":"IF(Setup!$B$52=1,'Fert Program 1,2,3'!L629,IF(Setup!$B$52=2,'Fert Program 1,2,3'!L687,IF(Setup!$B$52=3,'Fert Program 1,2,3'!L745,\"ERROR\")))","v":"ERROR"},{"$f":"IF(Setup!$B$52=1,'Fert Program 1,2,3'!M629,IF(Setup!$B$52=2,'Fert Program 1,2,3'!M687,IF(Setup!$B$52=3,'Fert Program 1,2,3'!M745,\"ERROR\")))","v":"ERROR"},{"$f":"IF(Setup!$B$52=1,'Fert Program 1,2,3'!N629,IF(Setup!$B$52=2,'Fert Program 1,2,3'!N687,IF(Setup!$B$52=3,'Fert Program 1,2,3'!N745,\"ERROR\")))","v":"ERROR"},{"$f":"IF(Setup!$B$52=1,'Fert Program 1,2,3'!O629,IF(Setup!$B$52=2,'Fert Program 1,2,3'!O687,IF(Setup!$B$52=3,'Fert Program 1,2,3'!O745,\"ERROR\")))","v":"ERROR"},{"$f":"IF(Setup!$B$52=1,'Fert Program 1,2,3'!P629,IF(Setup!$B$52=2,'Fert Program 1,2,3'!P687,IF(Setup!$B$52=3,'Fert Program 1,2,3'!P745,\"ERROR\")))","v":"ERROR"},{"$f":"IF(Setup!$B$52=1,'Fert Program 1,2,3'!Q629,IF(Setup!$B$52=2,'Fert Program 1,2,3'!Q687,IF(Setup!$B$52=3,'Fert Program 1,2,3'!Q745,\"ERROR\")))","v":"ERROR"},{"$f":"IF(Setup!$B$52=1,'Fert Program 1,2,3'!R629,IF(Setup!$B$52=2,'Fert Program 1,2,3'!R687,IF(Setup!$B$52=3,'Fert Program 1,2,3'!R745,\"ERROR\")))","v":"ERROR"},{"$f":"IF(Setup!$B$52=1,'Fert Program 1,2,3'!S629,IF(Setup!$B$52=2,'Fert Program 1,2,3'!S687,IF(Setup!$B$52=3,'Fert Program 1,2,3'!S745,\"ERROR\")))","v":"ERROR"},{"$f":"IF(Setup!$B$52=1,'Fert Program 1,2,3'!T629,IF(Setup!$B$52=2,'Fert Program 1,2,3'!T687,IF(Setup!$B$52=3,'Fert Program 1,2,3'!T745,\"ERROR\")))","v":"ERROR"},{"$f":"IF(Setup!$B$52=1,'Fert Program 1,2,3'!U629,IF(Setup!$B$52=2,'Fert Program 1,2,3'!U687,IF(Setup!$B$52=3,'Fert Program 1,2,3'!U745,\"ERROR\")))","v":"ERROR"},{"$f":"IF(Setup!$B$52=1,'Fert Program 1,2,3'!V629,IF(Setup!$B$52=2,'Fert Program 1,2,3'!V687,IF(Setup!$B$52=3,'Fert Program 1,2,3'!V745,\"ERROR\")))","v":"ERROR"},{"$f":"IF(Setup!$B$52=1,'Fert Program 1,2,3'!W629,IF(Setup!$B$52=2,'Fert Program 1,2,3'!W687,IF(Setup!$B$52=3,'Fert Program 1,2,3'!W745,\"ERROR\")))","v":"ERROR"},{"$f":"IF(Setup!$B$52=1,'Fert Program 1,2,3'!X629,IF(Setup!$B$52=2,'Fert Program 1,2,3'!X687,IF(Setup!$B$52=3,'Fert Program 1,2,3'!X745,\"ERROR\")))","v":"ERROR"},null,null,null,0,0,0,0,0,0,0,0,0]
["2015-03-02","Week 35",{"$f":"IF(Setup!$B$52=1,'Fert Program 1,2,3'!C630,IF(Setup!$B$52=2,'Fert Program 1,2,3'!C688,IF(Setup!$B$52=3,'Fert Program 1,2,3'!C746,\"ERROR\")))","v":"ERROR"},{"$f":"IF(Setup!$B$52=1,'Fert Program 1,2,3'!D630,IF(Setup!$B$52=2,'Fert Program 1,2,3'!D688,IF(Setup!$B$52=3,'Fert Program 1,2,3'!D746,\"ERROR\")))","v":"ERROR"},{"$f":"IF(Setup!$B$52=1,'Fert Program 1,2,3'!E630,IF(Setup!$B$52=2,'Fert Program 1,2,3'!E688,IF(Setup!$B$52=3,'Fert Program 1,2,3'!E746,\"ERROR\")))","v":"ERROR"},{"$f":"IF(Setup!$B$52=1,'Fert Program 1,2,3'!F630,IF(Setup!$B$52=2,'Fert Program 1,2,3'!F688,IF(Setup!$B$52=3,'Fert Program 1,2,3'!F746,\"ERROR\")))","v":"ERROR"},{"$f":"IF(Setup!$B$52=1,'Fert Program 1,2,3'!G630,IF(Setup!$B$52=2,'Fert Program 1,2,3'!G688,IF(Setup!$B$52=3,'Fert Program 1,2,3'!G746,\"ERROR\")))","v":"ERROR"},{"$f":"IF(Setup!$B$52=1,'Fert Program 1,2,3'!H630,IF(Setup!$B$52=2,'Fert Program 1,2,3'!H688,IF(Setup!$B$52=3,'Fert Program 1,2,3'!H746,\"ERROR\")))","v":"ERROR"},{"$f":"IF(Setup!$B$52=1,'Fert Program 1,2,3'!I630,IF(Setup!$B$52=2,'Fert Program 1,2,3'!I688,IF(Setup!$B$52=3,'Fert Program 1,2,3'!I746,\"ERROR\")))","v":"ERROR"},{"$f":"IF(Setup!$B$52=1,'Fert Program 1,2,3'!J630,IF(Setup!$B$52=2,'Fert Program 1,2,3'!J688,IF(Setup!$B$52=3,'Fert Program 1,2,3'!J746,\"ERROR\")))","v":"ERROR"},{"$f":"IF(Setup!$B$52=1,'Fert Program 1,2,3'!K630,IF(Setup!$B$52=2,'Fert Program 1,2,3'!K688,IF(Setup!$B$52=3,'Fert Program 1,2,3'!K746,\"ERROR\")))","v":"ERROR"},{"$f":"IF(Setup!$B$52=1,'Fert Program 1,2,3'!L630,IF(Setup!$B$52=2,'Fert Program 1,2,3'!L688,IF(Setup!$B$52=3,'Fert Program 1,2,3'!L746,\"ERROR\")))","v":"ERROR"},{"$f":"IF(Setup!$B$52=1,'Fert Program 1,2,3'!M630,IF(Setup!$B$52=2,'Fert Program 1,2,3'!M688,IF(Setup!$B$52=3,'Fert Program 1,2,3'!M746,\"ERROR\")))","v":"ERROR"},{"$f":"IF(Setup!$B$52=1,'Fert Program 1,2,3'!N630,IF(Setup!$B$52=2,'Fert Program 1,2,3'!N688,IF(Setup!$B$52=3,'Fert Program 1,2,3'!N746,\"ERROR\")))","v":"ERROR"},{"$f":"IF(Setup!$B$52=1,'Fert Program 1,2,3'!O630,IF(Setup!$B$52=2,'Fert Program 1,2,3'!O688,IF(Setup!$B$52=3,'Fert Program 1,2,3'!O746,\"ERROR\")))","v":"ERROR"},{"$f":"IF(Setup!$B$52=1,'Fert Program 1,2,3'!P630,IF(Setup!$B$52=2,'Fert Program 1,2,3'!P688,IF(Setup!$B$52=3,'Fert Program 1,2,3'!P746,\"ERROR\")))","v":"ERROR"},{"$f":"IF(Setup!$B$52=1,'Fert Program 1,2,3'!Q630,IF(Setup!$B$52=2,'Fert Program 1,2,3'!Q688,IF(Setup!$B$52=3,'Fert Program 1,2,3'!Q746,\"ERROR\")))","v":"ERROR"},{"$f":"IF(Setup!$B$52=1,'Fert Program 1,2,3'!R630,IF(Setup!$B$52=2,'Fert Program 1,2,3'!R688,IF(Setup!$B$52=3,'Fert Program 1,2,3'!R746,\"ERROR\")))","v":"ERROR"},{"$f":"IF(Setup!$B$52=1,'Fert Program 1,2,3'!S630,IF(Setup!$B$52=2,'Fert Program 1,2,3'!S688,IF(Setup!$B$52=3,'Fert Program 1,2,3'!S746,\"ERROR\")))","v":"ERROR"},{"$f":"IF(Setup!$B$52=1,'Fert Program 1,2,3'!T630,IF(Setup!$B$52=2,'Fert Program 1,2,3'!T688,IF(Setup!$B$52=3,'Fert Program 1,2,3'!T746,\"ERROR\")))","v":"ERROR"},{"$f":"IF(Setup!$B$52=1,'Fert Program 1,2,3'!U630,IF(Setup!$B$52=2,'Fert Program 1,2,3'!U688,IF(Setup!$B$52=3,'Fert Program 1,2,3'!U746,\"ERROR\")))","v":"ERROR"},{"$f":"IF(Setup!$B$52=1,'Fert Program 1,2,3'!V630,IF(Setup!$B$52=2,'Fert Program 1,2,3'!V688,IF(Setup!$B$52=3,'Fert Program 1,2,3'!V746,\"ERROR\")))","v":"ERROR"},{"$f":"IF(Setup!$B$52=1,'Fert Program 1,2,3'!W630,IF(Setup!$B$52=2,'Fert Program 1,2,3'!W688,IF(Setup!$B$52=3,'Fert Program 1,2,3'!W746,\"ERROR\")))","v":"ERROR"},{"$f":"IF(Setup!$B$52=1,'Fert Program 1,2,3'!X630,IF(Setup!$B$52=2,'Fert Program 1,2,3'!X688,IF(Setup!$B$52=3,'Fert Program 1,2,3'!X746,\"ERROR\")))","v":"ERROR"},null,null,null,0,0,0,0,0,0,0,0,0]
["2015-03-09","Week 36",{"$f":"IF(Setup!$B$52=1,'Fert Program 1,2,3'!C631,IF(Setup!$B$52=2,'Fert Program 1,2,3'!C689,IF(Setup!$B$52=3,'Fert Program 1,2,3'!C747,\"ERROR\")))","v":"ERROR"},{"$f":"IF(Setup!$B$52=1,'Fert Program 1,2,3'!D631,IF(Setup!$B$52=2,'Fert Program 1,2,3'!D689,IF(Setup!$B$52=3,'Fert Program 1,2,3'!D747,\"ERROR\")))","v":"ERROR"},{"$f":"IF(Setup!$B$52=1,'Fert Program 1,2,3'!E631,IF(Setup!$B$52=2,'Fert Program 1,2,3'!E689,IF(Setup!$B$52=3,'Fert Program 1,2,3'!E747,\"ERROR\")))","v":"ERROR"},{"$f":"IF(Setup!$B$52=1,'Fert Program 1,2,3'!F631,IF(Setup!$B$52=2,'Fert Program 1,2,3'!F689,IF(Setup!$B$52=3,'Fert Program 1,2,3'!F747,\"ERROR\")))","v":"ERROR"},{"$f":"IF(Setup!$B$52=1,'Fert Program 1,2,3'!G631,IF(Setup!$B$52=2,'Fert Program 1,2,3'!G689,IF(Setup!$B$52=3,'Fert Program 1,2,3'!G747,\"ERROR\")))","v":"ERROR"},{"$f":"IF(Setup!$B$52=1,'Fert Program 1,2,3'!H631,IF(Setup!$B$52=2,'Fert Program 1,2,3'!H689,IF(Setup!$B$52=3,'Fert Program 1,2,3'!H747,\"ERROR\")))","v":"ERROR"},{"$f":"IF(Setup!$B$52=1,'Fert Program 1,2,3'!I631,IF(Setup!$B$52=2,'Fert Program 1,2,3'!I689,IF(Setup!$B$52=3,'Fert Program 1,2,3'!I747,\"ERROR\")))","v":"ERROR"},{"$f":"IF(Setup!$B$52=1,'Fert Program 1,2,3'!J631,IF(Setup!$B$52=2,'Fert Program 1,2,3'!J689,IF(Setup!$B$52=3,'Fert Program 1,2,3'!J747,\"ERROR\")))","v":"ERROR"},{"$f":"IF(Setup!$B$52=1,'Fert Program 1,2,3'!K631,IF(Setup!$B$52=2,'Fert Program 1,2,3'!K689,IF(Setup!$B$52=3,'Fert Program 1,2,3'!K747,\"ERROR\")))","v":"ERROR"},{"$f":"IF(Setup!$B$52=1,'Fert Program 1,2,3'!L631,IF(Setup!$B$52=2,'Fert Program 1,2,3'!L689,IF(Setup!$B$52=3,'Fert Program 1,2,3'!L747,\"ERROR\")))","v":"ERROR"},{"$f":"IF(Setup!$B$52=1,'Fert Program 1,2,3'!M631,IF(Setup!$B$52=2,'Fert Program 1,2,3'!M689,IF(Setup!$B$52=3,'Fert Program 1,2,3'!M747,\"ERROR\")))","v":"ERROR"},{"$f":"IF(Setup!$B$52=1,'Fert Program 1,2,3'!N631,IF(Setup!$B$52=2,'Fert Program 1,2,3'!N689,IF(Setup!$B$52=3,'Fert Program 1,2,3'!N747,\"ERROR\")))","v":"ERROR"},{"$f":"IF(Setup!$B$52=1,'Fert Program 1,2,3'!O631,IF(Setup!$B$52=2,'Fert Program 1,2,3'!O689,IF(Setup!$B$52=3,'Fert Program 1,2,3'!O747,\"ERROR\")))","v":"ERROR"},{"$f":"IF(Setup!$B$52=1,'Fert Program 1,2,3'!P631,IF(Setup!$B$52=2,'Fert Program 1,2,3'!P689,IF(Setup!$B$52=3,'Fert Program 1,2,3'!P747,\"ERROR\")))","v":"ERROR"},{"$f":"IF(Setup!$B$52=1,'Fert Program 1,2,3'!Q631,IF(Setup!$B$52=2,'Fert Program 1,2,3'!Q689,IF(Setup!$B$52=3,'Fert Program 1,2,3'!Q747,\"ERROR\")))","v":"ERROR"},{"$f":"IF(Setup!$B$52=1,'Fert Program 1,2,3'!R631,IF(Setup!$B$52=2,'Fert Program 1,2,3'!R689,IF(Setup!$B$52=3,'Fert Program 1,2,3'!R747,\"ERROR\")))","v":"ERROR"},{"$f":"IF(Setup!$B$52=1,'Fert Program 1,2,3'!S631,IF(Setup!$B$52=2,'Fert Program 1,2,3'!S689,IF(Setup!$B$52=3,'Fert Program 1,2,3'!S747,\"ERROR\")))","v":"ERROR"},{"$f":"IF(Setup!$B$52=1,'Fert Program 1,2,3'!T631,IF(Setup!$B$52=2,'Fert Program 1,2,3'!T689,IF(Setup!$B$52=3,'Fert Program 1,2,3'!T747,\"ERROR\")))","v":"ERROR"},{"$f":"IF(Setup!$B$52=1,'Fert Program 1,2,3'!U631,IF(Setup!$B$52=2,'Fert Program 1,2,3'!U689,IF(Setup!$B$52=3,'Fert Program 1,2,3'!U747,\"ERROR\")))","v":"ERROR"},{"$f":"IF(Setup!$B$52=1,'Fert Program 1,2,3'!V631,IF(Setup!$B$52=2,'Fert Program 1,2,3'!V689,IF(Setup!$B$52=3,'Fert Program 1,2,3'!V747,\"ERROR\")))","v":"ERROR"},{"$f":"IF(Setup!$B$52=1,'Fert Program 1,2,3'!W631,IF(Setup!$B$52=2,'Fert Program 1,2,3'!W689,IF(Setup!$B$52=3,'Fert Program 1,2,3'!W747,\"ERROR\")))","v":"ERROR"},{"$f":"IF(Setup!$B$52=1,'Fert Program 1,2,3'!X631,IF(Setup!$B$52=2,'Fert Program 1,2,3'!X689,IF(Setup!$B$52=3,'Fert Program 1,2,3'!X747,\"ERROR\")))","v":"ERROR"},null,null,null,0,0,0,0,0,0,0,0,0]
["2015-03-16","Week 37",{"$f":"IF(Setup!$B$52=1,'Fert Program 1,2,3'!C632,IF(Setup!$B$52=2,'Fert Program 1,2,3'!C690,IF(Setup!$B$52=3,'Fert Program 1,2,3'!C748,\"ERROR\")))","v":"ERROR"},{"$f":"IF(Setup!$B$52=1,'Fert Program 1,2,3'!D632,IF(Setup!$B$52=2,'Fert Program 1,2,3'!D690,IF(Setup!$B$52=3,'Fert Program 1,2,3'!D748,\"ERROR\")))","v":"ERROR"},{"$f":"IF(Setup!$B$52=1,'Fert Program 1,2,3'!E632,IF(Setup!$B$52=2,'Fert Program 1,2,3'!E690,IF(Setup!$B$52=3,'Fert Program 1,2,3'!E748,\"ERROR\")))","v":"ERROR"},{"$f":"IF(Setup!$B$52=1,'Fert Program 1,2,3'!F632,IF(Setup!$B$52=2,'Fert Program 1,2,3'!F690,IF(Setup!$B$52=3,'Fert Program 1,2,3'!F748,\"ERROR\")))","v":"ERROR"},{"$f":"IF(Setup!$B$52=1,'Fert Program 1,2,3'!G632,IF(Setup!$B$52=2,'Fert Program 1,2,3'!G690,IF(Setup!$B$52=3,'Fert Program 1,2,3'!G748,\"ERROR\")))","v":"ERROR"},{"$f":"IF(Setup!$B$52=1,'Fert Program 1,2,3'!H632,IF(Setup!$B$52=2,'Fert Program 1,2,3'!H690,IF(Setup!$B$52=3,'Fert Program 1,2,3'!H748,\"ERROR\")))","v":"ERROR"},{"$f":"IF(Setup!$B$52=1,'Fert Program 1,2,3'!I632,IF(Setup!$B$52=2,'Fert Program 1,2,3'!I690,IF(Setup!$B$52=3,'Fert Program 1,2,3'!I748,\"ERROR\")))","v":"ERROR"},{"$f":"IF(Setup!$B$52=1,'Fert Program 1,2,3'!J632,IF(Setup!$B$52=2,'Fert Program 1,2,3'!J690,IF(Setup!$B$52=3,'Fert Program 1,2,3'!J748,\"ERROR\")))","v":"ERROR"},{"$f":"IF(Setup!$B$52=1,'Fert Program 1,2,3'!K632,IF(Setup!$B$52=2,'Fert Program 1,2,3'!K690,IF(Setup!$B$52=3,'Fert Program 1,2,3'!K748,\"ERROR\")))","v":"ERROR"},{"$f":"IF(Setup!$B$52=1,'Fert Program 1,2,3'!L632,IF(Setup!$B$52=2,'Fert Program 1,2,3'!L690,IF(Setup!$B$52=3,'Fert Program 1,2,3'!L748,\"ERROR\")))","v":"ERROR"},{"$f":"IF(Setup!$B$52=1,'Fert Program 1,2,3'!M632,IF(Setup!$B$52=2,'Fert Program 1,2,3'!M690,IF(Setup!$B$52=3,'Fert Program 1,2,3'!M748,\"ERROR\")))","v":"ERROR"},{"$f":"IF(Setup!$B$52=1,'Fert Program 1,2,3'!N632,IF(Setup!$B$52=2,'Fert Program 1,2,3'!N690,IF(Setup!$B$52=3,'Fert Program 1,2,3'!N748,\"ERROR\")))","v":"ERROR"},{"$f":"IF(Setup!$B$52=1,'Fert Program 1,2,3'!O632,IF(Setup!$B$52=2,'Fert Program 1,2,3'!O690,IF(Setup!$B$52=3,'Fert Program 1,2,3'!O748,\"ERROR\")))","v":"ERROR"},{"$f":"IF(Setup!$B$52=1,'Fert Program 1,2,3'!P632,IF(Setup!$B$52=2,'Fert Program 1,2,3'!P690,IF(Setup!$B$52=3,'Fert Program 1,2,3'!P748,\"ERROR\")))","v":"ERROR"},{"$f":"IF(Setup!$B$52=1,'Fert Program 1,2,3'!Q632,IF(Setup!$B$52=2,'Fert Program 1,2,3'!Q690,IF(Setup!$B$52=3,'Fert Program 1,2,3'!Q748,\"ERROR\")))","v":"ERROR"},{"$f":"IF(Setup!$B$52=1,'Fert Program 1,2,3'!R632,IF(Setup!$B$52=2,'Fert Program 1,2,3'!R690,IF(Setup!$B$52=3,'Fert Program 1,2,3'!R748,\"ERROR\")))","v":"ERROR"},{"$f":"IF(Setup!$B$52=1,'Fert Program 1,2,3'!S632,IF(Setup!$B$52=2,'Fert Program 1,2,3'!S690,IF(Setup!$B$52=3,'Fert Program 1,2,3'!S748,\"ERROR\")))","v":"ERROR"},{"$f":"IF(Setup!$B$52=1,'Fert Program 1,2,3'!T632,IF(Setup!$B$52=2,'Fert Program 1,2,3'!T690,IF(Setup!$B$52=3,'Fert Program 1,2,3'!T748,\"ERROR\")))","v":"ERROR"},{"$f":"IF(Setup!$B$52=1,'Fert Program 1,2,3'!U632,IF(Setup!$B$52=2,'Fert Program 1,2,3'!U690,IF(Setup!$B$52=3,'Fert Program 1,2,3'!U748,\"ERROR\")))","v":"ERROR"},{"$f":"IF(Setup!$B$52=1,'Fert Program 1,2,3'!V632,IF(Setup!$B$52=2,'Fert Program 1,2,3'!V690,IF(Setup!$B$52=3,'Fert Program 1,2,3'!V748,\"ERROR\")))","v":"ERROR"},{"$f":"IF(Setup!$B$52=1,'Fert Program 1,2,3'!W632,IF(Setup!$B$52=2,'Fert Program 1,2,3'!W690,IF(Setup!$B$52=3,'Fert Program 1,2,3'!W748,\"ERROR\")))","v":"ERROR"},{"$f":"IF(Setup!$B$52=1,'Fert Program 1,2,3'!X632,IF(Setup!$B$52=2,'Fert Program 1,2,3'!X690,IF(Setup!$B$52=3,'Fert Program 1,2,3'!X748,\"ERROR\")))","v":"ERROR"},null,null,null,0,0,0,0,0,0,0,0,0]
["2015-03-23","Week 38",{"$f":"IF(Setup!$B$52=1,'Fert Program 1,2,3'!C633,IF(Setup!$B$52=2,'Fert Program 1,2,3'!C691,IF(Setup!$B$52=3,'Fert Program 1,2,3'!C749,\"ERROR\")))","v":"ERROR"},{"$f":"IF(Setup!$B$52=1,'Fert Program 1,2,3'!D633,IF(Setup!$B$52=2,'Fert Program 1,2,3'!D691,IF(Setup!$B$52=3,'Fert Program 1,2,3'!D749,\"ERROR\")))","v":"ERROR"},{"$f":"IF(Setup!$B$52=1,'Fert Program 1,2,3'!E633,IF(Setup!$B$52=2,'Fert Program 1,2,3'!E691,IF(Setup!$B$52=3,'Fert Program 1,2,3'!E749,\"ERROR\")))","v":"ERROR"},{"$f":"IF(Setup!$B$52=1,'Fert Program 1,2,3'!F633,IF(Setup!$B$52=2,'Fert Program 1,2,3'!F691,IF(Setup!$B$52=3,'Fert Program 1,2,3'!F749,\"ERROR\")))","v":"ERROR"},{"$f":"IF(Setup!$B$52=1,'Fert Program 1,2,3'!G633,IF(Setup!$B$52=2,'Fert Program 1,2,3'!G691,IF(Setup!$B$52=3,'Fert Program 1,2,3'!G749,\"ERROR\")))","v":"ERROR"},{"$f":"IF(Setup!$B$52=1,'Fert Program 1,2,3'!H633,IF(Setup!$B$52=2,'Fert Program 1,2,3'!H691,IF(Setup!$B$52=3,'Fert Program 1,2,3'!H749,\"ERROR\")))","v":"ERROR"},{"$f":"IF(Setup!$B$52=1,'Fert Program 1,2,3'!I633,IF(Setup!$B$52=2,'Fert Program 1,2,3'!I691,IF(Setup!$B$52=3,'Fert Program 1,2,3'!I749,\"ERROR\")))","v":"ERROR"},{"$f":"IF(Setup!$B$52=1,'Fert Program 1,2,3'!J633,IF(Setup!$B$52=2,'Fert Program 1,2,3'!J691,IF(Setup!$B$52=3,'Fert Program 1,2,3'!J749,\"ERROR\")))","v":"ERROR"},{"$f":"IF(Setup!$B$52=1,'Fert Program 1,2,3'!K633,IF(Setup!$B$52=2,'Fert Program 1,2,3'!K691,IF(Setup!$B$52=3,'Fert Program 1,2,3'!K749,\"ERROR\")))","v":"ERROR"},{"$f":"IF(Setup!$B$52=1,'Fert Program 1,2,3'!L633,IF(Setup!$B$52=2,'Fert Program 1,2,3'!L691,IF(Setup!$B$52=3,'Fert Program 1,2,3'!L749,\"ERROR\")))","v":"ERROR"},{"$f":"IF(Setup!$B$52=1,'Fert Program 1,2,3'!M633,IF(Setup!$B$52=2,'Fert Program 1,2,3'!M691,IF(Setup!$B$52=3,'Fert Program 1,2,3'!M749,\"ERROR\")))","v":"ERROR"},{"$f":"IF(Setup!$B$52=1,'Fert Program 1,2,3'!N633,IF(Setup!$B$52=2,'Fert Program 1,2,3'!N691,IF(Setup!$B$52=3,'Fert Program 1,2,3'!N749,\"ERROR\")))","v":"ERROR"},{"$f":"IF(Setup!$B$52=1,'Fert Program 1,2,3'!O633,IF(Setup!$B$52=2,'Fert Program 1,2,3'!O691,IF(Setup!$B$52=3,'Fert Program 1,2,3'!O749,\"ERROR\")))","v":"ERROR"},{"$f":"IF(Setup!$B$52=1,'Fert Program 1,2,3'!P633,IF(Setup!$B$52=2,'Fert Program 1,2,3'!P691,IF(Setup!$B$52=3,'Fert Program 1,2,3'!P749,\"ERROR\")))","v":"ERROR"},{"$f":"IF(Setup!$B$52=1,'Fert Program 1,2,3'!Q633,IF(Setup!$B$52=2,'Fert Program 1,2,3'!Q691,IF(Setup!$B$52=3,'Fert Program 1,2,3'!Q749,\"ERROR\")))","v":"ERROR"},{"$f":"IF(Setup!$B$52=1,'Fert Program 1,2,3'!R633,IF(Setup!$B$52=2,'Fert Program 1,2,3'!R691,IF(Setup!$B$52=3,'Fert Program 1,2,3'!R749,\"ERROR\")))","v":"ERROR"},{"$f":"IF(Setup!$B$52=1,'Fert Program 1,2,3'!S633,IF(Setup!$B$52=2,'Fert Program 1,2,3'!S691,IF(Setup!$B$52=3,'Fert Program 1,2,3'!S749,\"ERROR\")))","v":"ERROR"},{"$f":"IF(Setup!$B$52=1,'Fert Program 1,2,3'!T633,IF(Setup!$B$52=2,'Fert Program 1,2,3'!T691,IF(Setup!$B$52=3,'Fert Program 1,2,3'!T749,\"ERROR\")))","v":"ERROR"},{"$f":"IF(Setup!$B$52=1,'Fert Program 1,2,3'!U633,IF(Setup!$B$52=2,'Fert Program 1,2,3'!U691,IF(Setup!$B$52=3,'Fert Program 1,2,3'!U749,\"ERROR\")))","v":"ERROR"},{"$f":"IF(Setup!$B$52=1,'Fert Program 1,2,3'!V633,IF(Setup!$B$52=2,'Fert Program 1,2,3'!V691,IF(Setup!$B$52=3,'Fert Program 1,2,3'!V749,\"ERROR\")))","v":"ERROR"},{"$f":"IF(Setup!$B$52=1,'Fert Program 1,2,3'!W633,IF(Setup!$B$52=2,'Fert Program 1,2,3'!W691,IF(Setup!$B$52=3,'Fert Program 1,2,3'!W749,\"ERROR\")))","v":"ERROR"},{"$f":"IF(Setup!$B$52=1,'Fert Program 1,2,3'!X633,IF(Setup!$B$52=2,'Fert Program 1,2,3'!X691,IF(Setup!$B$52=3,'Fert Program 1,2,3'!X749,\"ERROR\")))","v":"ERROR"},null,null,null,20.240000000000002,0,32.800000000000004,20.240000000000002,0,32.800000000000004,20.240000000000002,0,32.800000000000004]
["2015-03-30","Week 39",{"$f":"IF(Setup!$B$52=1,'Fert Program 1,2,3'!C634,IF(Setup!$B$52=2,'Fert Program 1,2,3'!C692,IF(Setup!$B$52=3,'Fert Program 1,2,3'!C750,\"ERROR\")))","v":"ERROR"},{"$f":"IF(Setup!$B$52=1,'Fert Program 1,2,3'!D634,IF(Setup!$B$52=2,'Fert Program 1,2,3'!D692,IF(Setup!$B$52=3,'Fert Program 1,2,3'!D750,\"ERROR\")))","v":"ERROR"},{"$f":"IF(Setup!$B$52=1,'Fert Program 1,2,3'!E634,IF(Setup!$B$52=2,'Fert Program 1,2,3'!E692,IF(Setup!$B$52=3,'Fert Program 1,2,3'!E750,\"ERROR\")))","v":"ERROR"},{"$f":"IF(Setup!$B$52=1,'Fert Program 1,2,3'!F634,IF(Setup!$B$52=2,'Fert Program 1,2,3'!F692,IF(Setup!$B$52=3,'Fert Program 1,2,3'!F750,\"ERROR\")))","v":"ERROR"},{"$f":"IF(Setup!$B$52=1,'Fert Program 1,2,3'!G634,IF(Setup!$B$52=2,'Fert Program 1,2,3'!G692,IF(Setup!$B$52=3,'Fert Program 1,2,3'!G750,\"ERROR\")))","v":"ERROR"},{"$f":"IF(Setup!$B$52=1,'Fert Program 1,2,3'!H634,IF(Setup!$B$52=2,'Fert Program 1,2,3'!H692,IF(Setup!$B$52=3,'Fert Program 1,2,3'!H750,\"ERROR\")))","v":"ERROR"},{"$f":"IF(Setup!$B$52=1,'Fert Program 1,2,3'!I634,IF(Setup!$B$52=2,'Fert Program 1,2,3'!I692,IF(Setup!$B$52=3,'Fert Program 1,2,3'!I750,\"ERROR\")))","v":"ERROR"},{"$f":"IF(Setup!$B$52=1,'Fert Program 1,2,3'!J634,IF(Setup!$B$52=2,'Fert Program 1,2,3'!J692,IF(Setup!$B$52=3,'Fert Program 1,2,3'!J750,\"ERROR\")))","v":"ERROR"},{"$f":"IF(Setup!$B$52=1,'Fert Program 1,2,3'!K634,IF(Setup!$B$52=2,'Fert Program 1,2,3'!K692,IF(Setup!$B$52=3,'Fert Program 1,2,3'!K750,\"ERROR\")))","v":"ERROR"},{"$f":"IF(Setup!$B$52=1,'Fert Program 1,2,3'!L634,IF(Setup!$B$52=2,'Fert Program 1,2,3'!L692,IF(Setup!$B$52=3,'Fert Program 1,2,3'!L750,\"ERROR\")))","v":"ERROR"},{"$f":"IF(Setup!$B$52=1,'Fert Program 1,2,3'!M634,IF(Setup!$B$52=2,'Fert Program 1,2,3'!M692,IF(Setup!$B$52=3,'Fert Program 1,2,3'!M750,\"ERROR\")))","v":"ERROR"},{"$f":"IF(Setup!$B$52=1,'Fert Program 1,2,3'!N634,IF(Setup!$B$52=2,'Fert Program 1,2,3'!N692,IF(Setup!$B$52=3,'Fert Program 1,2,3'!N750,\"ERROR\")))","v":"ERROR"},{"$f":"IF(Setup!$B$52=1,'Fert Program 1,2,3'!O634,IF(Setup!$B$52=2,'Fert Program 1,2,3'!O692,IF(Setup!$B$52=3,'Fert Program 1,2,3'!O750,\"ERROR\")))","v":"ERROR"},{"$f":"IF(Setup!$B$52=1,'Fert Program 1,2,3'!P634,IF(Setup!$B$52=2,'Fert Program 1,2,3'!P692,IF(Setup!$B$52=3,'Fert Program 1,2,3'!P750,\"ERROR\")))","v":"ERROR"},{"$f":"IF(Setup!$B$52=1,'Fert Program 1,2,3'!Q634,IF(Setup!$B$52=2,'Fert Program 1,2,3'!Q692,IF(Setup!$B$52=3,'Fert Program 1,2,3'!Q750,\"ERROR\")))","v":"ERROR"},{"$f":"IF(Setup!$B$52=1,'Fert Program 1,2,3'!R634,IF(Setup!$B$52=2,'Fert Program 1,2,3'!R692,IF(Setup!$B$52=3,'Fert Program 1,2,3'!R750,\"ERROR\")))","v":"ERROR"},{"$f":"IF(Setup!$B$52=1,'Fert Program 1,2,3'!S634,IF(Setup!$B$52=2,'Fert Program 1,2,3'!S692,IF(Setup!$B$52=3,'Fert Program 1,2,3'!S750,\"ERROR\")))","v":"ERROR"},{"$f":"IF(Setup!$B$52=1,'Fert Program 1,2,3'!T634,IF(Setup!$B$52=2,'Fert Program 1,2,3'!T692,IF(Setup!$B$52=3,'Fert Program 1,2,3'!T750,\"ERROR\")))","v":"ERROR"},{"$f":"IF(Setup!$B$52=1,'Fert Program 1,2,3'!U634,IF(Setup!$B$52=2,'Fert Program 1,2,3'!U692,IF(Setup!$B$52=3,'Fert Program 1,2,3'!U750,\"ERROR\")))","v":"ERROR"},{"$f":"IF(Setup!$B$52=1,'Fert Program 1,2,3'!V634,IF(Setup!$B$52=2,'Fert Program 1,2,3'!V692,IF(Setup!$B$52=3,'Fert Program 1,2,3'!V750,\"ERROR\")))","v":"ERROR"},{"$f":"IF(Setup!$B$52=1,'Fert Program 1,2,3'!W634,IF(Setup!$B$52=2,'Fert Program 1,2,3'!W692,IF(Setup!$B$52=3,'Fert Program 1,2,3'!W750,\"ERROR\")))","v":"ERROR"},{"$f":"IF(Setup!$B$52=1,'Fert Program 1,2,3'!X634,IF(Setup!$B$52=2,'Fert Program 1,2,3'!X692,IF(Setup!$B$52=3,'Fert Program 1,2,3'!X750,\"ERROR\")))","v":"ERROR"},null,null,null,19.78,0,32,19.78,0,32,19.78,0,32]
["2015-04-06","Week 40",{"$f":"IF(Setup!$B$52=1,'Fert Program 1,2,3'!C635,IF(Setup!$B$52=2,'Fert Program 1,2,3'!C693,IF(Setup!$B$52=3,'Fert Program 1,2,3'!C751,\"ERROR\")))","v":"ERROR"},{"$f":"IF(Setup!$B$52=1,'Fert Program 1,2,3'!D635,IF(Setup!$B$52=2,'Fert Program 1,2,3'!D693,IF(Setup!$B$52=3,'Fert Program 1,2,3'!D751,\"ERROR\")))","v":"ERROR"},{"$f":"IF(Setup!$B$52=1,'Fert Program 1,2,3'!E635,IF(Setup!$B$52=2,'Fert Program 1,2,3'!E693,IF(Setup!$B$52=3,'Fert Program 1,2,3'!E751,\"ERROR\")))","v":"ERROR"},{"$f":"IF(Setup!$B$52=1,'Fert Program 1,2,3'!F635,IF(Setup!$B$52=2,'Fert Program 1,2,3'!F693,IF(Setup!$B$52=3,'Fert Program 1,2,3'!F751,\"ERROR\")))","v":"ERROR"},{"$f":"IF(Setup!$B$52=1,'Fert Program 1,2,3'!G635,IF(Setup!$B$52=2,'Fert Program 1,2,3'!G693,IF(Setup!$B$52=3,'Fert Program 1,2,3'!G751,\"ERROR\")))","v":"ERROR"},{"$f":"IF(Setup!$B$52=1,'Fert Program 1,2,3'!H635,IF(Setup!$B$52=2,'Fert Program 1,2,3'!H693,IF(Setup!$B$52=3,'Fert Program 1,2,3'!H751,\"ERROR\")))","v":"ERROR"},{"$f":"IF(Setup!$B$52=1,'Fert Program 1,2,3'!I635,IF(Setup!$B$52=2,'Fert Program 1,2,3'!I693,IF(Setup!$B$52=3,'Fert Program 1,2,3'!I751,\"ERROR\")))","v":"ERROR"},{"$f":"IF(Setup!$B$52=1,'Fert Program 1,2,3'!J635,IF(Setup!$B$52=2,'Fert Program 1,2,3'!J693,IF(Setup!$B$52=3,'Fert Program 1,2,3'!J751,\"ERROR\")))","v":"ERROR"},{"$f":"IF(Setup!$B$52=1,'Fert Program 1,2,3'!K635,IF(Setup!$B$52=2,'Fert Program 1,2,3'!K693,IF(Setup!$B$52=3,'Fert Program 1,2,3'!K751,\"ERROR\")))","v":"ERROR"},{"$f":"IF(Setup!$B$52=1,'Fert Program 1,2,3'!L635,IF(Setup!$B$52=2,'Fert Program 1,2,3'!L693,IF(Setup!$B$52=3,'Fert Program 1,2,3'!L751,\"ERROR\")))","v":"ERROR"},{"$f":"IF(Setup!$B$52=1,'Fert Program 1,2,3'!M635,IF(Setup!$B$52=2,'Fert Program 1,2,3'!M693,IF(Setup!$B$52=3,'Fert Program 1,2,3'!M751,\"ERROR\")))","v":"ERROR"},{"$f":"IF(Setup!$B$52=1,'Fert Program 1,2,3'!N635,IF(Setup!$B$52=2,'Fert Program 1,2,3'!N693,IF(Setup!$B$52=3,'Fert Program 1,2,3'!N751,\"ERROR\")))","v":"ERROR"},{"$f":"IF(Setup!$B$52=1,'Fert Program 1,2,3'!O635,IF(Setup!$B$52=2,'Fert Program 1,2,3'!O693,IF(Setup!$B$52=3,'Fert Program 1,2,3'!O751,\"ERROR\")))","v":"ERROR"},{"$f":"IF(Setup!$B$52=1,'Fert Program 1,2,3'!P635,IF(Setup!$B$52=2,'Fert Program 1,2,3'!P693,IF(Setup!$B$52=3,'Fert Program 1,2,3'!P751,\"ERROR\")))","v":"ERROR"},{"$f":"IF(Setup!$B$52=1,'Fert Program 1,2,3'!Q635,IF(Setup!$B$52=2,'Fert Program 1,2,3'!Q693,IF(Setup!$B$52=3,'Fert Program 1,2,3'!Q751,\"ERROR\")))","v":"ERROR"},{"$f":"IF(Setup!$B$52=1,'Fert Program 1,2,3'!R635,IF(Setup!$B$52=2,'Fert Program 1,2,3'!R693,IF(Setup!$B$52=3,'Fert Program 1,2,3'!R751,\"ERROR\")))","v":"ERROR"},{"$f":"IF(Setup!$B$52=1,'Fert Program 1,2,3'!S635,IF(Setup!$B$52=2,'Fert Program 1,2,3'!S693,IF(Setup!$B$52=3,'Fert Program 1,2,3'!S751,\"ERROR\")))","v":"ERROR"},{"$f":"IF(Setup!$B$52=1,'Fert Program 1,2,3'!T635,IF(Setup!$B$52=2,'Fert Program 1,2,3'!T693,IF(Setup!$B$52=3,'Fert Program 1,2,3'!T751,\"ERROR\")))","v":"ERROR"},{"$f":"IF(Setup!$B$52=1,'Fert Program 1,2,3'!U635,IF(Setup!$B$52=2,'Fert Program 1,2,3'!U693,IF(Setup!$B$52=3,'Fert Program 1,2,3'!U751,\"ERROR\")))","v":"ERROR"},{"$f":"IF(Setup!$B$52=1,'Fert Program 1,2,3'!V635,IF(Setup!$B$52=2,'Fert Program 1,2,3'!V693,IF(Setup!$B$52=3,'Fert Program 1,2,3'!V751,\"ERROR\")))","v":"ERROR"},{"$f":"IF(Setup!$B$52=1,'Fert Program 1,2,3'!W635,IF(Setup!$B$52=2,'Fert Program 1,2,3'!W693,IF(Setup!$B$52=3,'Fert Program 1,2,3'!W751,\"ERROR\")))","v":"ERROR"},{"$f":"IF(Setup!$B$52=1,'Fert Program 1,2,3'!X635,IF(Setup!$B$52=2,'Fert Program 1,2,3'!X693,IF(Setup!$B$52=3,'Fert Program 1,2,3'!X751,\"ERROR\")))","v":"ERROR"},null,null,null,18.86,0,32,18.86,0,32,18.86,0,32]
["2015-04-13","Week 41",{"$f":"IF(Setup!$B$52=1,'Fert Program 1,2,3'!C636,IF(Setup!$B$52=2,'Fert Program 1,2,3'!C694,IF(Setup!$B$52=3,'Fert Program 1,2,3'!C752,\"ERROR\")))","v":"ERROR"},{"$f":"IF(Setup!$B$52=1,'Fert Program 1,2,3'!D636,IF(Setup!$B$52=2,'Fert Program 1,2,3'!D694,IF(Setup!$B$52=3,'Fert Program 1,2,3'!D752,\"ERROR\")))","v":"ERROR"},{"$f":"IF(Setup!$B$52=1,'Fert Program 1,2,3'!E636,IF(Setup!$B$52=2,'Fert Program 1,2,3'!E694,IF(Setup!$B$52=3,'Fert Program 1,2,3'!E752,\"ERROR\")))","v":"ERROR"},{"$f":"IF(Setup!$B$52=1,'Fert Program 1,2,3'!F636,IF(Setup!$B$52=2,'Fert Program 1,2,3'!F694,IF(Setup!$B$52=3,'Fert Program 1,2,3'!F752,\"ERROR\")))","v":"ERROR"},{"$f":"IF(Setup!$B$52=1,'Fert Program 1,2,3'!G636,IF(Setup!$B$52=2,'Fert Program 1,2,3'!G694,IF(Setup!$B$52=3,'Fert Program 1,2,3'!G752,\"ERROR\")))","v":"ERROR"},{"$f":"IF(Setup!$B$52=1,'Fert Program 1,2,3'!H636,IF(Setup!$B$52=2,'Fert Program 1,2,3'!H694,IF(Setup!$B$52=3,'Fert Program 1,2,3'!H752,\"ERROR\")))","v":"ERROR"},{"$f":"IF(Setup!$B$52=1,'Fert Program 1,2,3'!I636,IF(Setup!$B$52=2,'Fert Program 1,2,3'!I694,IF(Setup!$B$52=3,'Fert Program 1,2,3'!I752,\"ERROR\")))","v":"ERROR"},{"$f":"IF(Setup!$B$52=1,'Fert Program 1,2,3'!J636,IF(Setup!$B$52=2,'Fert Program 1,2,3'!J694,IF(Setup!$B$52=3,'Fert Program 1,2,3'!J752,\"ERROR\")))","v":"ERROR"},{"$f":"IF(Setup!$B$52=1,'Fert Program 1,2,3'!K636,IF(Setup!$B$52=2,'Fert Program 1,2,3'!K694,IF(Setup!$B$52=3,'Fert Program 1,2,3'!K752,\"ERROR\")))","v":"ERROR"},{"$f":"IF(Setup!$B$52=1,'Fert Program 1,2,3'!L636,IF(Setup!$B$52=2,'Fert Program 1,2,3'!L694,IF(Setup!$B$52=3,'Fert Program 1,2,3'!L752,\"ERROR\")))","v":"ERROR"},{"$f":"IF(Setup!$B$52=1,'Fert Program 1,2,3'!M636,IF(Setup!$B$52=2,'Fert Program 1,2,3'!M694,IF(Setup!$B$52=3,'Fert Program 1,2,3'!M752,\"ERROR\")))","v":"ERROR"},{"$f":"IF(Setup!$B$52=1,'Fert Program 1,2,3'!N636,IF(Setup!$B$52=2,'Fert Program 1,2,3'!N694,IF(Setup!$B$52=3,'Fert Program 1,2,3'!N752,\"ERROR\")))","v":"ERROR"},{"$f":"IF(Setup!$B$52=1,'Fert Program 1,2,3'!O636,IF(Setup!$B$52=2,'Fert Program 1,2,3'!O694,IF(Setup!$B$52=3,'Fert Program 1,2,3'!O752,\"ERROR\")))","v":"ERROR"},{"$f":"IF(Setup!$B$52=1,'Fert Program 1,2,3'!P636,IF(Setup!$B$52=2,'Fert Program 1,2,3'!P694,IF(Setup!$B$52=3,'Fert Program 1,2,3'!P752,\"ERROR\")))","v":"ERROR"},{"$f":"IF(Setup!$B$52=1,'Fert Program 1,2,3'!Q636,IF(Setup!$B$52=2,'Fert Program 1,2,3'!Q694,IF(Setup!$B$52=3,'Fert Program 1,2,3'!Q752,\"ERROR\")))","v":"ERROR"},{"$f":"IF(Setup!$B$52=1,'Fert Program 1,2,3'!R636,IF(Setup!$B$52=2,'Fert Program 1,2,3'!R694,IF(Setup!$B$52=3,'Fert Program 1,2,3'!R752,\"ERROR\")))","v":"ERROR"},{"$f":"IF(Setup!$B$52=1,'Fert Program 1,2,3'!S636,IF(Setup!$B$52=2,'Fert Program 1,2,3'!S694,IF(Setup!$B$52=3,'Fert Program 1,2,3'!S752,\"ERROR\")))","v":"ERROR"},{"$f":"IF(Setup!$B$52=1,'Fert Program 1,2,3'!T636,IF(Setup!$B$52=2,'Fert Program 1,2,3'!T694,IF(Setup!$B$52=3,'Fert Program 1,2,3'!T752,\"ERROR\")))","v":"ERROR"},{"$f":"IF(Setup!$B$52=1,'Fert Program 1,2,3'!U636,IF(Setup!$B$52=2,'Fert Program 1,2,3'!U694,IF(Setup!$B$52=3,'Fert Program 1,2,3'!U752,\"ERROR\")))","v":"ERROR"},{"$f":"IF(Setup!$B$52=1,'Fert Program 1,2,3'!V636,IF(Setup!$B$52=2,'Fert Program 1,2,3'!V694,IF(Setup!$B$52=3,'Fert Program 1,2,3'!V752,\"ERROR\")))","v":"ERROR"},{"$f":"IF(Setup!$B$52=1,'Fert Program 1,2,3'!W636,IF(Setup!$B$52=2,'Fert Program 1,2,3'!W694,IF(Setup!$B$52=3,'Fert Program 1,2,3'!W752,\"ERROR\")))","v":"ERROR"},{"$f":"IF(Setup!$B$52=1,'Fert Program 1,2,3'!X636,IF(Setup!$B$52=2,'Fert Program 1,2,3'!X694,IF(Setup!$B$52=3,'Fert Program 1,2,3'!X752,\"ERROR\")))","v":"ERROR"},null,null,null,18.86,0,32,18.86,0,32,18.86,0,32]
["2015-04-20","Week 42",{"$f":"IF(Setup!$B$52=1,'Fert Program 1,2,3'!C637,IF(Setup!$B$52=2,'Fert Program 1,2,3'!C695,IF(Setup!$B$52=3,'Fert Program 1,2,3'!C753,\"ERROR\")))","v":"ERROR"},{"$f":"IF(Setup!$B$52=1,'Fert Program 1,2,3'!D637,IF(Setup!$B$52=2,'Fert Program 1,2,3'!D695,IF(Setup!$B$52=3,'Fert Program 1,2,3'!D753,\"ERROR\")))","v":"ERROR"},{"$f":"IF(Setup!$B$52=1,'Fert Program 1,2,3'!E637,IF(Setup!$B$52=2,'Fert Program 1,2,3'!E695,IF(Setup!$B$52=3,'Fert Program 1,2,3'!E753,\"ERROR\")))","v":"ERROR"},{"$f":"IF(Setup!$B$52=1,'Fert Program 1,2,3'!F637,IF(Setup!$B$52=2,'Fert Program 1,2,3'!F695,IF(Setup!$B$52=3,'Fert Program 1,2,3'!F753,\"ERROR\")))","v":"ERROR"},{"$f":"IF(Setup!$B$52=1,'Fert Program 1,2,3'!G637,IF(Setup!$B$52=2,'Fert Program 1,2,3'!G695,IF(Setup!$B$52=3,'Fert Program 1,2,3'!G753,\"ERROR\")))","v":"ERROR"},{"$f":"IF(Setup!$B$52=1,'Fert Program 1,2,3'!H637,IF(Setup!$B$52=2,'Fert Program 1,2,3'!H695,IF(Setup!$B$52=3,'Fert Program 1,2,3'!H753,\"ERROR\")))","v":"ERROR"},{"$f":"IF(Setup!$B$52=1,'Fert Program 1,2,3'!I637,IF(Setup!$B$52=2,'Fert Program 1,2,3'!I695,IF(Setup!$B$52=3,'Fert Program 1,2,3'!I753,\"ERROR\")))","v":"ERROR"},{"$f":"IF(Setup!$B$52=1,'Fert Program 1,2,3'!J637,IF(Setup!$B$52=2,'Fert Program 1,2,3'!J695,IF(Setup!$B$52=3,'Fert Program 1,2,3'!J753,\"ERROR\")))","v":"ERROR"},{"$f":"IF(Setup!$B$52=1,'Fert Program 1,2,3'!K637,IF(Setup!$B$52=2,'Fert Program 1,2,3'!K695,IF(Setup!$B$52=3,'Fert Program 1,2,3'!K753,\"ERROR\")))","v":"ERROR"},{"$f":"IF(Setup!$B$52=1,'Fert Program 1,2,3'!L637,IF(Setup!$B$52=2,'Fert Program 1,2,3'!L695,IF(Setup!$B$52=3,'Fert Program 1,2,3'!L753,\"ERROR\")))","v":"ERROR"},{"$f":"IF(Setup!$B$52=1,'Fert Program 1,2,3'!M637,IF(Setup!$B$52=2,'Fert Program 1,2,3'!M695,IF(Setup!$B$52=3,'Fert Program 1,2,3'!M753,\"ERROR\")))","v":"ERROR"},{"$f":"IF(Setup!$B$52=1,'Fert Program 1,2,3'!N637,IF(Setup!$B$52=2,'Fert Program 1,2,3'!N695,IF(Setup!$B$52=3,'Fert Program 1,2,3'!N753,\"ERROR\")))","v":"ERROR"},{"$f":"IF(Setup!$B$52=1,'Fert Program 1,2,3'!O637,IF(Setup!$B$52=2,'Fert Program 1,2,3'!O695,IF(Setup!$B$52=3,'Fert Program 1,2,3'!O753,\"ERROR\")))","v":"ERROR"},{"$f":"IF(Setup!$B$52=1,'Fert Program 1,2,3'!P637,IF(Setup!$B$52=2,'Fert Program 1,2,3'!P695,IF(Setup!$B$52=3,'Fert Program 1,2,3'!P753,\"ERROR\")))","v":"ERROR"},{"$f":"IF(Setup!$B$52=1,'Fert Program 1,2,3'!Q637,IF(Setup!$B$52=2,'Fert Program 1,2,3'!Q695,IF(Setup!$B$52=3,'Fert Program 1,2,3'!Q753,\"ERROR\")))","v":"ERROR"},{"$f":"IF(Setup!$B$52=1,'Fert Program 1,2,3'!R637,IF(Setup!$B$52=2,'Fert Program 1,2,3'!R695,IF(Setup!$B$52=3,'Fert Program 1,2,3'!R753,\"ERROR\")))","v":"ERROR"},{"$f":"IF(Setup!$B$52=1,'Fert Program 1,2,3'!S637,IF(Setup!$B$52=2,'Fert Program 1,2,3'!S695,IF(Setup!$B$52=3,'Fert Program 1,2,3'!S753,\"ERROR\")))","v":"ERROR"},{"$f":"IF(Setup!$B$52=1,'Fert Program 1,2,3'!T637,IF(Setup!$B$52=2,'Fert Program 1,2,3'!T695,IF(Setup!$B$52=3,'Fert Program 1,2,3'!T753,\"ERROR\")))","v":"ERROR"},{"$f":"IF(Setup!$B$52=1,'Fert Program 1,2,3'!U637,IF(Setup!$B$52=2,'Fert Program 1,2,3'!U695,IF(Setup!$B$52=3,'Fert Program 1,2,3'!U753,\"ERROR\")))","v":"ERROR"},{"$f":"IF(Setup!$B$52=1,'Fert Program 1,2,3'!V637,IF(Setup!$B$52=2,'Fert Program 1,2,3'!V695,IF(Setup!$B$52=3,'Fert Program 1,2,3'!V753,\"ERROR\")))","v":"ERROR"},{"$f":"IF(Setup!$B$52=1,'Fert Program 1,2,3'!W637,IF(Setup!$B$52=2,'Fert Program 1,2,3'!W695,IF(Setup!$B$52=3,'Fert Program 1,2,3'!W753,\"ERROR\")))","v":"ERROR"},{"$f":"IF(Setup!$B$52=1,'Fert Program 1,2,3'!X637,IF(Setup!$B$52=2,'Fert Program 1,2,3'!X695,IF(Setup!$B$52=3,'Fert Program 1,2,3'!X753,\"ERROR\")))","v":"ERROR"},null,null,null,0,0,0,0,0,0,0,0,0]
["2015-04-27","Week 43",{"$f":"IF(Setup!$B$52=1,'Fert Program 1,2,3'!C638,IF(Setup!$B$52=2,'Fert Program 1,2,3'!C696,IF(Setup!$B$52=3,'Fert Program 1,2,3'!C754,\"ERROR\")))","v":"ERROR"},{"$f":"IF(Setup!$B$52=1,'Fert Program 1,2,3'!D638,IF(Setup!$B$52=2,'Fert Program 1,2,3'!D696,IF(Setup!$B$52=3,'Fert Program 1,2,3'!D754,\"ERROR\")))","v":"ERROR"},{"$f":"IF(Setup!$B$52=1,'Fert Program 1,2,3'!E638,IF(Setup!$B$52=2,'Fert Program 1,2,3'!E696,IF(Setup!$B$52=3,'Fert Program 1,2,3'!E754,\"ERROR\")))","v":"ERROR"},{"$f":"IF(Setup!$B$52=1,'Fert Program 1,2,3'!F638,IF(Setup!$B$52=2,'Fert Program 1,2,3'!F696,IF(Setup!$B$52=3,'Fert Program 1,2,3'!F754,\"ERROR\")))","v":"ERROR"},{"$f":"IF(Setup!$B$52=1,'Fert Program 1,2,3'!G638,IF(Setup!$B$52=2,'Fert Program 1,2,3'!G696,IF(Setup!$B$52=3,'Fert Program 1,2,3'!G754,\"ERROR\")))","v":"ERROR"},{"$f":"IF(Setup!$B$52=1,'Fert Program 1,2,3'!H638,IF(Setup!$B$52=2,'Fert Program 1,2,3'!H696,IF(Setup!$B$52=3,'Fert Program 1,2,3'!H754,\"ERROR\")))","v":"ERROR"},{"$f":"IF(Setup!$B$52=1,'Fert Program 1,2,3'!I638,IF(Setup!$B$52=2,'Fert Program 1,2,3'!I696,IF(Setup!$B$52=3,'Fert Program 1,2,3'!I754,\"ERROR\")))","v":"ERROR"},{"$f":"IF(Setup!$B$52=1,'Fert Program 1,2,3'!J638,IF(Setup!$B$52=2,'Fert Program 1,2,3'!J696,IF(Setup!$B$52=3,'Fert Program 1,2,3'!J754,\"ERROR\")))","v":"ERROR"},{"$f":"IF(Setup!$B$52=1,'Fert Program 1,2,3'!K638,IF(Setup!$B$52=2,'Fert Program 1,2,3'!K696,IF(Setup!$B$52=3,'Fert Program 1,2,3'!K754,\"ERROR\")))","v":"ERROR"},{"$f":"IF(Setup!$B$52=1,'Fert Program 1,2,3'!L638,IF(Setup!$B$52=2,'Fert Program 1,2,3'!L696,IF(Setup!$B$52=3,'Fert Program 1,2,3'!L754,\"ERROR\")))","v":"ERROR"},{"$f":"IF(Setup!$B$52=1,'Fert Program 1,2,3'!M638,IF(Setup!$B$52=2,'Fert Program 1,2,3'!M696,IF(Setup!$B$52=3,'Fert Program 1,2,3'!M754,\"ERROR\")))","v":"ERROR"},{"$f":"IF(Setup!$B$52=1,'Fert Program 1,2,3'!N638,IF(Setup!$B$52=2,'Fert Program 1,2,3'!N696,IF(Setup!$B$52=3,'Fert Program 1,2,3'!N754,\"ERROR\")))","v":"ERROR"},{"$f":"IF(Setup!$B$52=1,'Fert Program 1,2,3'!O638,IF(Setup!$B$52=2,'Fert Program 1,2,3'!O696,IF(Setup!$B$52=3,'Fert Program 1,2,3'!O754,\"ERROR\")))","v":"ERROR"},{"$f":"IF(Setup!$B$52=1,'Fert Program 1,2,3'!P638,IF(Setup!$B$52=2,'Fert Program 1,2,3'!P696,IF(Setup!$B$52=3,'Fert Program 1,2,3'!P754,\"ERROR\")))","v":"ERROR"},{"$f":"IF(Setup!$B$52=1,'Fert Program 1,2,3'!Q638,IF(Setup!$B$52=2,'Fert Program 1,2,3'!Q696,IF(Setup!$B$52=3,'Fert Program 1,2,3'!Q754,\"ERROR\")))","v":"ERROR"},{"$f":"IF(Setup!$B$52=1,'Fert Program 1,2,3'!R638,IF(Setup!$B$52=2,'Fert Program 1,2,3'!R696,IF(Setup!$B$52=3,'Fert Program 1,2,3'!R754,\"ERROR\")))","v":"ERROR"},{"$f":"IF(Setup!$B$52=1,'Fert Program 1,2,3'!S638,IF(Setup!$B$52=2,'Fert Program 1,2,3'!S696,IF(Setup!$B$52=3,'Fert Program 1,2,3'!S754,\"ERROR\")))","v":"ERROR"},{"$f":"IF(Setup!$B$52=1,'Fert Program 1,2,3'!T638,IF(Setup!$B$52=2,'Fert Program 1,2,3'!T696,IF(Setup!$B$52=3,'Fert Program 1,2,3'!T754,\"ERROR\")))","v":"ERROR"},{"$f":"IF(Setup!$B$52=1,'Fert Program 1,2,3'!U638,IF(Setup!$B$52=2,'Fert Program 1,2,3'!U696,IF(Setup!$B$52=3,'Fert Program 1,2,3'!U754,\"ERROR\")))","v":"ERROR"},{"$f":"IF(Setup!$B$52=1,'Fert Program 1,2,3'!V638,IF(Setup!$B$52=2,'Fert Program 1,2,3'!V696,IF(Setup!$B$52=3,'Fert Program 1,2,3'!V754,\"ERROR\")))","v":"ERROR"},{"$f":"IF(Setup!$B$52=1,'Fert Program 1,2,3'!W638,IF(Setup!$B$52=2,'Fert Program 1,2,3'!W696,IF(Setup!$B$52=3,'Fert Program 1,2,3'!W754,\"ERROR\")))","v":"ERROR"},{"$f":"IF(Setup!$B$52=1,'Fert Program 1,2,3'!X638,IF(Setup!$B$52=2,'Fert Program 1,2,3'!X696,IF(Setup!$B$52=3,'Fert Program 1,2,3'!X754,\"ERROR\")))","v":"ERROR"},null,null,null,0,0,0,0,0,0,0,0,0]
["2015-05-04","Week 44",{"$f":"IF(Setup!$B$52=1,'Fert Program 1,2,3'!C639,IF(Setup!$B$52=2,'Fert Program 1,2,3'!C697,IF(Setup!$B$52=3,'Fert Program 1,2,3'!C755,\"ERROR\")))","v":"ERROR"},{"$f":"IF(Setup!$B$52=1,'Fert Program 1,2,3'!D639,IF(Setup!$B$52=2,'Fert Program 1,2,3'!D697,IF(Setup!$B$52=3,'Fert Program 1,2,3'!D755,\"ERROR\")))","v":"ERROR"},{"$f":"IF(Setup!$B$52=1,'Fert Program 1,2,3'!E639,IF(Setup!$B$52=2,'Fert Program 1,2,3'!E697,IF(Setup!$B$52=3,'Fert Program 1,2,3'!E755,\"ERROR\")))","v":"ERROR"},{"$f":"IF(Setup!$B$52=1,'Fert Program 1,2,3'!F639,IF(Setup!$B$52=2,'Fert Program 1,2,3'!F697,IF(Setup!$B$52=3,'Fert Program 1,2,3'!F755,\"ERROR\")))","v":"ERROR"},{"$f":"IF(Setup!$B$52=1,'Fert Program 1,2,3'!G639,IF(Setup!$B$52=2,'Fert Program 1,2,3'!G697,IF(Setup!$B$52=3,'Fert Program 1,2,3'!G755,\"ERROR\")))","v":"ERROR"},{"$f":"IF(Setup!$B$52=1,'Fert Program 1,2,3'!H639,IF(Setup!$B$52=2,'Fert Program 1,2,3'!H697,IF(Setup!$B$52=3,'Fert Program 1,2,3'!H755,\"ERROR\")))","v":"ERROR"},{"$f":"IF(Setup!$B$52=1,'Fert Program 1,2,3'!I639,IF(Setup!$B$52=2,'Fert Program 1,2,3'!I697,IF(Setup!$B$52=3,'Fert Program 1,2,3'!I755,\"ERROR\")))","v":"ERROR"},{"$f":"IF(Setup!$B$52=1,'Fert Program 1,2,3'!J639,IF(Setup!$B$52=2,'Fert Program 1,2,3'!J697,IF(Setup!$B$52=3,'Fert Program 1,2,3'!J755,\"ERROR\")))","v":"ERROR"},{"$f":"IF(Setup!$B$52=1,'Fert Program 1,2,3'!K639,IF(Setup!$B$52=2,'Fert Program 1,2,3'!K697,IF(Setup!$B$52=3,'Fert Program 1,2,3'!K755,\"ERROR\")))","v":"ERROR"},{"$f":"IF(Setup!$B$52=1,'Fert Program 1,2,3'!L639,IF(Setup!$B$52=2,'Fert Program 1,2,3'!L697,IF(Setup!$B$52=3,'Fert Program 1,2,3'!L755,\"ERROR\")))","v":"ERROR"},{"$f":"IF(Setup!$B$52=1,'Fert Program 1,2,3'!M639,IF(Setup!$B$52=2,'Fert Program 1,2,3'!M697,IF(Setup!$B$52=3,'Fert Program 1,2,3'!M755,\"ERROR\")))","v":"ERROR"},{"$f":"IF(Setup!$B$52=1,'Fert Program 1,2,3'!N639,IF(Setup!$B$52=2,'Fert Program 1,2,3'!N697,IF(Setup!$B$52=3,'Fert Program 1,2,3'!N755,\"ERROR\")))","v":"ERROR"},{"$f":"IF(Setup!$B$52=1,'Fert Program 1,2,3'!O639,IF(Setup!$B$52=2,'Fert Program 1,2,3'!O697,IF(Setup!$B$52=3,'Fert Program 1,2,3'!O755,\"ERROR\")))","v":"ERROR"},{"$f":"IF(Setup!$B$52=1,'Fert Program 1,2,3'!P639,IF(Setup!$B$52=2,'Fert Program 1,2,3'!P697,IF(Setup!$B$52=3,'Fert Program 1,2,3'!P755,\"ERROR\")))","v":"ERROR"},{"$f":"IF(Setup!$B$52=1,'Fert Program 1,2,3'!Q639,IF(Setup!$B$52=2,'Fert Program 1,2,3'!Q697,IF(Setup!$B$52=3,'Fert Program 1,2,3'!Q755,\"ERROR\")))","v":"ERROR"},{"$f":"IF(Setup!$B$52=1,'Fert Program 1,2,3'!R639,IF(Setup!$B$52=2,'Fert Program 1,2,3'!R697,IF(Setup!$B$52=3,'Fert Program 1,2,3'!R755,\"ERROR\")))","v":"ERROR"},{"$f":"IF(Setup!$B$52=1,'Fert Program 1,2,3'!S639,IF(Setup!$B$52=2,'Fert Program 1,2,3'!S697,IF(Setup!$B$52=3,'Fert Program 1,2,3'!S755,\"ERROR\")))","v":"ERROR"},{"$f":"IF(Setup!$B$52=1,'Fert Program 1,2,3'!T639,IF(Setup!$B$52=2,'Fert Program 1,2,3'!T697,IF(Setup!$B$52=3,'Fert Program 1,2,3'!T755,\"ERROR\")))","v":"ERROR"},{"$f":"IF(Setup!$B$52=1,'Fert Program 1,2,3'!U639,IF(Setup!$B$52=2,'Fert Program 1,2,3'!U697,IF(Setup!$B$52=3,'Fert Program 1,2,3'!U755,\"ERROR\")))","v":"ERROR"},{"$f":"IF(Setup!$B$52=1,'Fert Program 1,2,3'!V639,IF(Setup!$B$52=2,'Fert Program 1,2,3'!V697,IF(Setup!$B$52=3,'Fert Program 1,2,3'!V755,\"ERROR\")))","v":"ERROR"},{"$f":"IF(Setup!$B$52=1,'Fert Program 1,2,3'!W639,IF(Setup!$B$52=2,'Fert Program 1,2,3'!W697,IF(Setup!$B$52=3,'Fert Program 1,2,3'!W755,\"ERROR\")))","v":"ERROR"},{"$f":"IF(Setup!$B$52=1,'Fert Program 1,2,3'!X639,IF(Setup!$B$52=2,'Fert Program 1,2,3'!X697,IF(Setup!$B$52=3,'Fert Program 1,2,3'!X755,\"ERROR\")))","v":"ERROR"},null,null,null,0,0,0,0,0,0,0,0,0]
["2015-05-11","Week 45",{"$f":"IF(Setup!$B$52=1,'Fert Program 1,2,3'!C640,IF(Setup!$B$52=2,'Fert Program 1,2,3'!C698,IF(Setup!$B$52=3,'Fert Program 1,2,3'!C756,\"ERROR\")))","v":"ERROR"},{"$f":"IF(Setup!$B$52=1,'Fert Program 1,2,3'!D640,IF(Setup!$B$52=2,'Fert Program 1,2,3'!D698,IF(Setup!$B$52=3,'Fert Program 1,2,3'!D756,\"ERROR\")))","v":"ERROR"},{"$f":"IF(Setup!$B$52=1,'Fert Program 1,2,3'!E640,IF(Setup!$B$52=2,'Fert Program 1,2,3'!E698,IF(Setup!$B$52=3,'Fert Program 1,2,3'!E756,\"ERROR\")))","v":"ERROR"},{"$f":"IF(Setup!$B$52=1,'Fert Program 1,2,3'!F640,IF(Setup!$B$52=2,'Fert Program 1,2,3'!F698,IF(Setup!$B$52=3,'Fert Program 1,2,3'!F756,\"ERROR\")))","v":"ERROR"},{"$f":"IF(Setup!$B$52=1,'Fert Program 1,2,3'!G640,IF(Setup!$B$52=2,'Fert Program 1,2,3'!G698,IF(Setup!$B$52=3,'Fert Program 1,2,3'!G756,\"ERROR\")))","v":"ERROR"},{"$f":"IF(Setup!$B$52=1,'Fert Program 1,2,3'!H640,IF(Setup!$B$52=2,'Fert Program 1,2,3'!H698,IF(Setup!$B$52=3,'Fert Program 1,2,3'!H756,\"ERROR\")))","v":"ERROR"},{"$f":"IF(Setup!$B$52=1,'Fert Program 1,2,3'!I640,IF(Setup!$B$52=2,'Fert Program 1,2,3'!I698,IF(Setup!$B$52=3,'Fert Program 1,2,3'!I756,\"ERROR\")))","v":"ERROR"},{"$f":"IF(Setup!$B$52=1,'Fert Program 1,2,3'!J640,IF(Setup!$B$52=2,'Fert Program 1,2,3'!J698,IF(Setup!$B$52=3,'Fert Program 1,2,3'!J756,\"ERROR\")))","v":"ERROR"},{"$f":"IF(Setup!$B$52=1,'Fert Program 1,2,3'!K640,IF(Setup!$B$52=2,'Fert Program 1,2,3'!K698,IF(Setup!$B$52=3,'Fert Program 1,2,3'!K756,\"ERROR\")))","v":"ERROR"},{"$f":"IF(Setup!$B$52=1,'Fert Program 1,2,3'!L640,IF(Setup!$B$52=2,'Fert Program 1,2,3'!L698,IF(Setup!$B$52=3,'Fert Program 1,2,3'!L756,\"ERROR\")))","v":"ERROR"},{"$f":"IF(Setup!$B$52=1,'Fert Program 1,2,3'!M640,IF(Setup!$B$52=2,'Fert Program 1,2,3'!M698,IF(Setup!$B$52=3,'Fert Program 1,2,3'!M756,\"ERROR\")))","v":"ERROR"},{"$f":"IF(Setup!$B$52=1,'Fert Program 1,2,3'!N640,IF(Setup!$B$52=2,'Fert Program 1,2,3'!N698,IF(Setup!$B$52=3,'Fert Program 1,2,3'!N756,\"ERROR\")))","v":"ERROR"},{"$f":"IF(Setup!$B$52=1,'Fert Program 1,2,3'!O640,IF(Setup!$B$52=2,'Fert Program 1,2,3'!O698,IF(Setup!$B$52=3,'Fert Program 1,2,3'!O756,\"ERROR\")))","v":"ERROR"},{"$f":"IF(Setup!$B$52=1,'Fert Program 1,2,3'!P640,IF(Setup!$B$52=2,'Fert Program 1,2,3'!P698,IF(Setup!$B$52=3,'Fert Program 1,2,3'!P756,\"ERROR\")))","v":"ERROR"},{"$f":"IF(Setup!$B$52=1,'Fert Program 1,2,3'!Q640,IF(Setup!$B$52=2,'Fert Program 1,2,3'!Q698,IF(Setup!$B$52=3,'Fert Program 1,2,3'!Q756,\"ERROR\")))","v":"ERROR"},{"$f":"IF(Setup!$B$52=1,'Fert Program 1,2,3'!R640,IF(Setup!$B$52=2,'Fert Program 1,2,3'!R698,IF(Setup!$B$52=3,'Fert Program 1,2,3'!R756,\"ERROR\")))","v":"ERROR"},{"$f":"IF(Setup!$B$52=1,'Fert Program 1,2,3'!S640,IF(Setup!$B$52=2,'Fert Program 1,2,3'!S698,IF(Setup!$B$52=3,'Fert Program 1,2,3'!S756,\"ERROR\")))","v":"ERROR"},{"$f":"IF(Setup!$B$52=1,'Fert Program 1,2,3'!T640,IF(Setup!$B$52=2,'Fert Program 1,2,3'!T698,IF(Setup!$B$52=3,'Fert Program 1,2,3'!T756,\"ERROR\")))","v":"ERROR"},{"$f":"IF(Setup!$B$52=1,'Fert Program 1,2,3'!U640,IF(Setup!$B$52=2,'Fert Program 1,2,3'!U698,IF(Setup!$B$52=3,'Fert Program 1,2,3'!U756,\"ERROR\")))","v":"ERROR"},{"$f":"IF(Setup!$B$52=1,'Fert Program 1,2,3'!V640,IF(Setup!$B$52=2,'Fert Program 1,2,3'!V698,IF(Setup!$B$52=3,'Fert Program 1,2,3'!V756,\"ERROR\")))","v":"ERROR"},{"$f":"IF(Setup!$B$52=1,'Fert Program 1,2,3'!W640,IF(Setup!$B$52=2,'Fert Program 1,2,3'!W698,IF(Setup!$B$52=3,'Fert Program 1,2,3'!W756,\"ERROR\")))","v":"ERROR"},{"$f":"IF(Setup!$B$52=1,'Fert Program 1,2,3'!X640,IF(Setup!$B$52=2,'Fert Program 1,2,3'!X698,IF(Setup!$B$52=3,'Fert Program 1,2,3'!X756,\"ERROR\")))","v":"ERROR"},null,null,null,0,0,0,0,0,0,0,0,0]
["2015-05-18","Week 46",{"$f":"IF(Setup!$B$52=1,'Fert Program 1,2,3'!C641,IF(Setup!$B$52=2,'Fert Program 1,2,3'!C699,IF(Setup!$B$52=3,'Fert Program 1,2,3'!C757,\"ERROR\")))","v":"ERROR"},{"$f":"IF(Setup!$B$52=1,'Fert Program 1,2,3'!D641,IF(Setup!$B$52=2,'Fert Program 1,2,3'!D699,IF(Setup!$B$52=3,'Fert Program 1,2,3'!D757,\"ERROR\")))","v":"ERROR"},{"$f":"IF(Setup!$B$52=1,'Fert Program 1,2,3'!E641,IF(Setup!$B$52=2,'Fert Program 1,2,3'!E699,IF(Setup!$B$52=3,'Fert Program 1,2,3'!E757,\"ERROR\")))","v":"ERROR"},{"$f":"IF(Setup!$B$52=1,'Fert Program 1,2,3'!F641,IF(Setup!$B$52=2,'Fert Program 1,2,3'!F699,IF(Setup!$B$52=3,'Fert Program 1,2,3'!F757,\"ERROR\")))","v":"ERROR"},{"$f":"IF(Setup!$B$52=1,'Fert Program 1,2,3'!G641,IF(Setup!$B$52=2,'Fert Program 1,2,3'!G699,IF(Setup!$B$52=3,'Fert Program 1,2,3'!G757,\"ERROR\")))","v":"ERROR"},{"$f":"IF(Setup!$B$52=1,'Fert Program 1,2,3'!H641,IF(Setup!$B$52=2,'Fert Program 1,2,3'!H699,IF(Setup!$B$52=3,'Fert Program 1,2,3'!H757,\"ERROR\")))","v":"ERROR"},{"$f":"IF(Setup!$B$52=1,'Fert Program 1,2,3'!I641,IF(Setup!$B$52=2,'Fert Program 1,2,3'!I699,IF(Setup!$B$52=3,'Fert Program 1,2,3'!I757,\"ERROR\")))","v":"ERROR"},{"$f":"IF(Setup!$B$52=1,'Fert Program 1,2,3'!J641,IF(Setup!$B$52=2,'Fert Program 1,2,3'!J699,IF(Setup!$B$52=3,'Fert Program 1,2,3'!J757,\"ERROR\")))","v":"ERROR"},{"$f":"IF(Setup!$B$52=1,'Fert Program 1,2,3'!K641,IF(Setup!$B$52=2,'Fert Program 1,2,3'!K699,IF(Setup!$B$52=3,'Fert Program 1,2,3'!K757,\"ERROR\")))","v":"ERROR"},{"$f":"IF(Setup!$B$52=1,'Fert Program 1,2,3'!L641,IF(Setup!$B$52=2,'Fert Program 1,2,3'!L699,IF(Setup!$B$52=3,'Fert Program 1,2,3'!L757,\"ERROR\")))","v":"ERROR"},{"$f":"IF(Setup!$B$52=1,'Fert Program 1,2,3'!M641,IF(Setup!$B$52=2,'Fert Program 1,2,3'!M699,IF(Setup!$B$52=3,'Fert Program 1,2,3'!M757,\"ERROR\")))","v":"ERROR"},{"$f":"IF(Setup!$B$52=1,'Fert Program 1,2,3'!N641,IF(Setup!$B$52=2,'Fert Program 1,2,3'!N699,IF(Setup!$B$52=3,'Fert Program 1,2,3'!N757,\"ERROR\")))","v":"ERROR"},{"$f":"IF(Setup!$B$52=1,'Fert Program 1,2,3'!O641,IF(Setup!$B$52=2,'Fert Program 1,2,3'!O699,IF(Setup!$B$52=3,'Fert Program 1,2,3'!O757,\"ERROR\")))","v":"ERROR"},{"$f":"IF(Setup!$B$52=1,'Fert Program 1,2,3'!P641,IF(Setup!$B$52=2,'Fert Program 1,2,3'!P699,IF(Setup!$B$52=3,'Fert Program 1,2,3'!P757,\"ERROR\")))","v":"ERROR"},{"$f":"IF(Setup!$B$52=1,'Fert Program 1,2,3'!Q641,IF(Setup!$B$52=2,'Fert Program 1,2,3'!Q699,IF(Setup!$B$52=3,'Fert Program 1,2,3'!Q757,\"ERROR\")))","v":"ERROR"},{"$f":"IF(Setup!$B$52=1,'Fert Program 1,2,3'!R641,IF(Setup!$B$52=2,'Fert Program 1,2,3'!R699,IF(Setup!$B$52=3,'Fert Program 1,2,3'!R757,\"ERROR\")))","v":"ERROR"},{"$f":"IF(Setup!$B$52=1,'Fert Program 1,2,3'!S641,IF(Setup!$B$52=2,'Fert Program 1,2,3'!S699,IF(Setup!$B$52=3,'Fert Program 1,2,3'!S757,\"ERROR\")))","v":"ERROR"},{"$f":"IF(Setup!$B$52=1,'Fert Program 1,2,3'!T641,IF(Setup!$B$52=2,'Fert Program 1,2,3'!T699,IF(Setup!$B$52=3,'Fert Program 1,2,3'!T757,\"ERROR\")))","v":"ERROR"},{"$f":"IF(Setup!$B$52=1,'Fert Program 1,2,3'!U641,IF(Setup!$B$52=2,'Fert Program 1,2,3'!U699,IF(Setup!$B$52=3,'Fert Program 1,2,3'!U757,\"ERROR\")))","v":"ERROR"},{"$f":"IF(Setup!$B$52=1,'Fert Program 1,2,3'!V641,IF(Setup!$B$52=2,'Fert Program 1,2,3'!V699,IF(Setup!$B$52=3,'Fert Program 1,2,3'!V757,\"ERROR\")))","v":"ERROR"},{"$f":"IF(Setup!$B$52=1,'Fert Program 1,2,3'!W641,IF(Setup!$B$52=2,'Fert Program 1,2,3'!W699,IF(Setup!$B$52=3,'Fert Program 1,2,3'!W757,\"ERROR\")))","v":"ERROR"},{"$f":"IF(Setup!$B$52=1,'Fert Program 1,2,3'!X641,IF(Setup!$B$52=2,'Fert Program 1,2,3'!X699,IF(Setup!$B$52=3,'Fert Program 1,2,3'!X757,\"ERROR\")))","v":"ERROR"},null,null,null,0,0,0,0,0,0,0,0,0]
["2015-05-25","Week 47",{"$f":"IF(Setup!$B$52=1,'Fert Program 1,2,3'!C642,IF(Setup!$B$52=2,'Fert Program 1,2,3'!C700,IF(Setup!$B$52=3,'Fert Program 1,2,3'!C758,\"ERROR\")))","v":"ERROR"},{"$f":"IF(Setup!$B$52=1,'Fert Program 1,2,3'!D642,IF(Setup!$B$52=2,'Fert Program 1,2,3'!D700,IF(Setup!$B$52=3,'Fert Program 1,2,3'!D758,\"ERROR\")))","v":"ERROR"},{"$f":"IF(Setup!$B$52=1,'Fert Program 1,2,3'!E642,IF(Setup!$B$52=2,'Fert Program 1,2,3'!E700,IF(Setup!$B$52=3,'Fert Program 1,2,3'!E758,\"ERROR\")))","v":"ERROR"},{"$f":"IF(Setup!$B$52=1,'Fert Program 1,2,3'!F642,IF(Setup!$B$52=2,'Fert Program 1,2,3'!F700,IF(Setup!$B$52=3,'Fert Program 1,2,3'!F758,\"ERROR\")))","v":"ERROR"},{"$f":"IF(Setup!$B$52=1,'Fert Program 1,2,3'!G642,IF(Setup!$B$52=2,'Fert Program 1,2,3'!G700,IF(Setup!$B$52=3,'Fert Program 1,2,3'!G758,\"ERROR\")))","v":"ERROR"},{"$f":"IF(Setup!$B$52=1,'Fert Program 1,2,3'!H642,IF(Setup!$B$52=2,'Fert Program 1,2,3'!H700,IF(Setup!$B$52=3,'Fert Program 1,2,3'!H758,\"ERROR\")))","v":"ERROR"},{"$f":"IF(Setup!$B$52=1,'Fert Program 1,2,3'!I642,IF(Setup!$B$52=2,'Fert Program 1,2,3'!I700,IF(Setup!$B$52=3,'Fert Program 1,2,3'!I758,\"ERROR\")))","v":"ERROR"},{"$f":"IF(Setup!$B$52=1,'Fert Program 1,2,3'!J642,IF(Setup!$B$52=2,'Fert Program 1,2,3'!J700,IF(Setup!$B$52=3,'Fert Program 1,2,3'!J758,\"ERROR\")))","v":"ERROR"},{"$f":"IF(Setup!$B$52=1,'Fert Program 1,2,3'!K642,IF(Setup!$B$52=2,'Fert Program 1,2,3'!K700,IF(Setup!$B$52=3,'Fert Program 1,2,3'!K758,\"ERROR\")))","v":"ERROR"},{"$f":"IF(Setup!$B$52=1,'Fert Program 1,2,3'!L642,IF(Setup!$B$52=2,'Fert Program 1,2,3'!L700,IF(Setup!$B$52=3,'Fert Program 1,2,3'!L758,\"ERROR\")))","v":"ERROR"},{"$f":"IF(Setup!$B$52=1,'Fert Program 1,2,3'!M642,IF(Setup!$B$52=2,'Fert Program 1,2,3'!M700,IF(Setup!$B$52=3,'Fert Program 1,2,3'!M758,\"ERROR\")))","v":"ERROR"},{"$f":"IF(Setup!$B$52=1,'Fert Program 1,2,3'!N642,IF(Setup!$B$52=2,'Fert Program 1,2,3'!N700,IF(Setup!$B$52=3,'Fert Program 1,2,3'!N758,\"ERROR\")))","v":"ERROR"},{"$f":"IF(Setup!$B$52=1,'Fert Program 1,2,3'!O642,IF(Setup!$B$52=2,'Fert Program 1,2,3'!O700,IF(Setup!$B$52=3,'Fert Program 1,2,3'!O758,\"ERROR\")))","v":"ERROR"},{"$f":"IF(Setup!$B$52=1,'Fert Program 1,2,3'!P642,IF(Setup!$B$52=2,'Fert Program 1,2,3'!P700,IF(Setup!$B$52=3,'Fert Program 1,2,3'!P758,\"ERROR\")))","v":"ERROR"},{"$f":"IF(Setup!$B$52=1,'Fert Program 1,2,3'!Q642,IF(Setup!$B$52=2,'Fert Program 1,2,3'!Q700,IF(Setup!$B$52=3,'Fert Program 1,2,3'!Q758,\"ERROR\")))","v":"ERROR"},{"$f":"IF(Setup!$B$52=1,'Fert Program 1,2,3'!R642,IF(Setup!$B$52=2,'Fert Program 1,2,3'!R700,IF(Setup!$B$52=3,'Fert Program 1,2,3'!R758,\"ERROR\")))","v":"ERROR"},{"$f":"IF(Setup!$B$52=1,'Fert Program 1,2,3'!S642,IF(Setup!$B$52=2,'Fert Program 1,2,3'!S700,IF(Setup!$B$52=3,'Fert Program 1,2,3'!S758,\"ERROR\")))","v":"ERROR"},{"$f":"IF(Setup!$B$52=1,'Fert Program 1,2,3'!T642,IF(Setup!$B$52=2,'Fert Program 1,2,3'!T700,IF(Setup!$B$52=3,'Fert Program 1,2,3'!T758,\"ERROR\")))","v":"ERROR"},{"$f":"IF(Setup!$B$52=1,'Fert Program 1,2,3'!U642,IF(Setup!$B$52=2,'Fert Program 1,2,3'!U700,IF(Setup!$B$52=3,'Fert Program 1,2,3'!U758,\"ERROR\")))","v":"ERROR"},{"$f":"IF(Setup!$B$52=1,'Fert Program 1,2,3'!V642,IF(Setup!$B$52=2,'Fert Program 1,2,3'!V700,IF(Setup!$B$52=3,'Fert Program 1,2,3'!V758,\"ERROR\")))","v":"ERROR"},{"$f":"IF(Setup!$B$52=1,'Fert Program 1,2,3'!W642,IF(Setup!$B$52=2,'Fert Program 1,2,3'!W700,IF(Setup!$B$52=3,'Fert Program 1,2,3'!W758,\"ERROR\")))","v":"ERROR"},{"$f":"IF(Setup!$B$52=1,'Fert Program 1,2,3'!X642,IF(Setup!$B$52=2,'Fert Program 1,2,3'!X700,IF(Setup!$B$52=3,'Fert Program 1,2,3'!X758,\"ERROR\")))","v":"ERROR"},null,null,null,0,0,0,0,0,0,0,0,0]
["2015-06-01","Week 48",{"$f":"IF(Setup!$B$52=1,'Fert Program 1,2,3'!C643,IF(Setup!$B$52=2,'Fert Program 1,2,3'!C701,IF(Setup!$B$52=3,'Fert Program 1,2,3'!C759,\"ERROR\")))","v":"ERROR"},{"$f":"IF(Setup!$B$52=1,'Fert Program 1,2,3'!D643,IF(Setup!$B$52=2,'Fert Program 1,2,3'!D701,IF(Setup!$B$52=3,'Fert Program 1,2,3'!D759,\"ERROR\")))","v":"ERROR"},{"$f":"IF(Setup!$B$52=1,'Fert Program 1,2,3'!E643,IF(Setup!$B$52=2,'Fert Program 1,2,3'!E701,IF(Setup!$B$52=3,'Fert Program 1,2,3'!E759,\"ERROR\")))","v":"ERROR"},{"$f":"IF(Setup!$B$52=1,'Fert Program 1,2,3'!F643,IF(Setup!$B$52=2,'Fert Program 1,2,3'!F701,IF(Setup!$B$52=3,'Fert Program 1,2,3'!F759,\"ERROR\")))","v":"ERROR"},{"$f":"IF(Setup!$B$52=1,'Fert Program 1,2,3'!G643,IF(Setup!$B$52=2,'Fert Program 1,2,3'!G701,IF(Setup!$B$52=3,'Fert Program 1,2,3'!G759,\"ERROR\")))","v":"ERROR"},{"$f":"IF(Setup!$B$52=1,'Fert Program 1,2,3'!H643,IF(Setup!$B$52=2,'Fert Program 1,2,3'!H701,IF(Setup!$B$52=3,'Fert Program 1,2,3'!H759,\"ERROR\")))","v":"ERROR"},{"$f":"IF(Setup!$B$52=1,'Fert Program 1,2,3'!I643,IF(Setup!$B$52=2,'Fert Program 1,2,3'!I701,IF(Setup!$B$52=3,'Fert Program 1,2,3'!I759,\"ERROR\")))","v":"ERROR"},{"$f":"IF(Setup!$B$52=1,'Fert Program 1,2,3'!J643,IF(Setup!$B$52=2,'Fert Program 1,2,3'!J701,IF(Setup!$B$52=3,'Fert Program 1,2,3'!J759,\"ERROR\")))","v":"ERROR"},{"$f":"IF(Setup!$B$52=1,'Fert Program 1,2,3'!K643,IF(Setup!$B$52=2,'Fert Program 1,2,3'!K701,IF(Setup!$B$52=3,'Fert Program 1,2,3'!K759,\"ERROR\")))","v":"ERROR"},{"$f":"IF(Setup!$B$52=1,'Fert Program 1,2,3'!L643,IF(Setup!$B$52=2,'Fert Program 1,2,3'!L701,IF(Setup!$B$52=3,'Fert Program 1,2,3'!L759,\"ERROR\")))","v":"ERROR"},{"$f":"IF(Setup!$B$52=1,'Fert Program 1,2,3'!M643,IF(Setup!$B$52=2,'Fert Program 1,2,3'!M701,IF(Setup!$B$52=3,'Fert Program 1,2,3'!M759,\"ERROR\")))","v":"ERROR"},{"$f":"IF(Setup!$B$52=1,'Fert Program 1,2,3'!N643,IF(Setup!$B$52=2,'Fert Program 1,2,3'!N701,IF(Setup!$B$52=3,'Fert Program 1,2,3'!N759,\"ERROR\")))","v":"ERROR"},{"$f":"IF(Setup!$B$52=1,'Fert Program 1,2,3'!O643,IF(Setup!$B$52=2,'Fert Program 1,2,3'!O701,IF(Setup!$B$52=3,'Fert Program 1,2,3'!O759,\"ERROR\")))","v":"ERROR"},{"$f":"IF(Setup!$B$52=1,'Fert Program 1,2,3'!P643,IF(Setup!$B$52=2,'Fert Program 1,2,3'!P701,IF(Setup!$B$52=3,'Fert Program 1,2,3'!P759,\"ERROR\")))","v":"ERROR"},{"$f":"IF(Setup!$B$52=1,'Fert Program 1,2,3'!Q643,IF(Setup!$B$52=2,'Fert Program 1,2,3'!Q701,IF(Setup!$B$52=3,'Fert Program 1,2,3'!Q759,\"ERROR\")))","v":"ERROR"},{"$f":"IF(Setup!$B$52=1,'Fert Program 1,2,3'!R643,IF(Setup!$B$52=2,'Fert Program 1,2,3'!R701,IF(Setup!$B$52=3,'Fert Program 1,2,3'!R759,\"ERROR\")))","v":"ERROR"},{"$f":"IF(Setup!$B$52=1,'Fert Program 1,2,3'!S643,IF(Setup!$B$52=2,'Fert Program 1,2,3'!S701,IF(Setup!$B$52=3,'Fert Program 1,2,3'!S759,\"ERROR\")))","v":"ERROR"},{"$f":"IF(Setup!$B$52=1,'Fert Program 1,2,3'!T643,IF(Setup!$B$52=2,'Fert Program 1,2,3'!T701,IF(Setup!$B$52=3,'Fert Program 1,2,3'!T759,\"ERROR\")))","v":"ERROR"},{"$f":"IF(Setup!$B$52=1,'Fert Program 1,2,3'!U643,IF(Setup!$B$52=2,'Fert Program 1,2,3'!U701,IF(Setup!$B$52=3,'Fert Program 1,2,3'!U759,\"ERROR\")))","v":"ERROR"},{"$f":"IF(Setup!$B$52=1,'Fert Program 1,2,3'!V643,IF(Setup!$B$52=2,'Fert Program 1,2,3'!V701,IF(Setup!$B$52=3,'Fert Program 1,2,3'!V759,\"ERROR\")))","v":"ERROR"},{"$f":"IF(Setup!$B$52=1,'Fert Program 1,2,3'!W643,IF(Setup!$B$52=2,'Fert Program 1,2,3'!W701,IF(Setup!$B$52=3,'Fert Program 1,2,3'!W759,\"ERROR\")))","v":"ERROR"},{"$f":"IF(Setup!$B$52=1,'Fert Program 1,2,3'!X643,IF(Setup!$B$52=2,'Fert Program 1,2,3'!X701,IF(Setup!$B$52=3,'Fert Program 1,2,3'!X759,\"ERROR\")))","v":"ERROR"},null,null,null,0,0,0,0,0,0,0,0,0]
["2015-06-08","Week 49",{"$f":"IF(Setup!$B$52=1,'Fert Program 1,2,3'!C644,IF(Setup!$B$52=2,'Fert Program 1,2,3'!C702,IF(Setup!$B$52=3,'Fert Program 1,2,3'!C760,\"ERROR\")))","v":"ERROR"},{"$f":"IF(Setup!$B$52=1,'Fert Program 1,2,3'!D644,IF(Setup!$B$52=2,'Fert Program 1,2,3'!D702,IF(Setup!$B$52=3,'Fert Program 1,2,3'!D760,\"ERROR\")))","v":"ERROR"},{"$f":"IF(Setup!$B$52=1,'Fert Program 1,2,3'!E644,IF(Setup!$B$52=2,'Fert Program 1,2,3'!E702,IF(Setup!$B$52=3,'Fert Program 1,2,3'!E760,\"ERROR\")))","v":"ERROR"},{"$f":"IF(Setup!$B$52=1,'Fert Program 1,2,3'!F644,IF(Setup!$B$52=2,'Fert Program 1,2,3'!F702,IF(Setup!$B$52=3,'Fert Program 1,2,3'!F760,\"ERROR\")))","v":"ERROR"},{"$f":"IF(Setup!$B$52=1,'Fert Program 1,2,3'!G644,IF(Setup!$B$52=2,'Fert Program 1,2,3'!G702,IF(Setup!$B$52=3,'Fert Program 1,2,3'!G760,\"ERROR\")))","v":"ERROR"},{"$f":"IF(Setup!$B$52=1,'Fert Program 1,2,3'!H644,IF(Setup!$B$52=2,'Fert Program 1,2,3'!H702,IF(Setup!$B$52=3,'Fert Program 1,2,3'!H760,\"ERROR\")))","v":"ERROR"},{"$f":"IF(Setup!$B$52=1,'Fert Program 1,2,3'!I644,IF(Setup!$B$52=2,'Fert Program 1,2,3'!I702,IF(Setup!$B$52=3,'Fert Program 1,2,3'!I760,\"ERROR\")))","v":"ERROR"},{"$f":"IF(Setup!$B$52=1,'Fert Program 1,2,3'!J644,IF(Setup!$B$52=2,'Fert Program 1,2,3'!J702,IF(Setup!$B$52=3,'Fert Program 1,2,3'!J760,\"ERROR\")))","v":"ERROR"},{"$f":"IF(Setup!$B$52=1,'Fert Program 1,2,3'!K644,IF(Setup!$B$52=2,'Fert Program 1,2,3'!K702,IF(Setup!$B$52=3,'Fert Program 1,2,3'!K760,\"ERROR\")))","v":"ERROR"},{"$f":"IF(Setup!$B$52=1,'Fert Program 1,2,3'!L644,IF(Setup!$B$52=2,'Fert Program 1,2,3'!L702,IF(Setup!$B$52=3,'Fert Program 1,2,3'!L760,\"ERROR\")))","v":"ERROR"},{"$f":"IF(Setup!$B$52=1,'Fert Program 1,2,3'!M644,IF(Setup!$B$52=2,'Fert Program 1,2,3'!M702,IF(Setup!$B$52=3,'Fert Program 1,2,3'!M760,\"ERROR\")))","v":"ERROR"},{"$f":"IF(Setup!$B$52=1,'Fert Program 1,2,3'!N644,IF(Setup!$B$52=2,'Fert Program 1,2,3'!N702,IF(Setup!$B$52=3,'Fert Program 1,2,3'!N760,\"ERROR\")))","v":"ERROR"},{"$f":"IF(Setup!$B$52=1,'Fert Program 1,2,3'!O644,IF(Setup!$B$52=2,'Fert Program 1,2,3'!O702,IF(Setup!$B$52=3,'Fert Program 1,2,3'!O760,\"ERROR\")))","v":"ERROR"},{"$f":"IF(Setup!$B$52=1,'Fert Program 1,2,3'!P644,IF(Setup!$B$52=2,'Fert Program 1,2,3'!P702,IF(Setup!$B$52=3,'Fert Program 1,2,3'!P760,\"ERROR\")))","v":"ERROR"},{"$f":"IF(Setup!$B$52=1,'Fert Program 1,2,3'!Q644,IF(Setup!$B$52=2,'Fert Program 1,2,3'!Q702,IF(Setup!$B$52=3,'Fert Program 1,2,3'!Q760,\"ERROR\")))","v":"ERROR"},{"$f":"IF(Setup!$B$52=1,'Fert Program 1,2,3'!R644,IF(Setup!$B$52=2,'Fert Program 1,2,3'!R702,IF(Setup!$B$52=3,'Fert Program 1,2,3'!R760,\"ERROR\")))","v":"ERROR"},{"$f":"IF(Setup!$B$52=1,'Fert Program 1,2,3'!S644,IF(Setup!$B$52=2,'Fert Program 1,2,3'!S702,IF(Setup!$B$52=3,'Fert Program 1,2,3'!S760,\"ERROR\")))","v":"ERROR"},{"$f":"IF(Setup!$B$52=1,'Fert Program 1,2,3'!T644,IF(Setup!$B$52=2,'Fert Program 1,2,3'!T702,IF(Setup!$B$52=3,'Fert Program 1,2,3'!T760,\"ERROR\")))","v":"ERROR"},{"$f":"IF(Setup!$B$52=1,'Fert Program 1,2,3'!U644,IF(Setup!$B$52=2,'Fert Program 1,2,3'!U702,IF(Setup!$B$52=3,'Fert Program 1,2,3'!U760,\"ERROR\")))","v":"ERROR"},{"$f":"IF(Setup!$B$52=1,'Fert Program 1,2,3'!V644,IF(Setup!$B$52=2,'Fert Program 1,2,3'!V702,IF(Setup!$B$52=3,'Fert Program 1,2,3'!V760,\"ERROR\")))","v":"ERROR"},{"$f":"IF(Setup!$B$52=1,'Fert Program 1,2,3'!W644,IF(Setup!$B$52=2,'Fert Program 1,2,3'!W702,IF(Setup!$B$52=3,'Fert Program 1,2,3'!W760,\"ERROR\")))","v":"ERROR"},{"$f":"IF(Setup!$B$52=1,'Fert Program 1,2,3'!X644,IF(Setup!$B$52=2,'Fert Program 1,2,3'!X702,IF(Setup!$B$52=3,'Fert Program 1,2,3'!X760,\"ERROR\")))","v":"ERROR"},null,null,null,0,0,0,0,0,0,0,0,0]
["2015-06-15","Week 50",{"$f":"IF(Setup!$B$52=1,'Fert Program 1,2,3'!C645,IF(Setup!$B$52=2,'Fert Program 1,2,3'!C703,IF(Setup!$B$52=3,'Fert Program 1,2,3'!C761,\"ERROR\")))","v":"ERROR"},{"$f":"IF(Setup!$B$52=1,'Fert Program 1,2,3'!D645,IF(Setup!$B$52=2,'Fert Program 1,2,3'!D703,IF(Setup!$B$52=3,'Fert Program 1,2,3'!D761,\"ERROR\")))","v":"ERROR"},{"$f":"IF(Setup!$B$52=1,'Fert Program 1,2,3'!E645,IF(Setup!$B$52=2,'Fert Program 1,2,3'!E703,IF(Setup!$B$52=3,'Fert Program 1,2,3'!E761,\"ERROR\")))","v":"ERROR"},{"$f":"IF(Setup!$B$52=1,'Fert Program 1,2,3'!F645,IF(Setup!$B$52=2,'Fert Program 1,2,3'!F703,IF(Setup!$B$52=3,'Fert Program 1,2,3'!F761,\"ERROR\")))","v":"ERROR"},{"$f":"IF(Setup!$B$52=1,'Fert Program 1,2,3'!G645,IF(Setup!$B$52=2,'Fert Program 1,2,3'!G703,IF(Setup!$B$52=3,'Fert Program 1,2,3'!G761,\"ERROR\")))","v":"ERROR"},{"$f":"IF(Setup!$B$52=1,'Fert Program 1,2,3'!H645,IF(Setup!$B$52=2,'Fert Program 1,2,3'!H703,IF(Setup!$B$52=3,'Fert Program 1,2,3'!H761,\"ERROR\")))","v":"ERROR"},{"$f":"IF(Setup!$B$52=1,'Fert Program 1,2,3'!I645,IF(Setup!$B$52=2,'Fert Program 1,2,3'!I703,IF(Setup!$B$52=3,'Fert Program 1,2,3'!I761,\"ERROR\")))","v":"ERROR"},{"$f":"IF(Setup!$B$52=1,'Fert Program 1,2,3'!J645,IF(Setup!$B$52=2,'Fert Program 1,2,3'!J703,IF(Setup!$B$52=3,'Fert Program 1,2,3'!J761,\"ERROR\")))","v":"ERROR"},{"$f":"IF(Setup!$B$52=1,'Fert Program 1,2,3'!K645,IF(Setup!$B$52=2,'Fert Program 1,2,3'!K703,IF(Setup!$B$52=3,'Fert Program 1,2,3'!K761,\"ERROR\")))","v":"ERROR"},{"$f":"IF(Setup!$B$52=1,'Fert Program 1,2,3'!L645,IF(Setup!$B$52=2,'Fert Program 1,2,3'!L703,IF(Setup!$B$52=3,'Fert Program 1,2,3'!L761,\"ERROR\")))","v":"ERROR"},{"$f":"IF(Setup!$B$52=1,'Fert Program 1,2,3'!M645,IF(Setup!$B$52=2,'Fert Program 1,2,3'!M703,IF(Setup!$B$52=3,'Fert Program 1,2,3'!M761,\"ERROR\")))","v":"ERROR"},{"$f":"IF(Setup!$B$52=1,'Fert Program 1,2,3'!N645,IF(Setup!$B$52=2,'Fert Program 1,2,3'!N703,IF(Setup!$B$52=3,'Fert Program 1,2,3'!N761,\"ERROR\")))","v":"ERROR"},{"$f":"IF(Setup!$B$52=1,'Fert Program 1,2,3'!O645,IF(Setup!$B$52=2,'Fert Program 1,2,3'!O703,IF(Setup!$B$52=3,'Fert Program 1,2,3'!O761,\"ERROR\")))","v":"ERROR"},{"$f":"IF(Setup!$B$52=1,'Fert Program 1,2,3'!P645,IF(Setup!$B$52=2,'Fert Program 1,2,3'!P703,IF(Setup!$B$52=3,'Fert Program 1,2,3'!P761,\"ERROR\")))","v":"ERROR"},{"$f":"IF(Setup!$B$52=1,'Fert Program 1,2,3'!Q645,IF(Setup!$B$52=2,'Fert Program 1,2,3'!Q703,IF(Setup!$B$52=3,'Fert Program 1,2,3'!Q761,\"ERROR\")))","v":"ERROR"},{"$f":"IF(Setup!$B$52=1,'Fert Program 1,2,3'!R645,IF(Setup!$B$52=2,'Fert Program 1,2,3'!R703,IF(Setup!$B$52=3,'Fert Program 1,2,3'!R761,\"ERROR\")))","v":"ERROR"},{"$f":"IF(Setup!$B$52=1,'Fert Program 1,2,3'!S645,IF(Setup!$B$52=2,'Fert Program 1,2,3'!S703,IF(Setup!$B$52=3,'Fert Program 1,2,3'!S761,\"ERROR\")))","v":"ERROR"},{"$f":"IF(Setup!$B$52=1,'Fert Program 1,2,3'!T645,IF(Setup!$B$52=2,'Fert Program 1,2,3'!T703,IF(Setup!$B$52=3,'Fert Program 1,2,3'!T761,\"ERROR\")))","v":"ERROR"},{"$f":"IF(Setup!$B$52=1,'Fert Program 1,2,3'!U645,IF(Setup!$B$52=2,'Fert Program 1,2,3'!U703,IF(Setup!$B$52=3,'Fert Program 1,2,3'!U761,\"ERROR\")))","v":"ERROR"},{"$f":"IF(Setup!$B$52=1,'Fert Program 1,2,3'!V645,IF(Setup!$B$52=2,'Fert Program 1,2,3'!V703,IF(Setup!$B$52=3,'Fert Program 1,2,3'!V761,\"ERROR\")))","v":"ERROR"},{"$f":"IF(Setup!$B$52=1,'Fert Program 1,2,3'!W645,IF(Setup!$B$52=2,'Fert Program 1,2,3'!W703,IF(Setup!$B$52=3,'Fert Program 1,2,3'!W761,\"ERROR\")))","v":"ERROR"},{"$f":"IF(Setup!$B$52=1,'Fert Program 1,2,3'!X645,IF(Setup!$B$52=2,'Fert Program 1,2,3'!X703,IF(Setup!$B$52=3,'Fert Program 1,2,3'!X761,\"ERROR\")))","v":"ERROR"},null,null,null,0,0,0,0,0,0,0,0,0]
["2015-06-22","Week 51",{"$f":"IF(Setup!$B$52=1,'Fert Program 1,2,3'!C646,IF(Setup!$B$52=2,'Fert Program 1,2,3'!C704,IF(Setup!$B$52=3,'Fert Program 1,2,3'!C762,\"ERROR\")))","v":"ERROR"},{"$f":"IF(Setup!$B$52=1,'Fert Program 1,2,3'!D646,IF(Setup!$B$52=2,'Fert Program 1,2,3'!D704,IF(Setup!$B$52=3,'Fert Program 1,2,3'!D762,\"ERROR\")))","v":"ERROR"},{"$f":"IF(Setup!$B$52=1,'Fert Program 1,2,3'!E646,IF(Setup!$B$52=2,'Fert Program 1,2,3'!E704,IF(Setup!$B$52=3,'Fert Program 1,2,3'!E762,\"ERROR\")))","v":"ERROR"},{"$f":"IF(Setup!$B$52=1,'Fert Program 1,2,3'!F646,IF(Setup!$B$52=2,'Fert Program 1,2,3'!F704,IF(Setup!$B$52=3,'Fert Program 1,2,3'!F762,\"ERROR\")))","v":"ERROR"},{"$f":"IF(Setup!$B$52=1,'Fert Program 1,2,3'!G646,IF(Setup!$B$52=2,'Fert Program 1,2,3'!G704,IF(Setup!$B$52=3,'Fert Program 1,2,3'!G762,\"ERROR\")))","v":"ERROR"},{"$f":"IF(Setup!$B$52=1,'Fert Program 1,2,3'!H646,IF(Setup!$B$52=2,'Fert Program 1,2,3'!H704,IF(Setup!$B$52=3,'Fert Program 1,2,3'!H762,\"ERROR\")))","v":"ERROR"},{"$f":"IF(Setup!$B$52=1,'Fert Program 1,2,3'!I646,IF(Setup!$B$52=2,'Fert Program 1,2,3'!I704,IF(Setup!$B$52=3,'Fert Program 1,2,3'!I762,\"ERROR\")))","v":"ERROR"},{"$f":"IF(Setup!$B$52=1,'Fert Program 1,2,3'!J646,IF(Setup!$B$52=2,'Fert Program 1,2,3'!J704,IF(Setup!$B$52=3,'Fert Program 1,2,3'!J762,\"ERROR\")))","v":"ERROR"},{"$f":"IF(Setup!$B$52=1,'Fert Program 1,2,3'!K646,IF(Setup!$B$52=2,'Fert Program 1,2,3'!K704,IF(Setup!$B$52=3,'Fert Program 1,2,3'!K762,\"ERROR\")))","v":"ERROR"},{"$f":"IF(Setup!$B$52=1,'Fert Program 1,2,3'!L646,IF(Setup!$B$52=2,'Fert Program 1,2,3'!L704,IF(Setup!$B$52=3,'Fert Program 1,2,3'!L762,\"ERROR\")))","v":"ERROR"},{"$f":"IF(Setup!$B$52=1,'Fert Program 1,2,3'!M646,IF(Setup!$B$52=2,'Fert Program 1,2,3'!M704,IF(Setup!$B$52=3,'Fert Program 1,2,3'!M762,\"ERROR\")))","v":"ERROR"},{"$f":"IF(Setup!$B$52=1,'Fert Program 1,2,3'!N646,IF(Setup!$B$52=2,'Fert Program 1,2,3'!N704,IF(Setup!$B$52=3,'Fert Program 1,2,3'!N762,\"ERROR\")))","v":"ERROR"},{"$f":"IF(Setup!$B$52=1,'Fert Program 1,2,3'!O646,IF(Setup!$B$52=2,'Fert Program 1,2,3'!O704,IF(Setup!$B$52=3,'Fert Program 1,2,3'!O762,\"ERROR\")))","v":"ERROR"},{"$f":"IF(Setup!$B$52=1,'Fert Program 1,2,3'!P646,IF(Setup!$B$52=2,'Fert Program 1,2,3'!P704,IF(Setup!$B$52=3,'Fert Program 1,2,3'!P762,\"ERROR\")))","v":"ERROR"},{"$f":"IF(Setup!$B$52=1,'Fert Program 1,2,3'!Q646,IF(Setup!$B$52=2,'Fert Program 1,2,3'!Q704,IF(Setup!$B$52=3,'Fert Program 1,2,3'!Q762,\"ERROR\")))","v":"ERROR"},{"$f":"IF(Setup!$B$52=1,'Fert Program 1,2,3'!R646,IF(Setup!$B$52=2,'Fert Program 1,2,3'!R704,IF(Setup!$B$52=3,'Fert Program 1,2,3'!R762,\"ERROR\")))","v":"ERROR"},{"$f":"IF(Setup!$B$52=1,'Fert Program 1,2,3'!S646,IF(Setup!$B$52=2,'Fert Program 1,2,3'!S704,IF(Setup!$B$52=3,'Fert Program 1,2,3'!S762,\"ERROR\")))","v":"ERROR"},{"$f":"IF(Setup!$B$52=1,'Fert Program 1,2,3'!T646,IF(Setup!$B$52=2,'Fert Program 1,2,3'!T704,IF(Setup!$B$52=3,'Fert Program 1,2,3'!T762,\"ERROR\")))","v":"ERROR"},{"$f":"IF(Setup!$B$52=1,'Fert Program 1,2,3'!U646,IF(Setup!$B$52=2,'Fert Program 1,2,3'!U704,IF(Setup!$B$52=3,'Fert Program 1,2,3'!U762,\"ERROR\")))","v":"ERROR"},{"$f":"IF(Setup!$B$52=1,'Fert Program 1,2,3'!V646,IF(Setup!$B$52=2,'Fert Program 1,2,3'!V704,IF(Setup!$B$52=3,'Fert Program 1,2,3'!V762,\"ERROR\")))","v":"ERROR"},{"$f":"IF(Setup!$B$52=1,'Fert Program 1,2,3'!W646,IF(Setup!$B$52=2,'Fert Program 1,2,3'!W704,IF(Setup!$B$52=3,'Fert Program 1,2,3'!W762,\"ERROR\")))","v":"ERROR"},{"$f":"IF(Setup!$B$52=1,'Fert Program 1,2,3'!X646,IF(Setup!$B$52=2,'Fert Program 1,2,3'!X704,IF(Setup!$B$52=3,'Fert Program 1,2,3'!X762,\"ERROR\")))","v":"ERROR"},null,null,null,0,0,0,0,0,0,0,0,0]
["2015-06-29","Week 52",{"$f":"IF(Setup!$B$52=1,'Fert Program 1,2,3'!C647,IF(Setup!$B$52=2,'Fert Program 1,2,3'!C705,IF(Setup!$B$52=3,'Fert Program 1,2,3'!C763,\"ERROR\")))","v":"ERROR"},{"$f":"IF(Setup!$B$52=1,'Fert Program 1,2,3'!D647,IF(Setup!$B$52=2,'Fert Program 1,2,3'!D705,IF(Setup!$B$52=3,'Fert Program 1,2,3'!D763,\"ERROR\")))","v":"ERROR"},{"$f":"IF(Setup!$B$52=1,'Fert Program 1,2,3'!E647,IF(Setup!$B$52=2,'Fert Program 1,2,3'!E705,IF(Setup!$B$52=3,'Fert Program 1,2,3'!E763,\"ERROR\")))","v":"ERROR"},{"$f":"IF(Setup!$B$52=1,'Fert Program 1,2,3'!F647,IF(Setup!$B$52=2,'Fert Program 1,2,3'!F705,IF(Setup!$B$52=3,'Fert Program 1,2,3'!F763,\"ERROR\")))","v":"ERROR"},{"$f":"IF(Setup!$B$52=1,'Fert Program 1,2,3'!G647,IF(Setup!$B$52=2,'Fert Program 1,2,3'!G705,IF(Setup!$B$52=3,'Fert Program 1,2,3'!G763,\"ERROR\")))","v":"ERROR"},{"$f":"IF(Setup!$B$52=1,'Fert Program 1,2,3'!H647,IF(Setup!$B$52=2,'Fert Program 1,2,3'!H705,IF(Setup!$B$52=3,'Fert Program 1,2,3'!H763,\"ERROR\")))","v":"ERROR"},{"$f":"IF(Setup!$B$52=1,'Fert Program 1,2,3'!I647,IF(Setup!$B$52=2,'Fert Program 1,2,3'!I705,IF(Setup!$B$52=3,'Fert Program 1,2,3'!I763,\"ERROR\")))","v":"ERROR"},{"$f":"IF(Setup!$B$52=1,'Fert Program 1,2,3'!J647,IF(Setup!$B$52=2,'Fert Program 1,2,3'!J705,IF(Setup!$B$52=3,'Fert Program 1,2,3'!J763,\"ERROR\")))","v":"ERROR"},{"$f":"IF(Setup!$B$52=1,'Fert Program 1,2,3'!K647,IF(Setup!$B$52=2,'Fert Program 1,2,3'!K705,IF(Setup!$B$52=3,'Fert Program 1,2,3'!K763,\"ERROR\")))","v":"ERROR"},{"$f":"IF(Setup!$B$52=1,'Fert Program 1,2,3'!L647,IF(Setup!$B$52=2,'Fert Program 1,2,3'!L705,IF(Setup!$B$52=3,'Fert Program 1,2,3'!L763,\"ERROR\")))","v":"ERROR"},{"$f":"IF(Setup!$B$52=1,'Fert Program 1,2,3'!M647,IF(Setup!$B$52=2,'Fert Program 1,2,3'!M705,IF(Setup!$B$52=3,'Fert Program 1,2,3'!M763,\"ERROR\")))","v":"ERROR"},{"$f":"IF(Setup!$B$52=1,'Fert Program 1,2,3'!N647,IF(Setup!$B$52=2,'Fert Program 1,2,3'!N705,IF(Setup!$B$52=3,'Fert Program 1,2,3'!N763,\"ERROR\")))","v":"ERROR"},{"$f":"IF(Setup!$B$52=1,'Fert Program 1,2,3'!O647,IF(Setup!$B$52=2,'Fert Program 1,2,3'!O705,IF(Setup!$B$52=3,'Fert Program 1,2,3'!O763,\"ERROR\")))","v":"ERROR"},{"$f":"IF(Setup!$B$52=1,'Fert Program 1,2,3'!P647,IF(Setup!$B$52=2,'Fert Program 1,2,3'!P705,IF(Setup!$B$52=3,'Fert Program 1,2,3'!P763,\"ERROR\")))","v":"ERROR"},{"$f":"IF(Setup!$B$52=1,'Fert Program 1,2,3'!Q647,IF(Setup!$B$52=2,'Fert Program 1,2,3'!Q705,IF(Setup!$B$52=3,'Fert Program 1,2,3'!Q763,\"ERROR\")))","v":"ERROR"},{"$f":"IF(Setup!$B$52=1,'Fert Program 1,2,3'!R647,IF(Setup!$B$52=2,'Fert Program 1,2,3'!R705,IF(Setup!$B$52=3,'Fert Program 1,2,3'!R763,\"ERROR\")))","v":"ERROR"},{"$f":"IF(Setup!$B$52=1,'Fert Program 1,2,3'!S647,IF(Setup!$B$52=2,'Fert Program 1,2,3'!S705,IF(Setup!$B$52=3,'Fert Program 1,2,3'!S763,\"ERROR\")))","v":"ERROR"},{"$f":"IF(Setup!$B$52=1,'Fert Program 1,2,3'!T647,IF(Setup!$B$52=2,'Fert Program 1,2,3'!T705,IF(Setup!$B$52=3,'Fert Program 1,2,3'!T763,\"ERROR\")))","v":"ERROR"},{"$f":"IF(Setup!$B$52=1,'Fert Program 1,2,3'!U647,IF(Setup!$B$52=2,'Fert Program 1,2,3'!U705,IF(Setup!$B$52=3,'Fert Program 1,2,3'!U763,\"ERROR\")))","v":"ERROR"},{"$f":"IF(Setup!$B$52=1,'Fert Program 1,2,3'!V647,IF(Setup!$B$52=2,'Fert Program 1,2,3'!V705,IF(Setup!$B$52=3,'Fert Program 1,2,3'!V763,\"ERROR\")))","v":"ERROR"},{"$f":"IF(Setup!$B$52=1,'Fert Program 1,2,3'!W647,IF(Setup!$B$52=2,'Fert Program 1,2,3'!W705,IF(Setup!$B$52=3,'Fert Program 1,2,3'!W763,\"ERROR\")))","v":"ERROR"},{"$f":"IF(Setup!$B$52=1,'Fert Program 1,2,3'!X647,IF(Setup!$B$52=2,'Fert Program 1,2,3'!X705,IF(Setup!$B$52=3,'Fert Program 1,2,3'!X763,\"ERROR\")))","v":"ERROR"},null,null,null,0,0,0,0,0,0,0,0,0]
[null,"Total:",{"$f":"IF(Setup!$B$52=1,'Fert Program 1,2,3'!C648,IF(Setup!$B$52=2,'Fert Program 1,2,3'!C706,IF(Setup!$B$52=3,'Fert Program 1,2,3'!C764,\"ERROR\")))","v":"ERROR"},{"$f":"IF(Setup!$B$52=1,'Fert Program 1,2,3'!D648,IF(Setup!$B$52=2,'Fert Program 1,2,3'!D706,IF(Setup!$B$52=3,'Fert Program 1,2,3'!D764,\"ERROR\")))","v":"ERROR"},{"$f":"IF(Setup!$B$52=1,'Fert Program 1,2,3'!E648,IF(Setup!$B$52=2,'Fert Program 1,2,3'!E706,IF(Setup!$B$52=3,'Fert Program 1,2,3'!E764,\"ERROR\")))","v":"ERROR"},{"$f":"IF(Setup!$B$52=1,'Fert Program 1,2,3'!F648,IF(Setup!$B$52=2,'Fert Program 1,2,3'!F706,IF(Setup!$B$52=3,'Fert Program 1,2,3'!F764,\"ERROR\")))","v":"ERROR"},{"$f":"IF(Setup!$B$52=1,'Fert Program 1,2,3'!G648,IF(Setup!$B$52=2,'Fert Program 1,2,3'!G706,IF(Setup!$B$52=3,'Fert Program 1,2,3'!G764,\"ERROR\")))","v":"ERROR"},{"$f":"IF(Setup!$B$52=1,'Fert Program 1,2,3'!H648,IF(Setup!$B$52=2,'Fert Program 1,2,3'!H706,IF(Setup!$B$52=3,'Fert Program 1,2,3'!H764,\"ERROR\")))","v":"ERROR"},{"$f":"IF(Setup!$B$52=1,'Fert Program 1,2,3'!I648,IF(Setup!$B$52=2,'Fert Program 1,2,3'!I706,IF(Setup!$B$52=3,'Fert Program 1,2,3'!I764,\"ERROR\")))","v":"ERROR"},{"$f":"IF(Setup!$B$52=1,'Fert Program 1,2,3'!J648,IF(Setup!$B$52=2,'Fert Program 1,2,3'!J706,IF(Setup!$B$52=3,'Fert Program 1,2,3'!J764,\"ERROR\")))","v":"ERROR"},{"$f":"IF(Setup!$B$52=1,'Fert Program 1,2,3'!K648,IF(Setup!$B$52=2,'Fert Program 1,2,3'!K706,IF(Setup!$B$52=3,'Fert Program 1,2,3'!K764,\"ERROR\")))","v":"ERROR"},{"$f":"IF(Setup!$B$52=1,'Fert Program 1,2,3'!L648,IF(Setup!$B$52=2,'Fert Program 1,2,3'!L706,IF(Setup!$B$52=3,'Fert Program 1,2,3'!L764,\"ERROR\")))","v":"ERROR"},{"$f":"IF(Setup!$B$52=1,'Fert Program 1,2,3'!M648,IF(Setup!$B$52=2,'Fert Program 1,2,3'!M706,IF(Setup!$B$52=3,'Fert Program 1,2,3'!M764,\"ERROR\")))","v":"ERROR"},{"$f":"IF(Setup!$B$52=1,'Fert Program 1,2,3'!N648,IF(Setup!$B$52=2,'Fert Program 1,2,3'!N706,IF(Setup!$B$52=3,'Fert Program 1,2,3'!N764,\"ERROR\")))","v":"ERROR"},{"$f":"IF(Setup!$B$52=1,'Fert Program 1,2,3'!O648,IF(Setup!$B$52=2,'Fert Program 1,2,3'!O706,IF(Setup!$B$52=3,'Fert Program 1,2,3'!O764,\"ERROR\")))","v":"ERROR"},{"$f":"IF(Setup!$B$52=1,'Fert Program 1,2,3'!P648,IF(Setup!$B$52=2,'Fert Program 1,2,3'!P706,IF(Setup!$B$52=3,'Fert Program 1,2,3'!P764,\"ERROR\")))","v":"ERROR"},{"$f":"IF(Setup!$B$52=1,'Fert Program 1,2,3'!Q648,IF(Setup!$B$52=2,'Fert Program 1,2,3'!Q706,IF(Setup!$B$52=3,'Fert Program 1,2,3'!Q764,\"ERROR\")))","v":"ERROR"},{"$f":"IF(Setup!$B$52=1,'Fert Program 1,2,3'!R648,IF(Setup!$B$52=2,'Fert Program 1,2,3'!R706,IF(Setup!$B$52=3,'Fert Program 1,2,3'!R764,\"ERROR\")))","v":"ERROR"},{"$f":"IF(Setup!$B$52=1,'Fert Program 1,2,3'!S648,IF(Setup!$B$52=2,'Fert Program 1,2,3'!S706,IF(Setup!$B$52=3,'Fert Program 1,2,3'!S764,\"ERROR\")))","v":"ERROR"},{"$f":"IF(Setup!$B$52=1,'Fert Program 1,2,3'!T648,IF(Setup!$B$52=2,'Fert Program 1,2,3'!T706,IF(Setup!$B$52=3,'Fert Program 1,2,3'!T764,\"ERROR\")))","v":"ERROR"},{"$f":"IF(Setup!$B$52=1,'Fert Program 1,2,3'!U648,IF(Setup!$B$52=2,'Fert Program 1,2,3'!U706,IF(Setup!$B$52=3,'Fert Program 1,2,3'!U764,\"ERROR\")))","v":"ERROR"},{"$f":"IF(Setup!$B$52=1,'Fert Program 1,2,3'!V648,IF(Setup!$B$52=2,'Fert Program 1,2,3'!V706,IF(Setup!$B$52=3,'Fert Program 1,2,3'!V764,\"ERROR\")))","v":"ERROR"},{"$f":"IF(Setup!$B$52=1,'Fert Program 1,2,3'!W648,IF(Setup!$B$52=2,'Fert Program 1,2,3'!W706,IF(Setup!$B$52=3,'Fert Program 1,2,3'!W764,\"ERROR\")))","v":"ERROR"},{"$f":"IF(Setup!$B$52=1,'Fert Program 1,2,3'!X648,IF(Setup!$B$52=2,'Fert Program 1,2,3'!X706,IF(Setup!$B$52=3,'Fert Program 1,2,3'!X764,\"ERROR\")))","v":"ERROR"},null,null,null,{"$f":"SUM(AB421:AB472)","v":240.46500000000003},50.04999999999999,400.11600000000004,319.94000000000005,50.04999999999999,600.21299999999997,{"$f":"SUM(AH421:AH472)","v":319.94000000000005},{"$f":"SUM(AI421:AI472)","v":50.04999999999999},{"$f":"SUM(AJ421:AJ472)","v":399.81299999999993}]
[]
["Proposed Weekly Fertiliser (Kg) / Property:"]
[{"$f":"Setup!C10","v":27},"Ha"]
[null,null,"Ammonium Nitrate","Ammonium Sulphate","Borax","Calcium Nitrate","Copper Sulphate","FertiMix","Iron Chelate","Iron Sulphate","Magnesium Sulphate","Manganese Sulphate","MAP","Mono-Potassium Phosphate","Nitric Acid","Phosphoric Acid","Potassium Chloride","Potassium Nitrate","Potassium Sulphate","Sodium Molybdenum","Sulphuric Acid","Urea","Zinc Oxide","Zinc Sulphate"]
[null,null,"NH4NO3","(NH4)2SO4","Na2B4O7.10H2O","Ca(NO3)2","CuSO4.5H2O",null,"EDDHA","FeSO4.7H2O","MgSO4.7H2O","MnSO4.H2O","NH4H2PO4","KH2PO4","HNO3","PO4H3","KCl","KNO3","K2SO4","Na2MoO4","H2SO4","CO(NH2)2","ZnO","ZnSO4.7H2O"]
[{"$f":"A421","v":"2014-07-07"},"Week 1",{"$f":"$A$476*C421","v":{"$error":"#VALUE!"}},{"$f":"$A$476*D421","v":{"$error":"#VALUE!"}},{"$error":"#VALUE!"},{"$error":"#VALUE!"},{"$error":"#VALUE!"},{"$error":"#VALUE!"},{"$error":"#VALUE!"},{"$error":"#VALUE!"},{"$error":"#VALUE!"},{"$error":"#VALUE!"},{"$error":"#VALUE!"},{"$error":"#VALUE!"},{"$error":"#VALUE!"},{"$error":"#VALUE!"},{"$error":"#VALUE!"},{"$error":"#VALUE!"},{"$error":"#VALUE!"},{"$error":"#VALUE!"},{"$error":"#VALUE!"},{"$error":"#VALUE!"},{"$error":"#VALUE!"},{"$error":"#VALUE!"}]
["2014-07-14","Week 2",{"$f":"$A$476*C422","v":{"$error":"#VALUE!"}},{"$error":"#VALUE!"},{"$error":"#VALUE!"},{"$error":"#VALUE!"},{"$error":"#VALUE!"},{"$error":"#VALUE!"},{"$error":"#VALUE!"},{"$error":"#VALUE!"},{"$error":"#VALUE!"},{"$error":"#VALUE!"},{"$error":"#VALUE!"},{"$error":"#VALUE!"},{"$error":"#VALUE!"},{"$error":"#VALUE!"},{"$error":"#VALUE!"},{"$error":"#VALUE!"},{"$error":"#VALUE!"},{"$error":"#VALUE!"},{"$error":"#VALUE!"},{"$error":"#VALUE!"},{"$error":"#VALUE!"},{"$error":"#VALUE!"}]
["2014-07-21","Week 3",{"$f":"$A$476*C423","v":{"$error":"#VALUE!"}},{"$error":"#VALUE!"},{"$error":"#VALUE!"},{"$error":"#VALUE!"},{"$error":"#VALUE!"},{"$error":"#VALUE!"},{"$error":"#VALUE!"},{"$error":"#VALUE!"},{"$error":"#VALUE!"},{"$error":"#VALUE!"},{"$error":"#VALUE!"},{"$error":"#VALUE!"},{"$error":"#VALUE!"},{"$error":"#VALUE!"},{"$error":"#VALUE!"},{"$error":"#VALUE!"},{"$error":"#VALUE!"},{"$error":"#VALUE!"},{"$error":"#VALUE!"},{"$error":"#VALUE!"},{"$error":"#VALUE!"},{"$error":"#VALUE!"}]
["2014-07-28","Week 4",{"$f":"$A$476*C424","v":{"$error":"#VALUE!"}},{"$error":"#VALUE!"},{"$error":"#VALUE!"},{"$error":"#VALUE!"},{"$error":"#VALUE!"},{"$error":"#VALUE!"},{"$error":"#VALUE!"},{"$error":"#VALUE!"},{"$error":"#VALUE!"},{"$error":"#VALUE!"},{"$error":"#VALUE!"},{"$error":"#VALUE!"},{"$error":"#VALUE!"},{"$error":"#VALUE!"},{"$error":"#VALUE!"},{"$error":"#VALUE!"},{"$error":"#VALUE!"},{"$error":"#VALUE!"},{"$error":"#VALUE!"},{"$error":"#VALUE!"},{"$error":"#VALUE!"},{"$error":"#VALUE!"}]
["2014-08-04","Week 5",{"$f":"$A$476*C425","v":{"$error":"#VALUE!"}},{"$error":"#VALUE!"},{"$error":"#VALUE!"},{"$error":"#VALUE!"},{"$error":"#VALUE!"},{"$error":"#VALUE!"},{"$error":"#VALUE!"},{"$error":"#VALUE!"},{"$error":"#VALUE!"},{"$error":"#VALUE!"},{"$error":"#VALUE!"},{"$error":"#VALUE!"},{"$error":"#VALUE!"},{"$error":"#VALUE!"},{"$error":"#VALUE!"},{"$error":"#VALUE!"},{"$error":"#VALUE!"},{"$error":"#VALUE!"},{"$error":"#VALUE!"},{"$error":"#VALUE!"},{"$error":"#VALUE!"},{"$error":"#VALUE!"}]
["2014-08-11","Week 6",{"$f":"$A$476*C426","v":{"$error":"#VALUE!"}},{"$error":"#VALUE!"},{"$error":"#VALUE!"},{"$error":"#VALUE!"},{"$error":"#VALUE!"},{"$error":"#VALUE!"},{"$error":"#VALUE!"},{"$error":"#VALUE!"},{"$error":"#VALUE!"},{"$error":"#VALUE!"},{"$error":"#VALUE!"},{"$error":"#VALUE!"},{"$error":"#VALUE!"},{"$error":"#VALUE!"},{"$error":"#VALUE!"},{"$error":"#VALUE!"},{"$error":"#VALUE!"},{"$error":"#VALUE!"},{"$error":"#VALUE!"},{"$error":"#VALUE!"},{"$error":"#VALUE!"},{"$error":"#VALUE!"}]
["2014-08-18","Week 7",{"$f":"$A$476*C427","v":{"$error":"#VALUE!"}},{"$error":"#VALUE!"},{"$error":"#VALUE!"},{"$error":"#VALUE!"},{"$error":"#VALUE!"},{"$error":"#VALUE!"},{"$error":"#VALUE!"},{"$error":"#VALUE!"},{"$error":"#VALUE!"},{"$error":"#VALUE!"},{"$error":"#VALUE!"},{"$error":"#VALUE!"},{"$error":"#VALUE!"},{"$error":"#VALUE!"},{"$error":"#VALUE!"},{"$error":"#VALUE!"},{"$error":"#VALUE!"},{"$error":"#VALUE!"},{"$error":"#VALUE!"},{"$error":"#VALUE!"},{"$error":"#VALUE!"},{"$error":"#VALUE!"}]
["2014-08-25","Week 8",{"$f":"$A$476*C428","v":{"$error":"#VALUE!"}},{"$error":"#VALUE!"},{"$error":"#VALUE!"},{"$error":"#VALUE!"},{"$error":"#VALUE!"},{"$error":"#VALUE!"},{"$error":"#VALUE!"},{"$error":"#VALUE!"},{"$error":"#VALUE!"},{"$error":"#VALUE!"},{"$error":"#VALUE!"},{"$error":"#VALUE!"},{"$error":"#VALUE!"},{"$error":"#VALUE!"},{"$error":"#VALUE!"},{"$error":"#VALUE!"},{"$error":"#VALUE!"},{"$error":"#VALUE!"},{"$error":"#VALUE!"},{"$error":"#VALUE!"},{"$error":"#VALUE!"},{"$error":"#VALUE!"}]
["2014-09-01","Week 9",{"$f":"$A$476*C429","v":{"$error":"#VALUE!"}},{"$error":"#VALUE!"},{"$error":"#VALUE!"},{"$error":"#VALUE!"},{"$error":"#VALUE!"},{"$error":"#VALUE!"},{"$error":"#VALUE!"},{"$error":"#VALUE!"},{"$error":"#VALUE!"},{"$error":"#VALUE!"},{"$error":"#VALUE!"},{"$error":"#VALUE!"},{"$error":"#VALUE!"},{"$error":"#VALUE!"},{"$error":"#VALUE!"},{"$error":"#VALUE!"},{"$error":"#VALUE!"},{"$error":"#VALUE!"},{"$error":"#VALUE!"},{"$error":"#VALUE!"},{"$error":"#VALUE!"},{"$error":"#VALUE!"}]
["2014-09-08","Week 10",{"$f":"$A$476*C430","v":{"$error":"#VALUE!"}},{"$error":"#VALUE!"},{"$error":"#VALUE!"},{"$error":"#VALUE!"},{"$error":"#VALUE!"},{"$error":"#VALUE!"},{"$error":"#VALUE!"},{"$error":"#VALUE!"},{"$error":"#VALUE!"},{"$error":"#VALUE!"},{"$error":"#VALUE!"},{"$error":"#VALUE!"},{"$error":"#VALUE!"},{"$error":"#VALUE!"},{"$error":"#VALUE!"},{"$error":"#VALUE!"},{"$error":"#VALUE!"},{"$error":"#VALUE!"},{"$error":"#VALUE!"},{"$error":"#VALUE!"},{"$error":"#VALUE!"},{"$error":"#VALUE!"}]
["2014-09-15","Week 11",{"$f":"$A$476*C431","v":{"$error":"#VALUE!"}},{"$error":"#VALUE!"},{"$error":"#VALUE!"},{"$error":"#VALUE!"},{"$error":"#VALUE!"},{"$error":"#VALUE!"},{"$error":"#VALUE!"},{"$error":"#VALUE!"},{"$error":"#VALUE!"},{"$error":"#VALUE!"},{"$error":"#VALUE!"},{"$error":"#VALUE!"},{"$error":"#VALUE!"},{"$error":"#VALUE!"},{"$error":"#VALUE!"},{"$error":"#VALUE!"},{"$error":"#VALUE!"},{"$error":"#VALUE!"},{"$error":"#VALUE!"},{"$error":"#VALUE!"},{"$error":"#VALUE!"},{"$error":"#VALUE!"}]
["2014-09-22","Week 12",{"$f":"$A$476*C432","v":{"$error":"#VALUE!"}},{"$error":"#VALUE!"},{"$error":"#VALUE!"},{"$error":"#VALUE!"},{"$error":"#VALUE!"},{"$error":"#VALUE!"},{"$error":"#VALUE!"},{"$error":"#VALUE!"},{"$error":"#VALUE!"},{"$error":"#VALUE!"},{"$error":"#VALUE!"},{"$error":"#VALUE!"},{"$error":"#VALUE!"},{"$error":"#VALUE!"},{"$error":"#VALUE!"},{"$error":"#VALUE!"},{"$error":"#VALUE!"},{"$error":"#VALUE!"},{"$error":"#VALUE!"},{"$error":"#VALUE!"},{"$error":"#VALUE!"},{"$error":"#VALUE!"}]
["2014-09-29","Week 13",{"$f":"$A$476*C433","v":{"$error":"#VALUE!"}},{"$error":"#VALUE!"},{"$error":"#VALUE!"},{"$error":"#VALUE!"},{"$error":"#VALUE!"},{"$error":"#VALUE!"},{"$error":"#VALUE!"},{"$error":"#VALUE!"},{"$error":"#VALUE!"},{"$error":"#VALUE!"},{"$error":"#VALUE!"},{"$error":"#VALUE!"},{"$error":"#VALUE!"},{"$error":"#VALUE!"},{"$error":"#VALUE!"},{"$error":"#VALUE!"},{"$error":"#VALUE!"},{"$error":"#VALUE!"},{"$error":"#VALUE!"},{"$error":"#VALUE!"},{"$error":"#VALUE!"},{"$error":"#VALUE!"}]
["2014-10-06","Week 14",{"$f":"$A$476*C434","v":{"$error":"#VALUE!"}},{"$error":"#VALUE!"},{"$error":"#VALUE!"},{"$error":"#VALUE!"},{"$error":"#VALUE!"},{"$error":"#VALUE!"},{"$error":"#VALUE!"},{"$error":"#VALUE!"},{"$error":"#VALUE!"},{"$error":"#VALUE!"},{"$error":"#VALUE!"},{"$error":"#VALUE!"},{"$error":"#VALUE!"},{"$error":"#VALUE!"},{"$error":"#VALUE!"},{"$error":"#VALUE!"},{"$error":"#VALUE!"},{"$error":"#VALUE!"},{"$error":"#VALUE!"},{"$error":"#VALUE!"},{"$error":"#VALUE!"},{"$error":"#VALUE!"}]
["2014-10-13","Week 15",{"$f":"$A$476*C435","v":{"$error":"#VALUE!"}},{"$error":"#VALUE!"},{"$error":"#VALUE!"},{"$error":"#VALUE!"},{"$error":"#VALUE!"},{"$error":"#VALUE!"},{"$error":"#VALUE!"},{"$error":"#VALUE!"},{"$error":"#VALUE!"},{"$error":"#VALUE!"},{"$error":"#VALUE!"},{"$error":"#VALUE!"},{"$error":"#VALUE!"},{"$error":"#VALUE!"},{"$error":"#VALUE!"},{"$error":"#VALUE!"},{"$error":"#VALUE!"},{"$error":"#VALUE!"},{"$error":"#VALUE!"},{"$error":"#VALUE!"},{"$error":"#VALUE!"},{"$error":"#VALUE!"}]
["2014-10-20","Week 16",{"$f":"$A$476*C436","v":{"$error":"#VALUE!"}},{"$error":"#VALUE!"},{"$error":"#VALUE!"},{"$error":"#VALUE!"},{"$error":"#VALUE!"},{"$error":"#VALUE!"},{"$error":"#VALUE!"},{"$error":"#VALUE!"},{"$error":"#VALUE!"},{"$error":"#VALUE!"},{"$error":"#VALUE!"},{"$error":"#VALUE!"},{"$error":"#VALUE!"},{"$error":"#VALUE!"},{"$error":"#VALUE!"},{"$error":"#VALUE!"},{"$error":"#VALUE!"},{"$error":"#VALUE!"},{"$error":"#VALUE!"},{"$error":"#VALUE!"},{"$error":"#VALUE!"},{"$error":"#VALUE!"}]
["2014-10-27","Week 17",{"$f":"$A$476*C437","v":{"$error":"#VALUE!"}},{"$error":"#VALUE!"},{"$error":"#VALUE!"},{"$error":"#VALUE!"},{"$error":"#VALUE!"},{"$error":"#VALUE!"},{"$error":"#VALUE!"},{"$error":"#VALUE!"},{"$error":"#VALUE!"},{"$error":"#VALUE!"},{"$error":"#VALUE!"},{"$error":"#VALUE!"},{"$error":"#VALUE!"},{"$error":"#VALUE!"},{"$error":"#VALUE!"},{"$error":"#VALUE!"},{"$error":"#VALUE!"},{"$error":"#VALUE!"},{"$error":"#VALUE!"},{"$error":"#VALUE!"},{"$error":"#VALUE!"},{"$error":"#VALUE!"}]
["2014-11-03","Week 18",{"$f":"$A$476*C438","v":{"$error":"#VALUE!"}},{"$error":"#VALUE!"},{"$error":"#VALUE!"},{"$error":"#VALUE!"},{"$error":"#VALUE!"},{"$error":"#VALUE!"},{"$error":"#VALUE!"},{"$error":"#VALUE!"},{"$error":"#VALUE!"},{"$error":"#VALUE!"},{"$error":"#VALUE!"},{"$error":"#VALUE!"},{"$error":"#VALUE!"},{"$error":"#VALUE!"},{"$error":"#VALUE!"},{"$error":"#VALUE!"},{"$error":"#VALUE!"},{"$error":"#VALUE!"},{"$error":"#VALUE!"},{"$error":"#VALUE!"},{"$error":"#VALUE!"},{"$error":"#VALUE!"}]
["2014-11-10","Week 19",{"$f":"$A$476*C439","v":{"$error":"#VALUE!"}},{"$error":"#VALUE!"},{"$error":"#VALUE!"},{"$error":"#VALUE!"},{"$error":"#VALUE!"},{"$error":"#VALUE!"},{"$error":"#VALUE!"},{"$error":"#VALUE!"},{"$error":"#VALUE!"},{"$error":"#VALUE!"},{"$error":"#VALUE!"},{"$error":"#VALUE!"},{"$error":"#VALUE!"},{"$error":"#VALUE!"},{"$error":"#VALUE!"},{"$error":"#VALUE!"},{"$error":"#VALUE!"},{"$error":"#VALUE!"},{"$error":"#VALUE!"},{"$error":"#VALUE!"},{"$error":"#VALUE!"},{"$error":"#VALUE!"}]
["2014-11-17","Week 20",{"$f":"$A$476*C440","v":{"$error":"#VALUE!"}},{"$error":"#VALUE!"},{"$error":"#VALUE!"},{"$error":"#VALUE!"},{"$error":"#VALUE!"},{"$error":"#VALUE!"},{"$error":"#VALUE!"},{"$error":"#VALUE!"},{"$error":"#VALUE!"},{"$error":"#VALUE!"},{"$error":"#VALUE!"},{"$error":"#VALUE!"},{"$error":"#VALUE!"},{"$error":"#VALUE!"},{"$error":"#VALUE!"},{"$error":"#VALUE!"},{"$error":"#VALUE!"},{"$error":"#VALUE!"},{"$error":"#VALUE!"},{"$error":"#VALUE!"},{"$error":"#VALUE!"},{"$error":"#VALUE!"}]
[{"$f":"A441","v":"2014-11-24"},"Week 21",{"$f":"$A$476*C441","v":{"$error":"#VALUE!"}},{"$error":"#VALUE!"},{"$error":"#VALUE!"},{"$error":"#VALUE!"},{"$error":"#VALUE!"},{"$error":"#VALUE!"},{"$error":"#VALUE!"},{"$error":"#VALUE!"},{"$error":"#VALUE!"},{"$error":"#VALUE!"},{"$error":"#VALUE!"},{"$error":"#VALUE!"},{"$error":"#VALUE!"},{"$error":"#VALUE!"},{"$error":"#VALUE!"},{"$error":"#VALUE!"},{"$error":"#VALUE!"},{"$error":"#VALUE!"},{"$error":"#VALUE!"},{"$error":"#VALUE!"},{"$error":"#VALUE!"},{"$error":"#VALUE!"}]
["2014-12-01","Week 22",{"$f":"$A$476*C442","v":{"$error":"#VALUE!"}},{"$error":"#VALUE!"},{"$error":"#VALUE!"},{"$error":"#VALUE!"},{"$error":"#VALUE!"},{"$error":"#VALUE!"},{"$error":"#VALUE!"},{"$error":"#VALUE!"},{"$error":"#VALUE!"},{"$error":"#VALUE!"},{"$error":"#VALUE!"},{"$error":"#VALUE!"},{"$error":"#VALUE!"},{"$error":"#VALUE!"},{"$error":"#VALUE!"},{"$error":"#VALUE!"},{"$error":"#VALUE!"},{"$error":"#VALUE!"},{"$error":"#VALUE!"},{"$error":"#VALUE!"},{"$error":"#VALUE!"},{"$error":"#VALUE!"}]
["2014-12-08","Week 23",{"$f":"$A$476*C443","v":{"$error":"#VALUE!"}},{"$error":"#VALUE!"},{"$error":"#VALUE!"},{"$error":"#VALUE!"},{"$error":"#VALUE!"},{"$error":"#VALUE!"},{"$error":"#VALUE!"},{"$error":"#VALUE!"},{"$error":"#VALUE!"},{"$error":"#VALUE!"},{"$error":"#VALUE!"},{"$error":"#VALUE!"},{"$error":"#VALUE!"},{"$error":"#VALUE!"},{"$error":"#VALUE!"},{"$error":"#VALUE!"},{"$error":"#VALUE!"},{"$error":"#VALUE!"},{"$error":"#VALUE!"},{"$error":"#VALUE!"},{"$error":"#VALUE!"},{"$error":"#VALUE!"}]
["2014-12-15","Week 24",{"$f":"$A$476*C444","v":{"$error":"#VALUE!"}},{"$error":"#VALUE!"},{"$error":"#VALUE!"},{"$error":"#VALUE!"},{"$error":"#VALUE!"},{"$error":"#VALUE!"},{"$error":"#VALUE!"},{"$error":"#VALUE!"},{"$error":"#VALUE!"},{"$error":"#VALUE!"},{"$error":"#VALUE!"},{"$error":"#VALUE!"},{"$error":"#VALUE!"},{"$error":"#VALUE!"},{"$error":"#VALUE!"},{"$error":"#VALUE!"},{"$error":"#VALUE!"},{"$error":"#VALUE!"},{"$error":"#VALUE!"},{"$error":"#VALUE!"},{"$error":"#VALUE!"},{"$error":"#VALUE!"}]
["2014-12-22","Week 25",{"$f":"$A$476*C445","v":{"$error":"#VALUE!"}},{"$error":"#VALUE!"},{"$error":"#VALUE!"},{"$error":"#VALUE!"},{"$error":"#VALUE!"},{"$error":"#VALUE!"},{"$error":"#VALUE!"},{"$error":"#VALUE!"},{"$error":"#VALUE!"},{"$error":"#VALUE!"},{"$error":"#VALUE!"},{"$error":"#VALUE!"},{"$error":"#VALUE!"},{"$error":"#VALUE!"},{"$error":"#VALUE!"},{"$error":"#VALUE!"},{"$error":"#VALUE!"},{"$error":"#VALUE!"},{"$error":"#VALUE!"},{"$error":"#VALUE!"},{"$error":"#VALUE!"},{"$error":"#VALUE!"}]
["2014-12-29","Week 26",{"$f":"$A$476*C446","v":{"$error":"#VALUE!"}},{"$error":"#VALUE!"},{"$error":"#VALUE!"},{"$error":"#VALUE!"},{"$error":"#VALUE!"},{"$error":"#VALUE!"},{"$error":"#VALUE!"},{"$error":"#VALUE!"},{"$error":"#VALUE!"},{"$error":"#VALUE!"},{"$error":"#VALUE!"},{"$error":"#VALUE!"},{"$error":"#VALUE!"},{"$error":"#VALUE!"},{"$error":"#VALUE!"},{"$error":"#VALUE!"},{"$error":"#VALUE!"},{"$error":"#VALUE!"},{"$error":"#VALUE!"},{"$error":"#VALUE!"},{"$error":"#VALUE!"},{"$error":"#VALUE!"}]
["2015-01-05","Week 27",{"$f":"$A$476*C447","v":{"$error":"#VALUE!"}},{"$error":"#VALUE!"},{"$error":"#VALUE!"},{"$error":"#VALUE!"},{"$error":"#VALUE!"},{"$error":"#VALUE!"},{"$error":"#VALUE!"},{"$error":"#VALUE!"},{"$error":"#VALUE!"},{"$error":"#VALUE!"},{"$error":"#VALUE!"},{"$error":"#VALUE!"},{"$error":"#VALUE!"},{"$error":"#VALUE!"},{"$error":"#VALUE!"},{"$error":"#VALUE!"},{"$error":"#VALUE!"},{"$error":"#VALUE!"},{"$error":"#VALUE!"},{"$error":"#VALUE!"},{"$error":"#VALUE!"},{"$error":"#VALUE!"}]
["2015-01-12","Week 28",{"$f":"$A$476*C448","v":{"$error":"#VALUE!"}},{"$error":"#VALUE!"},{"$error":"#VALUE!"},{"$error":"#VALUE!"},{"$error":"#VALUE!"},{"$error":"#VALUE!"},{"$error":"#VALUE!"},{"$error":"#VALUE!"},{"$error":"#VALUE!"},{"$error":"#VALUE!"},{"$error":"#VALUE!"},{"$error":"#VALUE!"},{"$error":"#VALUE!"},{"$error":"#VALUE!"},{"$error":"#VALUE!"},{"$error":"#VALUE!"},{"$error":"#VALUE!"},{"$error":"#VALUE!"},{"$error":"#VALUE!"},{"$error":"#VALUE!"},{"$error":"#VALUE!"},{"$error":"#VALUE!"}]
["2015-01-19","Week 29",{"$f":"$A$476*C449","v":{"$error":"#VALUE!"}},{"$error":"#VALUE!"},{"$error":"#VALUE!"},{"$error":"#VALUE!"},{"$error":"#VALUE!"},{"$error":"#VALUE!"},{"$error":"#VALUE!"},{"$error":"#VALUE!"},{"$error":"#VALUE!"},{"$error":"#VALUE!"},{"$error":"#VALUE!"},{"$error":"#VALUE!"},{"$error":"#VALUE!"},{"$error":"#VALUE!"},{"$error":"#VALUE!"},{"$error":"#VALUE!"},{"$error":"#VALUE!"},{"$error":"#VALUE!"},{"$error":"#VALUE!"},{"$error":"#VALUE!"},{"$error":"#VALUE!"},{"$error":"#VALUE!"}]
["2015-01-26","Week 30",{"$f":"$A$476*C450","v":{"$error":"#VALUE!"}},{"$error":"#VALUE!"},{"$error":"#VALUE!"},{"$error":"#VALUE!"},{"$error":"#VALUE!"},{"$error":"#VALUE!"},{"$error":"#VALUE!"},{"$error":"#VALUE!"},{"$error":"#VALUE!"},{"$error":"#VALUE!"},{"$error":"#VALUE!"},{"$error":"#VALUE!"},{"$error":"#VALUE!"},{"$error":"#VALUE!"},{"$error":"#VALUE!"},{"$error":"#VALUE!"},{"$error":"#VALUE!"},{"$error":"#VALUE!"},{"$error":"#VALUE!"},{"$error":"#VALUE!"},{"$error":"#VALUE!"},{"$error":"#VALUE!"}]
["2015-02-02","Week 31",{"$f":"$A$476*C451","v":{"$error":"#VALUE!"}},{"$error":"#VALUE!"},{"$error":"#VALUE!"},{"$error":"#VALUE!"},{"$error":"#VALUE!"},{"$error":"#VALUE!"},{"$error":"#VALUE!"},{"$error":"#VALUE!"},{"$error":"#VALUE!"},{"$error":"#VALUE!"},{"$error":"#VALUE!"},{"$error":"#VALUE!"},{"$error":"#VALUE!"},{"$error":"#VALUE!"},{"$error":"#VALUE!"},{"$error":"#VALUE!"},{"$error":"#VALUE!"},{"$error":"#VALUE!"},{"$error":"#VALUE!"},{"$error":"#VALUE!"},{"$error":"#VALUE!"},{"$error":"#VALUE!"}]
["2015-02-09","Week 32",{"$f":"$A$476*C452","v":{"$error":"#VALUE!"}},{"$error":"#VALUE!"},{"$error":"#VALUE!"},{"$error":"#VALUE!"},{"$error":"#VALUE!"},{"$error":"#VALUE!"},{"$error":"#VALUE!"},{"$error":"#VALUE!"},{"$error":"#VALUE!"},{"$error":"#VALUE!"},{"$error":"#VALUE!"},{"$error":"#VALUE!"},{"$error":"#VALUE!"},{"$error":"#VALUE!"},{"$error":"#VALUE!"},{"$error":"#VALUE!"},{"$error":"#VALUE!"},{"$error":"#VALUE!"},{"$error":"#VALUE!"},{"$error":"#VALUE!"},{"$error":"#VALUE!"},{"$error":"#VALUE!"}]
["2015-02-16","Week 33",{"$f":"$A$476*C453","v":{"$error":"#VALUE!"}},{"$error":"#VALUE!"},{"$error":"#VALUE!"},{"$error":"#VALUE!"},{"$error":"#VALUE!"},{"$error":"#VALUE!"},{"$error":"#VALUE!"},{"$error":"#VALUE!"},{"$error":"#VALUE!"},{"$error":"#VALUE!"},{"$error":"#VALUE!"},{"$error":"#VALUE!"},{"$error":"#VALUE!"},{"$error":"#VALUE!"},{"$error":"#VALUE!"},{"$error":"#VALUE!"},{"$error":"#VALUE!"},{"$error":"#VALUE!"},{"$error":"#VALUE!"},{"$error":"#VALUE!"},{"$error":"#VALUE!"},{"$error":"#VALUE!"}]
["2015-02-23","Week 34",{"$f":"$A$476*C454","v":{"$error":"#VALUE!"}},{"$error":"#VALUE!"},{"$error":"#VALUE!"},{"$error":"#VALUE!"},{"$error":"#VALUE!"},{"$error":"#VALUE!"},{"$error":"#VALUE!"},{"$error":"#VALUE!"},{"$error":"#VALUE!"},{"$error":"#VALUE!"},{"$error":"#VALUE!"},{"$error":"#VALUE!"},{"$error":"#VALUE!"},{"$error":"#VALUE!"},{"$error":"#VALUE!"},{"$error":"#VALUE!"},{"$error":"#VALUE!"},{"$error":"#VALUE!"},{"$error":"#VALUE!"},{"$error":"#VALUE!"},{"$error":"#VALUE!"},{"$error":"#VALUE!"}]
["2015-03-02","Week 35",{"$f":"$A$476*C455","v":{"$error":"#VALUE!"}},{"$error":"#VALUE!"},{"$error":"#VALUE!"},{"$error":"#VALUE!"},{"$error":"#VALUE!"},{"$error":"#VALUE!"},{"$error":"#VALUE!"},{"$error":"#VALUE!"},{"$error":"#VALUE!"},{"$error":"#VALUE!"},{"$error":"#VALUE!"},{"$error":"#VALUE!"},{"$error":"#VALUE!"},{"$error":"#VALUE!"},{"$error":"#VALUE!"},{"$error":"#VALUE!"},{"$error":"#VALUE!"},{"$error":"#VALUE!"},{"$error":"#VALUE!"},{"$error":"#VALUE!"},{"$error":"#VALUE!"},{"$error":"#VALUE!"}]
["2015-03-09","Week 36",{"$f":"$A$476*C456","v":{"$error":"#VALUE!"}},{"$error":"#VALUE!"},{"$error":"#VALUE!"},{"$error":"#VALUE!"},{"$error":"#VALUE!"},{"$error":"#VALUE!"},{"$error":"#VALUE!"},{"$error":"#VALUE!"},{"$error":"#VALUE!"},{"$error":"#VALUE!"},{"$error":"#VALUE!"},{"$error":"#VALUE!"},{"$error":"#VALUE!"},{"$error":"#VALUE!"},{"$error":"#VALUE!"},{"$error":"#VALUE!"},{"$error":"#VALUE!"},{"$error":"#VALUE!"},{"$error":"#VALUE!"},{"$error":"#VALUE!"},{"$error":"#VALUE!"},{"$error":"#VALUE!"}]
["2015-03-16","Week 37",{"$f":"$A$476*C457","v":{"$error":"#VALUE!"}},{"$error":"#VALUE!"},{"$error":"#VALUE!"},{"$error":"#VALUE!"},{"$error":"#VALUE!"},{"$error":"#VALUE!"},{"$error":"#VALUE!"},{"$error":"#VALUE!"},{"$error":"#VALUE!"},{"$error":"#VALUE!"},{"$error":"#VALUE!"},{"$error":"#VALUE!"},{"$error":"#VALUE!"},{"$error":"#VALUE!"},{"$error":"#VALUE!"},{"$error":"#VALUE!"},{"$error":"#VALUE!"},{"$error":"#VALUE!"},{"$error":"#VALUE!"},{"$error":"#VALUE!"},{"$error":"#VALUE!"},{"$error":"#VALUE!"}]
["2015-03-23","Week 38",{"$f":"$A$476*C458","v":{"$error":"#VALUE!"}},{"$error":"#VALUE!"},{"$error":"#VALUE!"},{"$error":"#VALUE!"},{"$error":"#VALUE!"},{"$error":"#VALUE!"},{"$error":"#VALUE!"},{"$error":"#VALUE!"},{"$error":"#VALUE!"},{"$error":"#VALUE!"},{"$error":"#VALUE!"},{"$error":"#VALUE!"},{"$error":"#VALUE!"},{"$error":"#VALUE!"},{"$error":"#VALUE!"},{"$error":"#VALUE!"},{"$error":"#VALUE!"},{"$error":"#VALUE!"},{"$error":"#VALUE!"},{"$error":"#VALUE!"},{"$error":"#VALUE!"},{"$error":"#VALUE!"}]
["2015-03-30","Week 39",{"$f":"$A$476*C459","v":{"$error":"#VALUE!"}},{"$error":"#VALUE!"},{"$error":"#VALUE!"},{"$error":"#VALUE!"},{"$error":"#VALUE!"},{"$error":"#VALUE!"},{"$error":"#VALUE!"},{"$error":"#VALUE!"},{"$error":"#VALUE!"},{"$error":"#VALUE!"},{"$error":"#VALUE!"},{"$error":"#VALUE!"},{"$error":"#VALUE!"},{"$error":"#VALUE!"},{"$error":"#VALUE!"},{"$error":"#VALUE!"},{"$error":"#VALUE!"},{"$error":"#VALUE!"},{"$error":"#VALUE!"},{"$error":"#VALUE!"},{"$error":"#VALUE!"},{"$error":"#VALUE!"}]
["2015-04-06","Week 40",{"$f":"$A$476*C460","v":{"$error":"#VALUE!"}},{"$error":"#VALUE!"},{"$error":"#VALUE!"},{"$error":"#VALUE!"},{"$error":"#VALUE!"},{"$error":"#VALUE!"},{"$error":"#VALUE!"},{"$error":"#VALUE!"},{"$error":"#VALUE!"},{"$error":"#VALUE!"},{"$error":"#VALUE!"},{"$error":"#VALUE!"},{"$error":"#VALUE!"},{"$error":"#VALUE!"},{"$error":"#VALUE!"},{"$error":"#VALUE!"},{"$error":"#VALUE!"},{"$error":"#VALUE!"},{"$error":"#VALUE!"},{"$error":"#VALUE!"},{"$error":"#VALUE!"},{"$error":"#VALUE!"}]
[{"$f":"A461","v":"2015-04-13"},"Week 41",{"$f":"$A$476*C461","v":{"$error":"#VALUE!"}},{"$error":"#VALUE!"},{"$error":"#VALUE!"},{"$error":"#VALUE!"},{"$error":"#VALUE!"},{"$error":"#VALUE!"},{"$error":"#VALUE!"},{"$error":"#VALUE!"},{"$error":"#VALUE!"},{"$error":"#VALUE!"},{"$error":"#VALUE!"},{"$error":"#VALUE!"},{"$error":"#VALUE!"},{"$error":"#VALUE!"},{"$error":"#VALUE!"},{"$error":"#VALUE!"},{"$error":"#VALUE!"},{"$error":"#VALUE!"},{"$error":"#VALUE!"},{"$error":"#VALUE!"},{"$error":"#VALUE!"},{"$error":"#VALUE!"}]
["2015-04-20","Week 42",{"$f":"$A$476*C462","v":{"$error":"#VALUE!"}},{"$error":"#VALUE!"},{"$error":"#VALUE!"},{"$error":"#VALUE!"},{"$error":"#VALUE!"},{"$error":"#VALUE!"},{"$error":"#VALUE!"},{"$error":"#VALUE!"},{"$error":"#VALUE!"},{"$error":"#VALUE!"},{"$error":"#VALUE!"},{"$error":"#VALUE!"},{"$error":"#VALUE!"},{"$error":"#VALUE!"},{"$error":"#VALUE!"},{"$error":"#VALUE!"},{"$error":"#VALUE!"},{"$error":"#VALUE!"},{"$error":"#VALUE!"},{"$error":"#VALUE!"},{"$error":"#VALUE!"},{"$error":"#VALUE!"}]
["2015-04-27","Week 43",{"$f":"$A$476*C463","v":{"$error":"#VALUE!"}},{"$error":"#VALUE!"},{"$error":"#VALUE!"},{"$error":"#VALUE!"},{"$error":"#VALUE!"},{"$error":"#VALUE!"},{"$error":"#VALUE!"},{"$error":"#VALUE!"},{"$error":"#VALUE!"},{"$error":"#VALUE!"},{"$error":"#VALUE!"},{"$error":"#VALUE!"},{"$error":"#VALUE!"},{"$error":"#VALUE!"},{"$error":"#VALUE!"},{"$error":"#VALUE!"},{"$error":"#VALUE!"},{"$error":"#VALUE!"},{"$error":"#VALUE!"},{"$error":"#VALUE!"},{"$error":"#VALUE!"},{"$error":"#VALUE!"}]
["2015-05-04","Week 44",{"$f":"$A$476*C464","v":{"$error":"#VALUE!"}},{"$error":"#VALUE!"},{"$error":"#VALUE!"},{"$error":"#VALUE!"},{"$error":"#VALUE!"},{"$error":"#VALUE!"},{"$error":"#VALUE!"},{"$error":"#VALUE!"},{"$error":"#VALUE!"},{"$error":"#VALUE!"},{"$error":"#VALUE!"},{"$error":"#VALUE!"},{"$error":"#VALUE!"},{"$error":"#VALUE!"},{"$error":"#VALUE!"},{"$error":"#VALUE!"},{"$error":"#VALUE!"},{"$error":"#VALUE!"},{"$error":"#VALUE!"},{"$error":"#VALUE!"},{"$error":"#VALUE!"},{"$error":"#VALUE!"}]
["2015-05-11","Week 45",{"$f":"$A$476*C465","v":{"$error":"#VALUE!"}},{"$error":"#VALUE!"},{"$error":"#VALUE!"},{"$error":"#VALUE!"},{"$error":"#VALUE!"},{"$error":"#VALUE!"},{"$error":"#VALUE!"},{"$error":"#VALUE!"},{"$error":"#VALUE!"},{"$error":"#VALUE!"},{"$error":"#VALUE!"},{"$error":"#VALUE!"},{"$error":"#VALUE!"},{"$error":"#VALUE!"},{"$error":"#VALUE!"},{"$error":"#VALUE!"},{"$error":"#VALUE!"},{"$error":"#VALUE!"},{"$error":"#VALUE!"},{"$error":"#VALUE!"},{"$error":"#VALUE!"},{"$error":"#VALUE!"}]
["2015-05-18","Week 46",{"$f":"$A$476*C466","v":{"$error":"#VALUE!"}},{"$error":"#VALUE!"},{"$error":"#VALUE!"},{"$error":"#VALUE!"},{"$error":"#VALUE!"},{"$error":"#VALUE!"},{"$error":"#VALUE!"},{"$error":"#VALUE!"},{"$error":"#VALUE!"},{"$error":"#VALUE!"},{"$error":"#VALUE!"},{"$error":"#VALUE!"},{"$error":"#VALUE!"},{"$error":"#VALUE!"},{"$error":"#VALUE!"},{"$error":"#VALUE!"},{"$error":"#VALUE!"},{"$error":"#VALUE!"},{"$error":"#VALUE!"},{"$error":"#VALUE!"},{"$error":"#VALUE!"},{"$error":"#VALUE!"}]
["2015-05-25","Week 47",{"$f":"$A$476*C467","v":{"$error":"#VALUE!"}},{"$error":"#VALUE!"},{"$error":"#VALUE!"},{"$error":"#VALUE!"},{"$error":"#VALUE!"},{"$error":"#VALUE!"},{"$error":"#VALUE!"},{"$error":"#VALUE!"},{"$error":"#VALUE!"},{"$error":"#VALUE!"},{"$error":"#VALUE!"},{"$error":"#VALUE!"},{"$error":"#VALUE!"},{"$error":"#VALUE!"},{"$error":"#VALUE!"},{"$error":"#VALUE!"},{"$error":"#VALUE!"},{"$error":"#VALUE!"},{"$error":"#VALUE!"},{"$error":"#VALUE!"},{"$error":"#VALUE!"},{"$error":"#VALUE!"}]
["2015-06-01","Week 48",{"$f":"$A$476*C468","v":{"$error":"#VALUE!"}},{"$error":"#VALUE!"},{"$error":"#VALUE!"},{"$error":"#VALUE!"},{"$error":"#VALUE!"},{"$error":"#VALUE!"},{"$error":"#VALUE!"},{"$error":"#VALUE!"},{"$error":"#VALUE!"},{"$error":"#VALUE!"},{"$error":"#VALUE!"},{"$error":"#VALUE!"},{"$error":"#VALUE!"},{"$error":"#VALUE!"},{"$error":"#VALUE!"},{"$error":"#VALUE!"},{"$error":"#VALUE!"},{"$error":"#VALUE!"},{"$error":"#VALUE!"},{"$error":"#VALUE!"},{"$error":"#VALUE!"},{"$error":"#VALUE!"}]
["2015-06-08","Week 49",{"$f":"$A$476*C469","v":{"$error":"#VALUE!"}},{"$error":"#VALUE!"},{"$error":"#VALUE!"},{"$error":"#VALUE!"},{"$error":"#VALUE!"},{"$error":"#VALUE!"},{"$error":"#VALUE!"},{"$error":"#VALUE!"},{"$error":"#VALUE!"},{"$error":"#VALUE!"},{"$error":"#VALUE!"},{"$error":"#VALUE!"},{"$error":"#VALUE!"},{"$error":"#VALUE!"},{"$error":"#VALUE!"},{"$error":"#VALUE!"},{"$error":"#VALUE!"},{"$error":"#VALUE!"},{"$error":"#VALUE!"},{"$error":"#VALUE!"},{"$error":"#VALUE!"},{"$error":"#VALUE!"}]
["2015-06-15","Week 50",{"$f":"$A$476*C470","v":{"$error":"#VALUE!"}},{"$error":"#VALUE!"},{"$error":"#VALUE!"},{"$error":"#VALUE!"},{"$error":"#VALUE!"},{"$error":"#VALUE!"},{"$error":"#VALUE!"},{"$error":"#VALUE!"},{"$error":"#VALUE!"},{"$error":"#VALUE!"},{"$error":"#VALUE!"},{"$error":"#VALUE!"},{"$error":"#VALUE!"},{"$error":"#VALUE!"},{"$error":"#VALUE!"},{"$error":"#VALUE!"},{"$error":"#VALUE!"},{"$error":"#VALUE!"},{"$error":"#VALUE!"},{"$error":"#VALUE!"},{"$error":"#VALUE!"},{"$error":"#VALUE!"}]
["2015-06-22","Week 51",{"$f":"$A$476*C471","v":{"$error":"#VALUE!"}},{"$error":"#VALUE!"},{"$error":"#VALUE!"},{"$error":"#VALUE!"},{"$error":"#VALUE!"},{"$error":"#VALUE!"},{"$error":"#VALUE!"},{"$error":"#VALUE!"},{"$error":"#VALUE!"},{"$error":"#VALUE!"},{"$error":"#VALUE!"},{"$error":"#VALUE!"},{"$error":"#VALUE!"},{"$error":"#VALUE!"},{"$error":"#VALUE!"},{"$error":"#VALUE!"},{"$error":"#VALUE!"},{"$error":"#VALUE!"},{"$error":"#VALUE!"},{"$error":"#VALUE!"},{"$error":"#VALUE!"},{"$error":"#VALUE!"}]
["2015-06-29","Week 52",{"$f":"$A$476*C472","v":{"$error":"#VALUE!"}},{"$error":"#VALUE!"},{"$error":"#VALUE!"},{"$error":"#VALUE!"},{"$error":"#VALUE!"},{"$error":"#VALUE!"},{"$error":"#VALUE!"},{"$error":"#VALUE!"},{"$error":"#VALUE!"},{"$error":"#VALUE!"},{"$error":"#VALUE!"},{"$error":"#VALUE!"},{"$error":"#VALUE!"},{"$error":"#VALUE!"},{"$error":"#VALUE!"},{"$error":"#VALUE!"},{"$error":"#VALUE!"},{"$error":"#VALUE!"},{"$error":"#VALUE!"},{"$error":"#VALUE!"},{"$error":"#VALUE!"},{"$error":"#VALUE!"}]
[null,"Total:",{"$f":"SUM(C479:C530)","v":{"$error":"#VALUE!"}},{"$error":"#VALUE!"},{"$error":"#VALUE!"},{"$error":"#VALUE!"},{"$error":"#VALUE!"},{"$error":"#VALUE!"},{"$error":"#VALUE!"},{"$error":"#VALUE!"},{"$error":"#VALUE!"},{"$error":"#VALUE!"},{"$error":"#VALUE!"},{"$error":"#VALUE!"},{"$error":"#VALUE!"},{"$error":"#VALUE!"},{"$error":"#VALUE!"},{"$error":"#VALUE!"},{"$error":"#VALUE!"},{"$error":"#VALUE!"},{"$error":"#VALUE!"},{"$error":"#VALUE!"},{"$f":"SUM(W479:W530)","v":{"$error":"#VALUE!"}},{"$f":"SUM(X479:X530)","v":{"$error":"#VALUE!"}}]
[]
["Actual Weekly Fertiliser (Kg) / Property:"]
[{"$f":"Setup!C10","v":27},"Ha"]
["Week Beginning","Week No.","Ammonium Nitrate","Ammonium Sulphate","Borax","Calcium Nitrate","Copper Sulphate","FertiMix","Iron Chelate","Iron Sulphate","Magnesium Sulphate","Manganese Sulphate","MAP","Mono-Potassium Phosphate","Nitric Acid","Phosphoric Acid","Potassium Chloride","Potassium Nitrate","Potassium Sulphate","Sodium Molybdenum","Sulphuric Acid","Urea","Zinc Oxide","Zinc Sulphate"]
[null,null,"NH4NO3","(NH4)2SO4","Na2B4O7.10H2O","Ca(NO3)2","CuSO4.5H2O",null,"EDDHA","FeSO4.7H2O","MgSO4.7H2O","MnSO4.H2O","NH4H2PO4","KH2PO4","HNO3","PO4H3","KCl","KNO3","K2SO4","Na2MoO4","H2SO4","CO(NH2)2","ZnO","ZnSO4.7H2O"]
[{"$f":"A421","v":"2014-07-07"},"Week 1",0,0,0,0,0,0,0,0,0,0,0,0,0,0,0,0,0,0,0,0,0,0]
["2014-07-14","Week 2",0,0,0,0,0,0,0,0,0,0,0,0,0,0,0,0,0,0,0,0,0,0]
["2014-07-21","Week 3",0,0,0,0,0,0,0,0,0,0,0,0,0,0,0,0,0,0,0,0,0,0]
["2014-07-28","Week 4",0,0,0,0,0,0,0,0,0,0,0,0,0,0,0,0,0,0,0,0,0,0]
["2014-08-04","Week 5",0,0,0,0,0,0,0,0,0,0,0,0,0,0,0,0,0,0,0,0,0,0]
["2014-08-11","Week 6",0,0,0,0,0,0,0,0,0,0,0,0,0,0,0,0,0,0,0,0,0,0]
["2014-08-18","Week 7",0,0,0,0,0,0,0,0,0,0,0,0,0,0,0,0,0,0,0,0,0,0]
["2014-08-25","Week 8",0,0,0,0,0,0,0,0,0,0,0,0,0,0,0,0,0,0,0,0,0,0]
["2014-09-01","Week 9",0,0,0,0,0,0,0,0,0,0,0,0,0,0,0,0,0,0,0,0,0,0]
["2014-09-08","Week 10",0,0,0,0,0,0,0,0,0,0,0,0,0,0,0,0,0,0,0,0,0,0]
["2014-09-15","Week 11",0,0,0,0,0,0,0,0,0,0,0,0,0,0,0,0,0,0,0,0,0,0]
["2014-09-22","Week 12",0,0,0,0,0,0,0,0,0,0,0,0,0,0,0,0,0,0,0,0,0,0]
["2014-09-29","Week 13",0,0,0,0,0,0,0,0,0,0,0,0,0,0,0,0,0,0,0,0,0,0]
["2014-10-06","Week 14",0,0,0,0,0,0,0,0,0,0,0,0,0,0,0,0,0,0,0,0,0,0]
["2014-10-13","Week 15",0,0,0,0,0,0,0,0,0,0,0,0,0,0,0,0,0,0,0,0,0,0]
["2014-10-20","Week 16",0,0,0,0,0,0,0,0,0,0,0,0,0,0,0,0,0,0,0,0,0,0]
["2014-10-27","Week 17",0,0,0,0,0,0,0,0,0,0,0,0,0,0,0,0,0,0,0,0,0,0]
["2014-11-03","Week 18",0,0,0,0,0,0,0,0,0,0,0,0,0,0,0,0,0,0,0,0,0,0]
["2014-11-10","Week 19",0,0,0,0,0,0,0,0,0,0,0,0,0,0,0,0,0,0,0,0,0,0]
["2014-11-17","Week 20",0,0,0,0,0,0,0,0,0,0,0,0,0,0,0,0,0,0,0,0,0,0]
[{"$f":"A441","v":"2014-11-24"},"Week 21",0,0,0,0,0,0,0,0,0,0,0,0,0,0,0,0,0,0,0,0,0,0]
["2014-12-01","Week 22",0,0,0,0,0,0,0,0,0,0,0,0,0,0,0,0,0,0,0,0,0,0]
["2014-12-08","Week 23",0,0,0,0,0,0,0,0,0,0,0,0,0,0,0,0,0,0,0,0,0,0]
["2014-12-15","Week 24",0,0,0,0,0,0,0,0,0,0,0,0,0,0,0,0,0,0,0,0,0,0]
["2014-12-22","Week 25",0,0,0,0,0,0,0,0,0,0,0,0,0,0,0,0,0,0,0,0,0,0]
["2014-12-29","Week 26",0,0,0,0,0,0,0,0,0,0,0,0,0,0,0,0,0,0,0,0,0,0]
["2015-01-05","Week 27",0,0,0,0,0,0,0,0,0,0,0,0,0,0,0,0,0,0,0,0,0,0]
["2015-01-12","Week 28",0,0,0,0,0,0,0,0,0,0,0,0,0,0,0,0,0,0,0,0,0,0]
["2015-01-19","Week 29",0,0,0,0,0,0,0,0,0,0,0,0,0,0,0,0,0,0,0,0,0,0]
["2015-01-26","Week 30",0,0,0,0,0,0,0,0,0,0,0,0,0,0,0,0,0,0,0,0,0,0]
["2015-02-02","Week 31",0,0,0,0,0,0,0,0,0,0,0,0,0,0,0,0,0,0,0,0,0,0]
["2015-02-09","Week 32",0,0,0,0,0,0,0,0,0,0,0,0,0,0,0,0,0,0,0,0,0,0]
["2015-02-16","Week 33",0,0,0,0,0,0,0,0,0,0,0,0,0,0,0,0,0,0,0,0,0,0]
["2015-02-23","Week 34",0,0,0,0,0,0,0,0,0,0,0,0,0,0,0,0,0,0,0,0,0,0]
["2015-03-02","Week 35",0,0,0,0,0,0,0,0,0,0,0,0,0,0,0,0,0,0,0,0,0,0]
["2015-03-09","Week 36",0,0,0,0,0,0,0,0,0,0,0,0,0,0,0,0,0,0,0,0,0,0]
["2015-03-16","Week 37",0,0,0,0,0,0,0,0,0,0,0,0,0,0,0,0,0,0,0,0,0,0]
["2015-03-23","Week 38",0,0,0,0,0,0,0,0,0,0,0,0,0,0,0,0,0,0,0,0,0,0]
["2015-03-30","Week 39",0,0,0,0,0,0,0,0,0,0,0,0,0,0,0,0,0,0,0,0,0,0]
["2015-04-06","Week 40",0,0,0,0,0,0,0,0,0,0,0,0,0,0,0,0,0,0,0,0,0,0]
[{"$f":"A461","v":"2015-04-13"},"Week 41",0,0,0,0,0,0,0,0,0,0,0,0,0,0,0,0,0,0,0,0,0,0]
["2015-04-20","Week 42",0,0,0,0,0,0,0,0,0,0,0,0,0,0,0,0,0,0,0,0,0,0]
["2015-04-27","Week 43",0,0,0,0,0,0,0,0,0,0,0,0,0,0,0,0,0,0,0,0,0,0]
["2015-05-04","Week 44",0,0,0,0,0,0,0,0,0,0,0,0,0,0,0,0,0,0,0,0,0,0]
["2015-05-11","Week 45",0,0,0,0,0,0,0,0,0,0,0,0,0,0,0,0,0,0,0,0,0,0]
["2015-05-18","Week 46",0,0,0,0,0,0,0,0,0,0,0,0,0,0,0,0,0,0,0,0,0,0]
["2015-05-25","Week 47",0,0,0,0,0,0,0,0,0,0,0,0,0,0,0,0,0,0,0,0,0,0]
["2015-06-01","Week 48",0,0,0,0,0,0,0,0,0,0,0,0,0,0,0,0,0,0,0,0,0,0]
["2015-06-08","Week 49",0,0,0,0,0,0,0,0,0,0,0,0,0,0,0,0,0,0,0,0,0,0]
["2015-06-15","Week 50",0,0,0,0,0,0,0,0,0,0,0,0,0,0,0,0,0,0,0,0,0,0]
["2015-06-22","Week 51",0,0,0,0,0,0,0,0,0,0,0,0,0,0,0,0,0,0,0,0,0,0]
["2015-06-29","Week 52",0,0,0,0,0,0,0,0,0,0,0,0,0,0,0,0,0,0,0,0,0,0]
[null,"Total:",{"$f":"SUM(C537:C588)","v":0},0,0,0,0,0,0,0,0,0,0,0,0,0,0,0,0,0,0,0,0,0]
[]
[]
["Fertiliser Treatment 1 (240:50:400) - Proposed Weekly Fertiliser (Kg) / Hectare (Ha):"]
[]
[null,null,"Ammonium Nitrate","Ammonium Sulphate","Borax","Calcium Nitrate","Copper Sulphate","FertiMix","Iron Chelate","Iron Sulphate","Magnesium Sulphate","Manganese Sulphate","Mono-Ammonium Phosphate","Mono-Potassium Phosphate","Nitric Acid","Phosphoric Acid","Potassium Chloride","Potassium Nitrate","Potassium Sulphate","Sodium Molybdenum","Sulphuric Acid","Urea"]
[null,null,"NH4NO3","(NH4)2SO4","Na2B4O7.10H2O","Ca(NO3)2","CuSO4.5H2O",null,"EDDHA","FeSO4.7H2O","MgSO4.7H2O","MnSO4.H2O","NH4H2PO4","KH2PO4","HNO3","PO4H3","KCl","KNO3","K2SO4","Na2MoO4","H2SO4","CO(NH2)2"]
[{"$f":"Setup!A5","v":"2014-07-07"},"Week 1",0,0,0,0,0,0,0,0,0,0,0,0,0,0,0,0,0,0,0,0]
[{"$f":"A596+7","v":"2014-07-14"},"Week 2",0,0,0,0,0,0,0,0,0,0,0,0,0,0,0,0,0,0,0,0]
["2014-07-21","Week 3",0,0,0,0,0,0,0,0,0,0,0,0,0,0,0,0,0,0,0,0]
["2014-07-28","Week 4",0,0,0,0,0,0,0,0,0,0,0,0,0,0,0,125,0,0,0,0]
["2014-08-04","Week 5",0,0,0,0,0,0,0,0,0,0,0,0,0,0,0,125,0,0,0,0]
["2014-08-11","Week 6",0,0,0,0,0,0,0,0,0,0,0,0,0,0,0,0,0,0,0,0]
["2014-08-18","Week 7",0,0,0,0,0,0,0,0,0,0,0,0,0,0,0,0,0,0,0,0]
["2014-08-25","Week 8",0,0,0,0,0,0,0,0,0,0,0,0,0,0,0,0,0,0,0,0]
["2014-09-01","Week 9",0,0,0,0,0,0,0,0,0,0,0,0,0,0,0,0,0,0,0,0]
["2014-09-08","Week 10",0,0,0,0,0,0,0.5,0,0,0,17.5,0,0,0,0,30,0,0,0,0]
["2014-09-15","Week 11",0,0,0,0,0,0,0.5,0,0,0,17.5,0,0,0,0,30,0,0,0,0]
["2014-09-22","Week 12",0,0,0,0,0,0,0.5,0,0,0,17.5,0,0,0,0,30,0,0,0,0]
["2014-09-29","Week 13",40,0,0,0,0,3,0.5,0,0,0,17.5,0,0,0,0,30,37,0,0,0]
["2014-10-06","Week 14",40,0,0,0,0,0,0.5,0,0,0,17.5,0,0,0,0,30,37,0,0,0]
["2014-10-13","Week 15",40,0,0,0,0,0,0.5,0,0,0,17.5,0,0,0,0,30,37,0,0,0]
["2014-10-20","Week 16",40,0,0,0,0,0,1,0,0,0,17.5,0,0,0,0,30,37,0,0,0]
["2014-10-27","Week 17",40,0,0,0,0,3,1,0,0,0,17.5,0,0,0,0,30,32,0,0,0]
["2014-11-03","Week 18",15,0,0,0,0,0,1,0,0,0,17.5,0,0,0,0,30,0,0,0,0]
["2014-11-10","Week 19",0,0,0,0,0,0,0,0,0,0,17.5,0,0,0,0,0,0,0,0,0]
["2014-11-17","Week 20",0,0,0,0,0,0,0,0,0,0,17.5,0,0,0,0,0,0,0,0,0]
["2014-11-24","Week 21",0,0,0,0,0,0,0,0,0,0,0,0,0,0,0,0,0,0,0,0]
["2014-12-01","Week 22",0,0,0,0,0,0,0,0,0,0,0,0,0,0,0,0,0,0,0,0]
["2014-12-08","Week 23",0,0,0,0,0,0,0,0,0,0,0,0,0,0,0,0,0,0,0,0]
["2014-12-15","Week 24",0,0,0,0,0,0,0,0,0,0,0,0,0,0,0,0,0,0,0,0]
["2014-12-22","Week 25",0,0,0,0,0,0,0,0,0,0,0,0,0,0,0,0,0,0,0,0]
["2014-12-29","Week 26",0,0,0,0,0,0,0,0,0,0,0,0,0,0,0,0,0,0,0,0]
["2015-01-05","Week 27",0,0,0,0,0,0,0,0,0,0,0,0,0,0,0,0,0,0,0,0]
["2015-01-12","Week 28",0,0,0,0,0,0,0,0,0,0,0,0,0,0,0,0,0,0,0,0]
["2015-01-19","Week 29",0,0,0,0,0,0,0,0,0,0,0,0,0,0,0,0,0,0,0,0]
["2015-01-26","Week 30",0,0,0,0,0,0,0,0,0,0,0,0,0,0,0,0,0,0,0,0]
["2015-02-02","Week 31",0,0,0,0,0,0,0,0,0,0,0,0,0,0,0,0,0,0,0,0]
["2015-02-09","Week 32",0,0,0,0,0,0,0,0,0,0,0,0,0,0,0,0,0,0,0,0]
["2015-02-16","Week 33",0,0,0,0,0,0,0,0,0,0,0,0,0,0,0,0,0,0,0,0]
["2015-02-23","Week 34",0,0,0,0,0,0,0,0,0,0,0,0,0,0,0,0,0,0,0,0]
["2015-03-02","Week 35",0,0,0,0,0,0,0,0,0,0,0,0,0,0,0,0,0,0,0,0]
["2015-03-09","Week 36",0,0,0,0,0,0,0,0,0,0,0,0,0,0,0,0,0,0,0,0]
["2015-03-16","Week 37",0,0,0,0,0,0,0,0,0,0,0,0,0,0,0,0,0,0,0,0]
["2015-03-23","Week 38",0,0,0,0,0,0,0,0,0,0,0,0,0,0,0,0,82,0,0,44]
["2015-03-30","Week 39",0,0,0,0,0,0,0,0,0,0,0,0,0,0,0,0,80,0,0,43]
["2015-04-06","Week 40",0,0,0,0,0,0,0,0,0,0,0,0,0,0,0,0,80,0,0,41]
["2015-04-13","Week 41",0,0,0,0,0,0,0,0,0,0,0,0,0,0,0,0,80,0,0,41]
["2015-04-20","Week 42",0,0,0,0,0,0,0,0,0,0,0,0,0,0,0,0,0,0,0,0]
["2015-04-27","Week 43",0,0,0,0,0,0,0,0,0,0,0,0,0,0,0,0,0,0,0,0]
["2015-05-04","Week 44",0,0,0,0,0,0,0,0,0,0,0,0,0,0,0,0,0,0,0,0]
["2015-05-11","Week 45",0,0,0,0,0,0,0,0,0,0,0,0,0,0,0,0,0,0,0,0]
["2015-05-18","Week 46",0,0,0,0,0,0,0,0,0,0,0,0,0,0,0,0,0,0,0,0]
["2015-05-25","Week 47",0,0,0,0,0,0,0,0,0,0,0,0,0,0,0,0,0,0,0,0]
["2015-06-01","Week 48",0,0,0,0,0,0,0,0,0,0,0,0,0,0,0,0,0,0,0,0]
["2015-06-08","Week 49",0,0,0,0,0,0,0,0,0,0,0,0,0,0,0,0,0,0,0,0]
["2015-06-15","Week 50",0,0,0,0,0,0,0,0,0,0,0,0,0,0,0,0,0,0,0,0]
["2015-06-22","Week 51",0,0,0,0,0,0,0,0,0,0,0,0,0,0,0,0,0,0,0,0]
["2015-06-29","Week 52",0,0,0,0,0,0,0,0,0,0,0,0,0,0,0,0,0,0,0,0]
[null,"Total:",{"$f":"SUM(C596:C647)","v":215},{"$f":"SUM(D596:D647)","v":0},0,0,0,6,6,0,0,0,192.5,0,0,0,0,520,502,0,0,169]
[]
["Fertiliser Treatment 2 (320:50:600) - Proposed Weekly Fertiliser (Kg) / Hectare (Ha):"]
[]
[null,null,"Ammonium Nitrate","Ammonium Sulphate","Borax","Calcium Nitrate","Copper Sulphate","FertiMix","Iron Chelate","Iron Sulphate","Magnesium Sulphate","Manganese Sulphate","Mono-Ammonium Phosphate","Mono-Potassium Phosphate","Nitric Acid","Phosphoric Acid","Potassium Chloride","Potassium Nitrate","Potassium Sulphate","Sodium Molybdenum","Sulphuric Acid","Urea"]
[null,null,"NH4NO3","(NH4)2SO4","Na2B4O7.10H2O","Ca(NO3)2","CuSO4.5H2O",null,"EDDHA","FeSO4.7H2O","MgSO4.7H2O","MnSO4.H2O","NH4H2PO4","KH2PO4","HNO3","PO4H3","KCl","KNO3","K2SO4","Na2MoO4","H2SO4","CO(NH2)2"]
[{"$f":"Setup!A5","v":"2014-07-07"},"Week 1",0,0,0,0,0,0,0,0,0,0,0,0,0,0,0,0,0,0,0,0]
[{"$f":"A654+7","v":"2014-07-14"},"Week 2",0,0,0,0,0,0,0,0,0,0,0,0,0,0,0,0,0,0,0,0]
["2014-07-21","Week 3",0,0,0,0,0,0,0,0,0,0,0,0,0,0,0,0,0,0,0,0]
["2014-07-28","Week 4",0,0,0,0,0,0,0,0,0,0,0,0,0,0,0,125,0,0,0,0]
["2014-08-04","Week 5",0,0,0,0,0,0,0,0,0,0,0,0,0,0,0,125,0,0,0,0]
["2014-08-11","Week 6",0,0,0,0,0,0,0,0,0,0,0,0,0,0,0,0,0,0,0,0]
["2014-08-18","Week 7",0,0,0,0,0,0,0,0,0,0,0,0,0,0,0,0,0,0,0,0]
["2014-08-25","Week 8",0,0,0,0,0,0,0,0,0,0,0,0,0,0,0,0,0,0,0,0]
["2014-09-01","Week 9",0,0,0,0,0,0,0,0,0,0,0,0,0,0,0,0,0,0,0,0]
["2014-09-08","Week 10",0,0,0,0,0,0,0.5,0,0,0,17.5,0,0,0,0,30,0,0,0,0]
["2014-09-15","Week 11",0,0,0,0,0,0,0.5,0,0,0,17.5,0,0,0,0,30,0,0,0,0]
["2014-09-22","Week 12",0,0,0,0,0,0,0.5,0,0,0,17.5,0,0,0,0,30,0,0,0,0]
["2014-09-29","Week 13",40,0,0,0,0,3,0.5,0,0,0,17.5,0,0,0,0,30,43,0,0,0]
["2014-10-06","Week 14",40,0,0,0,0,0,0.5,0,0,0,17.5,0,0,0,0,30,43,0,0,0]
["2014-10-13","Week 15",40,0,0,0,0,0,0.5,0,0,0,17.5,0,0,0,0,30,43,0,0,0]
["2014-10-20","Week 16",40,0,0,0,0,0,1,0,0,0,17.5,0,0,0,0,30,43,0,0,0]
["2014-10-27","Week 17",40,0,0,0,0,3,1,0,0,0,17.5,0,0,0,0,30,43,0,0,0]
["2014-11-03","Week 18",40,0,0,0,0,0,1,0,0,0,17.5,0,0,0,0,30,43,0,0,0]
["2014-11-10","Week 19",0,0,0,0,0,0,0,0,0,0,17.5,0,0,0,0,30,43,0,0,30]
["2014-11-17","Week 20",0,0,0,0,0,0,0,0,0,0,17.5,0,0,0,0,30,43,0,0,30]
["2014-11-24","Week 21",40,0,0,0,0,0,0,0,0,0,0,0,0,0,0,30,43,0,0,0]
["2014-12-01","Week 22",0,0,0,0,0,0,0,0,0,0,0,0,0,0,0,0,43,0,0,30]
["2014-12-08","Week 23",0,0,0,0,0,0,0,0,0,0,0,0,0,0,0,0,43,0,0,10]
["2014-12-15","Week 24",0,0,0,0,0,0,0,0,0,0,0,0,0,0,0,0,43,0,0,0]
["2014-12-22","Week 25",0,0,0,0,0,0,0,0,0,0,0,0,0,0,0,0,43,0,0,0]
["2014-12-29","Week 26",0,0,0,0,0,0,0,0,0,0,0,0,0,0,0,0,35,0,0,0]
["2015-01-05","Week 27",0,0,0,0,0,0,0,0,0,0,0,0,0,0,0,0,0,0,0,0]
["2015-01-12","Week 28",0,0,0,0,0,0,0,0,0,0,0,0,0,0,0,0,0,0,0,0]
["2015-01-19","Week 29",0,0,0,0,0,0,0,0,0,0,0,0,0,0,0,0,0,0,0,0]
["2015-01-26","Week 30",0,0,0,0,0,0,0,0,0,0,0,0,0,0,0,0,0,0,0,0]
["2015-02-02","Week 31",0,0,0,0,0,0,0,0,0,0,0,0,0,0,0,0,0,0,0,0]
["2015-02-09","Week 32",0,0,0,0,0,0,0,0,0,0,0,0,0,0,0,0,0,0,0,0]
["2015-02-16","Week 33",0,0,0,0,0,0,0,0,0,0,0,0,0,0,0,0,0,0,0,0]
["2015-02-23","Week 34",0,0,0,0,0,0,0,0,0,0,0,0,0,0,0,0,0,0,0,0]
["2015-03-02","Week 35",0,0,0,0,0,0,0,0,0,0,0,0,0,0,0,0,0,0,0,0]
["2015-03-09","Week 36",0,0,0,0,0,0,0,0,0,0,0,0,0,0,0,0,0,0,0,0]
["2015-03-16","Week 37",0,0,0,0,0,0,0,0,0,0,0,0,0,0,0,0,0,0,0,0]
["2015-03-23","Week 38",0,0,0,0,0,0,0,0,0,0,0,0,0,0,0,0,82,0,0,44]
["2015-03-30","Week 39",0,0,0,0,0,0,0,0,0,0,0,0,0,0,0,0,80,0,0,43]
["2015-04-06","Week 40",0,0,0,0,0,0,0,0,0,0,0,0,0,0,0,0,80,0,0,41]
["2015-04-13","Week 41",0,0,0,0,0,0,0,0,0,0,0,0,0,0,0,0,80,0,0,41]
["2015-04-20","Week 42",0,0,0,0,0,0,0,0,0,0,0,0,0,0,0,0,null,0,0,0]
["2015-04-27","Week 43",0,0,0,0,0,0,0,0,0,0,0,0,0,0,0,0,0,0,0,0]
["2015-05-04","Week 44",0,0,0,0,0,0,0,0,0,0,0,0,0,0,0,0,0,0,0,0]
["2015-05-11","Week 45",0,0,0,0,0,0,0,0,0,0,0,0,0,0,0,0,0,0,0,0]
["2015-05-18","Week 46",0,0,0,0,0,0,0,0,0,0,0,0,0,0,0,0,0,0,0,0]
["2015-05-25","Week 47",0,0,0,0,0,0,0,0,0,0,0,0,0,0,0,0,0,0,0,0]
["2015-06-01","Week 48",0,0,0,0,0,0,0,0,0,0,0,0,0,0,0,0,0,0,0,0]
["2015-06-08","Week 49",0,0,0,0,0,0,0,0,0,0,0,0,0,0,0,0,0,0,0,0]
["2015-06-15","Week 50",0,0,0,0,0,0,0,0,0,0,0,0,0,0,0,0,0,0,0,0]
["2015-06-22","Week 51",0,0,0,0,0,0,0,0,0,0,0,0,0,0,0,0,0,0,0,0]
["2015-06-29","Week 52",0,0,0,0,0,0,0,0,0,0,0,0,0,0,0,0,0,0,0,0]
[null,"Total:",{"$f":"SUM(C654:C705)","v":280},{"$f":"SUM(D654:D705)","v":0},0,0,0,6,6,0,0,0,192.5,0,0,0,0,610,916,0,0,269]
[]
["Fertiliser Treatment 3 (320:50:400) - Proposed Weekly Fertiliser (Kg) / Hectare (Ha):"]
[]
[null,null,"Ammonium Nitrate","Ammonium Sulphate","Borax","Calcium Nitrate","Copper Sulphate","FertiMix","Iron Chelate","Iron Sulphate","Magnesium Sulphate","Manganese Sulphate","Mono-Ammonium Phosphate","Mono-Potassium Phosphate","Nitric Acid","Phosphoric Acid","Potassium Chloride","Potassium Nitrate","Potassium Sulphate","Sodium Molybdenum","Sulphuric Acid","Urea"]
[null,null,"NH4NO3","(NH4)2SO4","Na2B4O7.10H2O","Ca(NO3)2","CuSO4.5H2O",null,"EDDHA","FeSO4.7H2O","MgSO4.7H2O","MnSO4.H2O","NH4H2PO4","KH2PO4","HNO3","PO4H3","KCl","KNO3","K2SO4","Na2MoO4","H2SO4","CO(NH2)2"]
[{"$f":"Setup!A5","v":"2014-07-07"},"Week 1",0,0,0,0,0,0,0,0,0,0,0,0,0,0,0,0,0,0,0,0]
[{"$f":"A712+7","v":"2014-07-14"},"Week 2",0,0,0,0,0,0,0,0,0,0,0,0,0,0,0,0,0,0,0,0]
["2014-07-21","Week 3",0,0,0,0,0,0,0,0,0,0,0,0,0,0,0,0,0,0,0,0]
["2014-07-28","Week 4",0,0,0,0,0,0,0,0,0,0,0,0,0,0,0,125,0,0,0,0]
["2014-08-04","Week 5",0,0,0,0,0,0,0,0,0,0,0,0,0,0,0,125,0,0,0,0]
["2014-08-11","Week 6",0,0,0,0,0,0,0,0,0,0,0,0,0,0,0,0,0,0,0,0]
["2014-08-18","Week 7",0,0,0,0,0,0,0,0,0,0,0,0,0,0,0,0,0,0,0,0]
["2014-08-25","Week 8",0,0,0,0,0,0,0,0,0,0,0,0,0,0,0,0,0,0,0,0]
["2014-09-01","Week 9",0,0,0,0,0,0,0,0,0,0,0,0,0,0,0,0,0,0,0,0]
["2014-09-08","Week 10",0,0,0,0,0,0,0.5,0,0,0,17.5,0,0,0,0,30,0,0,0,0]
["2014-09-15","Week 11",0,0,0,0,0,0,0.5,0,0,0,17.5,0,0,0,0,30,0,0,0,0]
["2014-09-22","Week 12",0,0,0,0,0,0,0.5,0,0,0,17.5,0,0,0,0,30,0,0,0,0]
["2014-09-29","Week 13",40,0,0,0,0,3,0.5,0,0,0,17.5,0,0,0,0,30,10,0,0,0]
["2014-10-06","Week 14",40,0,0,0,0,0,0.5,0,0,0,17.5,0,0,0,0,30,10,0,0,0]
["2014-10-13","Week 15",40,0,0,0,0,0,0.5,0,0,0,17.5,0,0,0,0,30,10,0,0,0]
["2014-10-20","Week 16",40,0,0,0,0,0,1,0,0,0,17.5,0,0,0,0,30,10,0,0,0]
["2014-10-27","Week 17",40,0,0,0,0,3,1,0,0,0,17.5,0,0,0,0,30,10,0,0,0]
["2014-11-03","Week 18",40,0,0,0,0,0,1,0,0,0,17.5,0,0,0,0,30,10,0,0,0]
["2014-11-10","Week 19",0,0,0,0,0,0,0,0,0,0,17.5,0,0,0,0,30,10,0,0,30]
["2014-11-17","Week 20",0,0,0,0,0,0,0,0,0,0,17.5,0,0,0,0,30,10,0,0,30]
["2014-11-24","Week 21",40,0,0,0,0,0,0,0,0,0,0,0,0,0,0,30,10,0,0,0]
["2014-12-01","Week 22",0,0,0,0,0,0,0,0,0,0,0,0,0,0,0,0,3,0,0,30]
["2014-12-08","Week 23",0,0,0,0,0,0,0,0,0,0,0,0,0,0,0,0,0,0,0,10]
["2014-12-15","Week 24",0,0,0,0,0,0,0,0,0,0,0,0,0,0,0,0,0,0,0,0]
["2014-12-22","Week 25",0,0,0,0,0,0,0,0,0,0,0,0,0,0,0,0,0,0,0,0]
["2014-12-29","Week 26",0,0,0,0,0,0,0,0,0,0,0,0,0,0,0,0,0,0,0,0]
["2015-01-05","Week 27",0,0,0,0,0,0,0,0,0,0,0,0,0,0,0,0,0,0,0,0]
["2015-01-12","Week 28",0,0,0,0,0,0,0,0,0,0,0,0,0,0,0,0,0,0,0,0]
["2015-01-19","Week 29",0,0,0,0,0,0,0,0,0,0,0,0,0,0,0,0,0,0,0,0]
["2015-01-26","Week 30",0,0,0,0,0,0,0,0,0,0,0,0,0,0,0,0,0,0,0,0]
["2015-02-02","Week 31",0,0,0,0,0,0,0,0,0,0,0,0,0,0,0,0,0,0,0,0]
["2015-02-09","Week 32",0,0,0,0,0,0,0,0,0,0,0,0,0,0,0,0,0,0,0,0]
["2015-02-16","Week 33",0,0,0,0,0,0,0,0,0,0,0,0,0,0,0,0,0,0,0,0]
["2015-02-23","Week 34",0,0,0,0,0,0,0,0,0,0,0,0,0,0,0,0,0,0,0,0]
["2015-03-02","Week 35",0,0,0,0,0,0,0,0,0,0,0,0,0,0,0,0,0,0,0,0]
["2015-03-09","Week 36",0,0,0,0,0,0,0,0,0,0,0,0,0,0,0,0,0,0,0,0]
["2015-03-16","Week 37",0,0,0,0,0,0,0,0,0,0,0,0,0,0,0,0,0,0,0,0]
["2015-03-23","Week 38",0,0,0,0,0,0,0,0,0,0,0,0,0,0,0,0,82,0,0,44]
["2015-03-30","Week 39",0,0,0,0,0,0,0,0,0,0,0,0,0,0,0,0,80,0,0,43]
["2015-04-06","Week 40",0,0,0,0,0,0,0,0,0,0,0,0,0,0,0,0,80,0,0,41]
["2015-04-13","Week 41",0,0,0,0,0,0,0,0,0,0,0,0,0,0,0,0,80,0,0,41]
["2015-04-20","Week 42",0,0,0,0,0,0,0,0,0,0,0,0,0,0,0,0,0,0,0,0]
["2015-04-27","Week 43",0,0,0,0,0,0,0,0,0,0,0,0,0,0,0,0,0,0,0,0]
["2015-05-04","Week 44",0,0,0,0,0,0,0,0,0,0,0,0,0,0,0,0,0,0,0,0]
["2015-05-11","Week 45",0,0,0,0,0,0,0,0,0,0,0,0,0,0,0,0,0,0,0,0]
["2015-05-18","Week 46",0,0,0,0,0,0,0,0,0,0,0,0,0,0,0,0,0,0,0,0]
["2015-05-25","Week 47",0,0,0,0,0,0,0,0,0,0,0,0,0,0,0,0,0,0,0,0]
["2015-06-01","Week 48",0,0,0,0,0,0,0,0,0,0,0,0,0,0,0,0,0,0,0,0]
["2015-06-08","Week 49",0,0,0,0,0,0,0,0,0,0,0,0,0,0,0,0,0,0,0,0]
["2015-06-15","Week 50",0,0,0,0,0,0,0,0,0,0,0,0,0,0,0,0,0,0,0,0]
["2015-06-22","Week 51",0,0,0,0,0,0,0,0,0,0,0,0,0,0,0,0,0,0,0,0]
["2015-06-29","Week 52",0,0,0,0,0,0,0,0,0,0,0,0,0,0,0,0,0,0,0,0]
[null,"Total:",{"$f":"SUM(C712:C763)","v":280},{"$f":"SUM(D712:D763)","v":0},0,0,0,6,6,0,0,0,192.5,0,0,0,0,610,415,0,0,269]

{"sheet":"Fert Program 4","index":13,"n_rows":589,"n_cols":32,"rows_kept":589,"cut":false,"hidden":false,"merged":[[2,31,2,53],[415,31,415,53],[474,31,474,53],[532,31,532,53],[416,31,416,53]]}
[]
[]
["Fertiliser Active Percentage:",null,null,null,null,null,null,null,null,null,null,null,null,null,null,null,null,null,null,null,null,null,null,null,null,null,null,null,null,null,null,"NOTES / WORKING PAGE"]
[]
[null,null,"Amm Nitr","Urea","UAN","Pot Nitrate","MAP","Pot Sulphate","Cal Nitrate","Fertimix","User Defined 9","User Defined 10"]
[]
["N",null,0.25,0.46,0.42,0.13,0.12,null,0.16]
["P",null,null,null,null,null,0.26]
["K",null,null,null,null,0.38,null,0.4]
["S"]
["Na"]
["Ca",null,null,null,null,null,null,null,0.19]
["Mg",null,null,null,null,null,null,null,null,0.02]
["Cl"]
["Cu"]
["Zn"]
["Mn"]
["Fe"]
["B",null,null,null,null,null,null,null,null,0.01]
["Al"]
["Mo"]
["NO3-"]
["NH4+"]
["NO3-:NH4+"]
[]
["Actual Seasonal Fertiliser (Kg) / Hectare (Ha):"]
[]
[null,"Total",{"$f":"C5","v":"Amm Nitr"},"Urea","UAN","Pot Nitrate","MAP","Pot Sulphate","Cal Nitrate","Fertimix","User Defined 9","User Defined 10"]
[null,"Kg/Ha"]
["N",{"$f":"SUM(C30:L30)","v":0},{"$f":"C7*(SUM(C$589)/$A$534)","v":0},{"$f":"D7*(SUM(D$589)/$A$534)","v":0},0,{"$f":"F7*(SUM(F$589)/$A$534)","v":0},0,0,0,0,{"$f":"K7*(SUM(K$589)/$A$534)","v":0},0]
["P",{"$f":"SUM(C31:L31)","v":0},{"$f":"C8*(SUM(C$589)/$A$534)","v":0},{"$f":"D8*(SUM(D$589)/$A$534)","v":0},0,{"$f":"F8*(SUM(F$589)/$A$534)","v":0},0,0,0,0,{"$f":"K8*(SUM(K$589)/$A$534)","v":0},0]
["K",0,{"$f":"C9*(SUM(C$589)/$A$534)","v":0},{"$f":"D9*(SUM(D$589)/$A$534)","v":0},0,{"$f":"F9*(SUM(F$589)/$A$534)","v":0},0,0,0,0,{"$f":"K9*(SUM(K$589)/$A$534)","v":0},0]
["S",0,{"$f":"C10*(SUM(C$589)/$A$534)","v":0},0,0,0,0,0,0,0,{"$f":"K10*(SUM(K$589)/$A$534)","v":0},0]
["Na",0,{"$f":"C11*(SUM(C$589)/$A$534)","v":0},0,0,0,0,0,0,0,{"$f":"K11*(SUM(K$589)/$A$534)","v":0},0]
["Ca",0,{"$f":"C12*(SUM(C$589)/$A$534)","v":0},0,0,0,0,0,0,0,{"$f":"K12*(SUM(K$589)/$A$534)","v":0},0]
["Mg",0,{"$f":"C13*(SUM(C$589)/$A$534)","v":0},0,0,0,0,0,0,0,{"$f":"K13*(SUM(K$589)/$A$534)","v":0},0]
["Cl",0,{"$f":"C14*(SUM(C$589)/$A$534)","v":0},0,0,0,0,0,0,0,{"$f":"K14*(SUM(K$589)/$A$534)","v":0},0]
["Cu",0,{"$f":"C15*(SUM(C$589)/$A$534)","v":0},0,0,0,0,0,0,0,{"$f":"K15*(SUM(K$589)/$A$534)","v":0},0]
["Zn",0,{"$f":"C16*(SUM(C$589)/$A$534)","v":0},0,0,0,0,0,0,0,{"$f":"K16*(SUM(K$589)/$A$534)","v":0},0]
["Mn",0,{"$f":"C17*(SUM(C$589)/$A$534)","v":0},0,0,0,0,0,0,0,{"$f":"K17*(SUM(K$589)/$A$534)","v":0},0]
["Fe",0,{"$f":"C18*(SUM(C$589)/$A$534)","v":0},0,0,0,0,0,0,0,{"$f":"K18*(SUM(K$589)/$A$534)","v":0},0]
["B",0,{"$f":"C19*(SUM(C$589)/$A$534)","v":0},0,0,0,0,0,0,0,{"$f":"K19*(SUM(K$589)/$A$534)","v":0},0]
["Al",0,{"$f":"C20*(SUM(C$589)/$A$534)","v":0},0,0,0,0,0,0,0,{"$f":"K20*(SUM(K$589)/$A$534)","v":0},0]
["Mo",0,{"$f":"C21*(SUM(C$589)/$A$534)","v":0},0,0,0,0,0,0,0,{"$f":"K21*(SUM(K$589)/$A$534)","v":0},0]
["NO3-",0,{"$f":"C22*(SUM(C$589)/$A$534)","v":0},0,0,0,0,0,0,0,{"$f":"K22*(SUM(K$589)/$A$534)","v":0},0]
["NH4+",0,{"$f":"C23*(SUM(C$589)/$A$534)","v":0},0,0,0,0,0,0,0,{"$f":"K23*(SUM(K$589)/$A$534)","v":0},0]
["NO3-:NH4+",{"$f":"B45/B46","v":{"$error":"#DIV/0!"}}]
[]
["Proposed Seasonal Fertiliser (Kg) / Hectare (Ha):"]
[]
[null,"Total",{"$f":"C5","v":"Amm Nitr"},{"$f":"D5","v":"Urea"},"UAN","Pot Nitrate","MAP","Pot Sulphate","Cal Nitrate","Fertimix","User Defined 9","User Defined 10"]
[null,"Kg/Ha"]
["N",{"$f":"SUM(C53:L53)","v":0},{"$f":"C7*SUM(C$473)","v":0},{"$f":"D7*SUM(D$473)","v":0},0,{"$f":"F7*SUM(F$473)","v":0},0,0,0,0,{"$f":"K7*SUM(AC$473)","v":0},{"$f":"L7*SUM(AD$473)","v":0}]
["P",{"$f":"SUM(C54:L54)","v":0},0,{"$f":"D8*SUM(D$473)","v":0},0,{"$f":"F8*SUM(F$473)","v":0},0,0,0,0,0,0]
["K",{"$f":"SUM(C55:L55)","v":0},0,{"$f":"D9*SUM(D$473)","v":0},0,{"$f":"F9*SUM(F$473)","v":0},0,0,0,0,0,0]
["S",{"$f":"SUM(C56:L56)","v":0},0,{"$f":"D10*SUM(D$473)","v":0},0,0,0,0,0,0,0,0]
["Na",{"$f":"SUM(C57:L57)","v":0},0,{"$f":"D11*SUM(D$473)","v":0},0,0,0,0,0,0,0,0]
["Ca",0,0,{"$f":"D12*SUM(D$473)","v":0},0,0,0,0,0,0,0,0]
["Mg",0,0,{"$f":"D13*SUM(D$473)","v":0},0,0,0,0,0,0,0,0]
["Cl",0,0,{"$f":"D14*SUM(D$473)","v":0},0,0,0,0,0,0,0,0]
["Cu",0,0,{"$f":"D15*SUM(D$473)","v":0},0,0,0,0,0,0,0,0]
["Zn",0,0,{"$f":"D16*SUM(D$473)","v":0},0,0,0,0,0,0,0,0]
["Mn",0,0,{"$f":"D17*SUM(D$473)","v":0},0,0,0,0,0,0,0,0]
["Fe",0,0,{"$f":"D18*SUM(D$473)","v":0},0,0,0,0,0,0,0,0]
["B",0,0,{"$f":"D19*SUM(D$473)","v":0},0,0,0,0,0,0,0,0]
["Al",0,0,{"$f":"D20*SUM(D$473)","v":0},0,0,0,0,0,0,0,0]
["Mo",0,0,{"$f":"D21*SUM(D$473)","v":0},0,0,0,0,0,0,0,0]
["NO3-",0,0,{"$f":"D22*SUM(D$473)","v":0},0,0,0,0,0,0,0,0]
["NH4+",0,0,{"$f":"D23*SUM(D$473)","v":0},0,0,0,0,0,0,0,0]
["NO3-:NH4+",{"$f":"B68/B69","v":{"$error":"#DIV/0!"}}]
[]
["Actual Weekly N (Kg) / Hectare (Ha):"]
[]
[null,null,{"$f":"C5","v":"Amm Nitr"},"Urea","UAN","Pot Nitrate","MAP","Pot Sulphate","Cal Nitrate","Fertimix","User Defined 9","User Defined 10",null,"WEEKLY TOTAL","Grower Cumm",null,"Actual Weekly N"]
[null,null,null,null,null,null,null,null,null,null,null,null,null,null,"TOTAL",null,"TOTAL"]
[{"$f":"A421","v":"2014-07-07"},"Week 1",{"$f":"(C537*C$7)/Setup!$C$10","v":0},{"$f":"(D537*D$7)/Setup!$C$10","v":0},{"$f":"(E537*E$7)/Setup!$C$10","v":0},{"$f":"(F537*F$7)/Setup!$C$10","v":0},{"$f":"(G537*G$7)/Setup!$C$10","v":0},{"$f":"(H537*H$7)/Setup!$C$10","v":0},{"$f":"(I537*I$7)/Setup!$C$10","v":0},{"$f":"(J537*J$7)/Setup!$C$10","v":0},{"$f":"(K537*K$7)/Setup!$C$10","v":0},{"$f":"(L537*L$7)/Setup!$C$10","v":0},null,{"$f":"SUM(C76:L76)","v":0},{"$f":"N76","v":0},null,{"$f":"N76","v":0}]
["2014-07-14","Week 2",{"$f":"(C538*C$7)/Setup!$C$10","v":0},{"$f":"(D538*D$7)/Setup!$C$10","v":0},{"$f":"(E538*E$7)/Setup!$C$10","v":0},{"$f":"(F538*F$7)/Setup!$C$10","v":0},{"$f":"(G538*G$7)/Setup!$C$10","v":0},{"$f":"(H538*H$7)/Setup!$C$10","v":0},{"$f":"(I538*I$7)/Setup!$C$10","v":0},{"$f":"(J538*J$7)/Setup!$C$10","v":0},{"$f":"(K538*K$7)/Setup!$C$10","v":0},{"$f":"(L538*L$7)/Setup!$C$10","v":0},null,{"$f":"SUM(C77:L77)","v":0},{"$f":"O76+N77","v":0},null,{"$f":"N77","v":0}]
["2014-07-21","Week 3",{"$f":"(C539*C$7)/Setup!$C$10","v":0},{"$f":"(D539*D$7)/Setup!$C$10","v":0},{"$f":"(E539*E$7)/Setup!$C$10","v":0},{"$f":"(F539*F$7)/Setup!$C$10","v":0},{"$f":"(G539*G$7)/Setup!$C$10","v":0},{"$f":"(H539*H$7)/Setup!$C$10","v":0},{"$f":"(I539*I$7)/Setup!$C$10","v":0},{"$f":"(J539*J$7)/Setup!$C$10","v":0},{"$f":"(K539*K$7)/Setup!$C$10","v":0},{"$f":"(L539*L$7)/Setup!$C$10","v":0},null,0,{"$f":"O77+N78","v":0},null,0]
["2014-07-28","Week 4",{"$f":"(C540*C$7)/Setup!$C$10","v":0},{"$f":"(D540*D$7)/Setup!$C$10","v":0},{"$f":"(E540*E$7)/Setup!$C$10","v":0},{"$f":"(F540*F$7)/Setup!$C$10","v":0},{"$f":"(G540*G$7)/Setup!$C$10","v":0},{"$f":"(H540*H$7)/Setup!$C$10","v":0},{"$f":"(I540*I$7)/Setup!$C$10","v":0},{"$f":"(J540*J$7)/Setup!$C$10","v":0},{"$f":"(K540*K$7)/Setup!$C$10","v":0},{"$f":"(L540*L$7)/Setup!$C$10","v":0},null,0,0,null,0]
["2014-08-04","Week 5",{"$f":"(C541*C$7)/Setup!$C$10","v":0},{"$f":"(D541*D$7)/Setup!$C$10","v":0},{"$f":"(E541*E$7)/Setup!$C$10","v":0},{"$f":"(F541*F$7)/Setup!$C$10","v":0},{"$f":"(G541*G$7)/Setup!$C$10","v":0},{"$f":"(H541*H$7)/Setup!$C$10","v":0},{"$f":"(I541*I$7)/Setup!$C$10","v":0},{"$f":"(J541*J$7)/Setup!$C$10","v":0},{"$f":"(K541*K$7)/Setup!$C$10","v":0},{"$f":"(L541*L$7)/Setup!$C$10","v":0},null,0,0,null,0]
["2014-08-11","Week 6",{"$f":"(C542*C$7)/Setup!$C$10","v":0},{"$f":"(D542*D$7)/Setup!$C$10","v":0},{"$f":"(E542*E$7)/Setup!$C$10","v":0},{"$f":"(F542*F$7)/Setup!$C$10","v":0},{"$f":"(G542*G$7)/Setup!$C$10","v":0},{"$f":"(H542*H$7)/Setup!$C$10","v":0},{"$f":"(I542*I$7)/Setup!$C$10","v":0},{"$f":"(J542*J$7)/Setup!$C$10","v":0},{"$f":"(K542*K$7)/Setup!$C$10","v":0},{"$f":"(L542*L$7)/Setup!$C$10","v":0},null,0,0,null,0]
["2014-08-18","Week 7",{"$f":"(C543*C$7)/Setup!$C$10","v":0},{"$f":"(D543*D$7)/Setup!$C$10","v":0},{"$f":"(E543*E$7)/Setup!$C$10","v":0},{"$f":"(F543*F$7)/Setup!$C$10","v":0},{"$f":"(G543*G$7)/Setup!$C$10","v":0},{"$f":"(H543*H$7)/Setup!$C$10","v":0},{"$f":"(I543*I$7)/Setup!$C$10","v":0},{"$f":"(J543*J$7)/Setup!$C$10","v":0},{"$f":"(K543*K$7)/Setup!$C$10","v":0},{"$f":"(L543*L$7)/Setup!$C$10","v":0},null,0,0,null,0]
["2014-08-25","Week 8",{"$f":"(C544*C$7)/Setup!$C$10","v":0},{"$f":"(D544*D$7)/Setup!$C$10","v":0},{"$f":"(E544*E$7)/Setup!$C$10","v":0},{"$f":"(F544*F$7)/Setup!$C$10","v":0},{"$f":"(G544*G$7)/Setup!$C$10","v":0},{"$f":"(H544*H$7)/Setup!$C$10","v":0},{"$f":"(I544*I$7)/Setup!$C$10","v":0},{"$f":"(J544*J$7)/Setup!$C$10","v":0},{"$f":"(K544*K$7)/Setup!$C$10","v":0},{"$f":"(L544*L$7)/Setup!$C$10","v":0},null,0,0,null,0]
["2014-09-01","Week 9",{"$f":"(C545*C$7)/Setup!$C$10","v":0},{"$f":"(D545*D$7)/Setup!$C$10","v":0},{"$f":"(E545*E$7)/Setup!$C$10","v":0},{"$f":"(F545*F$7)/Setup!$C$10","v":0},{"$f":"(G545*G$7)/Setup!$C$10","v":0},{"$f":"(H545*H$7)/Setup!$C$10","v":0},{"$f":"(I545*I$7)/Setup!$C$10","v":0},{"$f":"(J545*J$7)/Setup!$C$10","v":0},{"$f":"(K545*K$7)/Setup!$C$10","v":0},{"$f":"(L545*L$7)/Setup!$C$10","v":0},null,0,0,null,0]
["2014-09-08","Week 10",{"$f":"(C546*C$7)/Setup!$C$10","v":0},{"$f":"(D546*D$7)/Setup!$C$10","v":0},{"$f":"(E546*E$7)/Setup!$C$10","v":0},{"$f":"(F546*F$7)/Setup!$C$10","v":0},{"$f":"(G546*G$7)/Setup!$C$10","v":0},{"$f":"(H546*H$7)/Setup!$C$10","v":0},{"$f":"(I546*I$7)/Setup!$C$10","v":0},{"$f":"(J546*J$7)/Setup!$C$10","v":0},{"$f":"(K546*K$7)/Setup!$C$10","v":0},{"$f":"(L546*L$7)/Setup!$C$10","v":0},null,0,0,null,0]
["2014-09-15","Week 11",{"$f":"(C547*C$7)/Setup!$C$10","v":0},{"$f":"(D547*D$7)/Setup!$C$10","v":0},{"$f":"(E547*E$7)/Setup!$C$10","v":0},{"$f":"(F547*F$7)/Setup!$C$10","v":0},{"$f":"(G547*G$7)/Setup!$C$10","v":0},{"$f":"(H547*H$7)/Setup!$C$10","v":0},{"$f":"(I547*I$7)/Setup!$C$10","v":0},{"$f":"(J547*J$7)/Setup!$C$10","v":0},{"$f":"(K547*K$7)/Setup!$C$10","v":0},{"$f":"(L547*L$7)/Setup!$C$10","v":0},null,0,0,null,0]
["2014-09-22","Week 12",{"$f":"(C548*C$7)/Setup!$C$10","v":0},{"$f":"(D548*D$7)/Setup!$C$10","v":0},{"$f":"(E548*E$7)/Setup!$C$10","v":0},{"$f":"(F548*F$7)/Setup!$C$10","v":0},{"$f":"(G548*G$7)/Setup!$C$10","v":0},{"$f":"(H548*H$7)/Setup!$C$10","v":0},{"$f":"(I548*I$7)/Setup!$C$10","v":0},{"$f":"(J548*J$7)/Setup!$C$10","v":0},{"$f":"(K548*K$7)/Setup!$C$10","v":0},{"$f":"(L548*L$7)/Setup!$C$10","v":0},null,0,0,null,0]
["2014-09-29","Week 13",{"$f":"(C549*C$7)/Setup!$C$10","v":0},{"$f":"(D549*D$7)/Setup!$C$10","v":0},{"$f":"(E549*E$7)/Setup!$C$10","v":0},{"$f":"(F549*F$7)/Setup!$C$10","v":0},{"$f":"(G549*G$7)/Setup!$C$10","v":0},{"$f":"(H549*H$7)/Setup!$C$10","v":0},{"$f":"(I549*I$7)/Setup!$C$10","v":0},{"$f":"(J549*J$7)/Setup!$C$10","v":0},{"$f":"(K549*K$7)/Setup!$C$10","v":0},{"$f":"(L549*L$7)/Setup!$C$10","v":0},null,0,0,null,0]
["2014-10-06","Week 14",{"$f":"(C550*C$7)/Setup!$C$10","v":0},{"$f":"(D550*D$7)/Setup!$C$10","v":0},{"$f":"(E550*E$7)/Setup!$C$10","v":0},{"$f":"(F550*F$7)/Setup!$C$10","v":0},{"$f":"(G550*G$7)/Setup!$C$10","v":0},{"$f":"(H550*H$7)/Setup!$C$10","v":0},{"$f":"(I550*I$7)/Setup!$C$10","v":0},{"$f":"(J550*J$7)/Setup!$C$10","v":0},{"$f":"(K550*K$7)/Setup!$C$10","v":0},{"$f":"(L550*L$7)/Setup!$C$10","v":0},null,0,0,null,0]
["2014-10-13","Week 15",{"$f":"(C551*C$7)/Setup!$C$10","v":0},{"$f":"(D551*D$7)/Setup!$C$10","v":0},{"$f":"(E551*E$7)/Setup!$C$10","v":0},{"$f":"(F551*F$7)/Setup!$C$10","v":0},{"$f":"(G551*G$7)/Setup!$C$10","v":0},{"$f":"(H551*H$7)/Setup!$C$10","v":0},{"$f":"(I551*I$7)/Setup!$C$10","v":0},{"$f":"(J551*J$7)/Setup!$C$10","v":0},{"$f":"(K551*K$7)/Setup!$C$10","v":0},{"$f":"(L551*L$7)/Setup!$C$10","v":0},null,0,0,null,0]
["2014-10-20","Week 16",{"$f":"(C552*C$7)/Setup!$C$10","v":0},{"$f":"(D552*D$7)/Setup!$C$10","v":0},{"$f":"(E552*E$7)/Setup!$C$10","v":0},{"$f":"(F552*F$7)/Setup!$C$10","v":0},{"$f":"(G552*G$7)/Setup!$C$10","v":0},{"$f":"(H552*H$7)/Setup!$C$10","v":0},{"$f":"(I552*I$7)/Setup!$C$10","v":0},{"$f":"(J552*J$7)/Setup!$C$10","v":0},{"$f":"(K552*K$7)/Setup!$C$10","v":0},{"$f":"(L552*L$7)/Setup!$C$10","v":0},null,0,0,null,0]
["2014-10-27","Week 17",{"$f":"(C553*C$7)/Setup!$C$10","v":0},{"$f":"(D553*D$7)/Setup!$C$10","v":0},{"$f":"(E553*E$7)/Setup!$C$10","v":0},{"$f":"(F553*F$7)/Setup!$C$10","v":0},{"$f":"(G553*G$7)/Setup!$C$10","v":0},{"$f":"(H553*H$7)/Setup!$C$10","v":0},{"$f":"(I553*I$7)/Setup!$C$10","v":0},{"$f":"(J553*J$7)/Setup!$C$10","v":0},{"$f":"(K553*K$7)/Setup!$C$10","v":0},{"$f":"(L553*L$7)/Setup!$C$10","v":0},null,0,0,null,0]
["2014-11-03","Week 18",{"$f":"(C554*C$7)/Setup!$C$10","v":0},{"$f":"(D554*D$7)/Setup!$C$10","v":0},{"$f":"(E554*E$7)/Setup!$C$10","v":0},{"$f":"(F554*F$7)/Setup!$C$10","v":0},{"$f":"(G554*G$7)/Setup!$C$10","v":0},{"$f":"(H554*H$7)/Setup!$C$10","v":0},{"$f":"(I554*I$7)/Setup!$C$10","v":0},{"$f":"(J554*J$7)/Setup!$C$10","v":0},{"$f":"(K554*K$7)/Setup!$C$10","v":0},{"$f":"(L554*L$7)/Setup!$C$10","v":0},null,0,0,null,0]
["2014-11-10","Week 19",{"$f":"(C555*C$7)/Setup!$C$10","v":0},{"$f":"(D555*D$7)/Setup!$C$10","v":0},{"$f":"(E555*E$7)/Setup!$C$10","v":0},{"$f":"(F555*F$7)/Setup!$C$10","v":0},{"$f":"(G555*G$7)/Setup!$C$10","v":0},{"$f":"(H555*H$7)/Setup!$C$10","v":0},{"$f":"(I555*I$7)/Setup!$C$10","v":0},{"$f":"(J555*J$7)/Setup!$C$10","v":0},{"$f":"(K555*K$7)/Setup!$C$10","v":0},{"$f":"(L555*L$7)/Setup!$C$10","v":0},null,0,0,null,0]
["2014-11-17","Week 20",{"$f":"(C556*C$7)/Setup!$C$10","v":0},{"$f":"(D556*D$7)/Setup!$C$10","v":0},{"$f":"(E556*E$7)/Setup!$C$10","v":0},{"$f":"(F556*F$7)/Setup!$C$10","v":0},{"$f":"(G556*G$7)/Setup!$C$10","v":0},{"$f":"(H556*H$7)/Setup!$C$10","v":0},{"$f":"(I556*I$7)/Setup!$C$10","v":0},{"$f":"(J556*J$7)/Setup!$C$10","v":0},{"$f":"(K556*K$7)/Setup!$C$10","v":0},{"$f":"(L556*L$7)/Setup!$C$10","v":0},null,0,0,null,0]
[{"$f":"A441","v":"2014-11-24"},"Week 21",{"$f":"(C557*C$7)/Setup!$C$10","v":0},{"$f":"(D557*D$7)/Setup!$C$10","v":0},{"$f":"(E557*E$7)/Setup!$C$10","v":0},{"$f":"(F557*F$7)/Setup!$C$10","v":0},{"$f":"(G557*G$7)/Setup!$C$10","v":0},{"$f":"(H557*H$7)/Setup!$C$10","v":0},{"$f":"(I557*I$7)/Setup!$C$10","v":0},{"$f":"(J557*J$7)/Setup!$C$10","v":0},{"$f":"(K557*K$7)/Setup!$C$10","v":0},{"$f":"(L557*L$7)/Setup!$C$10","v":0},null,0,0,null,0]
["2014-12-01","Week 22",{"$f":"(C558*C$7)/Setup!$C$10","v":0},{"$f":"(D558*D$7)/Setup!$C$10","v":0},{"$f":"(E558*E$7)/Setup!$C$10","v":0},{"$f":"(F558*F$7)/Setup!$C$10","v":0},{"$f":"(G558*G$7)/Setup!$C$10","v":0},{"$f":"(H558*H$7)/Setup!$C$10","v":0},{"$f":"(I558*I$7)/Setup!$C$10","v":0},{"$f":"(J558*J$7)/Setup!$C$10","v":0},{"$f":"(K558*K$7)/Setup!$C$10","v":0},{"$f":"(L558*L$7)/Setup!$C$10","v":0},null,0,0,null,0]
["2014-12-08","Week 23",{"$f":"(C559*C$7)/Setup!$C$10","v":0},{"$f":"(D559*D$7)/Setup!$C$10","v":0},{"$f":"(E559*E$7)/Setup!$C$10","v":0},{"$f":"(F559*F$7)/Setup!$C$10","v":0},{"$f":"(G559*G$7)/Setup!$C$10","v":0},{"$f":"(H559*H$7)/Setup!$C$10","v":0},{"$f":"(I559*I$7)/Setup!$C$10","v":0},{"$f":"(J559*J$7)/Setup!$C$10","v":0},{"$f":"(K559*K$7)/Setup!$C$10","v":0},{"$f":"(L559*L$7)/Setup!$C$10","v":0},null,0,0,null,0]
["2014-12-15","Week 24",{"$f":"(C560*C$7)/Setup!$C$10","v":0},{"$f":"(D560*D$7)/Setup!$C$10","v":0},{"$f":"(E560*E$7)/Setup!$C$10","v":0},{"$f":"(F560*F$7)/Setup!$C$10","v":0},{"$f":"(G560*G$7)/Setup!$C$10","v":0},{"$f":"(H560*H$7)/Setup!$C$10","v":0},{"$f":"(I560*I$7)/Setup!$C$10","v":0},{"$f":"(J560*J$7)/Setup!$C$10","v":0},{"$f":"(K560*K$7)/Setup!$C$10","v":0},{"$f":"(L560*L$7)/Setup!$C$10","v":0},null,0,0,null,0]
["2014-12-22","Week 25",{"$f":"(C561*C$7)/Setup!$C$10","v":0},{"$f":"(D561*D$7)/Setup!$C$10","v":0},{"$f":"(E561*E$7)/Setup!$C$10","v":0},{"$f":"(F561*F$7)/Setup!$C$10","v":0},{"$f":"(G561*G$7)/Setup!$C$10","v":0},{"$f":"(H561*H$7)/Setup!$C$10","v":0},{"$f":"(I561*I$7)/Setup!$C$10","v":0},{"$f":"(J561*J$7)/Setup!$C$10","v":0},{"$f":"(K561*K$7)/Setup!$C$10","v":0},{"$f":"(L561*L$7)/Setup!$C$10","v":0},null,0,0,null,0]
["2014-12-29","Week 26",{"$f":"(C562*C$7)/Setup!$C$10","v":0},{"$f":"(D562*D$7)/Setup!$C$10","v":0},{"$f":"(E562*E$7)/Setup!$C$10","v":0},{"$f":"(F562*F$7)/Setup!$C$10","v":0},{"$f":"(G562*G$7)/Setup!$C$10","v":0},{"$f":"(H562*H$7)/Setup!$C$10","v":0},{"$f":"(I562*I$7)/Setup!$C$10","v":0},{"$f":"(J562*J$7)/Setup!$C$10","v":0},{"$f":"(K562*K$7)/Setup!$C$10","v":0},{"$f":"(L562*L$7)/Setup!$C$10","v":0},null,0,0,null,0]
["2015-01-05","Week 27",{"$f":"(C563*C$7)/Setup!$C$10","v":0},{"$f":"(D563*D$7)/Setup!$C$10","v":0},{"$f":"(E563*E$7)/Setup!$C$10","v":0},{"$f":"(F563*F$7)/Setup!$C$10","v":0},{"$f":"(G563*G$7)/Setup!$C$10","v":0},{"$f":"(H563*H$7)/Setup!$C$10","v":0},{"$f":"(I563*I$7)/Setup!$C$10","v":0},{"$f":"(J563*J$7)/Setup!$C$10","v":0},{"$f":"(K563*K$7)/Setup!$C$10","v":0},{"$f":"(L563*L$7)/Setup!$C$10","v":0},null,0,0,null,0]
["2015-01-12","Week 28",{"$f":"(C564*C$7)/Setup!$C$10","v":0},{"$f":"(D564*D$7)/Setup!$C$10","v":0},{"$f":"(E564*E$7)/Setup!$C$10","v":0},{"$f":"(F564*F$7)/Setup!$C$10","v":0},{"$f":"(G564*G$7)/Setup!$C$10","v":0},{"$f":"(H564*H$7)/Setup!$C$10","v":0},{"$f":"(I564*I$7)/Setup!$C$10","v":0},{"$f":"(J564*J$7)/Setup!$C$10","v":0},{"$f":"(K564*K$7)/Setup!$C$10","v":0},{"$f":"(L564*L$7)/Setup!$C$10","v":0},null,0,0,null,0]
["2015-01-19","Week 29",{"$f":"(C565*C$7)/Setup!$C$10","v":0},{"$f":"(D565*D$7)/Setup!$C$10","v":0},{"$f":"(E565*E$7)/Setup!$C$10","v":0},{"$f":"(F565*F$7)/Setup!$C$10","v":0},{"$f":"(G565*G$7)/Setup!$C$10","v":0},{"$f":"(H565*H$7)/Setup!$C$10","v":0},{"$f":"(I565*I$7)/Setup!$C$10","v":0},{"$f":"(J565*J$7)/Setup!$C$10","v":0},{"$f":"(K565*K$7)/Setup!$C$10","v":0},{"$f":"(L565*L$7)/Setup!$C$10","v":0},null,0,0,null,0]
["2015-01-26","Week 30",{"$f":"(C566*C$7)/Setup!$C$10","v":0},{"$f":"(D566*D$7)/Setup!$C$10","v":0},{"$f":"(E566*E$7)/Setup!$C$10","v":0},{"$f":"(F566*F$7)/Setup!$C$10","v":0},{"$f":"(G566*G$7)/Setup!$C$10","v":0},{"$f":"(H566*H$7)/Setup!$C$10","v":0},{"$f":"(I566*I$7)/Setup!$C$10","v":0},{"$f":"(J566*J$7)/Setup!$C$10","v":0},{"$f":"(K566*K$7)/Setup!$C$10","v":0},{"$f":"(L566*L$7)/Setup!$C$10","v":0},null,0,0,null,0]
["2015-02-02","Week 31",{"$f":"(C567*C$7)/Setup!$C$10","v":0},{"$f":"(D567*D$7)/Setup!$C$10","v":0},{"$f":"(E567*E$7)/Setup!$C$10","v":0},{"$f":"(F567*F$7)/Setup!$C$10","v":0},{"$f":"(G567*G$7)/Setup!$C$10","v":0},{"$f":"(H567*H$7)/Setup!$C$10","v":0},{"$f":"(I567*I$7)/Setup!$C$10","v":0},{"$f":"(J567*J$7)/Setup!$C$10","v":0},{"$f":"(K567*K$7)/Setup!$C$10","v":0},{"$f":"(L567*L$7)/Setup!$C$10","v":0},null,0,0,null,0]
["2015-02-09","Week 32",{"$f":"(C568*C$7)/Setup!$C$10","v":0},{"$f":"(D568*D$7)/Setup!$C$10","v":0},{"$f":"(E568*E$7)/Setup!$C$10","v":0},{"$f":"(F568*F$7)/Setup!$C$10","v":0},{"$f":"(G568*G$7)/Setup!$C$10","v":0},{"$f":"(H568*H$7)/Setup!$C$10","v":0},{"$f":"(I568*I$7)/Setup!$C$10","v":0},{"$f":"(J568*J$7)/Setup!$C$10","v":0},{"$f":"(K568*K$7)/Setup!$C$10","v":0},{"$f":"(L568*L$7)/Setup!$C$10","v":0},null,0,0,null,0]
["2015-02-16","Week 33",{"$f":"(C569*C$7)/Setup!$C$10","v":0},{"$f":"(D569*D$7)/Setup!$C$10","v":0},{"$f":"(E569*E$7)/Setup!$C$10","v":0},{"$f":"(F569*F$7)/Setup!$C$10","v":0},{"$f":"(G569*G$7)/Setup!$C$10","v":0},{"$f":"(H569*H$7)/Setup!$C$10","v":0},{"$f":"(I569*I$7)/Setup!$C$10","v":0},{"$f":"(J569*J$7)/Setup!$C$10","v":0},{"$f":"(K569*K$7)/Setup!$C$10","v":0},{"$f":"(L569*L$7)/Setup!$C$10","v":0},null,0,0,null,0]
["2015-02-23","Week 34",{"$f":"(C570*C$7)/Setup!$C$10","v":0},{"$f":"(D570*D$7)/Setup!$C$10","v":0},{"$f":"(E570*E$7)/Setup!$C$10","v":0},{"$f":"(F570*F$7)/Setup!$C$10","v":0},{"$f":"(G570*G$7)/Setup!$C$10","v":0},{"$f":"(H570*H$7)/Setup!$C$10","v":0},{"$f":"(I570*I$7)/Setup!$C$10","v":0},{"$f":"(J570*J$7)/Setup!$C$10","v":0},{"$f":"(K570*K$7)/Setup!$C$10","v":0},{"$f":"(L570*L$7)/Setup!$C$10","v":0},null,0,0,null,0]
["2015-03-02","Week 35",{"$f":"(C571*C$7)/Setup!$C$10","v":0},{"$f":"(D571*D$7)/Setup!$C$10","v":0},{"$f":"(E571*E$7)/Setup!$C$10","v":0},{"$f":"(F571*F$7)/Setup!$C$10","v":0},{"$f":"(G571*G$7)/Setup!$C$10","v":0},{"$f":"(H571*H$7)/Setup!$C$10","v":0},{"$f":"(I571*I$7)/Setup!$C$10","v":0},{"$f":"(J571*J$7)/Setup!$C$10","v":0},{"$f":"(K571*K$7)/Setup!$C$10","v":0},{"$f":"(L571*L$7)/Setup!$C$10","v":0},null,0,0,null,0]
["2015-03-09","Week 36",{"$f":"(C572*C$7)/Setup!$C$10","v":0},{"$f":"(D572*D$7)/Setup!$C$10","v":0},{"$f":"(E572*E$7)/Setup!$C$10","v":0},{"$f":"(F572*F$7)/Setup!$C$10","v":0},{"$f":"(G572*G$7)/Setup!$C$10","v":0},{"$f":"(H572*H$7)/Setup!$C$10","v":0},{"$f":"(I572*I$7)/Setup!$C$10","v":0},{"$f":"(J572*J$7)/Setup!$C$10","v":0},{"$f":"(K572*K$7)/Setup!$C$10","v":0},{"$f":"(L572*L$7)/Setup!$C$10","v":0},null,0,0,null,0]
["2015-03-16","Week 37",{"$f":"(C573*C$7)/Setup!$C$10","v":0},{"$f":"(D573*D$7)/Setup!$C$10","v":0},{"$f":"(E573*E$7)/Setup!$C$10","v":0},{"$f":"(F573*F$7)/Setup!$C$10","v":0},{"$f":"(G573*G$7)/Setup!$C$10","v":0},{"$f":"(H573*H$7)/Setup!$C$10","v":0},{"$f":"(I573*I$7)/Setup!$C$10","v":0},{"$f":"(J573*J$7)/Setup!$C$10","v":0},{"$f":"(K573*K$7)/Setup!$C$10","v":0},{"$f":"(L573*L$7)/Setup!$C$10","v":0},null,0,0,null,0]
["2015-03-23","Week 38",{"$f":"(C574*C$7)/Setup!$C$10","v":0},{"$f":"(D574*D$7)/Setup!$C$10","v":0},{"$f":"(E574*E$7)/Setup!$C$10","v":0},{"$f":"(F574*F$7)/Setup!$C$10","v":0},{"$f":"(G574*G$7)/Setup!$C$10","v":0},{"$f":"(H574*H$7)/Setup!$C$10","v":0},{"$f":"(I574*I$7)/Setup!$C$10","v":0},{"$f":"(J574*J$7)/Setup!$C$10","v":0},{"$f":"(K574*K$7)/Setup!$C$10","v":0},{"$f":"(L574*L$7)/Setup!$C$10","v":0},null,0,0,null,0]
["2015-03-30","Week 39",{"$f":"(C575*C$7)/Setup!$C$10","v":0},{"$f":"(D575*D$7)/Setup!$C$10","v":0},{"$f":"(E575*E$7)/Setup!$C$10","v":0},{"$f":"(F575*F$7)/Setup!$C$10","v":0},{"$f":"(G575*G$7)/Setup!$C$10","v":0},{"$f":"(H575*H$7)/Setup!$C$10","v":0},{"$f":"(I575*I$7)/Setup!$C$10","v":0},{"$f":"(J575*J$7)/Setup!$C$10","v":0},{"$f":"(K575*K$7)/Setup!$C$10","v":0},{"$f":"(L575*L$7)/Setup!$C$10","v":0},null,0,0,null,0]
["2015-04-06","Week 40",{"$f":"(C576*C$7)/Setup!$C$10","v":0},{"$f":"(D576*D$7)/Setup!$C$10","v":0},{"$f":"(E576*E$7)/Setup!$C$10","v":0},{"$f":"(F576*F$7)/Setup!$C$10","v":0},{"$f":"(G576*G$7)/Setup!$C$10","v":0},{"$f":"(H576*H$7)/Setup!$C$10","v":0},{"$f":"(I576*I$7)/Setup!$C$10","v":0},{"$f":"(J576*J$7)/Setup!$C$10","v":0},{"$f":"(K576*K$7)/Setup!$C$10","v":0},{"$f":"(L576*L$7)/Setup!$C$10","v":0},null,0,0,null,0]
[{"$f":"A461","v":"2015-04-13"},"Week 41",{"$f":"(C577*C$7)/Setup!$C$10","v":0},{"$f":"(D577*D$7)/Setup!$C$10","v":0},{"$f":"(E577*E$7)/Setup!$C$10","v":0},{"$f":"(F577*F$7)/Setup!$C$10","v":0},{"$f":"(G577*G$7)/Setup!$C$10","v":0},{"$f":"(H577*H$7)/Setup!$C$10","v":0},{"$f":"(I577*I$7)/Setup!$C$10","v":0},{"$f":"(J577*J$7)/Setup!$C$10","v":0},{"$f":"(K577*K$7)/Setup!$C$10","v":0},{"$f":"(L577*L$7)/Setup!$C$10","v":0},null,0,0,null,0]
["2015-04-20","Week 42",{"$f":"(C578*C$7)/Setup!$C$10","v":0},{"$f":"(D578*D$7)/Setup!$C$10","v":0},{"$f":"(E578*E$7)/Setup!$C$10","v":0},{"$f":"(F578*F$7)/Setup!$C$10","v":0},{"$f":"(G578*G$7)/Setup!$C$10","v":0},{"$f":"(H578*H$7)/Setup!$C$10","v":0},{"$f":"(I578*I$7)/Setup!$C$10","v":0},{"$f":"(J578*J$7)/Setup!$C$10","v":0},{"$f":"(K578*K$7)/Setup!$C$10","v":0},{"$f":"(L578*L$7)/Setup!$C$10","v":0},null,0,0,null,0]
["2015-04-27","Week 43",{"$f":"(C579*C$7)/Setup!$C$10","v":0},{"$f":"(D579*D$7)/Setup!$C$10","v":0},{"$f":"(E579*E$7)/Setup!$C$10","v":0},{"$f":"(F579*F$7)/Setup!$C$10","v":0},{"$f":"(G579*G$7)/Setup!$C$10","v":0},{"$f":"(H579*H$7)/Setup!$C$10","v":0},{"$f":"(I579*I$7)/Setup!$C$10","v":0},{"$f":"(J579*J$7)/Setup!$C$10","v":0},{"$f":"(K579*K$7)/Setup!$C$10","v":0},{"$f":"(L579*L$7)/Setup!$C$10","v":0},null,0,0,null,0]
["2015-05-04","Week 44",{"$f":"(C580*C$7)/Setup!$C$10","v":0},{"$f":"(D580*D$7)/Setup!$C$10","v":0},{"$f":"(E580*E$7)/Setup!$C$10","v":0},{"$f":"(F580*F$7)/Setup!$C$10","v":0},{"$f":"(G580*G$7)/Setup!$C$10","v":0},{"$f":"(H580*H$7)/Setup!$C$10","v":0},{"$f":"(I580*I$7)/Setup!$C$10","v":0},{"$f":"(J580*J$7)/Setup!$C$10","v":0},{"$f":"(K580*K$7)/Setup!$C$10","v":0},{"$f":"(L580*L$7)/Setup!$C$10","v":0},null,0,0,null,0]
["2015-05-11","Week 45",{"$f":"(C581*C$7)/Setup!$C$10","v":0},{"$f":"(D581*D$7)/Setup!$C$10","v":0},{"$f":"(E581*E$7)/Setup!$C$10","v":0},{"$f":"(F581*F$7)/Setup!$C$10","v":0},{"$f":"(G581*G$7)/Setup!$C$10","v":0},{"$f":"(H581*H$7)/Setup!$C$10","v":0},{"$f":"(I581*I$7)/Setup!$C$10","v":0},{"$f":"(J581*J$7)/Setup!$C$10","v":0},{"$f":"(K581*K$7)/Setup!$C$10","v":0},{"$f":"(L581*L$7)/Setup!$C$10","v":0},null,0,0,null,0]
["2015-05-18","Week 46",{"$f":"(C582*C$7)/Setup!$C$10","v":0},{"$f":"(D582*D$7)/Setup!$C$10","v":0},{"$f":"(E582*E$7)/Setup!$C$10","v":0},{"$f":"(F582*F$7)/Setup!$C$10","v":0},{"$f":"(G582*G$7)/Setup!$C$10","v":0},{"$f":"(H582*H$7)/Setup!$C$10","v":0},{"$f":"(I582*I$7)/Setup!$C$10","v":0},{"$f":"(J582*J$7)/Setup!$C$10","v":0},{"$f":"(K582*K$7)/Setup!$C$10","v":0},{"$f":"(L582*L$7)/Setup!$C$10","v":0},null,0,0,null,0]
["2015-05-25","Week 47",{"$f":"(C583*C$7)/Setup!$C$10","v":0},{"$f":"(D583*D$7)/Setup!$C$10","v":0},{"$f":"(E583*E$7)/Setup!$C$10","v":0},{"$f":"(F583*F$7)/Setup!$C$10","v":0},{"$f":"(G583*G$7)/Setup!$C$10","v":0},{"$f":"(H583*H$7)/Setup!$C$10","v":0},{"$f":"(I583*I$7)/Setup!$C$10","v":0},{"$f":"(J583*J$7)/Setup!$C$10","v":0},{"$f":"(K583*K$7)/Setup!$C$10","v":0},{"$f":"(L583*L$7)/Setup!$C$10","v":0},null,0,0,null,0]
["2015-06-01","Week 48",{"$f":"(C584*C$7)/Setup!$C$10","v":0},{"$f":"(D584*D$7)/Setup!$C$10","v":0},{"$f":"(E584*E$7)/Setup!$C$10","v":0},{"$f":"(F584*F$7)/Setup!$C$10","v":0},{"$f":"(G584*G$7)/Setup!$C$10","v":0},{"$f":"(H584*H$7)/Setup!$C$10","v":0},{"$f":"(I584*I$7)/Setup!$C$10","v":0},{"$f":"(J584*J$7)/Setup!$C$10","v":0},{"$f":"(K584*K$7)/Setup!$C$10","v":0},{"$f":"(L584*L$7)/Setup!$C$10","v":0},null,0,0,null,0]
["2015-06-08","Week 49",{"$f":"(C585*C$7)/Setup!$C$10","v":0},{"$f":"(D585*D$7)/Setup!$C$10","v":0},{"$f":"(E585*E$7)/Setup!$C$10","v":0},{"$f":"(F585*F$7)/Setup!$C$10","v":0},{"$f":"(G585*G$7)/Setup!$C$10","v":0},{"$f":"(H585*H$7)/Setup!$C$10","v":0},{"$f":"(I585*I$7)/Setup!$C$10","v":0},{"$f":"(J585*J$7)/Setup!$C$10","v":0},{"$f":"(K585*K$7)/Setup!$C$10","v":0},{"$f":"(L585*L$7)/Setup!$C$10","v":0},null,0,0,null,0]
["2015-06-15","Week 50",{"$f":"(C586*C$7)/Setup!$C$10","v":0},{"$f":"(D586*D$7)/Setup!$C$10","v":0},{"$f":"(E586*E$7)/Setup!$C$10","v":0},{"$f":"(F586*F$7)/Setup!$C$10","v":0},{"$f":"(G586*G$7)/Setup!$C$10","v":0},{"$f":"(H586*H$7)/Setup!$C$10","v":0},{"$f":"(I586*I$7)/Setup!$C$10","v":0},{"$f":"(J586*J$7)/Setup!$C$10","v":0},{"$f":"(K586*K$7)/Setup!$C$10","v":0},{"$f":"(L586*L$7)/Setup!$C$10","v":0},null,0,0,null,0]
["2015-06-22","Week 51",{"$f":"(C587*C$7)/Setup!$C$10","v":0},{"$f":"(D587*D$7)/Setup!$C$10","v":0},{"$f":"(E587*E$7)/Setup!$C$10","v":0},{"$f":"(F587*F$7)/Setup!$C$10","v":0},{"$f":"(G587*G$7)/Setup!$C$10","v":0},{"$f":"(H587*H$7)/Setup!$C$10","v":0},{"$f":"(I587*I$7)/Setup!$C$10","v":0},{"$f":"(J587*J$7)/Setup!$C$10","v":0},{"$f":"(K587*K$7)/Setup!$C$10","v":0},{"$f":"(L587*L$7)/Setup!$C$10","v":0},null,0,0,null,0]
["2015-06-29","Week 52",{"$f":"(C588*C$7)/Setup!$C$10","v":0},{"$f":"(D588*D$7)/Setup!$C$10","v":0},{"$f":"(E588*E$7)/Setup!$C$10","v":0},{"$f":"(F588*F$7)/Setup!$C$10","v":0},{"$f":"(G588*G$7)/Setup!$C$10","v":0},{"$f":"(H588*H$7)/Setup!$C$10","v":0},{"$f":"(I588*I$7)/Setup!$C$10","v":0},{"$f":"(J588*J$7)/Setup!$C$10","v":0},{"$f":"(K588*K$7)/Setup!$C$10","v":0},{"$f":"(L588*L$7)/Setup!$C$10","v":0},null,0,0,null,0]
[null,null,null,null,null,null,null,null,null,null,null,null,null,null,null,null,{"$f":"SUM(Q76:Q127)","v":0}]
[]
["Actual Weekly P (Kg) / Hectare (Ha):"]
[]
[null,null,{"$f":"C5","v":"Amm Nitr"},"Urea","UAN","Pot Nitrate","MAP","Pot Sulphate","Cal Nitrate","Fertimix",{"$f":"K5","v":"User Defined 9"},{"$f":"L5","v":"User Defined 10"},null,"WEEKLY TOTAL","Grower Cumm",null,"Actual Weekly P"]
[null,null,null,null,null,null,null,null,null,null,null,null,null,"TOTAL","TOTAL",null,"TOTAL"]
[{"$f":"A421","v":"2014-07-07"},"Week 1",{"$f":"(C537*C$8)/Setup!$C$10","v":0},{"$f":"(D537*D$8)/Setup!$C$10","v":0},{"$f":"(E537*E$8)/Setup!$C$10","v":0},{"$f":"(F537*F$8)/Setup!$C$10","v":0},{"$f":"(G537*G$8)/Setup!$C$10","v":0},{"$f":"(H537*H$8)/Setup!$C$10","v":0},{"$f":"(I537*I$8)/Setup!$C$10","v":0},{"$f":"(J537*J$8)/Setup!$C$10","v":0},{"$f":"(K537*K$8)/Setup!$C$10","v":0},{"$f":"(L537*L$8)/Setup!$C$10","v":0},null,{"$f":"SUM(C134:L134)","v":0},{"$f":"N134","v":0},null,{"$f":"N134","v":0}]
["2014-07-14","Week 2",{"$f":"(C538*C$8)/Setup!$C$10","v":0},{"$f":"(D538*D$8)/Setup!$C$10","v":0},{"$f":"(E538*E$8)/Setup!$C$10","v":0},{"$f":"(F538*F$8)/Setup!$C$10","v":0},{"$f":"(G538*G$8)/Setup!$C$10","v":0},{"$f":"(H538*H$8)/Setup!$C$10","v":0},{"$f":"(I538*I$8)/Setup!$C$10","v":0},{"$f":"(J538*J$8)/Setup!$C$10","v":0},{"$f":"(K538*K$8)/Setup!$C$10","v":0},{"$f":"(L538*L$8)/Setup!$C$10","v":0},null,{"$f":"SUM(C135:L135)","v":0},{"$f":"O134+N135","v":0},null,{"$f":"N135","v":0}]
["2014-07-21","Week 3",{"$f":"(C539*C$8)/Setup!$C$10","v":0},{"$f":"(D539*D$8)/Setup!$C$10","v":0},{"$f":"(E539*E$8)/Setup!$C$10","v":0},{"$f":"(F539*F$8)/Setup!$C$10","v":0},{"$f":"(G539*G$8)/Setup!$C$10","v":0},{"$f":"(H539*H$8)/Setup!$C$10","v":0},{"$f":"(I539*I$8)/Setup!$C$10","v":0},{"$f":"(J539*J$8)/Setup!$C$10","v":0},{"$f":"(K539*K$8)/Setup!$C$10","v":0},{"$f":"(L539*L$8)/Setup!$C$10","v":0},null,0,{"$f":"O135+N136","v":0},null,0]
["2014-07-28","Week 4",{"$f":"(C540*C$8)/Setup!$C$10","v":0},{"$f":"(D540*D$8)/Setup!$C$10","v":0},{"$f":"(E540*E$8)/Setup!$C$10","v":0},{"$f":"(F540*F$8)/Setup!$C$10","v":0},{"$f":"(G540*G$8)/Setup!$C$10","v":0},{"$f":"(H540*H$8)/Setup!$C$10","v":0},{"$f":"(I540*I$8)/Setup!$C$10","v":0},{"$f":"(J540*J$8)/Setup!$C$10","v":0},{"$f":"(K540*K$8)/Setup!$C$10","v":0},{"$f":"(L540*L$8)/Setup!$C$10","v":0},null,0,0,null,0]
["2014-08-04","Week 5",{"$f":"(C541*C$8)/Setup!$C$10","v":0},{"$f":"(D541*D$8)/Setup!$C$10","v":0},{"$f":"(E541*E$8)/Setup!$C$10","v":0},{"$f":"(F541*F$8)/Setup!$C$10","v":0},{"$f":"(G541*G$8)/Setup!$C$10","v":0},{"$f":"(H541*H$8)/Setup!$C$10","v":0},{"$f":"(I541*I$8)/Setup!$C$10","v":0},{"$f":"(J541*J$8)/Setup!$C$10","v":0},{"$f":"(K541*K$8)/Setup!$C$10","v":0},{"$f":"(L541*L$8)/Setup!$C$10","v":0},null,0,0,null,0]
["2014-08-11","Week 6",{"$f":"(C542*C$8)/Setup!$C$10","v":0},{"$f":"(D542*D$8)/Setup!$C$10","v":0},{"$f":"(E542*E$8)/Setup!$C$10","v":0},{"$f":"(F542*F$8)/Setup!$C$10","v":0},{"$f":"(G542*G$8)/Setup!$C$10","v":0},{"$f":"(H542*H$8)/Setup!$C$10","v":0},{"$f":"(I542*I$8)/Setup!$C$10","v":0},{"$f":"(J542*J$8)/Setup!$C$10","v":0},{"$f":"(K542*K$8)/Setup!$C$10","v":0},{"$f":"(L542*L$8)/Setup!$C$10","v":0},null,0,0,null,0]
["2014-08-18","Week 7",{"$f":"(C543*C$8)/Setup!$C$10","v":0},{"$f":"(D543*D$8)/Setup!$C$10","v":0},{"$f":"(E543*E$8)/Setup!$C$10","v":0},{"$f":"(F543*F$8)/Setup!$C$10","v":0},{"$f":"(G543*G$8)/Setup!$C$10","v":0},{"$f":"(H543*H$8)/Setup!$C$10","v":0},{"$f":"(I543*I$8)/Setup!$C$10","v":0},{"$f":"(J543*J$8)/Setup!$C$10","v":0},{"$f":"(K543*K$8)/Setup!$C$10","v":0},{"$f":"(L543*L$8)/Setup!$C$10","v":0},null,0,0,null,0]
["2014-08-25","Week 8",{"$f":"(C544*C$8)/Setup!$C$10","v":0},{"$f":"(D544*D$8)/Setup!$C$10","v":0},{"$f":"(E544*E$8)/Setup!$C$10","v":0},{"$f":"(F544*F$8)/Setup!$C$10","v":0},{"$f":"(G544*G$8)/Setup!$C$10","v":0},{"$f":"(H544*H$8)/Setup!$C$10","v":0},{"$f":"(I544*I$8)/Setup!$C$10","v":0},{"$f":"(J544*J$8)/Setup!$C$10","v":0},{"$f":"(K544*K$8)/Setup!$C$10","v":0},{"$f":"(L544*L$8)/Setup!$C$10","v":0},null,0,0,null,0]
["2014-09-01","Week 9",{"$f":"(C545*C$8)/Setup!$C$10","v":0},{"$f":"(D545*D$8)/Setup!$C$10","v":0},{"$f":"(E545*E$8)/Setup!$C$10","v":0},{"$f":"(F545*F$8)/Setup!$C$10","v":0},{"$f":"(G545*G$8)/Setup!$C$10","v":0},{"$f":"(H545*H$8)/Setup!$C$10","v":0},{"$f":"(I545*I$8)/Setup!$C$10","v":0},{"$f":"(J545*J$8)/Setup!$C$10","v":0},{"$f":"(K545*K$8)/Setup!$C$10","v":0},{"$f":"(L545*L$8)/Setup!$C$10","v":0},null,0,0,null,0]
["2014-09-08","Week 10",{"$f":"(C546*C$8)/Setup!$C$10","v":0},{"$f":"(D546*D$8)/Setup!$C$10","v":0},{"$f":"(E546*E$8)/Setup!$C$10","v":0},{"$f":"(F546*F$8)/Setup!$C$10","v":0},{"$f":"(G546*G$8)/Setup!$C$10","v":0},{"$f":"(H546*H$8)/Setup!$C$10","v":0},{"$f":"(I546*I$8)/Setup!$C$10","v":0},{"$f":"(J546*J$8)/Setup!$C$10","v":0},{"$f":"(K546*K$8)/Setup!$C$10","v":0},{"$f":"(L546*L$8)/Setup!$C$10","v":0},null,0,0,null,0]
["2014-09-15","Week 11",{"$f":"(C547*C$8)/Setup!$C$10","v":0},{"$f":"(D547*D$8)/Setup!$C$10","v":0},{"$f":"(E547*E$8)/Setup!$C$10","v":0},{"$f":"(F547*F$8)/Setup!$C$10","v":0},{"$f":"(G547*G$8)/Setup!$C$10","v":0},{"$f":"(H547*H$8)/Setup!$C$10","v":0},{"$f":"(I547*I$8)/Setup!$C$10","v":0},{"$f":"(J547*J$8)/Setup!$C$10","v":0},{"$f":"(K547*K$8)/Setup!$C$10","v":0},{"$f":"(L547*L$8)/Setup!$C$10","v":0},null,0,0,null,0]
["2014-09-22","Week 12",{"$f":"(C548*C$8)/Setup!$C$10","v":0},{"$f":"(D548*D$8)/Setup!$C$10","v":0},{"$f":"(E548*E$8)/Setup!$C$10","v":0},{"$f":"(F548*F$8)/Setup!$C$10","v":0},{"$f":"(G548*G$8)/Setup!$C$10","v":0},{"$f":"(H548*H$8)/Setup!$C$10","v":0},{"$f":"(I548*I$8)/Setup!$C$10","v":0},{"$f":"(J548*J$8)/Setup!$C$10","v":0},{"$f":"(K548*K$8)/Setup!$C$10","v":0},{"$f":"(L548*L$8)/Setup!$C$10","v":0},null,0,0,null,0]
["2014-09-29","Week 13",{"$f":"(C549*C$8)/Setup!$C$10","v":0},{"$f":"(D549*D$8)/Setup!$C$10","v":0},{"$f":"(E549*E$8)/Setup!$C$10","v":0},{"$f":"(F549*F$8)/Setup!$C$10","v":0},{"$f":"(G549*G$8)/Setup!$C$10","v":0},{"$f":"(H549*H$8)/Setup!$C$10","v":0},{"$f":"(I549*I$8)/Setup!$C$10","v":0},{"$f":"(J549*J$8)/Setup!$C$10","v":0},{"$f":"(K549*K$8)/Setup!$C$10","v":0},{"$f":"(L549*L$8)/Setup!$C$10","v":0},null,0,0,null,0]
["2014-10-06","Week 14",{"$f":"(C550*C$8)/Setup!$C$10","v":0},{"$f":"(D550*D$8)/Setup!$C$10","v":0},{"$f":"(E550*E$8)/Setup!$C$10","v":0},{"$f":"(F550*F$8)/Setup!$C$10","v":0},{"$f":"(G550*G$8)/Setup!$C$10","v":0},{"$f":"(H550*H$8)/Setup!$C$10","v":0},{"$f":"(I550*I$8)/Setup!$C$10","v":0},{"$f":"(J550*J$8)/Setup!$C$10","v":0},{"$f":"(K550*K$8)/Setup!$C$10","v":0},{"$f":"(L550*L$8)/Setup!$C$10","v":0},null,0,0,null,0]
["2014-10-13","Week 15",{"$f":"(C551*C$8)/Setup!$C$10","v":0},{"$f":"(D551*D$8)/Setup!$C$10","v":0},{"$f":"(E551*E$8)/Setup!$C$10","v":0},{"$f":"(F551*F$8)/Setup!$C$10","v":0},{"$f":"(G551*G$8)/Setup!$C$10","v":0},{"$f":"(H551*H$8)/Setup!$C$10","v":0},{"$f":"(I551*I$8)/Setup!$C$10","v":0},{"$f":"(J551*J$8)/Setup!$C$10","v":0},{"$f":"(K551*K$8)/Setup!$C$10","v":0},{"$f":"(L551*L$8)/Setup!$C$10","v":0},null,0,0,null,0]
["2014-10-20","Week 16",{"$f":"(C552*C$8)/Setup!$C$10","v":0},{"$f":"(D552*D$8)/Setup!$C$10","v":0},{"$f":"(E552*E$8)/Setup!$C$10","v":0},{"$f":"(F552*F$8)/Setup!$C$10","v":0},{"$f":"(G552*G$8)/Setup!$C$10","v":0},{"$f":"(H552*H$8)/Setup!$C$10","v":0},{"$f":"(I552*I$8)/Setup!$C$10","v":0},{"$f":"(J552*J$8)/Setup!$C$10","v":0},{"$f":"(K552*K$8)/Setup!$C$10","v":0},{"$f":"(L552*L$8)/Setup!$C$10","v":0},null,0,0,null,0]
["2014-10-27","Week 17",{"$f":"(C553*C$8)/Setup!$C$10","v":0},{"$f":"(D553*D$8)/Setup!$C$10","v":0},{"$f":"(E553*E$8)/Setup!$C$10","v":0},{"$f":"(F553*F$8)/Setup!$C$10","v":0},{"$f":"(G553*G$8)/Setup!$C$10","v":0},{"$f":"(H553*H$8)/Setup!$C$10","v":0},{"$f":"(I553*I$8)/Setup!$C$10","v":0},{"$f":"(J553*J$8)/Setup!$C$10","v":0},{"$f":"(K553*K$8)/Setup!$C$10","v":0},{"$f":"(L553*L$8)/Setup!$C$10","v":0},null,0,0,null,0]
["2014-11-03","Week 18",{"$f":"(C554*C$8)/Setup!$C$10","v":0},{"$f":"(D554*D$8)/Setup!$C$10","v":0},{"$f":"(E554*E$8)/Setup!$C$10","v":0},{"$f":"(F554*F$8)/Setup!$C$10","v":0},{"$f":"(G554*G$8)/Setup!$C$10","v":0},{"$f":"(H554*H$8)/Setup!$C$10","v":0},{"$f":"(I554*I$8)/Setup!$C$10","v":0},{"$f":"(J554*J$8)/Setup!$C$10","v":0},{"$f":"(K554*K$8)/Setup!$C$10","v":0},{"$f":"(L554*L$8)/Setup!$C$10","v":0},null,0,0,null,0]
["2014-11-10","Week 19",{"$f":"(C555*C$8)/Setup!$C$10","v":0},{"$f":"(D555*D$8)/Setup!$C$10","v":0},{"$f":"(E555*E$8)/Setup!$C$10","v":0},{"$f":"(F555*F$8)/Setup!$C$10","v":0},{"$f":"(G555*G$8)/Setup!$C$10","v":0},{"$f":"(H555*H$8)/Setup!$C$10","v":0},{"$f":"(I555*I$8)/Setup!$C$10","v":0},{"$f":"(J555*J$8)/Setup!$C$10","v":0},{"$f":"(K555*K$8)/Setup!$C$10","v":0},{"$f":"(L555*L$8)/Setup!$C$10","v":0},null,0,0,null,0]
["2014-11-17","Week 20",{"$f":"(C556*C$8)/Setup!$C$10","v":0},{"$f":"(D556*D$8)/Setup!$C$10","v":0},{"$f":"(E556*E$8)/Setup!$C$10","v":0},{"$f":"(F556*F$8)/Setup!$C$10","v":0},{"$f":"(G556*G$8)/Setup!$C$10","v":0},{"$f":"(H556*H$8)/Setup!$C$10","v":0},{"$f":"(I556*I$8)/Setup!$C$10","v":0},{"$f":"(J556*J$8)/Setup!$C$10","v":0},{"$f":"(K556*K$8)/Setup!$C$10","v":0},{"$f":"(L556*L$8)/Setup!$C$10","v":0},null,0,0,null,0]
[{"$f":"A441","v":"2014-11-24"},"Week 21",{"$f":"(C557*C$8)/Setup!$C$10","v":0},{"$f":"(D557*D$8)/Setup!$C$10","v":0},{"$f":"(E557*E$8)/Setup!$C$10","v":0},{"$f":"(F557*F$8)/Setup!$C$10","v":0},{"$f":"(G557*G$8)/Setup!$C$10","v":0},{"$f":"(H557*H$8)/Setup!$C$10","v":0},{"$f":"(I557*I$8)/Setup!$C$10","v":0},{"$f":"(J557*J$8)/Setup!$C$10","v":0},{"$f":"(K557*K$8)/Setup!$C$10","v":0},{"$f":"(L557*L$8)/Setup!$C$10","v":0},null,0,0,null,0]
["2014-12-01","Week 22",{"$f":"(C558*C$8)/Setup!$C$10","v":0},{"$f":"(D558*D$8)/Setup!$C$10","v":0},{"$f":"(E558*E$8)/Setup!$C$10","v":0},{"$f":"(F558*F$8)/Setup!$C$10","v":0},{"$f":"(G558*G$8)/Setup!$C$10","v":0},{"$f":"(H558*H$8)/Setup!$C$10","v":0},{"$f":"(I558*I$8)/Setup!$C$10","v":0},{"$f":"(J558*J$8)/Setup!$C$10","v":0},{"$f":"(K558*K$8)/Setup!$C$10","v":0},{"$f":"(L558*L$8)/Setup!$C$10","v":0},null,0,0,null,0]
["2014-12-08","Week 23",{"$f":"(C559*C$8)/Setup!$C$10","v":0},{"$f":"(D559*D$8)/Setup!$C$10","v":0},{"$f":"(E559*E$8)/Setup!$C$10","v":0},{"$f":"(F559*F$8)/Setup!$C$10","v":0},{"$f":"(G559*G$8)/Setup!$C$10","v":0},{"$f":"(H559*H$8)/Setup!$C$10","v":0},{"$f":"(I559*I$8)/Setup!$C$10","v":0},{"$f":"(J559*J$8)/Setup!$C$10","v":0},{"$f":"(K559*K$8)/Setup!$C$10","v":0},{"$f":"(L559*L$8)/Setup!$C$10","v":0},null,0,0,null,0]
["2014-12-15","Week 24",{"$f":"(C560*C$8)/Setup!$C$10","v":0},{"$f":"(D560*D$8)/Setup!$C$10","v":0},{"$f":"(E560*E$8)/Setup!$C$10","v":0},{"$f":"(F560*F$8)/Setup!$C$10","v":0},{"$f":"(G560*G$8)/Setup!$C$10","v":0},{"$f":"(H560*H$8)/Setup!$C$10","v":0},{"$f":"(I560*I$8)/Setup!$C$10","v":0},{"$f":"(J560*J$8)/Setup!$C$10","v":0},{"$f":"(K560*K$8)/Setup!$C$10","v":0},{"$f":"(L560*L$8)/Setup!$C$10","v":0},null,0,0,null,0]
["2014-12-22","Week 25",{"$f":"(C561*C$8)/Setup!$C$10","v":0},{"$f":"(D561*D$8)/Setup!$C$10","v":0},{"$f":"(E561*E$8)/Setup!$C$10","v":0},{"$f":"(F561*F$8)/Setup!$C$10","v":0},{"$f":"(G561*G$8)/Setup!$C$10","v":0},{"$f":"(H561*H$8)/Setup!$C$10","v":0},{"$f":"(I561*I$8)/Setup!$C$10","v":0},{"$f":"(J561*J$8)/Setup!$C$10","v":0},{"$f":"(K561*K$8)/Setup!$C$10","v":0},{"$f":"(L561*L$8)/Setup!$C$10","v":0},null,0,0,null,0]
["2014-12-29","Week 26",{"$f":"(C562*C$8)/Setup!$C$10","v":0},{"$f":"(D562*D$8)/Setup!$C$10","v":0},{"$f":"(E562*E$8)/Setup!$C$10","v":0},{"$f":"(F562*F$8)/Setup!$C$10","v":0},{"$f":"(G562*G$8)/Setup!$C$10","v":0},{"$f":"(H562*H$8)/Setup!$C$10","v":0},{"$f":"(I562*I$8)/Setup!$C$10","v":0},{"$f":"(J562*J$8)/Setup!$C$10","v":0},{"$f":"(K562*K$8)/Setup!$C$10","v":0},{"$f":"(L562*L$8)/Setup!$C$10","v":0},null,0,0,null,0]
["2015-01-05","Week 27",{"$f":"(C563*C$8)/Setup!$C$10","v":0},{"$f":"(D563*D$8)/Setup!$C$10","v":0},{"$f":"(E563*E$8)/Setup!$C$10","v":0},{"$f":"(F563*F$8)/Setup!$C$10","v":0},{"$f":"(G563*G$8)/Setup!$C$10","v":0},{"$f":"(H563*H$8)/Setup!$C$10","v":0},{"$f":"(I563*I$8)/Setup!$C$10","v":0},{"$f":"(J563*J$8)/Setup!$C$10","v":0},{"$f":"(K563*K$8)/Setup!$C$10","v":0},{"$f":"(L563*L$8)/Setup!$C$10","v":0},null,0,0,null,0]
["2015-01-12","Week 28",{"$f":"(C564*C$8)/Setup!$C$10","v":0},{"$f":"(D564*D$8)/Setup!$C$10","v":0},{"$f":"(E564*E$8)/Setup!$C$10","v":0},{"$f":"(F564*F$8)/Setup!$C$10","v":0},{"$f":"(G564*G$8)/Setup!$C$10","v":0},{"$f":"(H564*H$8)/Setup!$C$10","v":0},{"$f":"(I564*I$8)/Setup!$C$10","v":0},{"$f":"(J564*J$8)/Setup!$C$10","v":0},{"$f":"(K564*K$8)/Setup!$C$10","v":0},{"$f":"(L564*L$8)/Setup!$C$10","v":0},null,0,0,null,0]
["2015-01-19","Week 29",{"$f":"(C565*C$8)/Setup!$C$10","v":0},{"$f":"(D565*D$8)/Setup!$C$10","v":0},{"$f":"(E565*E$8)/Setup!$C$10","v":0},{"$f":"(F565*F$8)/Setup!$C$10","v":0},{"$f":"(G565*G$8)/Setup!$C$10","v":0},{"$f":"(H565*H$8)/Setup!$C$10","v":0},{"$f":"(I565*I$8)/Setup!$C$10","v":0},{"$f":"(J565*J$8)/Setup!$C$10","v":0},{"$f":"(K565*K$8)/Setup!$C$10","v":0},{"$f":"(L565*L$8)/Setup!$C$10","v":0},null,0,0,null,0]
["2015-01-26","Week 30",{"$f":"(C566*C$8)/Setup!$C$10","v":0},{"$f":"(D566*D$8)/Setup!$C$10","v":0},{"$f":"(E566*E$8)/Setup!$C$10","v":0},{"$f":"(F566*F$8)/Setup!$C$10","v":0},{"$f":"(G566*G$8)/Setup!$C$10","v":0},{"$f":"(H566*H$8)/Setup!$C$10","v":0},{"$f":"(I566*I$8)/Setup!$C$10","v":0},{"$f":"(J566*J$8)/Setup!$C$10","v":0},{"$f":"(K566*K$8)/Setup!$C$10","v":0},{"$f":"(L566*L$8)/Setup!$C$10","v":0},null,0,0,null,0]
["2015-02-02","Week 31",{"$f":"(C567*C$8)/Setup!$C$10","v":0},{"$f":"(D567*D$8)/Setup!$C$10","v":0},{"$f":"(E567*E$8)/Setup!$C$10","v":0},{"$f":"(F567*F$8)/Setup!$C$10","v":0},{"$f":"(G567*G$8)/Setup!$C$10","v":0},{"$f":"(H567*H$8)/Setup!$C$10","v":0},{"$f":"(I567*I$8)/Setup!$C$10","v":0},{"$f":"(J567*J$8)/Setup!$C$10","v":0},{"$f":"(K567*K$8)/Setup!$C$10","v":0},{"$f":"(L567*L$8)/Setup!$C$10","v":0},null,0,0,null,0]
["2015-02-09","Week 32",{"$f":"(C568*C$8)/Setup!$C$10","v":0},{"$f":"(D568*D$8)/Setup!$C$10","v":0},{"$f":"(E568*E$8)/Setup!$C$10","v":0},{"$f":"(F568*F$8)/Setup!$C$10","v":0},{"$f":"(G568*G$8)/Setup!$C$10","v":0},{"$f":"(H568*H$8)/Setup!$C$10","v":0},{"$f":"(I568*I$8)/Setup!$C$10","v":0},{"$f":"(J568*J$8)/Setup!$C$10","v":0},{"$f":"(K568*K$8)/Setup!$C$10","v":0},{"$f":"(L568*L$8)/Setup!$C$10","v":0},null,0,0,null,0]
["2015-02-16","Week 33",{"$f":"(C569*C$8)/Setup!$C$10","v":0},{"$f":"(D569*D$8)/Setup!$C$10","v":0},{"$f":"(E569*E$8)/Setup!$C$10","v":0},{"$f":"(F569*F$8)/Setup!$C$10","v":0},{"$f":"(G569*G$8)/Setup!$C$10","v":0},{"$f":"(H569*H$8)/Setup!$C$10","v":0},{"$f":"(I569*I$8)/Setup!$C$10","v":0},{"$f":"(J569*J$8)/Setup!$C$10","v":0},{"$f":"(K569*K$8)/Setup!$C$10","v":0},{"$f":"(L569*L$8)/Setup!$C$10","v":0},null,0,0,null,0]
["2015-02-23","Week 34",{"$f":"(C570*C$8)/Setup!$C$10","v":0},{"$f":"(D570*D$8)/Setup!$C$10","v":0},{"$f":"(E570*E$8)/Setup!$C$10","v":0},{"$f":"(F570*F$8)/Setup!$C$10","v":0},{"$f":"(G570*G$8)/Setup!$C$10","v":0},{"$f":"(H570*H$8)/Setup!$C$10","v":0},{"$f":"(I570*I$8)/Setup!$C$10","v":0},{"$f":"(J570*J$8)/Setup!$C$10","v":0},{"$f":"(K570*K$8)/Setup!$C$10","v":0},{"$f":"(L570*L$8)/Setup!$C$10","v":0},null,0,0,null,0]
["2015-03-02","Week 35",{"$f":"(C571*C$8)/Setup!$C$10","v":0},{"$f":"(D571*D$8)/Setup!$C$10","v":0},{"$f":"(E571*E$8)/Setup!$C$10","v":0},{"$f":"(F571*F$8)/Setup!$C$10","v":0},{"$f":"(G571*G$8)/Setup!$C$10","v":0},{"$f":"(H571*H$8)/Setup!$C$10","v":0},{"$f":"(I571*I$8)/Setup!$C$10","v":0},{"$f":"(J571*J$8)/Setup!$C$10","v":0},{"$f":"(K571*K$8)/Setup!$C$10","v":0},{"$f":"(L571*L$8)/Setup!$C$10","v":0},null,0,0,null,0]
["2015-03-09","Week 36",{"$f":"(C572*C$8)/Setup!$C$10","v":0},{"$f":"(D572*D$8)/Setup!$C$10","v":0},{"$f":"(E572*E$8)/Setup!$C$10","v":0},{"$f":"(F572*F$8)/Setup!$C$10","v":0},{"$f":"(G572*G$8)/Setup!$C$10","v":0},{"$f":"(H572*H$8)/Setup!$C$10","v":0},{"$f":"(I572*I$8)/Setup!$C$10","v":0},{"$f":"(J572*J$8)/Setup!$C$10","v":0},{"$f":"(K572*K$8)/Setup!$C$10","v":0},{"$f":"(L572*L$8)/Setup!$C$10","v":0},null,0,0,null,0]
["2015-03-16","Week 37",{"$f":"(C573*C$8)/Setup!$C$10","v":0},{"$f":"(D573*D$8)/Setup!$C$10","v":0},{"$f":"(E573*E$8)/Setup!$C$10","v":0},{"$f":"(F573*F$8)/Setup!$C$10","v":0},{"$f":"(G573*G$8)/Setup!$C$10","v":0},{"$f":"(H573*H$8)/Setup!$C$10","v":0},{"$f":"(I573*I$8)/Setup!$C$10","v":0},{"$f":"(J573*J$8)/Setup!$C$10","v":0},{"$f":"(K573*K$8)/Setup!$C$10","v":0},{"$f":"(L573*L$8)/Setup!$C$10","v":0},null,0,0,null,0]
["2015-03-23","Week 38",{"$f":"(C574*C$8)/Setup!$C$10","v":0},{"$f":"(D574*D$8)/Setup!$C$10","v":0},{"$f":"(E574*E$8)/Setup!$C$10","v":0},{"$f":"(F574*F$8)/Setup!$C$10","v":0},{"$f":"(G574*G$8)/Setup!$C$10","v":0},{"$f":"(H574*H$8)/Setup!$C$10","v":0},{"$f":"(I574*I$8)/Setup!$C$10","v":0},{"$f":"(J574*J$8)/Setup!$C$10","v":0},{"$f":"(K574*K$8)/Setup!$C$10","v":0},{"$f":"(L574*L$8)/Setup!$C$10","v":0},null,0,0,null,0]
["2015-03-30","Week 39",{"$f":"(C575*C$8)/Setup!$C$10","v":0},{"$f":"(D575*D$8)/Setup!$C$10","v":0},{"$f":"(E575*E$8)/Setup!$C$10","v":0},{"$f":"(F575*F$8)/Setup!$C$10","v":0},{"$f":"(G575*G$8)/Setup!$C$10","v":0},{"$f":"(H575*H$8)/Setup!$C$10","v":0},{"$f":"(I575*I$8)/Setup!$C$10","v":0},{"$f":"(J575*J$8)/Setup!$C$10","v":0},{"$f":"(K575*K$8)/Setup!$C$10","v":0},{"$f":"(L575*L$8)/Setup!$C$10","v":0},null,0,0,null,0]
["2015-04-06","Week 40",{"$f":"(C576*C$8)/Setup!$C$10","v":0},{"$f":"(D576*D$8)/Setup!$C$10","v":0},{"$f":"(E576*E$8)/Setup!$C$10","v":0},{"$f":"(F576*F$8)/Setup!$C$10","v":0},{"$f":"(G576*G$8)/Setup!$C$10","v":0},{"$f":"(H576*H$8)/Setup!$C$10","v":0},{"$f":"(I576*I$8)/Setup!$C$10","v":0},{"$f":"(J576*J$8)/Setup!$C$10","v":0},{"$f":"(K576*K$8)/Setup!$C$10","v":0},{"$f":"(L576*L$8)/Setup!$C$10","v":0},null,0,0,null,0]
[{"$f":"A461","v":"2015-04-13"},"Week 41",{"$f":"(C577*C$8)/Setup!$C$10","v":0},{"$f":"(D577*D$8)/Setup!$C$10","v":0},{"$f":"(E577*E$8)/Setup!$C$10","v":0},{"$f":"(F577*F$8)/Setup!$C$10","v":0},{"$f":"(G577*G$8)/Setup!$C$10","v":0},{"$f":"(H577*H$8)/Setup!$C$10","v":0},{"$f":"(I577*I$8)/Setup!$C$10","v":0},{"$f":"(J577*J$8)/Setup!$C$10","v":0},{"$f":"(K577*K$8)/Setup!$C$10","v":0},{"$f":"(L577*L$8)/Setup!$C$10","v":0},null,0,0,null,0]
["2015-04-20","Week 42",{"$f":"(C578*C$8)/Setup!$C$10","v":0},{"$f":"(D578*D$8)/Setup!$C$10","v":0},{"$f":"(E578*E$8)/Setup!$C$10","v":0},{"$f":"(F578*F$8)/Setup!$C$10","v":0},{"$f":"(G578*G$8)/Setup!$C$10","v":0},{"$f":"(H578*H$8)/Setup!$C$10","v":0},{"$f":"(I578*I$8)/Setup!$C$10","v":0},{"$f":"(J578*J$8)/Setup!$C$10","v":0},{"$f":"(K578*K$8)/Setup!$C$10","v":0},{"$f":"(L578*L$8)/Setup!$C$10","v":0},null,0,0,null,0]
["2015-04-27","Week 43",{"$f":"(C579*C$8)/Setup!$C$10","v":0},{"$f":"(D579*D$8)/Setup!$C$10","v":0},{"$f":"(E579*E$8)/Setup!$C$10","v":0},{"$f":"(F579*F$8)/Setup!$C$10","v":0},{"$f":"(G579*G$8)/Setup!$C$10","v":0},{"$f":"(H579*H$8)/Setup!$C$10","v":0},{"$f":"(I579*I$8)/Setup!$C$10","v":0},{"$f":"(J579*J$8)/Setup!$C$10","v":0},{"$f":"(K579*K$8)/Setup!$C$10","v":0},{"$f":"(L579*L$8)/Setup!$C$10","v":0},null,0,0,null,0]
["2015-05-04","Week 44",{"$f":"(C580*C$8)/Setup!$C$10","v":0},{"$f":"(D580*D$8)/Setup!$C$10","v":0},{"$f":"(E580*E$8)/Setup!$C$10","v":0},{"$f":"(F580*F$8)/Setup!$C$10","v":0},{"$f":"(G580*G$8)/Setup!$C$10","v":0},{"$f":"(H580*H$8)/Setup!$C$10","v":0},{"$f":"(I580*I$8)/Setup!$C$10","v":0},{"$f":"(J580*J$8)/Setup!$C$10","v":0},{"$f":"(K580*K$8)/Setup!$C$10","v":0},{"$f":"(L580*L$8)/Setup!$C$10","v":0},null,0,0,null,0]
["2015-05-11","Week 45",{"$f":"(C581*C$8)/Setup!$C$10","v":0},{"$f":"(D581*D$8)/Setup!$C$10","v":0},{"$f":"(E581*E$8)/Setup!$C$10","v":0},{"$f":"(F581*F$8)/Setup!$C$10","v":0},{"$f":"(G581*G$8)/Setup!$C$10","v":0},{"$f":"(H581*H$8)/Setup!$C$10","v":0},{"$f":"(I581*I$8)/Setup!$C$10","v":0},{"$f":"(J581*J$8)/Setup!$C$10","v":0},{"$f":"(K581*K$8)/Setup!$C$10","v":0},{"$f":"(L581*L$8)/Setup!$C$10","v":0},null,0,0,null,0]
["2015-05-18","Week 46",{"$f":"(C582*C$8)/Setup!$C$10","v":0},{"$f":"(D582*D$8)/Setup!$C$10","v":0},{"$f":"(E582*E$8)/Setup!$C$10","v":0},{"$f":"(F582*F$8)/Setup!$C$10","v":0},{"$f":"(G582*G$8)/Setup!$C$10","v":0},{"$f":"(H582*H$8)/Setup!$C$10","v":0},{"$f":"(I582*I$8)/Setup!$C$10","v":0},{"$f":"(J582*J$8)/Setup!$C$10","v":0},{"$f":"(K582*K$8)/Setup!$C$10","v":0},{"$f":"(L582*L$8)/Setup!$C$10","v":0},null,0,0,null,0]
["2015-05-25","Week 47",{"$f":"(C583*C$8)/Setup!$C$10","v":0},{"$f":"(D583*D$8)/Setup!$C$10","v":0},{"$f":"(E583*E$8)/Setup!$C$10","v":0},{"$f":"(F583*F$8)/Setup!$C$10","v":0},{"$f":"(G583*G$8)/Setup!$C$10","v":0},{"$f":"(H583*H$8)/Setup!$C$10","v":0},{"$f":"(I583*I$8)/Setup!$C$10","v":0},{"$f":"(J583*J$8)/Setup!$C$10","v":0},{"$f":"(K583*K$8)/Setup!$C$10","v":0},{"$f":"(L583*L$8)/Setup!$C$10","v":0},null,0,0,null,0]
["2015-06-01","Week 48",{"$f":"(C584*C$8)/Setup!$C$10","v":0},{"$f":"(D584*D$8)/Setup!$C$10","v":0},{"$f":"(E584*E$8)/Setup!$C$10","v":0},{"$f":"(F584*F$8)/Setup!$C$10","v":0},{"$f":"(G584*G$8)/Setup!$C$10","v":0},{"$f":"(H584*H$8)/Setup!$C$10","v":0},{"$f":"(I584*I$8)/Setup!$C$10","v":0},{"$f":"(J584*J$8)/Setup!$C$10","v":0},{"$f":"(K584*K$8)/Setup!$C$10","v":0},{"$f":"(L584*L$8)/Setup!$C$10","v":0},null,0,0,null,0]
["2015-06-08","Week 49",{"$f":"(C585*C$8)/Setup!$C$10","v":0},{"$f":"(D585*D$8)/Setup!$C$10","v":0},{"$f":"(E585*E$8)/Setup!$C$10","v":0},{"$f":"(F585*F$8)/Setup!$C$10","v":0},{"$f":"(G585*G$8)/Setup!$C$10","v":0},{"$f":"(H585*H$8)/Setup!$C$10","v":0},{"$f":"(I585*I$8)/Setup!$C$10","v":0},{"$f":"(J585*J$8)/Setup!$C$10","v":0},{"$f":"(K585*K$8)/Setup!$C$10","v":0},{"$f":"(L585*L$8)/Setup!$C$10","v":0},null,0,0,null,0]
["2015-06-15","Week 50",{"$f":"(C586*C$8)/Setup!$C$10","v":0},{"$f":"(D586*D$8)/Setup!$C$10","v":0},{"$f":"(E586*E$8)/Setup!$C$10","v":0},{"$f":"(F586*F$8)/Setup!$C$10","v":0},{"$f":"(G586*G$8)/Setup!$C$10","v":0},{"$f":"(H586*H$8)/Setup!$C$10","v":0},{"$f":"(I586*I$8)/Setup!$C$10","v":0},{"$f":"(J586*J$8)/Setup!$C$10","v":0},{"$f":"(K586*K$8)/Setup!$C$10","v":0},{"$f":"(L586*L$8)/Setup!$C$10","v":0},null,0,0,null,0]
["2015-06-22","Week 51",{"$f":"(C587*C$8)/Setup!$C$10","v":0},{"$f":"(D587*D$8)/Setup!$C$10","v":0},{"$f":"(E587*E$8)/Setup!$C$10","v":0},{"$f":"(F587*F$8)/Setup!$C$10","v":0},{"$f":"(G587*G$8)/Setup!$C$10","v":0},{"$f":"(H587*H$8)/Setup!$C$10","v":0},{"$f":"(I587*I$8)/Setup!$C$10","v":0},{"$f":"(J587*J$8)/Setup!$C$10","v":0},{"$f":"(K587*K$8)/Setup!$C$10","v":0},{"$f":"(L587*L$8)/Setup!$C$10","v":0},null,0,0,null,0]
["2015-06-29","Week 52",{"$f":"(C588*C$8)/Setup!$C$10","v":0},{"$f":"(D588*D$8)/Setup!$C$10","v":0},{"$f":"(E588*E$8)/Setup!$C$10","v":0},{"$f":"(F588*F$8)/Setup!$C$10","v":0},{"$f":"(G588*G$8)/Setup!$C$10","v":0},{"$f":"(H588*H$8)/Setup!$C$10","v":0},{"$f":"(I588*I$8)/Setup!$C$10","v":0},{"$f":"(J588*J$8)/Setup!$C$10","v":0},{"$f":"(K588*K$8)/Setup!$C$10","v":0},{"$f":"(L588*L$8)/Setup!$C$10","v":0},null,0,0,null,0]
[null,null,null,null,null,null,null,null,null,null,null,null,null,null,null,null,{"$f":"SUM(Q134:Q185)","v":0}]
[]
["Actual Weekly K (Kg) / Hectare (Ha):"]
[]
[null,null,{"$f":"C5","v":"Amm Nitr"},"Urea","UAN","Pot Nitrate","MAP","Pot Sulphate","Cal Nitrate","Fertimix",{"$f":"K5","v":"User Defined 9"},{"$f":"L5","v":"User Defined 10"},null,"WEEKLY TOTAL","Grower Cumm",null,"Actual Weekly K"]
[null,null,null,null,null,null,null,null,null,null,null,null,null,"TOTAL","TOTAL",null,"TOTAL"]
[{"$f":"A421","v":"2014-07-07"},"Week 1",{"$f":"(C537*C$9)/Setup!$C$10","v":0},{"$f":"(D537*D$9)/Setup!$C$10","v":0},{"$f":"(E537*E$9)/Setup!$C$10","v":0},{"$f":"(F537*F$9)/Setup!$C$10","v":0},{"$f":"(G537*G$9)/Setup!$C$10","v":0},{"$f":"(H537*H$9)/Setup!$C$10","v":0},{"$f":"(I537*I$9)/Setup!$C$10","v":0},{"$f":"(J537*J$9)/Setup!$C$10","v":0},{"$f":"(K537*K$9)/Setup!$C$10","v":0},{"$f":"(L537*L$9)/Setup!$C$10","v":0},null,{"$f":"SUM(C192:L192)","v":0},{"$f":"N192","v":0},null,{"$f":"N192","v":0}]
["2014-07-14","Week 2",{"$f":"(C538*C$9)/Setup!$C$10","v":0},{"$f":"(D538*D$9)/Setup!$C$10","v":0},{"$f":"(E538*E$9)/Setup!$C$10","v":0},{"$f":"(F538*F$9)/Setup!$C$10","v":0},{"$f":"(G538*G$9)/Setup!$C$10","v":0},{"$f":"(H538*H$9)/Setup!$C$10","v":0},{"$f":"(I538*I$9)/Setup!$C$10","v":0},{"$f":"(J538*J$9)/Setup!$C$10","v":0},{"$f":"(K538*K$9)/Setup!$C$10","v":0},{"$f":"(L538*L$9)/Setup!$C$10","v":0},null,{"$f":"SUM(C193:L193)","v":0},{"$f":"O192+N193","v":0},null,{"$f":"N193","v":0}]
["2014-07-21","Week 3",{"$f":"(C539*C$9)/Setup!$C$10","v":0},{"$f":"(D539*D$9)/Setup!$C$10","v":0},{"$f":"(E539*E$9)/Setup!$C$10","v":0},{"$f":"(F539*F$9)/Setup!$C$10","v":0},{"$f":"(G539*G$9)/Setup!$C$10","v":0},{"$f":"(H539*H$9)/Setup!$C$10","v":0},{"$f":"(I539*I$9)/Setup!$C$10","v":0},{"$f":"(J539*J$9)/Setup!$C$10","v":0},{"$f":"(K539*K$9)/Setup!$C$10","v":0},{"$f":"(L539*L$9)/Setup!$C$10","v":0},null,0,{"$f":"O193+N194","v":0},null,0]
["2014-07-28","Week 4",{"$f":"(C540*C$9)/Setup!$C$10","v":0},{"$f":"(D540*D$9)/Setup!$C$10","v":0},{"$f":"(E540*E$9)/Setup!$C$10","v":0},{"$f":"(F540*F$9)/Setup!$C$10","v":0},{"$f":"(G540*G$9)/Setup!$C$10","v":0},{"$f":"(H540*H$9)/Setup!$C$10","v":0},{"$f":"(I540*I$9)/Setup!$C$10","v":0},{"$f":"(J540*J$9)/Setup!$C$10","v":0},{"$f":"(K540*K$9)/Setup!$C$10","v":0},{"$f":"(L540*L$9)/Setup!$C$10","v":0},null,0,0,null,0]
["2014-08-04","Week 5",{"$f":"(C541*C$9)/Setup!$C$10","v":0},{"$f":"(D541*D$9)/Setup!$C$10","v":0},{"$f":"(E541*E$9)/Setup!$C$10","v":0},{"$f":"(F541*F$9)/Setup!$C$10","v":0},{"$f":"(G541*G$9)/Setup!$C$10","v":0},{"$f":"(H541*H$9)/Setup!$C$10","v":0},{"$f":"(I541*I$9)/Setup!$C$10","v":0},{"$f":"(J541*J$9)/Setup!$C$10","v":0},{"$f":"(K541*K$9)/Setup!$C$10","v":0},{"$f":"(L541*L$9)/Setup!$C$10","v":0},null,0,0,null,0]
["2014-08-11","Week 6",{"$f":"(C542*C$9)/Setup!$C$10","v":0},{"$f":"(D542*D$9)/Setup!$C$10","v":0},{"$f":"(E542*E$9)/Setup!$C$10","v":0},{"$f":"(F542*F$9)/Setup!$C$10","v":0},{"$f":"(G542*G$9)/Setup!$C$10","v":0},{"$f":"(H542*H$9)/Setup!$C$10","v":0},{"$f":"(I542*I$9)/Setup!$C$10","v":0},{"$f":"(J542*J$9)/Setup!$C$10","v":0},{"$f":"(K542*K$9)/Setup!$C$10","v":0},{"$f":"(L542*L$9)/Setup!$C$10","v":0},null,0,0,null,0]
["2014-08-18","Week 7",{"$f":"(C543*C$9)/Setup!$C$10","v":0},{"$f":"(D543*D$9)/Setup!$C$10","v":0},{"$f":"(E543*E$9)/Setup!$C$10","v":0},{"$f":"(F543*F$9)/Setup!$C$10","v":0},{"$f":"(G543*G$9)/Setup!$C$10","v":0},{"$f":"(H543*H$9)/Setup!$C$10","v":0},{"$f":"(I543*I$9)/Setup!$C$10","v":0},{"$f":"(J543*J$9)/Setup!$C$10","v":0},{"$f":"(K543*K$9)/Setup!$C$10","v":0},{"$f":"(L543*L$9)/Setup!$C$10","v":0},null,0,0,null,0]
["2014-08-25","Week 8",{"$f":"(C544*C$9)/Setup!$C$10","v":0},{"$f":"(D544*D$9)/Setup!$C$10","v":0},{"$f":"(E544*E$9)/Setup!$C$10","v":0},{"$f":"(F544*F$9)/Setup!$C$10","v":0},{"$f":"(G544*G$9)/Setup!$C$10","v":0},{"$f":"(H544*H$9)/Setup!$C$10","v":0},{"$f":"(I544*I$9)/Setup!$C$10","v":0},{"$f":"(J544*J$9)/Setup!$C$10","v":0},{"$f":"(K544*K$9)/Setup!$C$10","v":0},{"$f":"(L544*L$9)/Setup!$C$10","v":0},null,0,0,null,0]
["2014-09-01","Week 9",{"$f":"(C545*C$9)/Setup!$C$10","v":0},{"$f":"(D545*D$9)/Setup!$C$10","v":0},{"$f":"(E545*E$9)/Setup!$C$10","v":0},{"$f":"(F545*F$9)/Setup!$C$10","v":0},{"$f":"(G545*G$9)/Setup!$C$10","v":0},{"$f":"(H545*H$9)/Setup!$C$10","v":0},{"$f":"(I545*I$9)/Setup!$C$10","v":0},{"$f":"(J545*J$9)/Setup!$C$10","v":0},{"$f":"(K545*K$9)/Setup!$C$10","v":0},{"$f":"(L545*L$9)/Setup!$C$10","v":0},null,0,0,null,0]
["2014-09-08","Week 10",{"$f":"(C546*C$9)/Setup!$C$10","v":0},{"$f":"(D546*D$9)/Setup!$C$10","v":0},{"$f":"(E546*E$9)/Setup!$C$10","v":0},{"$f":"(F546*F$9)/Setup!$C$10","v":0},{"$f":"(G546*G$9)/Setup!$C$10","v":0},{"$f":"(H546*H$9)/Setup!$C$10","v":0},{"$f":"(I546*I$9)/Setup!$C$10","v":0},{"$f":"(J546*J$9)/Setup!$C$10","v":0},{"$f":"(K546*K$9)/Setup!$C$10","v":0},{"$f":"(L546*L$9)/Setup!$C$10","v":0},null,0,0,null,0]
["2014-09-15","Week 11",{"$f":"(C547*C$9)/Setup!$C$10","v":0},{"$f":"(D547*D$9)/Setup!$C$10","v":0},{"$f":"(E547*E$9)/Setup!$C$10","v":0},{"$f":"(F547*F$9)/Setup!$C$10","v":0},{"$f":"(G547*G$9)/Setup!$C$10","v":0},{"$f":"(H547*H$9)/Setup!$C$10","v":0},{"$f":"(I547*I$9)/Setup!$C$10","v":0},{"$f":"(J547*J$9)/Setup!$C$10","v":0},{"$f":"(K547*K$9)/Setup!$C$10","v":0},{"$f":"(L547*L$9)/Setup!$C$10","v":0},null,0,0,null,0]
["2014-09-22","Week 12",{"$f":"(C548*C$9)/Setup!$C$10","v":0},{"$f":"(D548*D$9)/Setup!$C$10","v":0},{"$f":"(E548*E$9)/Setup!$C$10","v":0},{"$f":"(F548*F$9)/Setup!$C$10","v":0},{"$f":"(G548*G$9)/Setup!$C$10","v":0},{"$f":"(H548*H$9)/Setup!$C$10","v":0},{"$f":"(I548*I$9)/Setup!$C$10","v":0},{"$f":"(J548*J$9)/Setup!$C$10","v":0},{"$f":"(K548*K$9)/Setup!$C$10","v":0},{"$f":"(L548*L$9)/Setup!$C$10","v":0},null,0,0,null,0]
["2014-09-29","Week 13",{"$f":"(C549*C$9)/Setup!$C$10","v":0},{"$f":"(D549*D$9)/Setup!$C$10","v":0},{"$f":"(E549*E$9)/Setup!$C$10","v":0},{"$f":"(F549*F$9)/Setup!$C$10","v":0},{"$f":"(G549*G$9)/Setup!$C$10","v":0},{"$f":"(H549*H$9)/Setup!$C$10","v":0},{"$f":"(I549*I$9)/Setup!$C$10","v":0},{"$f":"(J549*J$9)/Setup!$C$10","v":0},{"$f":"(K549*K$9)/Setup!$C$10","v":0},{"$f":"(L549*L$9)/Setup!$C$10","v":0},null,0,0,null,0]
["2014-10-06","Week 14",{"$f":"(C550*C$9)/Setup!$C$10","v":0},{"$f":"(D550*D$9)/Setup!$C$10","v":0},{"$f":"(E550*E$9)/Setup!$C$10","v":0},{"$f":"(F550*F$9)/Setup!$C$10","v":0},{"$f":"(G550*G$9)/Setup!$C$10","v":0},{"$f":"(H550*H$9)/Setup!$C$10","v":0},{"$f":"(I550*I$9)/Setup!$C$10","v":0},{"$f":"(J550*J$9)/Setup!$C$10","v":0},{"$f":"(K550*K$9)/Setup!$C$10","v":0},{"$f":"(L550*L$9)/Setup!$C$10","v":0},null,0,0,null,0]
["2014-10-13","Week 15",{"$f":"(C551*C$9)/Setup!$C$10","v":0},{"$f":"(D551*D$9)/Setup!$C$10","v":0},{"$f":"(E551*E$9)/Setup!$C$10","v":0},{"$f":"(F551*F$9)/Setup!$C$10","v":0},{"$f":"(G551*G$9)/Setup!$C$10","v":0},{"$f":"(H551*H$9)/Setup!$C$10","v":0},{"$f":"(I551*I$9)/Setup!$C$10","v":0},{"$f":"(J551*J$9)/Setup!$C$10","v":0},{"$f":"(K551*K$9)/Setup!$C$10","v":0},{"$f":"(L551*L$9)/Setup!$C$10","v":0},null,0,0,null,0]
["2014-10-20","Week 16",{"$f":"(C552*C$9)/Setup!$C$10","v":0},{"$f":"(D552*D$9)/Setup!$C$10","v":0},{"$f":"(E552*E$9)/Setup!$C$10","v":0},{"$f":"(F552*F$9)/Setup!$C$10","v":0},{"$f":"(G552*G$9)/Setup!$C$10","v":0},{"$f":"(H552*H$9)/Setup!$C$10","v":0},{"$f":"(I552*I$9)/Setup!$C$10","v":0},{"$f":"(J552*J$9)/Setup!$C$10","v":0},{"$f":"(K552*K$9)/Setup!$C$10","v":0},{"$f":"(L552*L$9)/Setup!$C$10","v":0},null,0,0,null,0]
["2014-10-27","Week 17",{"$f":"(C553*C$9)/Setup!$C$10","v":0},{"$f":"(D553*D$9)/Setup!$C$10","v":0},{"$f":"(E553*E$9)/Setup!$C$10","v":0},{"$f":"(F553*F$9)/Setup!$C$10","v":0},{"$f":"(G553*G$9)/Setup!$C$10","v":0},{"$f":"(H553*H$9)/Setup!$C$10","v":0},{"$f":"(I553*I$9)/Setup!$C$10","v":0},{"$f":"(J553*J$9)/Setup!$C$10","v":0},{"$f":"(K553*K$9)/Setup!$C$10","v":0},{"$f":"(L553*L$9)/Setup!$C$10","v":0},null,0,0,null,0]
["2014-11-03","Week 18",{"$f":"(C554*C$9)/Setup!$C$10","v":0},{"$f":"(D554*D$9)/Setup!$C$10","v":0},{"$f":"(E554*E$9)/Setup!$C$10","v":0},{"$f":"(F554*F$9)/Setup!$C$10","v":0},{"$f":"(G554*G$9)/Setup!$C$10","v":0},{"$f":"(H554*H$9)/Setup!$C$10","v":0},{"$f":"(I554*I$9)/Setup!$C$10","v":0},{"$f":"(J554*J$9)/Setup!$C$10","v":0},{"$f":"(K554*K$9)/Setup!$C$10","v":0},{"$f":"(L554*L$9)/Setup!$C$10","v":0},null,0,0,null,0]
["2014-11-10","Week 19",{"$f":"(C555*C$9)/Setup!$C$10","v":0},{"$f":"(D555*D$9)/Setup!$C$10","v":0},{"$f":"(E555*E$9)/Setup!$C$10","v":0},{"$f":"(F555*F$9)/Setup!$C$10","v":0},{"$f":"(G555*G$9)/Setup!$C$10","v":0},{"$f":"(H555*H$9)/Setup!$C$10","v":0},{"$f":"(I555*I$9)/Setup!$C$10","v":0},{"$f":"(J555*J$9)/Setup!$C$10","v":0},{"$f":"(K555*K$9)/Setup!$C$10","v":0},{"$f":"(L555*L$9)/Setup!$C$10","v":0},null,0,0,null,0]
["2014-11-17","Week 20",{"$f":"(C556*C$9)/Setup!$C$10","v":0},{"$f":"(D556*D$9)/Setup!$C$10","v":0},{"$f":"(E556*E$9)/Setup!$C$10","v":0},{"$f":"(F556*F$9)/Setup!$C$10","v":0},{"$f":"(G556*G$9)/Setup!$C$10","v":0},{"$f":"(H556*H$9)/Setup!$C$10","v":0},{"$f":"(I556*I$9)/Setup!$C$10","v":0},{"$f":"(J556*J$9)/Setup!$C$10","v":0},{"$f":"(K556*K$9)/Setup!$C$10","v":0},{"$f":"(L556*L$9)/Setup!$C$10","v":0},null,0,0,null,0]
[{"$f":"A441","v":"2014-11-24"},"Week 21",{"$f":"(C557*C$9)/Setup!$C$10","v":0},{"$f":"(D557*D$9)/Setup!$C$10","v":0},{"$f":"(E557*E$9)/Setup!$C$10","v":0},{"$f":"(F557*F$9)/Setup!$C$10","v":0},{"$f":"(G557*G$9)/Setup!$C$10","v":0},{"$f":"(H557*H$9)/Setup!$C$10","v":0},{"$f":"(I557*I$9)/Setup!$C$10","v":0},{"$f":"(J557*J$9)/Setup!$C$10","v":0},{"$f":"(K557*K$9)/Setup!$C$10","v":0},{"$f":"(L557*L$9)/Setup!$C$10","v":0},null,0,0,null,0]
["2014-12-01","Week 22",{"$f":"(C558*C$9)/Setup!$C$10","v":0},{"$f":"(D558*D$9)/Setup!$C$10","v":0},{"$f":"(E558*E$9)/Setup!$C$10","v":0},{"$f":"(F558*F$9)/Setup!$C$10","v":0},{"$f":"(G558*G$9)/Setup!$C$10","v":0},{"$f":"(H558*H$9)/Setup!$C$10","v":0},{"$f":"(I558*I$9)/Setup!$C$10","v":0},{"$f":"(J558*J$9)/Setup!$C$10","v":0},{"$f":"(K558*K$9)/Setup!$C$10","v":0},{"$f":"(L558*L$9)/Setup!$C$10","v":0},null,0,0,null,0]
["2014-12-08","Week 23",{"$f":"(C559*C$9)/Setup!$C$10","v":0},{"$f":"(D559*D$9)/Setup!$C$10","v":0},{"$f":"(E559*E$9)/Setup!$C$10","v":0},{"$f":"(F559*F$9)/Setup!$C$10","v":0},{"$f":"(G559*G$9)/Setup!$C$10","v":0},{"$f":"(H559*H$9)/Setup!$C$10","v":0},{"$f":"(I559*I$9)/Setup!$C$10","v":0},{"$f":"(J559*J$9)/Setup!$C$10","v":0},{"$f":"(K559*K$9)/Setup!$C$10","v":0},{"$f":"(L559*L$9)/Setup!$C$10","v":0},null,0,0,null,0]
["2014-12-15","Week 24",{"$f":"(C560*C$9)/Setup!$C$10","v":0},{"$f":"(D560*D$9)/Setup!$C$10","v":0},{"$f":"(E560*E$9)/Setup!$C$10","v":0},{"$f":"(F560*F$9)/Setup!$C$10","v":0},{"$f":"(G560*G$9)/Setup!$C$10","v":0},{"$f":"(H560*H$9)/Setup!$C$10","v":0},{"$f":"(I560*I$9)/Setup!$C$10","v":0},{"$f":"(J560*J$9)/Setup!$C$10","v":0},{"$f":"(K560*K$9)/Setup!$C$10","v":0},{"$f":"(L560*L$9)/Setup!$C$10","v":0},null,0,0,null,0]
["2014-12-22","Week 25",{"$f":"(C561*C$9)/Setup!$C$10","v":0},{"$f":"(D561*D$9)/Setup!$C$10","v":0},{"$f":"(E561*E$9)/Setup!$C$10","v":0},{"$f":"(F561*F$9)/Setup!$C$10","v":0},{"$f":"(G561*G$9)/Setup!$C$10","v":0},{"$f":"(H561*H$9)/Setup!$C$10","v":0},{"$f":"(I561*I$9)/Setup!$C$10","v":0},{"$f":"(J561*J$9)/Setup!$C$10","v":0},{"$f":"(K561*K$9)/Setup!$C$10","v":0},{"$f":"(L561*L$9)/Setup!$C$10","v":0},null,0,0,null,0]
["2014-12-29","Week 26",{"$f":"(C562*C$9)/Setup!$C$10","v":0},{"$f":"(D562*D$9)/Setup!$C$10","v":0},{"$f":"(E562*E$9)/Setup!$C$10","v":0},{"$f":"(F562*F$9)/Setup!$C$10","v":0},{"$f":"(G562*G$9)/Setup!$C$10","v":0},{"$f":"(H562*H$9)/Setup!$C$10","v":0},{"$f":"(I562*I$9)/Setup!$C$10","v":0},{"$f":"(J562*J$9)/Setup!$C$10","v":0},{"$f":"(K562*K$9)/Setup!$C$10","v":0},{"$f":"(L562*L$9)/Setup!$C$10","v":0},null,0,0,null,0]
["2015-01-05","Week 27",{"$f":"(C563*C$9)/Setup!$C$10","v":0},{"$f":"(D563*D$9)/Setup!$C$10","v":0},{"$f":"(E563*E$9)/Setup!$C$10","v":0},{"$f":"(F563*F$9)/Setup!$C$10","v":0},{"$f":"(G563*G$9)/Setup!$C$10","v":0},{"$f":"(H563*H$9)/Setup!$C$10","v":0},{"$f":"(I563*I$9)/Setup!$C$10","v":0},{"$f":"(J563*J$9)/Setup!$C$10","v":0},{"$f":"(K563*K$9)/Setup!$C$10","v":0},{"$f":"(L563*L$9)/Setup!$C$10","v":0},null,0,0,null,0]
["2015-01-12","Week 28",{"$f":"(C564*C$9)/Setup!$C$10","v":0},{"$f":"(D564*D$9)/Setup!$C$10","v":0},{"$f":"(E564*E$9)/Setup!$C$10","v":0},{"$f":"(F564*F$9)/Setup!$C$10","v":0},{"$f":"(G564*G$9)/Setup!$C$10","v":0},{"$f":"(H564*H$9)/Setup!$C$10","v":0},{"$f":"(I564*I$9)/Setup!$C$10","v":0},{"$f":"(J564*J$9)/Setup!$C$10","v":0},{"$f":"(K564*K$9)/Setup!$C$10","v":0},{"$f":"(L564*L$9)/Setup!$C$10","v":0},null,0,0,null,0]
["2015-01-19","Week 29",{"$f":"(C565*C$9)/Setup!$C$10","v":0},{"$f":"(D565*D$9)/Setup!$C$10","v":0},{"$f":"(E565*E$9)/Setup!$C$10","v":0},{"$f":"(F565*F$9)/Setup!$C$10","v":0},{"$f":"(G565*G$9)/Setup!$C$10","v":0},{"$f":"(H565*H$9)/Setup!$C$10","v":0},{"$f":"(I565*I$9)/Setup!$C$10","v":0},{"$f":"(J565*J$9)/Setup!$C$10","v":0},{"$f":"(K565*K$9)/Setup!$C$10","v":0},{"$f":"(L565*L$9)/Setup!$C$10","v":0},null,0,0,null,0]
["2015-01-26","Week 30",{"$f":"(C566*C$9)/Setup!$C$10","v":0},{"$f":"(D566*D$9)/Setup!$C$10","v":0},{"$f":"(E566*E$9)/Setup!$C$10","v":0},{"$f":"(F566*F$9)/Setup!$C$10","v":0},{"$f":"(G566*G$9)/Setup!$C$10","v":0},{"$f":"(H566*H$9)/Setup!$C$10","v":0},{"$f":"(I566*I$9)/Setup!$C$10","v":0},{"$f":"(J566*J$9)/Setup!$C$10","v":0},{"$f":"(K566*K$9)/Setup!$C$10","v":0},{"$f":"(L566*L$9)/Setup!$C$10","v":0},null,0,0,null,0]
["2015-02-02","Week 31",{"$f":"(C567*C$9)/Setup!$C$10","v":0},{"$f":"(D567*D$9)/Setup!$C$10","v":0},{"$f":"(E567*E$9)/Setup!$C$10","v":0},{"$f":"(F567*F$9)/Setup!$C$10","v":0},{"$f":"(G567*G$9)/Setup!$C$10","v":0},{"$f":"(H567*H$9)/Setup!$C$10","v":0},{"$f":"(I567*I$9)/Setup!$C$10","v":0},{"$f":"(J567*J$9)/Setup!$C$10","v":0},{"$f":"(K567*K$9)/Setup!$C$10","v":0},{"$f":"(L567*L$9)/Setup!$C$10","v":0},null,0,0,null,0]
["2015-02-09","Week 32",{"$f":"(C568*C$9)/Setup!$C$10","v":0},{"$f":"(D568*D$9)/Setup!$C$10","v":0},{"$f":"(E568*E$9)/Setup!$C$10","v":0},{"$f":"(F568*F$9)/Setup!$C$10","v":0},{"$f":"(G568*G$9)/Setup!$C$10","v":0},{"$f":"(H568*H$9)/Setup!$C$10","v":0},{"$f":"(I568*I$9)/Setup!$C$10","v":0},{"$f":"(J568*J$9)/Setup!$C$10","v":0},{"$f":"(K568*K$9)/Setup!$C$10","v":0},{"$f":"(L568*L$9)/Setup!$C$10","v":0},null,0,0,null,0]
["2015-02-16","Week 33",{"$f":"(C569*C$9)/Setup!$C$10","v":0},{"$f":"(D569*D$9)/Setup!$C$10","v":0},{"$f":"(E569*E$9)/Setup!$C$10","v":0},{"$f":"(F569*F$9)/Setup!$C$10","v":0},{"$f":"(G569*G$9)/Setup!$C$10","v":0},{"$f":"(H569*H$9)/Setup!$C$10","v":0},{"$f":"(I569*I$9)/Setup!$C$10","v":0},{"$f":"(J569*J$9)/Setup!$C$10","v":0},{"$f":"(K569*K$9)/Setup!$C$10","v":0},{"$f":"(L569*L$9)/Setup!$C$10","v":0},null,0,0,null,0]
["2015-02-23","Week 34",{"$f":"(C570*C$9)/Setup!$C$10","v":0},{"$f":"(D570*D$9)/Setup!$C$10","v":0},{"$f":"(E570*E$9)/Setup!$C$10","v":0},{"$f":"(F570*F$9)/Setup!$C$10","v":0},{"$f":"(G570*G$9)/Setup!$C$10","v":0},{"$f":"(H570*H$9)/Setup!$C$10","v":0},{"$f":"(I570*I$9)/Setup!$C$10","v":0},{"$f":"(J570*J$9)/Setup!$C$10","v":0},{"$f":"(K570*K$9)/Setup!$C$10","v":0},{"$f":"(L570*L$9)/Setup!$C$10","v":0},null,0,0,null,0]
["2015-03-02","Week 35",{"$f":"(C571*C$9)/Setup!$C$10","v":0},{"$f":"(D571*D$9)/Setup!$C$10","v":0},{"$f":"(E571*E$9)/Setup!$C$10","v":0},{"$f":"(F571*F$9)/Setup!$C$10","v":0},{"$f":"(G571*G$9)/Setup!$C$10","v":0},{"$f":"(H571*H$9)/Setup!$C$10","v":0},{"$f":"(I571*I$9)/Setup!$C$10","v":0},{"$f":"(J571*J$9)/Setup!$C$10","v":0},{"$f":"(K571*K$9)/Setup!$C$10","v":0},{"$f":"(L571*L$9)/Setup!$C$10","v":0},null,0,0,null,0]
["2015-03-09","Week 36",{"$f":"(C572*C$9)/Setup!$C$10","v":0},{"$f":"(D572*D$9)/Setup!$C$10","v":0},{"$f":"(E572*E$9)/Setup!$C$10","v":0},{"$f":"(F572*F$9)/Setup!$C$10","v":0},{"$f":"(G572*G$9)/Setup!$C$10","v":0},{"$f":"(H572*H$9)/Setup!$C$10","v":0},{"$f":"(I572*I$9)/Setup!$C$10","v":0},{"$f":"(J572*J$9)/Setup!$C$10","v":0},{"$f":"(K572*K$9)/Setup!$C$10","v":0},{"$f":"(L572*L$9)/Setup!$C$10","v":0},null,0,0,null,0]
["2015-03-16","Week 37",{"$f":"(C573*C$9)/Setup!$C$10","v":0},{"$f":"(D573*D$9)/Setup!$C$10","v":0},{"$f":"(E573*E$9)/Setup!$C$10","v":0},{"$f":"(F573*F$9)/Setup!$C$10","v":0},{"$f":"(G573*G$9)/Setup!$C$10","v":0},{"$f":"(H573*H$9)/Setup!$C$10","v":0},{"$f":"(I573*I$9)/Setup!$C$10","v":0},{"$f":"(J573*J$9)/Setup!$C$10","v":0},{"$f":"(K573*K$9)/Setup!$C$10","v":0},{"$f":"(L573*L$9)/Setup!$C$10","v":0},null,0,0,null,0]
["2015-03-23","Week 38",{"$f":"(C574*C$9)/Setup!$C$10","v":0},{"$f":"(D574*D$9)/Setup!$C$10","v":0},{"$f":"(E574*E$9)/Setup!$C$10","v":0},{"$f":"(F574*F$9)/Setup!$C$10","v":0},{"$f":"(G574*G$9)/Setup!$C$10","v":0},{"$f":"(H574*H$9)/Setup!$C$10","v":0},{"$f":"(I574*I$9)/Setup!$C$10","v":0},{"$f":"(J574*J$9)/Setup!$C$10","v":0},{"$f":"(K574*K$9)/Setup!$C$10","v":0},{"$f":"(L574*L$9)/Setup!$C$10","v":0},null,0,0,null,0]
["2015-03-30","Week 39",{"$f":"(C575*C$9)/Setup!$C$10","v":0},{"$f":"(D575*D$9)/Setup!$C$10","v":0},{"$f":"(E575*E$9)/Setup!$C$10","v":0},{"$f":"(F575*F$9)/Setup!$C$10","v":0},{"$f":"(G575*G$9)/Setup!$C$10","v":0},{"$f":"(H575*H$9)/Setup!$C$10","v":0},{"$f":"(I575*I$9)/Setup!$C$10","v":0},{"$f":"(J575*J$9)/Setup!$C$10","v":0},{"$f":"(K575*K$9)/Setup!$C$10","v":0},{"$f":"(L575*L$9)/Setup!$C$10","v":0},null,0,0,null,0]
["2015-04-06","Week 40",{"$f":"(C576*C$9)/Setup!$C$10","v":0},{"$f":"(D576*D$9)/Setup!$C$10","v":0},{"$f":"(E576*E$9)/Setup!$C$10","v":0},{"$f":"(F576*F$9)/Setup!$C$10","v":0},{"$f":"(G576*G$9)/Setup!$C$10","v":0},{"$f":"(H576*H$9)/Setup!$C$10","v":0},{"$f":"(I576*I$9)/Setup!$C$10","v":0},{"$f":"(J576*J$9)/Setup!$C$10","v":0},{"$f":"(K576*K$9)/Setup!$C$10","v":0},{"$f":"(L576*L$9)/Setup!$C$10","v":0},null,0,0,null,0]
[{"$f":"A461","v":"2015-04-13"},"Week 41",{"$f":"(C577*C$9)/Setup!$C$10","v":0},{"$f":"(D577*D$9)/Setup!$C$10","v":0},{"$f":"(E577*E$9)/Setup!$C$10","v":0},{"$f":"(F577*F$9)/Setup!$C$10","v":0},{"$f":"(G577*G$9)/Setup!$C$10","v":0},{"$f":"(H577*H$9)/Setup!$C$10","v":0},{"$f":"(I577*I$9)/Setup!$C$10","v":0},{"$f":"(J577*J$9)/Setup!$C$10","v":0},{"$f":"(K577*K$9)/Setup!$C$10","v":0},{"$f":"(L577*L$9)/Setup!$C$10","v":0},null,0,0,null,0]
["2015-04-20","Week 42",{"$f":"(C578*C$9)/Setup!$C$10","v":0},{"$f":"(D578*D$9)/Setup!$C$10","v":0},{"$f":"(E578*E$9)/Setup!$C$10","v":0},{"$f":"(F578*F$9)/Setup!$C$10","v":0},{"$f":"(G578*G$9)/Setup!$C$10","v":0},{"$f":"(H578*H$9)/Setup!$C$10","v":0},{"$f":"(I578*I$9)/Setup!$C$10","v":0},{"$f":"(J578*J$9)/Setup!$C$10","v":0},{"$f":"(K578*K$9)/Setup!$C$10","v":0},{"$f":"(L578*L$9)/Setup!$C$10","v":0},null,0,0,null,0]
["2015-04-27","Week 43",{"$f":"(C579*C$9)/Setup!$C$10","v":0},{"$f":"(D579*D$9)/Setup!$C$10","v":0},{"$f":"(E579*E$9)/Setup!$C$10","v":0},{"$f":"(F579*F$9)/Setup!$C$10","v":0},{"$f":"(G579*G$9)/Setup!$C$10","v":0},{"$f":"(H579*H$9)/Setup!$C$10","v":0},{"$f":"(I579*I$9)/Setup!$C$10","v":0},{"$f":"(J579*J$9)/Setup!$C$10","v":0},{"$f":"(K579*K$9)/Setup!$C$10","v":0},{"$f":"(L579*L$9)/Setup!$C$10","v":0},null,0,0,null,0]
["2015-05-04","Week 44",{"$f":"(C580*C$9)/Setup!$C$10","v":0},{"$f":"(D580*D$9)/Setup!$C$10","v":0},{"$f":"(E580*E$9)/Setup!$C$10","v":0},{"$f":"(F580*F$9)/Setup!$C$10","v":0},{"$f":"(G580*G$9)/Setup!$C$10","v":0},{"$f":"(H580*H$9)/Setup!$C$10","v":0},{"$f":"(I580*I$9)/Setup!$C$10","v":0},{"$f":"(J580*J$9)/Setup!$C$10","v":0},{"$f":"(K580*K$9)/Setup!$C$10","v":0},{"$f":"(L580*L$9)/Setup!$C$10","v":0},null,0,0,null,0]
["2015-05-11","Week 45",{"$f":"(C581*C$9)/Setup!$C$10","v":0},{"$f":"(D581*D$9)/Setup!$C$10","v":0},{"$f":"(E581*E$9)/Setup!$C$10","v":0},{"$f":"(F581*F$9)/Setup!$C$10","v":0},{"$f":"(G581*G$9)/Setup!$C$10","v":0},{"$f":"(H581*H$9)/Setup!$C$10","v":0},{"$f":"(I581*I$9)/Setup!$C$10","v":0},{"$f":"(J581*J$9)/Setup!$C$10","v":0},{"$f":"(K581*K$9)/Setup!$C$10","v":0},{"$f":"(L581*L$9)/Setup!$C$10","v":0},null,0,0,null,0]
["2015-05-18","Week 46",{"$f":"(C582*C$9)/Setup!$C$10","v":0},{"$f":"(D582*D$9)/Setup!$C$10","v":0},{"$f":"(E582*E$9)/Setup!$C$10","v":0},{"$f":"(F582*F$9)/Setup!$C$10","v":0},{"$f":"(G582*G$9)/Setup!$C$10","v":0},{"$f":"(H582*H$9)/Setup!$C$10","v":0},{"$f":"(I582*I$9)/Setup!$C$10","v":0},{"$f":"(J582*J$9)/Setup!$C$10","v":0},{"$f":"(K582*K$9)/Setup!$C$10","v":0},{"$f":"(L582*L$9)/Setup!$C$10","v":0},null,0,0,null,0]
["2015-05-25","Week 47",{"$f":"(C583*C$9)/Setup!$C$10","v":0},{"$f":"(D583*D$9)/Setup!$C$10","v":0},{"$f":"(E583*E$9)/Setup!$C$10","v":0},{"$f":"(F583*F$9)/Setup!$C$10","v":0},{"$f":"(G583*G$9)/Setup!$C$10","v":0},{"$f":"(H583*H$9)/Setup!$C$10","v":0},{"$f":"(I583*I$9)/Setup!$C$10","v":0},{"$f":"(J583*J$9)/Setup!$C$10","v":0},{"$f":"(K583*K$9)/Setup!$C$10","v":0},{"$f":"(L583*L$9)/Setup!$C$10","v":0},null,0,0,null,0]
["2015-06-01","Week 48",{"$f":"(C584*C$9)/Setup!$C$10","v":0},{"$f":"(D584*D$9)/Setup!$C$10","v":0},{"$f":"(E584*E$9)/Setup!$C$10","v":0},{"$f":"(F584*F$9)/Setup!$C$10","v":0},{"$f":"(G584*G$9)/Setup!$C$10","v":0},{"$f":"(H584*H$9)/Setup!$C$10","v":0},{"$f":"(I584*I$9)/Setup!$C$10","v":0},{"$f":"(J584*J$9)/Setup!$C$10","v":0},{"$f":"(K584*K$9)/Setup!$C$10","v":0},{"$f":"(L584*L$9)/Setup!$C$10","v":0},null,0,0,null,0]
["2015-06-08","Week 49",{"$f":"(C585*C$9)/Setup!$C$10","v":0},{"$f":"(D585*D$9)/Setup!$C$10","v":0},{"$f":"(E585*E$9)/Setup!$C$10","v":0},{"$f":"(F585*F$9)/Setup!$C$10","v":0},{"$f":"(G585*G$9)/Setup!$C$10","v":0},{"$f":"(H585*H$9)/Setup!$C$10","v":0},{"$f":"(I585*I$9)/Setup!$C$10","v":0},{"$f":"(J585*J$9)/Setup!$C$10","v":0},{"$f":"(K585*K$9)/Setup!$C$10","v":0},{"$f":"(L585*L$9)/Setup!$C$10","v":0},null,0,0,null,0]
["2015-06-15","Week 50",{"$f":"(C586*C$9)/Setup!$C$10","v":0},{"$f":"(D586*D$9)/Setup!$C$10","v":0},{"$f":"(E586*E$9)/Setup!$C$10","v":0},{"$f":"(F586*F$9)/Setup!$C$10","v":0},{"$f":"(G586*G$9)/Setup!$C$10","v":0},{"$f":"(H586*H$9)/Setup!$C$10","v":0},{"$f":"(I586*I$9)/Setup!$C$10","v":0},{"$f":"(J586*J$9)/Setup!$C$10","v":0},{"$f":"(K586*K$9)/Setup!$C$10","v":0},{"$f":"(L586*L$9)/Setup!$C$10","v":0},null,0,0,null,0]
["2015-06-22","Week 51",{"$f":"(C587*C$9)/Setup!$C$10","v":0},{"$f":"(D587*D$9)/Setup!$C$10","v":0},{"$f":"(E587*E$9)/Setup!$C$10","v":0},{"$f":"(F587*F$9)/Setup!$C$10","v":0},{"$f":"(G587*G$9)/Setup!$C$10","v":0},{"$f":"(H587*H$9)/Setup!$C$10","v":0},{"$f":"(I587*I$9)/Setup!$C$10","v":0},{"$f":"(J587*J$9)/Setup!$C$10","v":0},{"$f":"(K587*K$9)/Setup!$C$10","v":0},{"$f":"(L587*L$9)/Setup!$C$10","v":0},null,0,0,null,0]
["2015-06-29","Week 52",{"$f":"(C588*C$9)/Setup!$C$10","v":0},{"$f":"(D588*D$9)/Setup!$C$10","v":0},{"$f":"(E588*E$9)/Setup!$C$10","v":0},{"$f":"(F588*F$9)/Setup!$C$10","v":0},{"$f":"(G588*G$9)/Setup!$C$10","v":0},{"$f":"(H588*H$9)/Setup!$C$10","v":0},{"$f":"(I588*I$9)/Setup!$C$10","v":0},{"$f":"(J588*J$9)/Setup!$C$10","v":0},{"$f":"(K588*K$9)/Setup!$C$10","v":0},{"$f":"(L588*L$9)/Setup!$C$10","v":0},null,0,0,null,0]
[null,null,null,null,null,null,null,null,null,null,null,null,null,null,null,null,{"$f":"SUM(Q192:Q243)","v":0}]
[]
["Proposed Weekly N (Kg) / Hectare (Ha):"]
[]
[null,null,{"$f":"C5","v":"Amm Nitr"},"Urea","UAN","Pot Nitrate","MAP","Pot Sulphate","Cal Nitrate","Fertimix","User Defined 9","User Defined 10",null,"WEEKLY TOTAL","CUMM TOTAL",null,"Proposed Weekly N"]
[null,null,null,null,null,null,null,null,null,null,null,null,null,null,null,null,"TOTAL"]
[{"$f":"A421","v":"2014-07-07"},"Week 1",{"$f":"(C479*C$7)/Setup!$C$10","v":0},{"$f":"(D479*D$7)/Setup!$C$10","v":0},{"$f":"(E479*E$7)/Setup!$C$10","v":0},{"$f":"(F479*F$7)/Setup!$C$10","v":0},{"$f":"(G479*G$7)/Setup!$C$10","v":0},{"$f":"(H479*H$7)/Setup!$C$10","v":0},{"$f":"(I479*I$7)/Setup!$C$10","v":0},{"$f":"(J479*J$7)/Setup!$C$10","v":0},{"$f":"(K479*K$7)/Setup!$C$10","v":0},{"$f":"(L479*L$7)/Setup!$C$10","v":0},null,{"$f":"SUM(C250:L250)","v":0},{"$f":"N250","v":0},null,{"$f":"N250","v":0}]
["2014-07-14","Week 2",{"$f":"(C480*C$7)/Setup!$C$10","v":0},{"$f":"(D480*D$7)/Setup!$C$10","v":0},{"$f":"(E480*E$7)/Setup!$C$10","v":0},{"$f":"(F480*F$7)/Setup!$C$10","v":0},{"$f":"(G480*G$7)/Setup!$C$10","v":0},{"$f":"(H480*H$7)/Setup!$C$10","v":0},{"$f":"(I480*I$7)/Setup!$C$10","v":0},{"$f":"(J480*J$7)/Setup!$C$10","v":0},{"$f":"(K480*K$7)/Setup!$C$10","v":0},{"$f":"(L480*L$7)/Setup!$C$10","v":0},null,{"$f":"SUM(C251:L251)","v":0},{"$f":"O250+N251","v":0},null,{"$f":"N251","v":0}]
["2014-07-21","Week 3",{"$f":"(C481*C$7)/Setup!$C$10","v":0},{"$f":"(D481*D$7)/Setup!$C$10","v":0},{"$f":"(E481*E$7)/Setup!$C$10","v":0},{"$f":"(F481*F$7)/Setup!$C$10","v":0},{"$f":"(G481*G$7)/Setup!$C$10","v":0},{"$f":"(H481*H$7)/Setup!$C$10","v":0},{"$f":"(I481*I$7)/Setup!$C$10","v":0},{"$f":"(J481*J$7)/Setup!$C$10","v":0},{"$f":"(K481*K$7)/Setup!$C$10","v":0},{"$f":"(L481*L$7)/Setup!$C$10","v":0},null,0,0,null,0]
["2014-07-28","Week 4",{"$f":"(C482*C$7)/Setup!$C$10","v":0},{"$f":"(D482*D$7)/Setup!$C$10","v":0},{"$f":"(E482*E$7)/Setup!$C$10","v":0},{"$f":"(F482*F$7)/Setup!$C$10","v":0},{"$f":"(G482*G$7)/Setup!$C$10","v":0},{"$f":"(H482*H$7)/Setup!$C$10","v":0},{"$f":"(I482*I$7)/Setup!$C$10","v":0},{"$f":"(J482*J$7)/Setup!$C$10","v":0},{"$f":"(K482*K$7)/Setup!$C$10","v":0},{"$f":"(L482*L$7)/Setup!$C$10","v":0},null,0,0,null,0]
["2014-08-04","Week 5",{"$f":"(C483*C$7)/Setup!$C$10","v":0},{"$f":"(D483*D$7)/Setup!$C$10","v":0},{"$f":"(E483*E$7)/Setup!$C$10","v":0},{"$f":"(F483*F$7)/Setup!$C$10","v":0},{"$f":"(G483*G$7)/Setup!$C$10","v":0},{"$f":"(H483*H$7)/Setup!$C$10","v":0},{"$f":"(I483*I$7)/Setup!$C$10","v":0},{"$f":"(J483*J$7)/Setup!$C$10","v":0},{"$f":"(K483*K$7)/Setup!$C$10","v":0},{"$f":"(L483*L$7)/Setup!$C$10","v":0},null,0,0,null,0]
["2014-08-11","Week 6",{"$f":"(C484*C$7)/Setup!$C$10","v":0},{"$f":"(D484*D$7)/Setup!$C$10","v":0},{"$f":"(E484*E$7)/Setup!$C$10","v":0},{"$f":"(F484*F$7)/Setup!$C$10","v":0},{"$f":"(G484*G$7)/Setup!$C$10","v":0},{"$f":"(H484*H$7)/Setup!$C$10","v":0},{"$f":"(I484*I$7)/Setup!$C$10","v":0},{"$f":"(J484*J$7)/Setup!$C$10","v":0},{"$f":"(K484*K$7)/Setup!$C$10","v":0},{"$f":"(L484*L$7)/Setup!$C$10","v":0},null,0,0,null,0]
["2014-08-18","Week 7",{"$f":"(C485*C$7)/Setup!$C$10","v":0},{"$f":"(D485*D$7)/Setup!$C$10","v":0},{"$f":"(E485*E$7)/Setup!$C$10","v":0},{"$f":"(F485*F$7)/Setup!$C$10","v":0},{"$f":"(G485*G$7)/Setup!$C$10","v":0},{"$f":"(H485*H$7)/Setup!$C$10","v":0},{"$f":"(I485*I$7)/Setup!$C$10","v":0},{"$f":"(J485*J$7)/Setup!$C$10","v":0},{"$f":"(K485*K$7)/Setup!$C$10","v":0},{"$f":"(L485*L$7)/Setup!$C$10","v":0},null,0,0,null,0]
["2014-08-25","Week 8",{"$f":"(C486*C$7)/Setup!$C$10","v":0},{"$f":"(D486*D$7)/Setup!$C$10","v":0},{"$f":"(E486*E$7)/Setup!$C$10","v":0},{"$f":"(F486*F$7)/Setup!$C$10","v":0},{"$f":"(G486*G$7)/Setup!$C$10","v":0},{"$f":"(H486*H$7)/Setup!$C$10","v":0},{"$f":"(I486*I$7)/Setup!$C$10","v":0},{"$f":"(J486*J$7)/Setup!$C$10","v":0},{"$f":"(K486*K$7)/Setup!$C$10","v":0},{"$f":"(L486*L$7)/Setup!$C$10","v":0},null,0,0,null,0]
["2014-09-01","Week 9",{"$f":"(C487*C$7)/Setup!$C$10","v":0},{"$f":"(D487*D$7)/Setup!$C$10","v":0},{"$f":"(E487*E$7)/Setup!$C$10","v":0},{"$f":"(F487*F$7)/Setup!$C$10","v":0},{"$f":"(G487*G$7)/Setup!$C$10","v":0},{"$f":"(H487*H$7)/Setup!$C$10","v":0},{"$f":"(I487*I$7)/Setup!$C$10","v":0},{"$f":"(J487*J$7)/Setup!$C$10","v":0},{"$f":"(K487*K$7)/Setup!$C$10","v":0},{"$f":"(L487*L$7)/Setup!$C$10","v":0},null,0,0,null,0]
["2014-09-08","Week 10",{"$f":"(C488*C$7)/Setup!$C$10","v":0},{"$f":"(D488*D$7)/Setup!$C$10","v":0},{"$f":"(E488*E$7)/Setup!$C$10","v":0},{"$f":"(F488*F$7)/Setup!$C$10","v":0},{"$f":"(G488*G$7)/Setup!$C$10","v":0},{"$f":"(H488*H$7)/Setup!$C$10","v":0},{"$f":"(I488*I$7)/Setup!$C$10","v":0},{"$f":"(J488*J$7)/Setup!$C$10","v":0},{"$f":"(K488*K$7)/Setup!$C$10","v":0},{"$f":"(L488*L$7)/Setup!$C$10","v":0},null,0,0,null,0]
["2014-09-15","Week 11",{"$f":"(C489*C$7)/Setup!$C$10","v":0},{"$f":"(D489*D$7)/Setup!$C$10","v":0},{"$f":"(E489*E$7)/Setup!$C$10","v":0},{"$f":"(F489*F$7)/Setup!$C$10","v":0},{"$f":"(G489*G$7)/Setup!$C$10","v":0},{"$f":"(H489*H$7)/Setup!$C$10","v":0},{"$f":"(I489*I$7)/Setup!$C$10","v":0},{"$f":"(J489*J$7)/Setup!$C$10","v":0},{"$f":"(K489*K$7)/Setup!$C$10","v":0},{"$f":"(L489*L$7)/Setup!$C$10","v":0},null,0,0,null,0]
["2014-09-22","Week 12",{"$f":"(C490*C$7)/Setup!$C$10","v":0},{"$f":"(D490*D$7)/Setup!$C$10","v":0},{"$f":"(E490*E$7)/Setup!$C$10","v":0},{"$f":"(F490*F$7)/Setup!$C$10","v":0},{"$f":"(G490*G$7)/Setup!$C$10","v":0},{"$f":"(H490*H$7)/Setup!$C$10","v":0},{"$f":"(I490*I$7)/Setup!$C$10","v":0},{"$f":"(J490*J$7)/Setup!$C$10","v":0},{"$f":"(K490*K$7)/Setup!$C$10","v":0},{"$f":"(L490*L$7)/Setup!$C$10","v":0},null,0,0,null,0]
["2014-09-29","Week 13",{"$f":"(C491*C$7)/Setup!$C$10","v":0},{"$f":"(D491*D$7)/Setup!$C$10","v":0},{"$f":"(E491*E$7)/Setup!$C$10","v":0},{"$f":"(F491*F$7)/Setup!$C$10","v":0},{"$f":"(G491*G$7)/Setup!$C$10","v":0},{"$f":"(H491*H$7)/Setup!$C$10","v":0},{"$f":"(I491*I$7)/Setup!$C$10","v":0},{"$f":"(J491*J$7)/Setup!$C$10","v":0},{"$f":"(K491*K$7)/Setup!$C$10","v":0},{"$f":"(L491*L$7)/Setup!$C$10","v":0},null,0,0,null,0]
["2014-10-06","Week 14",{"$f":"(C492*C$7)/Setup!$C$10","v":0},{"$f":"(D492*D$7)/Setup!$C$10","v":0},{"$f":"(E492*E$7)/Setup!$C$10","v":0},{"$f":"(F492*F$7)/Setup!$C$10","v":0},{"$f":"(G492*G$7)/Setup!$C$10","v":0},{"$f":"(H492*H$7)/Setup!$C$10","v":0},{"$f":"(I492*I$7)/Setup!$C$10","v":0},{"$f":"(J492*J$7)/Setup!$C$10","v":0},{"$f":"(K492*K$7)/Setup!$C$10","v":0},{"$f":"(L492*L$7)/Setup!$C$10","v":0},null,0,0,null,0]
["2014-10-13","Week 15",{"$f":"(C493*C$7)/Setup!$C$10","v":0},{"$f":"(D493*D$7)/Setup!$C$10","v":0},{"$f":"(E493*E$7)/Setup!$C$10","v":0},{"$f":"(F493*F$7)/Setup!$C$10","v":0},{"$f":"(G493*G$7)/Setup!$C$10","v":0},{"$f":"(H493*H$7)/Setup!$C$10","v":0},{"$f":"(I493*I$7)/Setup!$C$10","v":0},{"$f":"(J493*J$7)/Setup!$C$10","v":0},{"$f":"(K493*K$7)/Setup!$C$10","v":0},{"$f":"(L493*L$7)/Setup!$C$10","v":0},null,0,0,null,0]
["2014-10-20","Week 16",{"$f":"(C494*C$7)/Setup!$C$10","v":0},{"$f":"(D494*D$7)/Setup!$C$10","v":0},{"$f":"(E494*E$7)/Setup!$C$10","v":0},{"$f":"(F494*F$7)/Setup!$C$10","v":0},{"$f":"(G494*G$7)/Setup!$C$10","v":0},{"$f":"(H494*H$7)/Setup!$C$10","v":0},{"$f":"(I494*I$7)/Setup!$C$10","v":0},{"$f":"(J494*J$7)/Setup!$C$10","v":0},{"$f":"(K494*K$7)/Setup!$C$10","v":0},{"$f":"(L494*L$7)/Setup!$C$10","v":0},null,0,0,null,0]
["2014-10-27","Week 17",{"$f":"(C495*C$7)/Setup!$C$10","v":0},{"$f":"(D495*D$7)/Setup!$C$10","v":0},{"$f":"(E495*E$7)/Setup!$C$10","v":0},{"$f":"(F495*F$7)/Setup!$C$10","v":0},{"$f":"(G495*G$7)/Setup!$C$10","v":0},{"$f":"(H495*H$7)/Setup!$C$10","v":0},{"$f":"(I495*I$7)/Setup!$C$10","v":0},{"$f":"(J495*J$7)/Setup!$C$10","v":0},{"$f":"(K495*K$7)/Setup!$C$10","v":0},{"$f":"(L495*L$7)/Setup!$C$10","v":0},null,0,0,null,0]
["2014-11-03","Week 18",{"$f":"(C496*C$7)/Setup!$C$10","v":0},{"$f":"(D496*D$7)/Setup!$C$10","v":0},{"$f":"(E496*E$7)/Setup!$C$10","v":0},{"$f":"(F496*F$7)/Setup!$C$10","v":0},{"$f":"(G496*G$7)/Setup!$C$10","v":0},{"$f":"(H496*H$7)/Setup!$C$10","v":0},{"$f":"(I496*I$7)/Setup!$C$10","v":0},{"$f":"(J496*J$7)/Setup!$C$10","v":0},{"$f":"(K496*K$7)/Setup!$C$10","v":0},{"$f":"(L496*L$7)/Setup!$C$10","v":0},null,0,0,null,0]
["2014-11-10","Week 19",{"$f":"(C497*C$7)/Setup!$C$10","v":0},{"$f":"(D497*D$7)/Setup!$C$10","v":0},{"$f":"(E497*E$7)/Setup!$C$10","v":0},{"$f":"(F497*F$7)/Setup!$C$10","v":0},{"$f":"(G497*G$7)/Setup!$C$10","v":0},{"$f":"(H497*H$7)/Setup!$C$10","v":0},{"$f":"(I497*I$7)/Setup!$C$10","v":0},{"$f":"(J497*J$7)/Setup!$C$10","v":0},{"$f":"(K497*K$7)/Setup!$C$10","v":0},{"$f":"(L497*L$7)/Setup!$C$10","v":0},null,0,0,null,0]
["2014-11-17","Week 20",{"$f":"(C498*C$7)/Setup!$C$10","v":0},{"$f":"(D498*D$7)/Setup!$C$10","v":0},{"$f":"(E498*E$7)/Setup!$C$10","v":0},{"$f":"(F498*F$7)/Setup!$C$10","v":0},{"$f":"(G498*G$7)/Setup!$C$10","v":0},{"$f":"(H498*H$7)/Setup!$C$10","v":0},{"$f":"(I498*I$7)/Setup!$C$10","v":0},{"$f":"(J498*J$7)/Setup!$C$10","v":0},{"$f":"(K498*K$7)/Setup!$C$10","v":0},{"$f":"(L498*L$7)/Setup!$C$10","v":0},null,0,0,null,0]
[{"$f":"A441","v":"2014-11-24"},"Week 21",{"$f":"(C499*C$7)/Setup!$C$10","v":0},{"$f":"(D499*D$7)/Setup!$C$10","v":0},{"$f":"(E499*E$7)/Setup!$C$10","v":0},{"$f":"(F499*F$7)/Setup!$C$10","v":0},{"$f":"(G499*G$7)/Setup!$C$10","v":0},{"$f":"(H499*H$7)/Setup!$C$10","v":0},{"$f":"(I499*I$7)/Setup!$C$10","v":0},{"$f":"(J499*J$7)/Setup!$C$10","v":0},{"$f":"(K499*K$7)/Setup!$C$10","v":0},{"$f":"(L499*L$7)/Setup!$C$10","v":0},null,0,0,null,0]
["2014-12-01","Week 22",{"$f":"(C500*C$7)/Setup!$C$10","v":0},{"$f":"(D500*D$7)/Setup!$C$10","v":0},{"$f":"(E500*E$7)/Setup!$C$10","v":0},{"$f":"(F500*F$7)/Setup!$C$10","v":0},{"$f":"(G500*G$7)/Setup!$C$10","v":0},{"$f":"(H500*H$7)/Setup!$C$10","v":0},{"$f":"(I500*I$7)/Setup!$C$10","v":0},{"$f":"(J500*J$7)/Setup!$C$10","v":0},{"$f":"(K500*K$7)/Setup!$C$10","v":0},{"$f":"(L500*L$7)/Setup!$C$10","v":0},null,0,0,null,0]
["2014-12-08","Week 23",{"$f":"(C501*C$7)/Setup!$C$10","v":0},{"$f":"(D501*D$7)/Setup!$C$10","v":0},{"$f":"(E501*E$7)/Setup!$C$10","v":0},{"$f":"(F501*F$7)/Setup!$C$10","v":0},{"$f":"(G501*G$7)/Setup!$C$10","v":0},{"$f":"(H501*H$7)/Setup!$C$10","v":0},{"$f":"(I501*I$7)/Setup!$C$10","v":0},{"$f":"(J501*J$7)/Setup!$C$10","v":0},{"$f":"(K501*K$7)/Setup!$C$10","v":0},{"$f":"(L501*L$7)/Setup!$C$10","v":0},null,0,0,null,0]
["2014-12-15","Week 24",{"$f":"(C502*C$7)/Setup!$C$10","v":0},{"$f":"(D502*D$7)/Setup!$C$10","v":0},{"$f":"(E502*E$7)/Setup!$C$10","v":0},{"$f":"(F502*F$7)/Setup!$C$10","v":0},{"$f":"(G502*G$7)/Setup!$C$10","v":0},{"$f":"(H502*H$7)/Setup!$C$10","v":0},{"$f":"(I502*I$7)/Setup!$C$10","v":0},{"$f":"(J502*J$7)/Setup!$C$10","v":0},{"$f":"(K502*K$7)/Setup!$C$10","v":0},{"$f":"(L502*L$7)/Setup!$C$10","v":0},null,0,0,null,0]
["2014-12-22","Week 25",{"$f":"(C503*C$7)/Setup!$C$10","v":0},{"$f":"(D503*D$7)/Setup!$C$10","v":0},{"$f":"(E503*E$7)/Setup!$C$10","v":0},{"$f":"(F503*F$7)/Setup!$C$10","v":0},{"$f":"(G503*G$7)/Setup!$C$10","v":0},{"$f":"(H503*H$7)/Setup!$C$10","v":0},{"$f":"(I503*I$7)/Setup!$C$10","v":0},{"$f":"(J503*J$7)/Setup!$C$10","v":0},{"$f":"(K503*K$7)/Setup!$C$10","v":0},{"$f":"(L503*L$7)/Setup!$C$10","v":0},null,0,0,null,0]
["2014-12-29","Week 26",{"$f":"(C504*C$7)/Setup!$C$10","v":0},{"$f":"(D504*D$7)/Setup!$C$10","v":0},{"$f":"(E504*E$7)/Setup!$C$10","v":0},{"$f":"(F504*F$7)/Setup!$C$10","v":0},{"$f":"(G504*G$7)/Setup!$C$10","v":0},{"$f":"(H504*H$7)/Setup!$C$10","v":0},{"$f":"(I504*I$7)/Setup!$C$10","v":0},{"$f":"(J504*J$7)/Setup!$C$10","v":0},{"$f":"(K504*K$7)/Setup!$C$10","v":0},{"$f":"(L504*L$7)/Setup!$C$10","v":0},null,0,0,null,0]
["2015-01-05","Week 27",{"$f":"(C505*C$7)/Setup!$C$10","v":0},{"$f":"(D505*D$7)/Setup!$C$10","v":0},{"$f":"(E505*E$7)/Setup!$C$10","v":0},{"$f":"(F505*F$7)/Setup!$C$10","v":0},{"$f":"(G505*G$7)/Setup!$C$10","v":0},{"$f":"(H505*H$7)/Setup!$C$10","v":0},{"$f":"(I505*I$7)/Setup!$C$10","v":0},{"$f":"(J505*J$7)/Setup!$C$10","v":0},{"$f":"(K505*K$7)/Setup!$C$10","v":0},{"$f":"(L505*L$7)/Setup!$C$10","v":0},null,0,0,null,0]
["2015-01-12","Week 28",{"$f":"(C506*C$7)/Setup!$C$10","v":0},{"$f":"(D506*D$7)/Setup!$C$10","v":0},{"$f":"(E506*E$7)/Setup!$C$10","v":0},{"$f":"(F506*F$7)/Setup!$C$10","v":0},{"$f":"(G506*G$7)/Setup!$C$10","v":0},{"$f":"(H506*H$7)/Setup!$C$10","v":0},{"$f":"(I506*I$7)/Setup!$C$10","v":0},{"$f":"(J506*J$7)/Setup!$C$10","v":0},{"$f":"(K506*K$7)/Setup!$C$10","v":0},{"$f":"(L506*L$7)/Setup!$C$10","v":0},null,0,0,null,0]
["2015-01-19","Week 29",{"$f":"(C507*C$7)/Setup!$C$10","v":0},{"$f":"(D507*D$7)/Setup!$C$10","v":0},{"$f":"(E507*E$7)/Setup!$C$10","v":0},{"$f":"(F507*F$7)/Setup!$C$10","v":0},{"$f":"(G507*G$7)/Setup!$C$10","v":0},{"$f":"(H507*H$7)/Setup!$C$10","v":0},{"$f":"(I507*I$7)/Setup!$C$10","v":0},{"$f":"(J507*J$7)/Setup!$C$10","v":0},{"$f":"(K507*K$7)/Setup!$C$10","v":0},{"$f":"(L507*L$7)/Setup!$C$10","v":0},null,0,0,null,0]
["2015-01-26","Week 30",{"$f":"(C508*C$7)/Setup!$C$10","v":0},{"$f":"(D508*D$7)/Setup!$C$10","v":0},{"$f":"(E508*E$7)/Setup!$C$10","v":0},{"$f":"(F508*F$7)/Setup!$C$10","v":0},{"$f":"(G508*G$7)/Setup!$C$10","v":0},{"$f":"(H508*H$7)/Setup!$C$10","v":0},{"$f":"(I508*I$7)/Setup!$C$10","v":0},{"$f":"(J508*J$7)/Setup!$C$10","v":0},{"$f":"(K508*K$7)/Setup!$C$10","v":0},{"$f":"(L508*L$7)/Setup!$C$10","v":0},null,0,0,null,0]
["2015-02-02","Week 31",{"$f":"(C509*C$7)/Setup!$C$10","v":0},{"$f":"(D509*D$7)/Setup!$C$10","v":0},{"$f":"(E509*E$7)/Setup!$C$10","v":0},{"$f":"(F509*F$7)/Setup!$C$10","v":0},{"$f":"(G509*G$7)/Setup!$C$10","v":0},{"$f":"(H509*H$7)/Setup!$C$10","v":0},{"$f":"(I509*I$7)/Setup!$C$10","v":0},{"$f":"(J509*J$7)/Setup!$C$10","v":0},{"$f":"(K509*K$7)/Setup!$C$10","v":0},{"$f":"(L509*L$7)/Setup!$C$10","v":0},null,0,0,null,0]
["2015-02-09","Week 32",{"$f":"(C510*C$7)/Setup!$C$10","v":0},{"$f":"(D510*D$7)/Setup!$C$10","v":0},{"$f":"(E510*E$7)/Setup!$C$10","v":0},{"$f":"(F510*F$7)/Setup!$C$10","v":0},{"$f":"(G510*G$7)/Setup!$C$10","v":0},{"$f":"(H510*H$7)/Setup!$C$10","v":0},{"$f":"(I510*I$7)/Setup!$C$10","v":0},{"$f":"(J510*J$7)/Setup!$C$10","v":0},{"$f":"(K510*K$7)/Setup!$C$10","v":0},{"$f":"(L510*L$7)/Setup!$C$10","v":0},null,0,0,null,0]
["2015-02-16","Week 33",{"$f":"(C511*C$7)/Setup!$C$10","v":0},{"$f":"(D511*D$7)/Setup!$C$10","v":0},{"$f":"(E511*E$7)/Setup!$C$10","v":0},{"$f":"(F511*F$7)/Setup!$C$10","v":0},{"$f":"(G511*G$7)/Setup!$C$10","v":0},{"$f":"(H511*H$7)/Setup!$C$10","v":0},{"$f":"(I511*I$7)/Setup!$C$10","v":0},{"$f":"(J511*J$7)/Setup!$C$10","v":0},{"$f":"(K511*K$7)/Setup!$C$10","v":0},{"$f":"(L511*L$7)/Setup!$C$10","v":0},null,0,0,null,0]
["2015-02-23","Week 34",{"$f":"(C512*C$7)/Setup!$C$10","v":0},{"$f":"(D512*D$7)/Setup!$C$10","v":0},{"$f":"(E512*E$7)/Setup!$C$10","v":0},{"$f":"(F512*F$7)/Setup!$C$10","v":0},{"$f":"(G512*G$7)/Setup!$C$10","v":0},{"$f":"(H512*H$7)/Setup!$C$10","v":0},{"$f":"(I512*I$7)/Setup!$C$10","v":0},{"$f":"(J512*J$7)/Setup!$C$10","v":0},{"$f":"(K512*K$7)/Setup!$C$10","v":0},{"$f":"(L512*L$7)/Setup!$C$10","v":0},null,0,{"$f":"O282+N283","v":0},null,0]
["2015-03-02","Week 35",{"$f":"(C513*C$7)/Setup!$C$10","v":0},{"$f":"(D513*D$7)/Setup!$C$10","v":0},{"$f":"(E513*E$7)/Setup!$C$10","v":0},{"$f":"(F513*F$7)/Setup!$C$10","v":0},{"$f":"(G513*G$7)/Setup!$C$10","v":0},{"$f":"(H513*H$7)/Setup!$C$10","v":0},{"$f":"(I513*I$7)/Setup!$C$10","v":0},{"$f":"(J513*J$7)/Setup!$C$10","v":0},{"$f":"(K513*K$7)/Setup!$C$10","v":0},{"$f":"(L513*L$7)/Setup!$C$10","v":0},null,0,0,null,0]
["2015-03-09","Week 36",{"$f":"(C514*C$7)/Setup!$C$10","v":0},{"$f":"(D514*D$7)/Setup!$C$10","v":0},{"$f":"(E514*E$7)/Setup!$C$10","v":0},{"$f":"(F514*F$7)/Setup!$C$10","v":0},{"$f":"(G514*G$7)/Setup!$C$10","v":0},{"$f":"(H514*H$7)/Setup!$C$10","v":0},{"$f":"(I514*I$7)/Setup!$C$10","v":0},{"$f":"(J514*J$7)/Setup!$C$10","v":0},{"$f":"(K514*K$7)/Setup!$C$10","v":0},{"$f":"(L514*L$7)/Setup!$C$10","v":0},null,0,0,null,0]
["2015-03-16","Week 37",{"$f":"(C515*C$7)/Setup!$C$10","v":0},{"$f":"(D515*D$7)/Setup!$C$10","v":0},{"$f":"(E515*E$7)/Setup!$C$10","v":0},{"$f":"(F515*F$7)/Setup!$C$10","v":0},{"$f":"(G515*G$7)/Setup!$C$10","v":0},{"$f":"(H515*H$7)/Setup!$C$10","v":0},{"$f":"(I515*I$7)/Setup!$C$10","v":0},{"$f":"(J515*J$7)/Setup!$C$10","v":0},{"$f":"(K515*K$7)/Setup!$C$10","v":0},{"$f":"(L515*L$7)/Setup!$C$10","v":0},null,0,0,null,0]
["2015-03-23","Week 38",{"$f":"(C516*C$7)/Setup!$C$10","v":0},{"$f":"(D516*D$7)/Setup!$C$10","v":0},{"$f":"(E516*E$7)/Setup!$C$10","v":0},{"$f":"(F516*F$7)/Setup!$C$10","v":0},{"$f":"(G516*G$7)/Setup!$C$10","v":0},{"$f":"(H516*H$7)/Setup!$C$10","v":0},{"$f":"(I516*I$7)/Setup!$C$10","v":0},{"$f":"(J516*J$7)/Setup!$C$10","v":0},{"$f":"(K516*K$7)/Setup!$C$10","v":0},{"$f":"(L516*L$7)/Setup!$C$10","v":0},null,0,0,null,0]
["2015-03-30","Week 39",{"$f":"(C517*C$7)/Setup!$C$10","v":0},{"$f":"(D517*D$7)/Setup!$C$10","v":0},{"$f":"(E517*E$7)/Setup!$C$10","v":0},{"$f":"(F517*F$7)/Setup!$C$10","v":0},{"$f":"(G517*G$7)/Setup!$C$10","v":0},{"$f":"(H517*H$7)/Setup!$C$10","v":0},{"$f":"(I517*I$7)/Setup!$C$10","v":0},{"$f":"(J517*J$7)/Setup!$C$10","v":0},{"$f":"(K517*K$7)/Setup!$C$10","v":0},{"$f":"(L517*L$7)/Setup!$C$10","v":0},null,0,0,null,0]
["2015-04-06","Week 40",{"$f":"(C518*C$7)/Setup!$C$10","v":0},{"$f":"(D518*D$7)/Setup!$C$10","v":0},{"$f":"(E518*E$7)/Setup!$C$10","v":0},{"$f":"(F518*F$7)/Setup!$C$10","v":0},{"$f":"(G518*G$7)/Setup!$C$10","v":0},{"$f":"(H518*H$7)/Setup!$C$10","v":0},{"$f":"(I518*I$7)/Setup!$C$10","v":0},{"$f":"(J518*J$7)/Setup!$C$10","v":0},{"$f":"(K518*K$7)/Setup!$C$10","v":0},{"$f":"(L518*L$7)/Setup!$C$10","v":0},null,0,0,null,0]
[{"$f":"A461","v":"2015-04-13"},"Week 41",{"$f":"(C519*C$7)/Setup!$C$10","v":0},{"$f":"(D519*D$7)/Setup!$C$10","v":0},{"$f":"(E519*E$7)/Setup!$C$10","v":0},{"$f":"(F519*F$7)/Setup!$C$10","v":0},{"$f":"(G519*G$7)/Setup!$C$10","v":0},{"$f":"(H519*H$7)/Setup!$C$10","v":0},{"$f":"(I519*I$7)/Setup!$C$10","v":0},{"$f":"(J519*J$7)/Setup!$C$10","v":0},{"$f":"(K519*K$7)/Setup!$C$10","v":0},{"$f":"(L519*L$7)/Setup!$C$10","v":0},null,0,0,null,0]
["2015-04-20","Week 42",{"$f":"(C520*C$7)/Setup!$C$10","v":0},{"$f":"(D520*D$7)/Setup!$C$10","v":0},{"$f":"(E520*E$7)/Setup!$C$10","v":0},{"$f":"(F520*F$7)/Setup!$C$10","v":0},{"$f":"(G520*G$7)/Setup!$C$10","v":0},{"$f":"(H520*H$7)/Setup!$C$10","v":0},{"$f":"(I520*I$7)/Setup!$C$10","v":0},{"$f":"(J520*J$7)/Setup!$C$10","v":0},{"$f":"(K520*K$7)/Setup!$C$10","v":0},{"$f":"(L520*L$7)/Setup!$C$10","v":0},null,0,0,null,0]
["2015-04-27","Week 43",{"$f":"(C521*C$7)/Setup!$C$10","v":0},{"$f":"(D521*D$7)/Setup!$C$10","v":0},{"$f":"(E521*E$7)/Setup!$C$10","v":0},{"$f":"(F521*F$7)/Setup!$C$10","v":0},{"$f":"(G521*G$7)/Setup!$C$10","v":0},{"$f":"(H521*H$7)/Setup!$C$10","v":0},{"$f":"(I521*I$7)/Setup!$C$10","v":0},{"$f":"(J521*J$7)/Setup!$C$10","v":0},{"$f":"(K521*K$7)/Setup!$C$10","v":0},{"$f":"(L521*L$7)/Setup!$C$10","v":0},null,0,0,null,0]
["2015-05-04","Week 44",{"$f":"(C522*C$7)/Setup!$C$10","v":0},{"$f":"(D522*D$7)/Setup!$C$10","v":0},{"$f":"(E522*E$7)/Setup!$C$10","v":0},{"$f":"(F522*F$7)/Setup!$C$10","v":0},{"$f":"(G522*G$7)/Setup!$C$10","v":0},{"$f":"(H522*H$7)/Setup!$C$10","v":0},{"$f":"(I522*I$7)/Setup!$C$10","v":0},{"$f":"(J522*J$7)/Setup!$C$10","v":0},{"$f":"(K522*K$7)/Setup!$C$10","v":0},{"$f":"(L522*L$7)/Setup!$C$10","v":0},null,0,0,null,0]
["2015-05-11","Week 45",{"$f":"(C523*C$7)/Setup!$C$10","v":0},{"$f":"(D523*D$7)/Setup!$C$10","v":0},{"$f":"(E523*E$7)/Setup!$C$10","v":0},{"$f":"(F523*F$7)/Setup!$C$10","v":0},{"$f":"(G523*G$7)/Setup!$C$10","v":0},{"$f":"(H523*H$7)/Setup!$C$10","v":0},{"$f":"(I523*I$7)/Setup!$C$10","v":0},{"$f":"(J523*J$7)/Setup!$C$10","v":0},{"$f":"(K523*K$7)/Setup!$C$10","v":0},{"$f":"(L523*L$7)/Setup!$C$10","v":0},null,0,0,null,0]
["2015-05-18","Week 46",{"$f":"(C524*C$7)/Setup!$C$10","v":0},{"$f":"(D524*D$7)/Setup!$C$10","v":0},{"$f":"(E524*E$7)/Setup!$C$10","v":0},{"$f":"(F524*F$7)/Setup!$C$10","v":0},{"$f":"(G524*G$7)/Setup!$C$10","v":0},{"$f":"(H524*H$7)/Setup!$C$10","v":0},{"$f":"(I524*I$7)/Setup!$C$10","v":0},{"$f":"(J524*J$7)/Setup!$C$10","v":0},{"$f":"(K524*K$7)/Setup!$C$10","v":0},{"$f":"(L524*L$7)/Setup!$C$10","v":0},null,0,0,null,0]
["2015-05-25","Week 47",{"$f":"(C525*C$7)/Setup!$C$10","v":0},{"$f":"(D525*D$7)/Setup!$C$10","v":0},{"$f":"(E525*E$7)/Setup!$C$10","v":0},{"$f":"(F525*F$7)/Setup!$C$10","v":0},{"$f":"(G525*G$7)/Setup!$C$10","v":0},{"$f":"(H525*H$7)/Setup!$C$10","v":0},{"$f":"(I525*I$7)/Setup!$C$10","v":0},{"$f":"(J525*J$7)/Setup!$C$10","v":0},{"$f":"(K525*K$7)/Setup!$C$10","v":0},{"$f":"(L525*L$7)/Setup!$C$10","v":0},null,0,0,null,0]
["2015-06-01","Week 48",{"$f":"(C526*C$7)/Setup!$C$10","v":0},{"$f":"(D526*D$7)/Setup!$C$10","v":0},{"$f":"(E526*E$7)/Setup!$C$10","v":0},{"$f":"(F526*F$7)/Setup!$C$10","v":0},{"$f":"(G526*G$7)/Setup!$C$10","v":0},{"$f":"(H526*H$7)/Setup!$C$10","v":0},{"$f":"(I526*I$7)/Setup!$C$10","v":0},{"$f":"(J526*J$7)/Setup!$C$10","v":0},{"$f":"(K526*K$7)/Setup!$C$10","v":0},{"$f":"(L526*L$7)/Setup!$C$10","v":0},null,0,0,null,0]
["2015-06-08","Week 49",{"$f":"(C527*C$7)/Setup!$C$10","v":0},{"$f":"(D527*D$7)/Setup!$C$10","v":0},{"$f":"(E527*E$7)/Setup!$C$10","v":0},{"$f":"(F527*F$7)/Setup!$C$10","v":0},{"$f":"(G527*G$7)/Setup!$C$10","v":0},{"$f":"(H527*H$7)/Setup!$C$10","v":0},{"$f":"(I527*I$7)/Setup!$C$10","v":0},{"$f":"(J527*J$7)/Setup!$C$10","v":0},{"$f":"(K527*K$7)/Setup!$C$10","v":0},{"$f":"(L527*L$7)/Setup!$C$10","v":0},null,0,0,null,0]
["2015-06-15","Week 50",{"$f":"(C528*C$7)/Setup!$C$10","v":0},{"$f":"(D528*D$7)/Setup!$C$10","v":0},{"$f":"(E528*E$7)/Setup!$C$10","v":0},{"$f":"(F528*F$7)/Setup!$C$10","v":0},{"$f":"(G528*G$7)/Setup!$C$10","v":0},{"$f":"(H528*H$7)/Setup!$C$10","v":0},{"$f":"(I528*I$7)/Setup!$C$10","v":0},{"$f":"(J528*J$7)/Setup!$C$10","v":0},{"$f":"(K528*K$7)/Setup!$C$10","v":0},{"$f":"(L528*L$7)/Setup!$C$10","v":0},null,0,0,null,0]
["2015-06-22","Week 51",{"$f":"(C529*C$7)/Setup!$C$10","v":0},{"$f":"(D529*D$7)/Setup!$C$10","v":0},{"$f":"(E529*E$7)/Setup!$C$10","v":0},{"$f":"(F529*F$7)/Setup!$C$10","v":0},{"$f":"(G529*G$7)/Setup!$C$10","v":0},{"$f":"(H529*H$7)/Setup!$C$10","v":0},{"$f":"(I529*I$7)/Setup!$C$10","v":0},{"$f":"(J529*J$7)/Setup!$C$10","v":0},{"$f":"(K529*K$7)/Setup!$C$10","v":0},{"$f":"(L529*L$7)/Setup!$C$10","v":0},null,0,0,null,0]
["2015-06-29","Week 52",{"$f":"(C530*C$7)/Setup!$C$10","v":0},{"$f":"(D530*D$7)/Setup!$C$10","v":0},{"$f":"(E530*E$7)/Setup!$C$10","v":0},{"$f":"(F530*F$7)/Setup!$C$10","v":0},{"$f":"(G530*G$7)/Setup!$C$10","v":0},{"$f":"(H530*H$7)/Setup!$C$10","v":0},{"$f":"(I530*I$7)/Setup!$C$10","v":0},{"$f":"(J530*J$7)/Setup!$C$10","v":0},{"$f":"(K530*K$7)/Setup!$C$10","v":0},{"$f":"(L530*L$7)/Setup!$C$10","v":0},null,0,0,null,0]
[null,null,null,null,null,null,null,null,null,null,null,null,null,null,null,null,{"$f":"SUM(Q250:Q301)","v":0}]
["Proposed Weekly P (Kg) / Hectare (Ha):"]
[]
[null,null,{"$f":"C5","v":"Amm Nitr"},"Urea","UAN","Pot Nitrate","MAP","Pot Sulphate",{"$f":"I5","v":"Cal Nitrate"},{"$f":"J5","v":"Fertimix"},{"$f":"K5","v":"User Defined 9"},{"$f":"L5","v":"User Defined 10"},null,"WEEKLY TOTAL","CUMM TOTAL",null,"Proposed Weekly P"]
[null,null,null,null,null,null,null,null,null,null,null,null,null,null,null,null,"TOTAL"]
[{"$f":"A421","v":"2014-07-07"},"Week 1",{"$f":"(C479*C$8)/Setup!$C$10","v":0},{"$f":"(D479*D$8)/Setup!$C$10","v":0},{"$f":"(E479*E$8)/Setup!$C$10","v":0},{"$f":"(F479*F$8)/Setup!$C$10","v":0},{"$f":"(G479*G$8)/Setup!$C$10","v":0},{"$f":"(H479*H$8)/Setup!$C$10","v":0},{"$f":"(I479*I$8)/Setup!$C$10","v":0},{"$f":"(J479*J$8)/Setup!$C$10","v":0},{"$f":"(K479*K$8)/Setup!$C$10","v":0},{"$f":"(L479*L$8)/Setup!$C$10","v":0},null,{"$f":"SUM(C307:L307)","v":0},{"$f":"N307","v":0},null,{"$f":"N307","v":0}]
["2014-07-14","Week 2",{"$f":"(C480*C$8)/Setup!$C$10","v":0},{"$f":"(D480*D$8)/Setup!$C$10","v":0},{"$f":"(E480*E$8)/Setup!$C$10","v":0},{"$f":"(F480*F$8)/Setup!$C$10","v":0},{"$f":"(G480*G$8)/Setup!$C$10","v":0},{"$f":"(H480*H$8)/Setup!$C$10","v":0},{"$f":"(I480*I$8)/Setup!$C$10","v":0},{"$f":"(J480*J$8)/Setup!$C$10","v":0},{"$f":"(K480*K$8)/Setup!$C$10","v":0},{"$f":"(L480*L$8)/Setup!$C$10","v":0},null,{"$f":"SUM(C308:L308)","v":0},{"$f":"O307+N308","v":0},null,{"$f":"N308","v":0}]
["2014-07-21","Week 3",{"$f":"(C481*C$8)/Setup!$C$10","v":0},{"$f":"(D481*D$8)/Setup!$C$10","v":0},{"$f":"(E481*E$8)/Setup!$C$10","v":0},{"$f":"(F481*F$8)/Setup!$C$10","v":0},{"$f":"(G481*G$8)/Setup!$C$10","v":0},{"$f":"(H481*H$8)/Setup!$C$10","v":0},{"$f":"(I481*I$8)/Setup!$C$10","v":0},{"$f":"(J481*J$8)/Setup!$C$10","v":0},{"$f":"(K481*K$8)/Setup!$C$10","v":0},{"$f":"(L481*L$8)/Setup!$C$10","v":0},null,0,0,null,0]
["2014-07-28","Week 4",{"$f":"(C482*C$8)/Setup!$C$10","v":0},{"$f":"(D482*D$8)/Setup!$C$10","v":0},{"$f":"(E482*E$8)/Setup!$C$10","v":0},{"$f":"(F482*F$8)/Setup!$C$10","v":0},{"$f":"(G482*G$8)/Setup!$C$10","v":0},{"$f":"(H482*H$8)/Setup!$C$10","v":0},{"$f":"(I482*I$8)/Setup!$C$10","v":0},{"$f":"(J482*J$8)/Setup!$C$10","v":0},{"$f":"(K482*K$8)/Setup!$C$10","v":0},{"$f":"(L482*L$8)/Setup!$C$10","v":0},null,0,0,null,0]
["2014-08-04","Week 5",{"$f":"(C483*C$8)/Setup!$C$10","v":0},{"$f":"(D483*D$8)/Setup!$C$10","v":0},{"$f":"(E483*E$8)/Setup!$C$10","v":0},{"$f":"(F483*F$8)/Setup!$C$10","v":0},{"$f":"(G483*G$8)/Setup!$C$10","v":0},{"$f":"(H483*H$8)/Setup!$C$10","v":0},{"$f":"(I483*I$8)/Setup!$C$10","v":0},{"$f":"(J483*J$8)/Setup!$C$10","v":0},{"$f":"(K483*K$8)/Setup!$C$10","v":0},{"$f":"(L483*L$8)/Setup!$C$10","v":0},null,0,0,null,0]
["2014-08-11","Week 6",{"$f":"(C484*C$8)/Setup!$C$10","v":0},{"$f":"(D484*D$8)/Setup!$C$10","v":0},{"$f":"(E484*E$8)/Setup!$C$10","v":0},{"$f":"(F484*F$8)/Setup!$C$10","v":0},{"$f":"(G484*G$8)/Setup!$C$10","v":0},{"$f":"(H484*H$8)/Setup!$C$10","v":0},{"$f":"(I484*I$8)/Setup!$C$10","v":0},{"$f":"(J484*J$8)/Setup!$C$10","v":0},{"$f":"(K484*K$8)/Setup!$C$10","v":0},{"$f":"(L484*L$8)/Setup!$C$10","v":0},null,0,0,null,0]
["2014-08-18","Week 7",{"$f":"(C485*C$8)/Setup!$C$10","v":0},{"$f":"(D485*D$8)/Setup!$C$10","v":0},{"$f":"(E485*E$8)/Setup!$C$10","v":0},{"$f":"(F485*F$8)/Setup!$C$10","v":0},{"$f":"(G485*G$8)/Setup!$C$10","v":0},{"$f":"(H485*H$8)/Setup!$C$10","v":0},{"$f":"(I485*I$8)/Setup!$C$10","v":0},{"$f":"(J485*J$8)/Setup!$C$10","v":0},{"$f":"(K485*K$8)/Setup!$C$10","v":0},{"$f":"(L485*L$8)/Setup!$C$10","v":0},null,0,0,null,0]
["2014-08-25","Week 8",{"$f":"(C486*C$8)/Setup!$C$10","v":0},{"$f":"(D486*D$8)/Setup!$C$10","v":0},{"$f":"(E486*E$8)/Setup!$C$10","v":0},{"$f":"(F486*F$8)/Setup!$C$10","v":0},{"$f":"(G486*G$8)/Setup!$C$10","v":0},{"$f":"(H486*H$8)/Setup!$C$10","v":0},{"$f":"(I486*I$8)/Setup!$C$10","v":0},{"$f":"(J486*J$8)/Setup!$C$10","v":0},{"$f":"(K486*K$8)/Setup!$C$10","v":0},{"$f":"(L486*L$8)/Setup!$C$10","v":0},null,0,0,null,0]
["2014-09-01","Week 9",{"$f":"(C487*C$8)/Setup!$C$10","v":0},{"$f":"(D487*D$8)/Setup!$C$10","v":0},{"$f":"(E487*E$8)/Setup!$C$10","v":0},{"$f":"(F487*F$8)/Setup!$C$10","v":0},{"$f":"(G487*G$8)/Setup!$C$10","v":0},{"$f":"(H487*H$8)/Setup!$C$10","v":0},{"$f":"(I487*I$8)/Setup!$C$10","v":0},{"$f":"(J487*J$8)/Setup!$C$10","v":0},{"$f":"(K487*K$8)/Setup!$C$10","v":0},{"$f":"(L487*L$8)/Setup!$C$10","v":0},null,0,0,null,0]
["2014-09-08","Week 10",{"$f":"(C488*C$8)/Setup!$C$10","v":0},{"$f":"(D488*D$8)/Setup!$C$10","v":0},{"$f":"(E488*E$8)/Setup!$C$10","v":0},{"$f":"(F488*F$8)/Setup!$C$10","v":0},{"$f":"(G488*G$8)/Setup!$C$10","v":0},{"$f":"(H488*H$8)/Setup!$C$10","v":0},{"$f":"(I488*I$8)/Setup!$C$10","v":0},{"$f":"(J488*J$8)/Setup!$C$10","v":0},{"$f":"(K488*K$8)/Setup!$C$10","v":0},{"$f":"(L488*L$8)/Setup!$C$10","v":0},null,0,0,null,0]
["2014-09-15","Week 11",{"$f":"(C489*C$8)/Setup!$C$10","v":0},{"$f":"(D489*D$8)/Setup!$C$10","v":0},{"$f":"(E489*E$8)/Setup!$C$10","v":0},{"$f":"(F489*F$8)/Setup!$C$10","v":0},{"$f":"(G489*G$8)/Setup!$C$10","v":0},{"$f":"(H489*H$8)/Setup!$C$10","v":0},{"$f":"(I489*I$8)/Setup!$C$10","v":0},{"$f":"(J489*J$8)/Setup!$C$10","v":0},{"$f":"(K489*K$8)/Setup!$C$10","v":0},{"$f":"(L489*L$8)/Setup!$C$10","v":0},null,0,0,null,0]
["2014-09-22","Week 12",{"$f":"(C490*C$8)/Setup!$C$10","v":0},{"$f":"(D490*D$8)/Setup!$C$10","v":0},{"$f":"(E490*E$8)/Setup!$C$10","v":0},{"$f":"(F490*F$8)/Setup!$C$10","v":0},{"$f":"(G490*G$8)/Setup!$C$10","v":0},{"$f":"(H490*H$8)/Setup!$C$10","v":0},{"$f":"(I490*I$8)/Setup!$C$10","v":0},{"$f":"(J490*J$8)/Setup!$C$10","v":0},{"$f":"(K490*K$8)/Setup!$C$10","v":0},{"$f":"(L490*L$8)/Setup!$C$10","v":0},null,0,0,null,0]
["2014-09-29","Week 13",{"$f":"(C491*C$8)/Setup!$C$10","v":0},{"$f":"(D491*D$8)/Setup!$C$10","v":0},{"$f":"(E491*E$8)/Setup!$C$10","v":0},{"$f":"(F491*F$8)/Setup!$C$10","v":0},{"$f":"(G491*G$8)/Setup!$C$10","v":0},{"$f":"(H491*H$8)/Setup!$C$10","v":0},{"$f":"(I491*I$8)/Setup!$C$10","v":0},{"$f":"(J491*J$8)/Setup!$C$10","v":0},{"$f":"(K491*K$8)/Setup!$C$10","v":0},{"$f":"(L491*L$8)/Setup!$C$10","v":0},null,0,0,null,0]
["2014-10-06","Week 14",{"$f":"(C492*C$8)/Setup!$C$10","v":0},{"$f":"(D492*D$8)/Setup!$C$10","v":0},{"$f":"(E492*E$8)/Setup!$C$10","v":0},{"$f":"(F492*F$8)/Setup!$C$10","v":0},{"$f":"(G492*G$8)/Setup!$C$10","v":0},{"$f":"(H492*H$8)/Setup!$C$10","v":0},{"$f":"(I492*I$8)/Setup!$C$10","v":0},{"$f":"(J492*J$8)/Setup!$C$10","v":0},{"$f":"(K492*K$8)/Setup!$C$10","v":0},{"$f":"(L492*L$8)/Setup!$C$10","v":0},null,0,0,null,0]
["2014-10-13","Week 15",{"$f":"(C493*C$8)/Setup!$C$10","v":0},{"$f":"(D493*D$8)/Setup!$C$10","v":0},{"$f":"(E493*E$8)/Setup!$C$10","v":0},{"$f":"(F493*F$8)/Setup!$C$10","v":0},{"$f":"(G493*G$8)/Setup!$C$10","v":0},{"$f":"(H493*H$8)/Setup!$C$10","v":0},{"$f":"(I493*I$8)/Setup!$C$10","v":0},{"$f":"(J493*J$8)/Setup!$C$10","v":0},{"$f":"(K493*K$8)/Setup!$C$10","v":0},{"$f":"(L493*L$8)/Setup!$C$10","v":0},null,0,0,null,0]
["2014-10-20","Week 16",{"$f":"(C494*C$8)/Setup!$C$10","v":0},{"$f":"(D494*D$8)/Setup!$C$10","v":0},{"$f":"(E494*E$8)/Setup!$C$10","v":0},{"$f":"(F494*F$8)/Setup!$C$10","v":0},{"$f":"(G494*G$8)/Setup!$C$10","v":0},{"$f":"(H494*H$8)/Setup!$C$10","v":0},{"$f":"(I494*I$8)/Setup!$C$10","v":0},{"$f":"(J494*J$8)/Setup!$C$10","v":0},{"$f":"(K494*K$8)/Setup!$C$10","v":0},{"$f":"(L494*L$8)/Setup!$C$10","v":0},null,0,0,null,0]
["2014-10-27","Week 17",{"$f":"(C495*C$8)/Setup!$C$10","v":0},{"$f":"(D495*D$8)/Setup!$C$10","v":0},{"$f":"(E495*E$8)/Setup!$C$10","v":0},{"$f":"(F495*F$8)/Setup!$C$10","v":0},{"$f":"(G495*G$8)/Setup!$C$10","v":0},{"$f":"(H495*H$8)/Setup!$C$10","v":0},{"$f":"(I495*I$8)/Setup!$C$10","v":0},{"$f":"(J495*J$8)/Setup!$C$10","v":0},{"$f":"(K495*K$8)/Setup!$C$10","v":0},{"$f":"(L495*L$8)/Setup!$C$10","v":0},null,0,0,null,0]
["2014-11-03","Week 18",{"$f":"(C496*C$8)/Setup!$C$10","v":0},{"$f":"(D496*D$8)/Setup!$C$10","v":0},{"$f":"(E496*E$8)/Setup!$C$10","v":0},{"$f":"(F496*F$8)/Setup!$C$10","v":0},{"$f":"(G496*G$8)/Setup!$C$10","v":0},{"$f":"(H496*H$8)/Setup!$C$10","v":0},{"$f":"(I496*I$8)/Setup!$C$10","v":0},{"$f":"(J496*J$8)/Setup!$C$10","v":0},{"$f":"(K496*K$8)/Setup!$C$10","v":0},{"$f":"(L496*L$8)/Setup!$C$10","v":0},null,0,0,null,0]
["2014-11-10","Week 19",{"$f":"(C497*C$8)/Setup!$C$10","v":0},{"$f":"(D497*D$8)/Setup!$C$10","v":0},{"$f":"(E497*E$8)/Setup!$C$10","v":0},{"$f":"(F497*F$8)/Setup!$C$10","v":0},{"$f":"(G497*G$8)/Setup!$C$10","v":0},{"$f":"(H497*H$8)/Setup!$C$10","v":0},{"$f":"(I497*I$8)/Setup!$C$10","v":0},{"$f":"(J497*J$8)/Setup!$C$10","v":0},{"$f":"(K497*K$8)/Setup!$C$10","v":0},{"$f":"(L497*L$8)/Setup!$C$10","v":0},null,0,0,null,0]
["2014-11-17","Week 20",{"$f":"(C498*C$8)/Setup!$C$10","v":0},{"$f":"(D498*D$8)/Setup!$C$10","v":0},{"$f":"(E498*E$8)/Setup!$C$10","v":0},{"$f":"(F498*F$8)/Setup!$C$10","v":0},{"$f":"(G498*G$8)/Setup!$C$10","v":0},{"$f":"(H498*H$8)/Setup!$C$10","v":0},{"$f":"(I498*I$8)/Setup!$C$10","v":0},{"$f":"(J498*J$8)/Setup!$C$10","v":0},{"$f":"(K498*K$8)/Setup!$C$10","v":0},{"$f":"(L498*L$8)/Setup!$C$10","v":0},null,0,0,null,0]
[{"$f":"A441","v":"2014-11-24"},"Week 21",{"$f":"(C499*C$8)/Setup!$C$10","v":0},{"$f":"(D499*D$8)/Setup!$C$10","v":0},{"$f":"(E499*E$8)/Setup!$C$10","v":0},{"$f":"(F499*F$8)/Setup!$C$10","v":0},{"$f":"(G499*G$8)/Setup!$C$10","v":0},{"$f":"(H499*H$8)/Setup!$C$10","v":0},{"$f":"(I499*I$8)/Setup!$C$10","v":0},{"$f":"(J499*J$8)/Setup!$C$10","v":0},{"$f":"(K499*K$8)/Setup!$C$10","v":0},{"$f":"(L499*L$8)/Setup!$C$10","v":0},null,0,0,null,0]
["2014-12-01","Week 22",{"$f":"(C500*C$8)/Setup!$C$10","v":0},{"$f":"(D500*D$8)/Setup!$C$10","v":0},{"$f":"(E500*E$8)/Setup!$C$10","v":0},{"$f":"(F500*F$8)/Setup!$C$10","v":0},{"$f":"(G500*G$8)/Setup!$C$10","v":0},{"$f":"(H500*H$8)/Setup!$C$10","v":0},{"$f":"(I500*I$8)/Setup!$C$10","v":0},{"$f":"(J500*J$8)/Setup!$C$10","v":0},{"$f":"(K500*K$8)/Setup!$C$10","v":0},{"$f":"(L500*L$8)/Setup!$C$10","v":0},null,0,0,null,0]
["2014-12-08","Week 23",{"$f":"(C501*C$8)/Setup!$C$10","v":0},{"$f":"(D501*D$8)/Setup!$C$10","v":0},{"$f":"(E501*E$8)/Setup!$C$10","v":0},{"$f":"(F501*F$8)/Setup!$C$10","v":0},{"$f":"(G501*G$8)/Setup!$C$10","v":0},{"$f":"(H501*H$8)/Setup!$C$10","v":0},{"$f":"(I501*I$8)/Setup!$C$10","v":0},{"$f":"(J501*J$8)/Setup!$C$10","v":0},{"$f":"(K501*K$8)/Setup!$C$10","v":0},{"$f":"(L501*L$8)/Setup!$C$10","v":0},null,0,0,null,0]
["2014-12-15","Week 24",{"$f":"(C502*C$8)/Setup!$C$10","v":0},{"$f":"(D502*D$8)/Setup!$C$10","v":0},{"$f":"(E502*E$8)/Setup!$C$10","v":0},{"$f":"(F502*F$8)/Setup!$C$10","v":0},{"$f":"(G502*G$8)/Setup!$C$10","v":0},{"$f":"(H502*H$8)/Setup!$C$10","v":0},{"$f":"(I502*I$8)/Setup!$C$10","v":0},{"$f":"(J502*J$8)/Setup!$C$10","v":0},{"$f":"(K502*K$8)/Setup!$C$10","v":0},{"$f":"(L502*L$8)/Setup!$C$10","v":0},null,0,0,null,0]
["2014-12-22","Week 25",{"$f":"(C503*C$8)/Setup!$C$10","v":0},{"$f":"(D503*D$8)/Setup!$C$10","v":0},{"$f":"(E503*E$8)/Setup!$C$10","v":0},{"$f":"(F503*F$8)/Setup!$C$10","v":0},{"$f":"(G503*G$8)/Setup!$C$10","v":0},{"$f":"(H503*H$8)/Setup!$C$10","v":0},{"$f":"(I503*I$8)/Setup!$C$10","v":0},{"$f":"(J503*J$8)/Setup!$C$10","v":0},{"$f":"(K503*K$8)/Setup!$C$10","v":0},{"$f":"(L503*L$8)/Setup!$C$10","v":0},null,0,0,null,0]
["2014-12-29","Week 26",{"$f":"(C504*C$8)/Setup!$C$10","v":0},{"$f":"(D504*D$8)/Setup!$C$10","v":0},{"$f":"(E504*E$8)/Setup!$C$10","v":0},{"$f":"(F504*F$8)/Setup!$C$10","v":0},{"$f":"(G504*G$8)/Setup!$C$10","v":0},{"$f":"(H504*H$8)/Setup!$C$10","v":0},{"$f":"(I504*I$8)/Setup!$C$10","v":0},{"$f":"(J504*J$8)/Setup!$C$10","v":0},{"$f":"(K504*K$8)/Setup!$C$10","v":0},{"$f":"(L504*L$8)/Setup!$C$10","v":0},null,0,0,null,0]
["2015-01-05","Week 27",{"$f":"(C505*C$8)/Setup!$C$10","v":0},{"$f":"(D505*D$8)/Setup!$C$10","v":0},{"$f":"(E505*E$8)/Setup!$C$10","v":0},{"$f":"(F505*F$8)/Setup!$C$10","v":0},{"$f":"(G505*G$8)/Setup!$C$10","v":0},{"$f":"(H505*H$8)/Setup!$C$10","v":0},{"$f":"(I505*I$8)/Setup!$C$10","v":0},{"$f":"(J505*J$8)/Setup!$C$10","v":0},{"$f":"(K505*K$8)/Setup!$C$10","v":0},{"$f":"(L505*L$8)/Setup!$C$10","v":0},null,0,0,null,0]
["2015-01-12","Week 28",{"$f":"(C506*C$8)/Setup!$C$10","v":0},{"$f":"(D506*D$8)/Setup!$C$10","v":0},{"$f":"(E506*E$8)/Setup!$C$10","v":0},{"$f":"(F506*F$8)/Setup!$C$10","v":0},{"$f":"(G506*G$8)/Setup!$C$10","v":0},{"$f":"(H506*H$8)/Setup!$C$10","v":0},{"$f":"(I506*I$8)/Setup!$C$10","v":0},{"$f":"(J506*J$8)/Setup!$C$10","v":0},{"$f":"(K506*K$8)/Setup!$C$10","v":0},{"$f":"(L506*L$8)/Setup!$C$10","v":0},null,0,0,null,0]
["2015-01-19","Week 29",{"$f":"(C507*C$8)/Setup!$C$10","v":0},{"$f":"(D507*D$8)/Setup!$C$10","v":0},{"$f":"(E507*E$8)/Setup!$C$10","v":0},{"$f":"(F507*F$8)/Setup!$C$10","v":0},{"$f":"(G507*G$8)/Setup!$C$10","v":0},{"$f":"(H507*H$8)/Setup!$C$10","v":0},{"$f":"(I507*I$8)/Setup!$C$10","v":0},{"$f":"(J507*J$8)/Setup!$C$10","v":0},{"$f":"(K507*K$8)/Setup!$C$10","v":0},{"$f":"(L507*L$8)/Setup!$C$10","v":0},null,0,0,null,0]
["2015-01-26","Week 30",{"$f":"(C508*C$8)/Setup!$C$10","v":0},{"$f":"(D508*D$8)/Setup!$C$10","v":0},{"$f":"(E508*E$8)/Setup!$C$10","v":0},{"$f":"(F508*F$8)/Setup!$C$10","v":0},{"$f":"(G508*G$8)/Setup!$C$10","v":0},{"$f":"(H508*H$8)/Setup!$C$10","v":0},{"$f":"(I508*I$8)/Setup!$C$10","v":0},{"$f":"(J508*J$8)/Setup!$C$10","v":0},{"$f":"(K508*K$8)/Setup!$C$10","v":0},{"$f":"(L508*L$8)/Setup!$C$10","v":0},null,0,0,null,0]
["2015-02-02","Week 31",{"$f":"(C509*C$8)/Setup!$C$10","v":0},{"$f":"(D509*D$8)/Setup!$C$10","v":0},{"$f":"(E509*E$8)/Setup!$C$10","v":0},{"$f":"(F509*F$8)/Setup!$C$10","v":0},{"$f":"(G509*G$8)/Setup!$C$10","v":0},{"$f":"(H509*H$8)/Setup!$C$10","v":0},{"$f":"(I509*I$8)/Setup!$C$10","v":0},{"$f":"(J509*J$8)/Setup!$C$10","v":0},{"$f":"(K509*K$8)/Setup!$C$10","v":0},{"$f":"(L509*L$8)/Setup!$C$10","v":0},null,0,0,null,0]
["2015-02-09","Week 32",{"$f":"(C510*C$8)/Setup!$C$10","v":0},{"$f":"(D510*D$8)/Setup!$C$10","v":0},{"$f":"(E510*E$8)/Setup!$C$10","v":0},{"$f":"(F510*F$8)/Setup!$C$10","v":0},{"$f":"(G510*G$8)/Setup!$C$10","v":0},{"$f":"(H510*H$8)/Setup!$C$10","v":0},{"$f":"(I510*I$8)/Setup!$C$10","v":0},{"$f":"(J510*J$8)/Setup!$C$10","v":0},{"$f":"(K510*K$8)/Setup!$C$10","v":0},{"$f":"(L510*L$8)/Setup!$C$10","v":0},null,0,0,null,0]
["2015-02-16","Week 33",{"$f":"(C511*C$8)/Setup!$C$10","v":0},{"$f":"(D511*D$8)/Setup!$C$10","v":0},{"$f":"(E511*E$8)/Setup!$C$10","v":0},{"$f":"(F511*F$8)/Setup!$C$10","v":0},{"$f":"(G511*G$8)/Setup!$C$10","v":0},{"$f":"(H511*H$8)/Setup!$C$10","v":0},{"$f":"(I511*I$8)/Setup!$C$10","v":0},{"$f":"(J511*J$8)/Setup!$C$10","v":0},{"$f":"(K511*K$8)/Setup!$C$10","v":0},{"$f":"(L511*L$8)/Setup!$C$10","v":0},null,0,0,null,0]
["2015-02-23","Week 34",{"$f":"(C512*C$8)/Setup!$C$10","v":0},{"$f":"(D512*D$8)/Setup!$C$10","v":0},{"$f":"(E512*E$8)/Setup!$C$10","v":0},{"$f":"(F512*F$8)/Setup!$C$10","v":0},{"$f":"(G512*G$8)/Setup!$C$10","v":0},{"$f":"(H512*H$8)/Setup!$C$10","v":0},{"$f":"(I512*I$8)/Setup!$C$10","v":0},{"$f":"(J512*J$8)/Setup!$C$10","v":0},{"$f":"(K512*K$8)/Setup!$C$10","v":0},{"$f":"(L512*L$8)/Setup!$C$10","v":0},null,0,{"$f":"O339+N340","v":0},null,0]
["2015-03-02","Week 35",{"$f":"(C513*C$8)/Setup!$C$10","v":0},{"$f":"(D513*D$8)/Setup!$C$10","v":0},{"$f":"(E513*E$8)/Setup!$C$10","v":0},{"$f":"(F513*F$8)/Setup!$C$10","v":0},{"$f":"(G513*G$8)/Setup!$C$10","v":0},{"$f":"(H513*H$8)/Setup!$C$10","v":0},{"$f":"(I513*I$8)/Setup!$C$10","v":0},{"$f":"(J513*J$8)/Setup!$C$10","v":0},{"$f":"(K513*K$8)/Setup!$C$10","v":0},{"$f":"(L513*L$8)/Setup!$C$10","v":0},null,0,0,null,0]
["2015-03-09","Week 36",{"$f":"(C514*C$8)/Setup!$C$10","v":0},{"$f":"(D514*D$8)/Setup!$C$10","v":0},{"$f":"(E514*E$8)/Setup!$C$10","v":0},{"$f":"(F514*F$8)/Setup!$C$10","v":0},{"$f":"(G514*G$8)/Setup!$C$10","v":0},{"$f":"(H514*H$8)/Setup!$C$10","v":0},{"$f":"(I514*I$8)/Setup!$C$10","v":0},{"$f":"(J514*J$8)/Setup!$C$10","v":0},{"$f":"(K514*K$8)/Setup!$C$10","v":0},{"$f":"(L514*L$8)/Setup!$C$10","v":0},null,0,0,null,0]
["2015-03-16","Week 37",{"$f":"(C515*C$8)/Setup!$C$10","v":0},{"$f":"(D515*D$8)/Setup!$C$10","v":0},{"$f":"(E515*E$8)/Setup!$C$10","v":0},{"$f":"(F515*F$8)/Setup!$C$10","v":0},{"$f":"(G515*G$8)/Setup!$C$10","v":0},{"$f":"(H515*H$8)/Setup!$C$10","v":0},{"$f":"(I515*I$8)/Setup!$C$10","v":0},{"$f":"(J515*J$8)/Setup!$C$10","v":0},{"$f":"(K515*K$8)/Setup!$C$10","v":0},{"$f":"(L515*L$8)/Setup!$C$10","v":0},null,0,0,null,0]
["2015-03-23","Week 38",{"$f":"(C516*C$8)/Setup!$C$10","v":0},{"$f":"(D516*D$8)/Setup!$C$10","v":0},{"$f":"(E516*E$8)/Setup!$C$10","v":0},{"$f":"(F516*F$8)/Setup!$C$10","v":0},{"$f":"(G516*G$8)/Setup!$C$10","v":0},{"$f":"(H516*H$8)/Setup!$C$10","v":0},{"$f":"(I516*I$8)/Setup!$C$10","v":0},{"$f":"(J516*J$8)/Setup!$C$10","v":0},{"$f":"(K516*K$8)/Setup!$C$10","v":0},{"$f":"(L516*L$8)/Setup!$C$10","v":0},null,0,0,null,0]
["2015-03-30","Week 39",{"$f":"(C517*C$8)/Setup!$C$10","v":0},{"$f":"(D517*D$8)/Setup!$C$10","v":0},{"$f":"(E517*E$8)/Setup!$C$10","v":0},{"$f":"(F517*F$8)/Setup!$C$10","v":0},{"$f":"(G517*G$8)/Setup!$C$10","v":0},{"$f":"(H517*H$8)/Setup!$C$10","v":0},{"$f":"(I517*I$8)/Setup!$C$10","v":0},{"$f":"(J517*J$8)/Setup!$C$10","v":0},{"$f":"(K517*K$8)/Setup!$C$10","v":0},{"$f":"(L517*L$8)/Setup!$C$10","v":0},null,0,0,null,0]
["2015-04-06","Week 40",{"$f":"(C518*C$8)/Setup!$C$10","v":0},{"$f":"(D518*D$8)/Setup!$C$10","v":0},{"$f":"(E518*E$8)/Setup!$C$10","v":0},{"$f":"(F518*F$8)/Setup!$C$10","v":0},{"$f":"(G518*G$8)/Setup!$C$10","v":0},{"$f":"(H518*H$8)/Setup!$C$10","v":0},{"$f":"(I518*I$8)/Setup!$C$10","v":0},{"$f":"(J518*J$8)/Setup!$C$10","v":0},{"$f":"(K518*K$8)/Setup!$C$10","v":0},{"$f":"(L518*L$8)/Setup!$C$10","v":0},null,0,0,null,0]
[{"$f":"A461","v":"2015-04-13"},"Week 41",{"$f":"(C519*C$8)/Setup!$C$10","v":0},{"$f":"(D519*D$8)/Setup!$C$10","v":0},{"$f":"(E519*E$8)/Setup!$C$10","v":0},{"$f":"(F519*F$8)/Setup!$C$10","v":0},{"$f":"(G519*G$8)/Setup!$C$10","v":0},{"$f":"(H519*H$8)/Setup!$C$10","v":0},{"$f":"(I519*I$8)/Setup!$C$10","v":0},{"$f":"(J519*J$8)/Setup!$C$10","v":0},{"$f":"(K519*K$8)/Setup!$C$10","v":0},{"$f":"(L519*L$8)/Setup!$C$10","v":0},null,0,0,null,0]
["2015-04-20","Week 42",{"$f":"(C520*C$8)/Setup!$C$10","v":0},{"$f":"(D520*D$8)/Setup!$C$10","v":0},{"$f":"(E520*E$8)/Setup!$C$10","v":0},{"$f":"(F520*F$8)/Setup!$C$10","v":0},{"$f":"(G520*G$8)/Setup!$C$10","v":0},{"$f":"(H520*H$8)/Setup!$C$10","v":0},{"$f":"(I520*I$8)/Setup!$C$10","v":0},{"$f":"(J520*J$8)/Setup!$C$10","v":0},{"$f":"(K520*K$8)/Setup!$C$10","v":0},{"$f":"(L520*L$8)/Setup!$C$10","v":0},null,0,0,null,0]
["2015-04-27","Week 43",{"$f":"(C521*C$8)/Setup!$C$10","v":0},{"$f":"(D521*D$8)/Setup!$C$10","v":0},{"$f":"(E521*E$8)/Setup!$C$10","v":0},{"$f":"(F521*F$8)/Setup!$C$10","v":0},{"$f":"(G521*G$8)/Setup!$C$10","v":0},{"$f":"(H521*H$8)/Setup!$C$10","v":0},{"$f":"(I521*I$8)/Setup!$C$10","v":0},{"$f":"(J521*J$8)/Setup!$C$10","v":0},{"$f":"(K521*K$8)/Setup!$C$10","v":0},{"$f":"(L521*L$8)/Setup!$C$10","v":0},null,0,0,null,0]
["2015-05-04","Week 44",{"$f":"(C522*C$8)/Setup!$C$10","v":0},{"$f":"(D522*D$8)/Setup!$C$10","v":0},{"$f":"(E522*E$8)/Setup!$C$10","v":0},{"$f":"(F522*F$8)/Setup!$C$10","v":0},{"$f":"(G522*G$8)/Setup!$C$10","v":0},{"$f":"(H522*H$8)/Setup!$C$10","v":0},{"$f":"(I522*I$8)/Setup!$C$10","v":0},{"$f":"(J522*J$8)/Setup!$C$10","v":0},{"$f":"(K522*K$8)/Setup!$C$10","v":0},{"$f":"(L522*L$8)/Setup!$C$10","v":0},null,0,0,null,0]
["2015-05-11","Week 45",{"$f":"(C523*C$8)/Setup!$C$10","v":0},{"$f":"(D523*D$8)/Setup!$C$10","v":0},{"$f":"(E523*E$8)/Setup!$C$10","v":0},{"$f":"(F523*F$8)/Setup!$C$10","v":0},{"$f":"(G523*G$8)/Setup!$C$10","v":0},{"$f":"(H523*H$8)/Setup!$C$10","v":0},{"$f":"(I523*I$8)/Setup!$C$10","v":0},{"$f":"(J523*J$8)/Setup!$C$10","v":0},{"$f":"(K523*K$8)/Setup!$C$10","v":0},{"$f":"(L523*L$8)/Setup!$C$10","v":0},null,0,0,null,0]
["2015-05-18","Week 46",{"$f":"(C524*C$8)/Setup!$C$10","v":0},{"$f":"(D524*D$8)/Setup!$C$10","v":0},{"$f":"(E524*E$8)/Setup!$C$10","v":0},{"$f":"(F524*F$8)/Setup!$C$10","v":0},{"$f":"(G524*G$8)/Setup!$C$10","v":0},{"$f":"(H524*H$8)/Setup!$C$10","v":0},{"$f":"(I524*I$8)/Setup!$C$10","v":0},{"$f":"(J524*J$8)/Setup!$C$10","v":0},{"$f":"(K524*K$8)/Setup!$C$10","v":0},{"$f":"(L524*L$8)/Setup!$C$10","v":0},null,0,0,null,0]
["2015-05-25","Week 47",{"$f":"(C525*C$8)/Setup!$C$10","v":0},{"$f":"(D525*D$8)/Setup!$C$10","v":0},{"$f":"(E525*E$8)/Setup!$C$10","v":0},{"$f":"(F525*F$8)/Setup!$C$10","v":0},{"$f":"(G525*G$8)/Setup!$C$10","v":0},{"$f":"(H525*H$8)/Setup!$C$10","v":0},{"$f":"(I525*I$8)/Setup!$C$10","v":0},{"$f":"(J525*J$8)/Setup!$C$10","v":0},{"$f":"(K525*K$8)/Setup!$C$10","v":0},{"$f":"(L525*L$8)/Setup!$C$10","v":0},null,0,0,null,0]
["2015-06-01","Week 48",{"$f":"(C526*C$8)/Setup!$C$10","v":0},{"$f":"(D526*D$8)/Setup!$C$10","v":0},{"$f":"(E526*E$8)/Setup!$C$10","v":0},{"$f":"(F526*F$8)/Setup!$C$10","v":0},{"$f":"(G526*G$8)/Setup!$C$10","v":0},{"$f":"(H526*H$8)/Setup!$C$10","v":0},{"$f":"(I526*I$8)/Setup!$C$10","v":0},{"$f":"(J526*J$8)/Setup!$C$10","v":0},{"$f":"(K526*K$8)/Setup!$C$10","v":0},{"$f":"(L526*L$8)/Setup!$C$10","v":0},null,0,0,null,0]
["2015-06-08","Week 49",{"$f":"(C527*C$8)/Setup!$C$10","v":0},{"$f":"(D527*D$8)/Setup!$C$10","v":0},{"$f":"(E527*E$8)/Setup!$C$10","v":0},{"$f":"(F527*F$8)/Setup!$C$10","v":0},{"$f":"(G527*G$8)/Setup!$C$10","v":0},{"$f":"(H527*H$8)/Setup!$C$10","v":0},{"$f":"(I527*I$8)/Setup!$C$10","v":0},{"$f":"(J527*J$8)/Setup!$C$10","v":0},{"$f":"(K527*K$8)/Setup!$C$10","v":0},{"$f":"(L527*L$8)/Setup!$C$10","v":0},null,0,0,null,0]
["2015-06-15","Week 50",{"$f":"(C528*C$8)/Setup!$C$10","v":0},{"$f":"(D528*D$8)/Setup!$C$10","v":0},{"$f":"(E528*E$8)/Setup!$C$10","v":0},{"$f":"(F528*F$8)/Setup!$C$10","v":0},{"$f":"(G528*G$8)/Setup!$C$10","v":0},{"$f":"(H528*H$8)/Setup!$C$10","v":0},{"$f":"(I528*I$8)/Setup!$C$10","v":0},{"$f":"(J528*J$8)/Setup!$C$10","v":0},{"$f":"(K528*K$8)/Setup!$C$10","v":0},{"$f":"(L528*L$8)/Setup!$C$10","v":0},null,0,0,null,0]
["2015-06-22","Week 51",{"$f":"(C529*C$8)/Setup!$C$10","v":0},{"$f":"(D529*D$8)/Setup!$C$10","v":0},{"$f":"(E529*E$8)/Setup!$C$10","v":0},{"$f":"(F529*F$8)/Setup!$C$10","v":0},{"$f":"(G529*G$8)/Setup!$C$10","v":0},{"$f":"(H529*H$8)/Setup!$C$10","v":0},{"$f":"(I529*I$8)/Setup!$C$10","v":0},{"$f":"(J529*J$8)/Setup!$C$10","v":0},{"$f":"(K529*K$8)/Setup!$C$10","v":0},{"$f":"(L529*L$8)/Setup!$C$10","v":0},null,0,0,null,0]
["2015-06-29","Week 52",{"$f":"(C530*C$8)/Setup!$C$10","v":0},{"$f":"(D530*D$8)/Setup!$C$10","v":0},{"$f":"(E530*E$8)/Setup!$C$10","v":0},{"$f":"(F530*F$8)/Setup!$C$10","v":0},{"$f":"(G530*G$8)/Setup!$C$10","v":0},{"$f":"(H530*H$8)/Setup!$C$10","v":0},{"$f":"(I530*I$8)/Setup!$C$10","v":0},{"$f":"(J530*J$8)/Setup!$C$10","v":0},{"$f":"(K530*K$8)/Setup!$C$10","v":0},{"$f":"(L530*L$8)/Setup!$C$10","v":0},null,0,0,null,0]
[null,null,null,null,null,null,null,null,null,null,null,null,null,null,null,null,{"$f":"SUM(Q307:Q358)","v":0}]
["Proposed Weekly K (Kg) / Hectare (Ha):"]
[]
[null,null,{"$f":"C5","v":"Amm Nitr"},"Urea","UAN","Pot Nitrate","MAP","Pot Sulphate",{"$f":"I5","v":"Cal Nitrate"},{"$f":"J5","v":"Fertimix"},{"$f":"K5","v":"User Defined 9"},{"$f":"L5","v":"User Defined 10"},null,"WEEKLY TOTAL","CUMM TOTAL",null,"Proposed Weekly K"]
[null,null,null,null,null,null,null,null,null,null,null,null,null,null,null,null,"TOTAL"]
[{"$f":"A421","v":"2014-07-07"},"Week 1",{"$f":"(C479*C$9)/Setup!$C$10","v":0},{"$f":"(D479*D$9)/Setup!$C$10","v":0},{"$f":"(E479*E$9)/Setup!$C$10","v":0},{"$f":"(F479*F$9)/Setup!$C$10","v":0},{"$f":"(G479*G$9)/Setup!$C$10","v":0},{"$f":"(H479*H$9)/Setup!$C$10","v":0},{"$f":"(I479*I$9)/Setup!$C$10","v":0},{"$f":"(J479*J$9)/Setup!$C$10","v":0},{"$f":"(K479*K$9)/Setup!$C$10","v":0},{"$f":"(L479*L$9)/Setup!$C$10","v":0},null,{"$f":"SUM(C364:L364)","v":0},{"$f":"N364","v":0},null,{"$f":"N364","v":0}]
["2014-07-14","Week 2",{"$f":"(C480*C$9)/Setup!$C$10","v":0},{"$f":"(D480*D$9)/Setup!$C$10","v":0},{"$f":"(E480*E$9)/Setup!$C$10","v":0},{"$f":"(F480*F$9)/Setup!$C$10","v":0},{"$f":"(G480*G$9)/Setup!$C$10","v":0},{"$f":"(H480*H$9)/Setup!$C$10","v":0},{"$f":"(I480*I$9)/Setup!$C$10","v":0},{"$f":"(J480*J$9)/Setup!$C$10","v":0},{"$f":"(K480*K$9)/Setup!$C$10","v":0},{"$f":"(L480*L$9)/Setup!$C$10","v":0},null,{"$f":"SUM(C365:L365)","v":0},{"$f":"O364+N365","v":0},null,{"$f":"N365","v":0}]
["2014-07-21","Week 3",{"$f":"(C481*C$9)/Setup!$C$10","v":0},{"$f":"(D481*D$9)/Setup!$C$10","v":0},{"$f":"(E481*E$9)/Setup!$C$10","v":0},{"$f":"(F481*F$9)/Setup!$C$10","v":0},{"$f":"(G481*G$9)/Setup!$C$10","v":0},{"$f":"(H481*H$9)/Setup!$C$10","v":0},{"$f":"(I481*I$9)/Setup!$C$10","v":0},{"$f":"(J481*J$9)/Setup!$C$10","v":0},{"$f":"(K481*K$9)/Setup!$C$10","v":0},{"$f":"(L481*L$9)/Setup!$C$10","v":0},null,0,0,null,0]
["2014-07-28","Week 4",{"$f":"(C482*C$9)/Setup!$C$10","v":0},{"$f":"(D482*D$9)/Setup!$C$10","v":0},{"$f":"(E482*E$9)/Setup!$C$10","v":0},{"$f":"(F482*F$9)/Setup!$C$10","v":0},{"$f":"(G482*G$9)/Setup!$C$10","v":0},{"$f":"(H482*H$9)/Setup!$C$10","v":0},{"$f":"(I482*I$9)/Setup!$C$10","v":0},{"$f":"(J482*J$9)/Setup!$C$10","v":0},{"$f":"(K482*K$9)/Setup!$C$10","v":0},{"$f":"(L482*L$9)/Setup!$C$10","v":0},null,0,0,null,0]
["2014-08-04","Week 5",{"$f":"(C483*C$9)/Setup!$C$10","v":0},{"$f":"(D483*D$9)/Setup!$C$10","v":0},{"$f":"(E483*E$9)/Setup!$C$10","v":0},{"$f":"(F483*F$9)/Setup!$C$10","v":0},{"$f":"(G483*G$9)/Setup!$C$10","v":0},{"$f":"(H483*H$9)/Setup!$C$10","v":0},{"$f":"(I483*I$9)/Setup!$C$10","v":0},{"$f":"(J483*J$9)/Setup!$C$10","v":0},{"$f":"(K483*K$9)/Setup!$C$10","v":0},{"$f":"(L483*L$9)/Setup!$C$10","v":0},null,0,0,null,0]
["2014-08-11","Week 6",{"$f":"(C484*C$9)/Setup!$C$10","v":0},{"$f":"(D484*D$9)/Setup!$C$10","v":0},{"$f":"(E484*E$9)/Setup!$C$10","v":0},{"$f":"(F484*F$9)/Setup!$C$10","v":0},{"$f":"(G484*G$9)/Setup!$C$10","v":0},{"$f":"(H484*H$9)/Setup!$C$10","v":0},{"$f":"(I484*I$9)/Setup!$C$10","v":0},{"$f":"(J484*J$9)/Setup!$C$10","v":0},{"$f":"(K484*K$9)/Setup!$C$10","v":0},{"$f":"(L484*L$9)/Setup!$C$10","v":0},null,0,0,null,0]
["2014-08-18","Week 7",{"$f":"(C485*C$9)/Setup!$C$10","v":0},{"$f":"(D485*D$9)/Setup!$C$10","v":0},{"$f":"(E485*E$9)/Setup!$C$10","v":0},{"$f":"(F485*F$9)/Setup!$C$10","v":0},{"$f":"(G485*G$9)/Setup!$C$10","v":0},{"$f":"(H485*H$9)/Setup!$C$10","v":0},{"$f":"(I485*I$9)/Setup!$C$10","v":0},{"$f":"(J485*J$9)/Setup!$C$10","v":0},{"$f":"(K485*K$9)/Setup!$C$10","v":0},{"$f":"(L485*L$9)/Setup!$C$10","v":0},null,0,0,null,0]
["2014-08-25","Week 8",{"$f":"(C486*C$9)/Setup!$C$10","v":0},{"$f":"(D486*D$9)/Setup!$C$10","v":0},{"$f":"(E486*E$9)/Setup!$C$10","v":0},{"$f":"(F486*F$9)/Setup!$C$10","v":0},{"$f":"(G486*G$9)/Setup!$C$10","v":0},{"$f":"(H486*H$9)/Setup!$C$10","v":0},{"$f":"(I486*I$9)/Setup!$C$10","v":0},{"$f":"(J486*J$9)/Setup!$C$10","v":0},{"$f":"(K486*K$9)/Setup!$C$10","v":0},{"$f":"(L486*L$9)/Setup!$C$10","v":0},null,0,0,null,0]
["2014-09-01","Week 9",{"$f":"(C487*C$9)/Setup!$C$10","v":0},{"$f":"(D487*D$9)/Setup!$C$10","v":0},{"$f":"(E487*E$9)/Setup!$C$10","v":0},{"$f":"(F487*F$9)/Setup!$C$10","v":0},{"$f":"(G487*G$9)/Setup!$C$10","v":0},{"$f":"(H487*H$9)/Setup!$C$10","v":0},{"$f":"(I487*I$9)/Setup!$C$10","v":0},{"$f":"(J487*J$9)/Setup!$C$10","v":0},{"$f":"(K487*K$9)/Setup!$C$10","v":0},{"$f":"(L487*L$9)/Setup!$C$10","v":0},null,0,0,null,0]
["2014-09-08","Week 10",{"$f":"(C488*C$9)/Setup!$C$10","v":0},{"$f":"(D488*D$9)/Setup!$C$10","v":0},{"$f":"(E488*E$9)/Setup!$C$10","v":0},{"$f":"(F488*F$9)/Setup!$C$10","v":0},{"$f":"(G488*G$9)/Setup!$C$10","v":0},{"$f":"(H488*H$9)/Setup!$C$10","v":0},{"$f":"(I488*I$9)/Setup!$C$10","v":0},{"$f":"(J488*J$9)/Setup!$C$10","v":0},{"$f":"(K488*K$9)/Setup!$C$10","v":0},{"$f":"(L488*L$9)/Setup!$C$10","v":0},null,0,0,null,0]
["2014-09-15","Week 11",{"$f":"(C489*C$9)/Setup!$C$10","v":0},{"$f":"(D489*D$9)/Setup!$C$10","v":0},{"$f":"(E489*E$9)/Setup!$C$10","v":0},{"$f":"(F489*F$9)/Setup!$C$10","v":0},{"$f":"(G489*G$9)/Setup!$C$10","v":0},{"$f":"(H489*H$9)/Setup!$C$10","v":0},{"$f":"(I489*I$9)/Setup!$C$10","v":0},{"$f":"(J489*J$9)/Setup!$C$10","v":0},{"$f":"(K489*K$9)/Setup!$C$10","v":0},{"$f":"(L489*L$9)/Setup!$C$10","v":0},null,0,0,null,0]
["2014-09-22","Week 12",{"$f":"(C490*C$9)/Setup!$C$10","v":0},{"$f":"(D490*D$9)/Setup!$C$10","v":0},{"$f":"(E490*E$9)/Setup!$C$10","v":0},{"$f":"(F490*F$9)/Setup!$C$10","v":0},{"$f":"(G490*G$9)/Setup!$C$10","v":0},{"$f":"(H490*H$9)/Setup!$C$10","v":0},{"$f":"(I490*I$9)/Setup!$C$10","v":0},{"$f":"(J490*J$9)/Setup!$C$10","v":0},{"$f":"(K490*K$9)/Setup!$C$10","v":0},{"$f":"(L490*L$9)/Setup!$C$10","v":0},null,0,0,null,0]
["2014-09-29","Week 13",{"$f":"(C491*C$9)/Setup!$C$10","v":0},{"$f":"(D491*D$9)/Setup!$C$10","v":0},{"$f":"(E491*E$9)/Setup!$C$10","v":0},{"$f":"(F491*F$9)/Setup!$C$10","v":0},{"$f":"(G491*G$9)/Setup!$C$10","v":0},{"$f":"(H491*H$9)/Setup!$C$10","v":0},{"$f":"(I491*I$9)/Setup!$C$10","v":0},{"$f":"(J491*J$9)/Setup!$C$10","v":0},{"$f":"(K491*K$9)/Setup!$C$10","v":0},{"$f":"(L491*L$9)/Setup!$C$10","v":0},null,0,0,null,0]
["2014-10-06","Week 14",{"$f":"(C492*C$9)/Setup!$C$10","v":0},{"$f":"(D492*D$9)/Setup!$C$10","v":0},{"$f":"(E492*E$9)/Setup!$C$10","v":0},{"$f":"(F492*F$9)/Setup!$C$10","v":0},{"$f":"(G492*G$9)/Setup!$C$10","v":0},{"$f":"(H492*H$9)/Setup!$C$10","v":0},{"$f":"(I492*I$9)/Setup!$C$10","v":0},{"$f":"(J492*J$9)/Setup!$C$10","v":0},{"$f":"(K492*K$9)/Setup!$C$10","v":0},{"$f":"(L492*L$9)/Setup!$C$10","v":0},null,0,0,null,0]
["2014-10-13","Week 15",{"$f":"(C493*C$9)/Setup!$C$10","v":0},{"$f":"(D493*D$9)/Setup!$C$10","v":0},{"$f":"(E493*E$9)/Setup!$C$10","v":0},{"$f":"(F493*F$9)/Setup!$C$10","v":0},{"$f":"(G493*G$9)/Setup!$C$10","v":0},{"$f":"(H493*H$9)/Setup!$C$10","v":0},{"$f":"(I493*I$9)/Setup!$C$10","v":0},{"$f":"(J493*J$9)/Setup!$C$10","v":0},{"$f":"(K493*K$9)/Setup!$C$10","v":0},{"$f":"(L493*L$9)/Setup!$C$10","v":0},null,0,0,null,0]
["2014-10-20","Week 16",{"$f":"(C494*C$9)/Setup!$C$10","v":0},{"$f":"(D494*D$9)/Setup!$C$10","v":0},{"$f":"(E494*E$9)/Setup!$C$10","v":0},{"$f":"(F494*F$9)/Setup!$C$10","v":0},{"$f":"(G494*G$9)/Setup!$C$10","v":0},{"$f":"(H494*H$9)/Setup!$C$10","v":0},{"$f":"(I494*I$9)/Setup!$C$10","v":0},{"$f":"(J494*J$9)/Setup!$C$10","v":0},{"$f":"(K494*K$9)/Setup!$C$10","v":0},{"$f":"(L494*L$9)/Setup!$C$10","v":0},null,0,0,null,0]
["2014-10-27","Week 17",{"$f":"(C495*C$9)/Setup!$C$10","v":0},{"$f":"(D495*D$9)/Setup!$C$10","v":0},{"$f":"(E495*E$9)/Setup!$C$10","v":0},{"$f":"(F495*F$9)/Setup!$C$10","v":0},{"$f":"(G495*G$9)/Setup!$C$10","v":0},{"$f":"(H495*H$9)/Setup!$C$10","v":0},{"$f":"(I495*I$9)/Setup!$C$10","v":0},{"$f":"(J495*J$9)/Setup!$C$10","v":0},{"$f":"(K495*K$9)/Setup!$C$10","v":0},{"$f":"(L495*L$9)/Setup!$C$10","v":0},null,0,0,null,0]
["2014-11-03","Week 18",{"$f":"(C496*C$9)/Setup!$C$10","v":0},{"$f":"(D496*D$9)/Setup!$C$10","v":0},{"$f":"(E496*E$9)/Setup!$C$10","v":0},{"$f":"(F496*F$9)/Setup!$C$10","v":0},{"$f":"(G496*G$9)/Setup!$C$10","v":0},{"$f":"(H496*H$9)/Setup!$C$10","v":0},{"$f":"(I496*I$9)/Setup!$C$10","v":0},{"$f":"(J496*J$9)/Setup!$C$10","v":0},{"$f":"(K496*K$9)/Setup!$C$10","v":0},{"$f":"(L496*L$9)/Setup!$C$10","v":0},null,0,0,null,0]
["2014-11-10","Week 19",{"$f":"(C497*C$9)/Setup!$C$10","v":0},{"$f":"(D497*D$9)/Setup!$C$10","v":0},{"$f":"(E497*E$9)/Setup!$C$10","v":0},{"$f":"(F497*F$9)/Setup!$C$10","v":0},{"$f":"(G497*G$9)/Setup!$C$10","v":0},{"$f":"(H497*H$9)/Setup!$C$10","v":0},{"$f":"(I497*I$9)/Setup!$C$10","v":0},{"$f":"(J497*J$9)/Setup!$C$10","v":0},{"$f":"(K497*K$9)/Setup!$C$10","v":0},{"$f":"(L497*L$9)/Setup!$C$10","v":0},null,0,0,null,0]
["2014-11-17","Week 20",{"$f":"(C498*C$9)/Setup!$C$10","v":0},{"$f":"(D498*D$9)/Setup!$C$10","v":0},{"$f":"(E498*E$9)/Setup!$C$10","v":0},{"$f":"(F498*F$9)/Setup!$C$10","v":0},{"$f":"(G498*G$9)/Setup!$C$10","v":0},{"$f":"(H498*H$9)/Setup!$C$10","v":0},{"$f":"(I498*I$9)/Setup!$C$10","v":0},{"$f":"(J498*J$9)/Setup!$C$10","v":0},{"$f":"(K498*K$9)/Setup!$C$10","v":0},{"$f":"(L498*L$9)/Setup!$C$10","v":0},null,0,0,null,0]
[{"$f":"A441","v":"2014-11-24"},"Week 21",{"$f":"(C499*C$9)/Setup!$C$10","v":0},{"$f":"(D499*D$9)/Setup!$C$10","v":0},{"$f":"(E499*E$9)/Setup!$C$10","v":0},{"$f":"(F499*F$9)/Setup!$C$10","v":0},{"$f":"(G499*G$9)/Setup!$C$10","v":0},{"$f":"(H499*H$9)/Setup!$C$10","v":0},{"$f":"(I499*I$9)/Setup!$C$10","v":0},{"$f":"(J499*J$9)/Setup!$C$10","v":0},{"$f":"(K499*K$9)/Setup!$C$10","v":0},{"$f":"(L499*L$9)/Setup!$C$10","v":0},null,0,0,null,0]
["2014-12-01","Week 22",{"$f":"(C500*C$9)/Setup!$C$10","v":0},{"$f":"(D500*D$9)/Setup!$C$10","v":0},{"$f":"(E500*E$9)/Setup!$C$10","v":0},{"$f":"(F500*F$9)/Setup!$C$10","v":0},{"$f":"(G500*G$9)/Setup!$C$10","v":0},{"$f":"(H500*H$9)/Setup!$C$10","v":0},{"$f":"(I500*I$9)/Setup!$C$10","v":0},{"$f":"(J500*J$9)/Setup!$C$10","v":0},{"$f":"(K500*K$9)/Setup!$C$10","v":0},{"$f":"(L500*L$9)/Setup!$C$10","v":0},null,0,0,null,0]
["2014-12-08","Week 23",{"$f":"(C501*C$9)/Setup!$C$10","v":0},{"$f":"(D501*D$9)/Setup!$C$10","v":0},{"$f":"(E501*E$9)/Setup!$C$10","v":0},{"$f":"(F501*F$9)/Setup!$C$10","v":0},{"$f":"(G501*G$9)/Setup!$C$10","v":0},{"$f":"(H501*H$9)/Setup!$C$10","v":0},{"$f":"(I501*I$9)/Setup!$C$10","v":0},{"$f":"(J501*J$9)/Setup!$C$10","v":0},{"$f":"(K501*K$9)/Setup!$C$10","v":0},{"$f":"(L501*L$9)/Setup!$C$10","v":0},null,0,0,null,0]
["2014-12-15","Week 24",{"$f":"(C502*C$9)/Setup!$C$10","v":0},{"$f":"(D502*D$9)/Setup!$C$10","v":0},{"$f":"(E502*E$9)/Setup!$C$10","v":0},{"$f":"(F502*F$9)/Setup!$C$10","v":0},{"$f":"(G502*G$9)/Setup!$C$10","v":0},{"$f":"(H502*H$9)/Setup!$C$10","v":0},{"$f":"(I502*I$9)/Setup!$C$10","v":0},{"$f":"(J502*J$9)/Setup!$C$10","v":0},{"$f":"(K502*K$9)/Setup!$C$10","v":0},{"$f":"(L502*L$9)/Setup!$C$10","v":0},null,0,0,null,0]
["2014-12-22","Week 25",{"$f":"(C503*C$9)/Setup!$C$10","v":0},{"$f":"(D503*D$9)/Setup!$C$10","v":0},{"$f":"(E503*E$9)/Setup!$C$10","v":0},{"$f":"(F503*F$9)/Setup!$C$10","v":0},{"$f":"(G503*G$9)/Setup!$C$10","v":0},{"$f":"(H503*H$9)/Setup!$C$10","v":0},{"$f":"(I503*I$9)/Setup!$C$10","v":0},{"$f":"(J503*J$9)/Setup!$C$10","v":0},{"$f":"(K503*K$9)/Setup!$C$10","v":0},{"$f":"(L503*L$9)/Setup!$C$10","v":0},null,0,0,null,0]
["2014-12-29","Week 26",{"$f":"(C504*C$9)/Setup!$C$10","v":0},{"$f":"(D504*D$9)/Setup!$C$10","v":0},{"$f":"(E504*E$9)/Setup!$C$10","v":0},{"$f":"(F504*F$9)/Setup!$C$10","v":0},{"$f":"(G504*G$9)/Setup!$C$10","v":0},{"$f":"(H504*H$9)/Setup!$C$10","v":0},{"$f":"(I504*I$9)/Setup!$C$10","v":0},{"$f":"(J504*J$9)/Setup!$C$10","v":0},{"$f":"(K504*K$9)/Setup!$C$10","v":0},{"$f":"(L504*L$9)/Setup!$C$10","v":0},null,0,0,null,0]
["2015-01-05","Week 27",{"$f":"(C505*C$9)/Setup!$C$10","v":0},{"$f":"(D505*D$9)/Setup!$C$10","v":0},{"$f":"(E505*E$9)/Setup!$C$10","v":0},{"$f":"(F505*F$9)/Setup!$C$10","v":0},{"$f":"(G505*G$9)/Setup!$C$10","v":0},{"$f":"(H505*H$9)/Setup!$C$10","v":0},{"$f":"(I505*I$9)/Setup!$C$10","v":0},{"$f":"(J505*J$9)/Setup!$C$10","v":0},{"$f":"(K505*K$9)/Setup!$C$10","v":0},{"$f":"(L505*L$9)/Setup!$C$10","v":0},null,0,0,null,0]
["2015-01-12","Week 28",{"$f":"(C506*C$9)/Setup!$C$10","v":0},{"$f":"(D506*D$9)/Setup!$C$10","v":0},{"$f":"(E506*E$9)/Setup!$C$10","v":0},{"$f":"(F506*F$9)/Setup!$C$10","v":0},{"$f":"(G506*G$9)/Setup!$C$10","v":0},{"$f":"(H506*H$9)/Setup!$C$10","v":0},{"$f":"(I506*I$9)/Setup!$C$10","v":0},{"$f":"(J506*J$9)/Setup!$C$10","v":0},{"$f":"(K506*K$9)/Setup!$C$10","v":0},{"$f":"(L506*L$9)/Setup!$C$10","v":0},null,0,0,null,0]
["2015-01-19","Week 29",{"$f":"(C507*C$9)/Setup!$C$10","v":0},{"$f":"(D507*D$9)/Setup!$C$10","v":0},{"$f":"(E507*E$9)/Setup!$C$10","v":0},{"$f":"(F507*F$9)/Setup!$C$10","v":0},{"$f":"(G507*G$9)/Setup!$C$10","v":0},{"$f":"(H507*H$9)/Setup!$C$10","v":0},{"$f":"(I507*I$9)/Setup!$C$10","v":0},{"$f":"(J507*J$9)/Setup!$C$10","v":0},{"$f":"(K507*K$9)/Setup!$C$10","v":0},{"$f":"(L507*L$9)/Setup!$C$10","v":0},null,0,0,null,0]
["2015-01-26","Week 30",{"$f":"(C508*C$9)/Setup!$C$10","v":0},{"$f":"(D508*D$9)/Setup!$C$10","v":0},{"$f":"(E508*E$9)/Setup!$C$10","v":0},{"$f":"(F508*F$9)/Setup!$C$10","v":0},{"$f":"(G508*G$9)/Setup!$C$10","v":0},{"$f":"(H508*H$9)/Setup!$C$10","v":0},{"$f":"(I508*I$9)/Setup!$C$10","v":0},{"$f":"(J508*J$9)/Setup!$C$10","v":0},{"$f":"(K508*K$9)/Setup!$C$10","v":0},{"$f":"(L508*L$9)/Setup!$C$10","v":0},null,0,0,null,0]
["2015-02-02","Week 31",{"$f":"(C509*C$9)/Setup!$C$10","v":0},{"$f":"(D509*D$9)/Setup!$C$10","v":0},{"$f":"(E509*E$9)/Setup!$C$10","v":0},{"$f":"(F509*F$9)/Setup!$C$10","v":0},{"$f":"(G509*G$9)/Setup!$C$10","v":0},{"$f":"(H509*H$9)/Setup!$C$10","v":0},{"$f":"(I509*I$9)/Setup!$C$10","v":0},{"$f":"(J509*J$9)/Setup!$C$10","v":0},{"$f":"(K509*K$9)/Setup!$C$10","v":0},{"$f":"(L509*L$9)/Setup!$C$10","v":0},null,0,0,null,0]
["2015-02-09","Week 32",{"$f":"(C510*C$9)/Setup!$C$10","v":0},{"$f":"(D510*D$9)/Setup!$C$10","v":0},{"$f":"(E510*E$9)/Setup!$C$10","v":0},{"$f":"(F510*F$9)/Setup!$C$10","v":0},{"$f":"(G510*G$9)/Setup!$C$10","v":0},{"$f":"(H510*H$9)/Setup!$C$10","v":0},{"$f":"(I510*I$9)/Setup!$C$10","v":0},{"$f":"(J510*J$9)/Setup!$C$10","v":0},{"$f":"(K510*K$9)/Setup!$C$10","v":0},{"$f":"(L510*L$9)/Setup!$C$10","v":0},null,0,0,null,0]
["2015-02-16","Week 33",{"$f":"(C511*C$9)/Setup!$C$10","v":0},{"$f":"(D511*D$9)/Setup!$C$10","v":0},{"$f":"(E511*E$9)/Setup!$C$10","v":0},{"$f":"(F511*F$9)/Setup!$C$10","v":0},{"$f":"(G511*G$9)/Setup!$C$10","v":0},{"$f":"(H511*H$9)/Setup!$C$10","v":0},{"$f":"(I511*I$9)/Setup!$C$10","v":0},{"$f":"(J511*J$9)/Setup!$C$10","v":0},{"$f":"(K511*K$9)/Setup!$C$10","v":0},{"$f":"(L511*L$9)/Setup!$C$10","v":0},null,0,0,null,0]
["2015-02-23","Week 34",{"$f":"(C512*C$9)/Setup!$C$10","v":0},{"$f":"(D512*D$9)/Setup!$C$10","v":0},{"$f":"(E512*E$9)/Setup!$C$10","v":0},{"$f":"(F512*F$9)/Setup!$C$10","v":0},{"$f":"(G512*G$9)/Setup!$C$10","v":0},{"$f":"(H512*H$9)/Setup!$C$10","v":0},{"$f":"(I512*I$9)/Setup!$C$10","v":0},{"$f":"(J512*J$9)/Setup!$C$10","v":0},{"$f":"(K512*K$9)/Setup!$C$10","v":0},{"$f":"(L512*L$9)/Setup!$C$10","v":0},null,0,{"$f":"O396+N397","v":0},null,0]
["2015-03-02","Week 35",{"$f":"(C513*C$9)/Setup!$C$10","v":0},{"$f":"(D513*D$9)/Setup!$C$10","v":0},{"$f":"(E513*E$9)/Setup!$C$10","v":0},{"$f":"(F513*F$9)/Setup!$C$10","v":0},{"$f":"(G513*G$9)/Setup!$C$10","v":0},{"$f":"(H513*H$9)/Setup!$C$10","v":0},{"$f":"(I513*I$9)/Setup!$C$10","v":0},{"$f":"(J513*J$9)/Setup!$C$10","v":0},{"$f":"(K513*K$9)/Setup!$C$10","v":0},{"$f":"(L513*L$9)/Setup!$C$10","v":0},null,0,0,null,0]
["2015-03-09","Week 36",{"$f":"(C514*C$9)/Setup!$C$10","v":0},{"$f":"(D514*D$9)/Setup!$C$10","v":0},{"$f":"(E514*E$9)/Setup!$C$10","v":0},{"$f":"(F514*F$9)/Setup!$C$10","v":0},{"$f":"(G514*G$9)/Setup!$C$10","v":0},{"$f":"(H514*H$9)/Setup!$C$10","v":0},{"$f":"(I514*I$9)/Setup!$C$10","v":0},{"$f":"(J514*J$9)/Setup!$C$10","v":0},{"$f":"(K514*K$9)/Setup!$C$10","v":0},{"$f":"(L514*L$9)/Setup!$C$10","v":0},null,0,0,null,0]
["2015-03-16","Week 37",{"$f":"(C515*C$9)/Setup!$C$10","v":0},{"$f":"(D515*D$9)/Setup!$C$10","v":0},{"$f":"(E515*E$9)/Setup!$C$10","v":0},{"$f":"(F515*F$9)/Setup!$C$10","v":0},{"$f":"(G515*G$9)/Setup!$C$10","v":0},{"$f":"(H515*H$9)/Setup!$C$10","v":0},{"$f":"(I515*I$9)/Setup!$C$10","v":0},{"$f":"(J515*J$9)/Setup!$C$10","v":0},{"$f":"(K515*K$9)/Setup!$C$10","v":0},{"$f":"(L515*L$9)/Setup!$C$10","v":0},null,0,0,null,0]
["2015-03-23","Week 38",{"$f":"(C516*C$9)/Setup!$C$10","v":0},{"$f":"(D516*D$9)/Setup!$C$10","v":0},{"$f":"(E516*E$9)/Setup!$C$10","v":0},{"$f":"(F516*F$9)/Setup!$C$10","v":0},{"$f":"(G516*G$9)/Setup!$C$10","v":0},{"$f":"(H516*H$9)/Setup!$C$10","v":0},{"$f":"(I516*I$9)/Setup!$C$10","v":0},{"$f":"(J516*J$9)/Setup!$C$10","v":0},{"$f":"(K516*K$9)/Setup!$C$10","v":0},{"$f":"(L516*L$9)/Setup!$C$10","v":0},null,0,0,null,0]
["2015-03-30","Week 39",{"$f":"(C517*C$9)/Setup!$C$10","v":0},{"$f":"(D517*D$9)/Setup!$C$10","v":0},{"$f":"(E517*E$9)/Setup!$C$10","v":0},{"$f":"(F517*F$9)/Setup!$C$10","v":0},{"$f":"(G517*G$9)/Setup!$C$10","v":0},{"$f":"(H517*H$9)/Setup!$C$10","v":0},{"$f":"(I517*I$9)/Setup!$C$10","v":0},{"$f":"(J517*J$9)/Setup!$C$10","v":0},{"$f":"(K517*K$9)/Setup!$C$10","v":0},{"$f":"(L517*L$9)/Setup!$C$10","v":0},null,0,0,null,0]
["2015-04-06","Week 40",{"$f":"(C518*C$9)/Setup!$C$10","v":0},{"$f":"(D518*D$9)/Setup!$C$10","v":0},{"$f":"(E518*E$9)/Setup!$C$10","v":0},{"$f":"(F518*F$9)/Setup!$C$10","v":0},{"$f":"(G518*G$9)/Setup!$C$10","v":0},{"$f":"(H518*H$9)/Setup!$C$10","v":0},{"$f":"(I518*I$9)/Setup!$C$10","v":0},{"$f":"(J518*J$9)/Setup!$C$10","v":0},{"$f":"(K518*K$9)/Setup!$C$10","v":0},{"$f":"(L518*L$9)/Setup!$C$10","v":0},null,0,0,null,0]
[{"$f":"A461","v":"2015-04-13"},"Week 41",{"$f":"(C519*C$9)/Setup!$C$10","v":0},{"$f":"(D519*D$9)/Setup!$C$10","v":0},{"$f":"(E519*E$9)/Setup!$C$10","v":0},{"$f":"(F519*F$9)/Setup!$C$10","v":0},{"$f":"(G519*G$9)/Setup!$C$10","v":0},{"$f":"(H519*H$9)/Setup!$C$10","v":0},{"$f":"(I519*I$9)/Setup!$C$10","v":0},{"$f":"(J519*J$9)/Setup!$C$10","v":0},{"$f":"(K519*K$9)/Setup!$C$10","v":0},{"$f":"(L519*L$9)/Setup!$C$10","v":0},null,0,0,null,0]
["2015-04-20","Week 42",{"$f":"(C520*C$9)/Setup!$C$10","v":0},{"$f":"(D520*D$9)/Setup!$C$10","v":0},{"$f":"(E520*E$9)/Setup!$C$10","v":0},{"$f":"(F520*F$9)/Setup!$C$10","v":0},{"$f":"(G520*G$9)/Setup!$C$10","v":0},{"$f":"(H520*H$9)/Setup!$C$10","v":0},{"$f":"(I520*I$9)/Setup!$C$10","v":0},{"$f":"(J520*J$9)/Setup!$C$10","v":0},{"$f":"(K520*K$9)/Setup!$C$10","v":0},{"$f":"(L520*L$9)/Setup!$C$10","v":0},null,0,0,null,0]
["2015-04-27","Week 43",{"$f":"(C521*C$9)/Setup!$C$10","v":0},{"$f":"(D521*D$9)/Setup!$C$10","v":0},{"$f":"(E521*E$9)/Setup!$C$10","v":0},{"$f":"(F521*F$9)/Setup!$C$10","v":0},{"$f":"(G521*G$9)/Setup!$C$10","v":0},{"$f":"(H521*H$9)/Setup!$C$10","v":0},{"$f":"(I521*I$9)/Setup!$C$10","v":0},{"$f":"(J521*J$9)/Setup!$C$10","v":0},{"$f":"(K521*K$9)/Setup!$C$10","v":0},{"$f":"(L521*L$9)/Setup!$C$10","v":0},null,0,0,null,0]
["2015-05-04","Week 44",{"$f":"(C522*C$9)/Setup!$C$10","v":0},{"$f":"(D522*D$9)/Setup!$C$10","v":0},{"$f":"(E522*E$9)/Setup!$C$10","v":0},{"$f":"(F522*F$9)/Setup!$C$10","v":0},{"$f":"(G522*G$9)/Setup!$C$10","v":0},{"$f":"(H522*H$9)/Setup!$C$10","v":0},{"$f":"(I522*I$9)/Setup!$C$10","v":0},{"$f":"(J522*J$9)/Setup!$C$10","v":0},{"$f":"(K522*K$9)/Setup!$C$10","v":0},{"$f":"(L522*L$9)/Setup!$C$10","v":0},null,0,0,null,0]
["2015-05-11","Week 45",{"$f":"(C523*C$9)/Setup!$C$10","v":0},{"$f":"(D523*D$9)/Setup!$C$10","v":0},{"$f":"(E523*E$9)/Setup!$C$10","v":0},{"$f":"(F523*F$9)/Setup!$C$10","v":0},{"$f":"(G523*G$9)/Setup!$C$10","v":0},{"$f":"(H523*H$9)/Setup!$C$10","v":0},{"$f":"(I523*I$9)/Setup!$C$10","v":0},{"$f":"(J523*J$9)/Setup!$C$10","v":0},{"$f":"(K523*K$9)/Setup!$C$10","v":0},{"$f":"(L523*L$9)/Setup!$C$10","v":0},null,0,0,null,0]
["2015-05-18","Week 46",{"$f":"(C524*C$9)/Setup!$C$10","v":0},{"$f":"(D524*D$9)/Setup!$C$10","v":0},{"$f":"(E524*E$9)/Setup!$C$10","v":0},{"$f":"(F524*F$9)/Setup!$C$10","v":0},{"$f":"(G524*G$9)/Setup!$C$10","v":0},{"$f":"(H524*H$9)/Setup!$C$10","v":0},{"$f":"(I524*I$9)/Setup!$C$10","v":0},{"$f":"(J524*J$9)/Setup!$C$10","v":0},{"$f":"(K524*K$9)/Setup!$C$10","v":0},{"$f":"(L524*L$9)/Setup!$C$10","v":0},null,0,0,null,0]
["2015-05-25","Week 47",{"$f":"(C525*C$9)/Setup!$C$10","v":0},{"$f":"(D525*D$9)/Setup!$C$10","v":0},{"$f":"(E525*E$9)/Setup!$C$10","v":0},{"$f":"(F525*F$9)/Setup!$C$10","v":0},{"$f":"(G525*G$9)/Setup!$C$10","v":0},{"$f":"(H525*H$9)/Setup!$C$10","v":0},{"$f":"(I525*I$9)/Setup!$C$10","v":0},{"$f":"(J525*J$9)/Setup!$C$10","v":0},{"$f":"(K525*K$9)/Setup!$C$10","v":0},{"$f":"(L525*L$9)/Setup!$C$10","v":0},null,0,0,null,0]
["2015-06-01","Week 48",{"$f":"(C526*C$9)/Setup!$C$10","v":0},{"$f":"(D526*D$9)/Setup!$C$10","v":0},{"$f":"(E526*E$9)/Setup!$C$10","v":0},{"$f":"(F526*F$9)/Setup!$C$10","v":0},{"$f":"(G526*G$9)/Setup!$C$10","v":0},{"$f":"(H526*H$9)/Setup!$C$10","v":0},{"$f":"(I526*I$9)/Setup!$C$10","v":0},{"$f":"(J526*J$9)/Setup!$C$10","v":0},{"$f":"(K526*K$9)/Setup!$C$10","v":0},{"$f":"(L526*L$9)/Setup!$C$10","v":0},null,0,0,null,0]
["2015-06-08","Week 49",{"$f":"(C527*C$9)/Setup!$C$10","v":0},{"$f":"(D527*D$9)/Setup!$C$10","v":0},{"$f":"(E527*E$9)/Setup!$C$10","v":0},{"$f":"(F527*F$9)/Setup!$C$10","v":0},{"$f":"(G527*G$9)/Setup!$C$10","v":0},{"$f":"(H527*H$9)/Setup!$C$10","v":0},{"$f":"(I527*I$9)/Setup!$C$10","v":0},{"$f":"(J527*J$9)/Setup!$C$10","v":0},{"$f":"(K527*K$9)/Setup!$C$10","v":0},{"$f":"(L527*L$9)/Setup!$C$10","v":0},null,0,0,null,0]
["2015-06-15","Week 50",{"$f":"(C528*C$9)/Setup!$C$10","v":0},{"$f":"(D528*D$9)/Setup!$C$10","v":0},{"$f":"(E528*E$9)/Setup!$C$10","v":0},{"$f":"(F528*F$9)/Setup!$C$10","v":0},{"$f":"(G528*G$9)/Setup!$C$10","v":0},{"$f":"(H528*H$9)/Setup!$C$10","v":0},{"$f":"(I528*I$9)/Setup!$C$10","v":0},{"$f":"(J528*J$9)/Setup!$C$10","v":0},{"$f":"(K528*K$9)/Setup!$C$10","v":0},{"$f":"(L528*L$9)/Setup!$C$10","v":0},null,0,0,null,0]
["2015-06-22","Week 51",{"$f":"(C529*C$9)/Setup!$C$10","v":0},{"$f":"(D529*D$9)/Setup!$C$10","v":0},{"$f":"(E529*E$9)/Setup!$C$10","v":0},{"$f":"(F529*F$9)/Setup!$C$10","v":0},{"$f":"(G529*G$9)/Setup!$C$10","v":0},{"$f":"(H529*H$9)/Setup!$C$10","v":0},{"$f":"(I529*I$9)/Setup!$C$10","v":0},{"$f":"(J529*J$9)/Setup!$C$10","v":0},{"$f":"(K529*K$9)/Setup!$C$10","v":0},{"$f":"(L529*L$9)/Setup!$C$10","v":0},null,0,0,null,0]
["2015-06-29","Week 52",{"$f":"(C530*C$9)/Setup!$C$10","v":0},{"$f":"(D530*D$9)/Setup!$C$10","v":0},{"$f":"(E530*E$9)/Setup!$C$10","v":0},{"$f":"(F530*F$9)/Setup!$C$10","v":0},{"$f":"(G530*G$9)/Setup!$C$10","v":0},{"$f":"(H530*H$9)/Setup!$C$10","v":0},{"$f":"(I530*I$9)/Setup!$C$10","v":0},{"$f":"(J530*J$9)/Setup!$C$10","v":0},{"$f":"(K530*K$9)/Setup!$C$10","v":0},{"$f":"(L530*L$9)/Setup!$C$10","v":0},null,0,0,null,0]
[null,null,null,null,null,null,null,null,null,null,null,null,null,null,null,null,{"$f":"SUM(Q364:Q415)","v":0},null,null,null,null,null,null,null,null,null,null,null,null,null,null,"NOTES / WORKING PAGE"]
["Proposed Weekly Fertiliser (Kg) / Hectare (Ha):",null,null,null,null,null,null,null,null,null,null,null,null,null,null,null,null,null,null,null,null,null,null,null,null,null,null,null,null,null,null,"NOTES / WORKING PAGE"]
[]
[null,null,{"$f":"C5","v":"Amm Nitr"},"Urea","UAN","Pot Nitrate","MAP","Pot Sulphate","Cal Nitrate","Fertimix","User Defined 9","User Defined 10",null,null,null,null,null,null,"Grower Weekly","Grower Weekly","Grower Weekly",null,"240:400 Weekly","240:400 Weekly","240:400 Weekly","320:600 Weekly","320:600 Weekly","320:600 Weekly","320:400 Weekly","320:400 Weekly","320:400 Weekly"]
[null,null,null,null,null,null,null,null,null,null,null,null,null,null,null,null,null,null,"N","P","K",null,"N","P","K","N","P","K","N","P","K"]
[{"$f":"Setup!A5","v":"2014-07-07"},"Week 1",0,0,0,0,0,0,0,0,0,0,null,null,null,null,null,null,{"$f":"Q250","v":0},{"$f":"Q307","v":0},{"$f":"Q364","v":0},null,0,0,0,0,0,0,0,0,0]
[{"$f":"A421+7","v":"2014-07-14"},"Week 2",0,0,0,0,0,0,0,0,0,0,null,null,null,null,null,null,{"$f":"Q251","v":0},{"$f":"Q308","v":0},{"$f":"Q365","v":0},null,0,0,0,0,0,0,0,0,0]
["2014-07-21","Week 3",0,0,0,0,0,0,0,0,0,0,null,null,null,null,null,null,0,0,0,null,0,0,0,0,0,0,0,0,0]
["2014-07-28","Week 4",0,0,null,0,0,0,0,0,0,0,null,null,null,null,null,null,0,0,0,null,16.25,0,47.912499999999994,16.25,0,47.912499999999994,16.25,0,47.912499999999994]
["2014-08-04","Week 5",0,0,null,0,0,0,0,0,0,0,null,null,null,null,null,null,0,0,0,null,16.25,0,47.912499999999994,16.25,0,47.912499999999994,16.25,0,47.912499999999994]
["2014-08-11","Week 6",0,0,0,0,0,0,0,0,0,0,null,null,null,null,null,null,0,0,0,null,0,0,0,0,0,0,0,0,0]
["2014-08-18","Week 7",0,0,0,0,0,0,0,0,0,0,null,null,null,null,null,null,0,0,0,null,0,0,0,0,0,0,0,0,0]
["2014-08-25","Week 8",0,0,0,0,0,0,0,0,0,0,null,null,null,null,null,null,0,0,0,null,0,0,0,0,0,0,0,0,0]
["2014-09-01","Week 9",0,0,0,0,0,0,0,0,0,0,null,null,null,null,null,null,0,0,0,null,0,0,0,0,0,0,0,0,0]
["2014-09-08","Week 10",null,null,null,null,null,null,null,0,0,0,null,null,null,null,null,null,0,0,0,null,6,4.55,11.498999999999999,6,4.55,11.498999999999999,6,4.55,11.498999999999999]
["2014-09-15","Week 11",null,null,null,null,null,null,null,0,0,0,null,null,null,null,null,null,0,0,0,null,6,4.55,11.498999999999999,6,4.55,11.498999999999999,6,4.55,11.498999999999999]
["2014-09-22","Week 12",null,null,null,null,null,null,null,0,0,0,null,null,null,null,null,null,0,0,0,null,6,4.55,11.498999999999999,6,4.55,11.498999999999999,6,4.55,11.498999999999999]
["2014-09-29","Week 13",null,null,null,null,null,null,null,0,0,0,null,null,null,null,null,null,0,0,0,null,19.399999999999999,4.55,26.298999999999999,19.399999999999999,4.55,28.698999999999998,19.399999999999999,4.55,15.498999999999999]
["2014-10-06","Week 14",null,null,null,null,null,null,null,0,0,0,null,null,null,null,null,null,0,0,0,null,19.399999999999999,4.55,26.298999999999999,19.399999999999999,4.55,28.698999999999998,19.399999999999999,4.55,15.498999999999999]
["2014-10-13","Week 15",null,null,null,null,null,null,null,0,0,0,null,null,null,null,null,null,0,0,0,null,19.399999999999999,4.55,26.298999999999999,19.399999999999999,4.55,28.698999999999998,19.399999999999999,4.55,15.498999999999999]
["2014-10-20","Week 16",null,null,null,null,null,null,null,0,0,0,null,null,null,null,null,null,0,0,0,null,19.399999999999999,4.55,26.298999999999999,19.399999999999999,4.55,28.698999999999998,19.399999999999999,4.55,15.498999999999999]
["2014-10-27","Week 17",null,null,null,null,null,null,null,0,0,0,null,null,null,null,null,null,0,0,0,null,19.399999999999999,4.55,24.298999999999999,19.399999999999999,4.55,28.698999999999998,19.399999999999999,4.55,15.498999999999999]
["2014-11-03","Week 18",null,null,null,null,null,null,null,0,0,0,null,null,null,null,null,null,0,0,0,null,11.025,4.55,11.498999999999999,19.399999999999999,4.55,28.698999999999998,19.399999999999999,4.55,15.498999999999999]
["2014-11-10","Week 19",null,null,null,null,null,null,null,0,0,0,null,null,null,null,null,null,0,0,0,null,2.1,4.55,0,19.8,4.55,28.698999999999998,19.8,4.55,15.498999999999999]
["2014-11-17","Week 20",null,null,null,null,null,null,null,0,0,0,null,null,null,null,null,null,0,0,0,null,2.1,4.55,0,19.8,4.55,28.698999999999998,19.8,4.55,15.498999999999999]
["2014-11-24","Week 21",null,null,null,null,null,null,null,0,0,0,null,null,null,null,null,null,0,0,0,null,0,0,0,17.3,0,28.698999999999998,17.3,0,15.498999999999999]
["2014-12-01","Week 22",0,0,0,0,0,0,0,0,0,0,null,null,null,null,null,null,0,0,0,null,0,0,0,13.8,0,17.2,13.8,0,1.2000000000000002]
["2014-12-08","Week 23",0,0,0,0,0,0,0,0,0,0,null,null,null,null,null,null,0,0,0,null,0,0,0,4.6000000000000005,0,17.2,4.6000000000000005,0,0]
["2014-12-15","Week 24",0,0,0,0,0,0,0,0,0,0,null,null,null,null,null,null,0,0,0,null,0,0,0,0,0,17.2,0,0,0]
["2014-12-22","Week 25",0,0,0,0,0,0,0,0,0,0,null,null,null,null,null,null,0,0,0,null,0,0,0,0,0,17.2,0,0,0]
["2014-12-29","Week 26",0,0,0,0,0,0,0,0,0,0,null,null,null,null,null,null,0,0,0,null,0,0,0,0,0,14,0,0,0]
["2015-01-05","Week 27",0,0,0,0,0,0,0,0,0,0,null,null,null,null,null,null,0,0,0,null,0,0,0,0,0,0,0,0,0]
["2015-01-12","Week 28",0,0,0,0,0,0,0,0,0,0,null,null,null,null,null,null,0,0,0,null,0,0,0,0,0,0,0,0,0]
["2015-01-19","Week 29",0,0,0,0,0,0,0,0,0,0,null,null,null,null,null,null,0,0,0,null,0,0,0,0,0,0,0,0,0]
["2015-01-26","Week 30",0,0,0,0,0,0,0,0,0,0,null,null,null,null,null,null,0,0,0,null,0,0,0,0,0,0,0,0,0]
["2015-02-02","Week 31",0,0,0,0,0,0,0,0,0,0,null,null,null,null,null,null,0,0,0,null,0,0,0,0,0,0,0,0,0]
["2015-02-09","Week 32",0,0,0,0,0,0,0,0,0,0,null,null,null,null,null,null,0,0,0,null,0,0,0,0,0,0,0,0,0]
["2015-02-16","Week 33",0,0,0,0,0,0,0,0,0,0,null,null,null,null,null,null,0,0,0,null,0,0,0,0,0,0,0,0,0]
["2015-02-23","Week 34",0,0,0,0,0,0,0,0,0,0,null,null,null,null,null,null,0,0,0,null,0,0,0,0,0,0,0,0,0]
["2015-03-02","Week 35",0,0,0,0,0,0,0,0,0,0,null,null,null,null,null,null,0,0,0,null,0,0,0,0,0,0,0,0,0]
["2015-03-09","Week 36",0,0,0,0,0,0,0,0,0,0,null,null,null,null,null,null,0,0,0,null,0,0,0,0,0,0,0,0,0]
["2015-03-16","Week 37",0,0,0,0,0,0,0,0,0,0,null,null,null,null,null,null,0,0,0,null,0,0,0,0,0,0,0,0,0]
["2015-03-23","Week 38",0,null,null,null,null,0,0,0,0,0,null,null,null,null,null,null,0,0,0,null,20.240000000000002,0,32.800000000000004,20.240000000000002,0,32.800000000000004,20.240000000000002,0,32.800000000000004]
["2015-03-30","Week 39",0,null,null,null,null,0,0,0,0,0,null,null,null,null,null,null,0,0,0,null,19.78,0,32,19.78,0,32,19.78,0,32]
["2015-04-06","Week 40",0,null,null,null,null,0,0,0,0,0,null,null,null,null,null,null,0,0,0,null,18.86,0,32,18.86,0,32,18.86,0,32]
["2015-04-13","Week 41",0,null,null,null,null,0,0,0,0,0,null,null,null,null,null,null,0,0,0,null,18.86,0,32,18.86,0,32,18.86,0,32]
["2015-04-20","Week 42",0,0,0,0,0,0,0,0,0,0,null,null,null,null,null,null,0,0,0,null,0,0,0,0,0,0,0,0,0]
["2015-04-27","Week 43",0,0,0,0,0,0,0,0,0,0,null,null,null,null,null,null,0,0,0,null,0,0,0,0,0,0,0,0,0]
["2015-05-04","Week 44",0,0,0,0,0,0,0,0,0,0,null,null,null,null,null,null,0,0,0,null,0,0,0,0,0,0,0,0,0]
["2015-05-11","Week 45",0,0,0,0,0,0,0,0,0,0,null,null,null,null,null,null,0,0,0,null,0,0,0,0,0,0,0,0,0]
["2015-05-18","Week 46",0,0,0,0,0,0,0,0,0,0,null,null,null,null,null,null,0,0,0,null,0,0,0,0,0,0,0,0,0]
["2015-05-25","Week 47",0,0,0,0,0,0,0,0,0,0,null,null,null,null,null,null,0,0,0,null,0,0,0,0,0,0,0,0,0]
["2015-06-01","Week 48",0,0,0,0,0,0,0,0,0,0,null,null,null,null,null,null,0,0,0,null,0,0,0,0,0,0,0,0,0]
["2015-06-08","Week 49",0,0,0,0,0,0,0,0,0,0,null,null,null,null,null,null,0,0,0,null,0,0,0,0,0,0,0,0,0]
["2015-06-15","Week 50",0,0,0,0,0,0,0,0,0,0,null,null,null,null,null,null,0,0,0,null,0,0,0,0,0,0,0,0,0]
["2015-06-22","Week 51",0,0,0,0,0,0,0,0,0,0,null,null,null,null,null,null,0,0,0,null,0,0,0,0,0,0,0,0,0]
["2015-06-29","Week 52",0,0,0,0,0,0,0,0,0,0,null,null,null,null,null,null,0,0,0,null,0,0,0,0,0,0,0,0,0]
[null,"Total:",{"$f":"SUM(C421:C472)","v":0},{"$f":"SUM(D421:D472)","v":0},0,0,0,0,0,0,{"$f":"SUM(K421:K472)","v":0},{"$f":"SUM(L421:L472)","v":0},null,null,null,null,null,null,0,{"$f":"SUM(T421:T472)","v":0},{"$f":"SUM(U421:U472)","v":0},null,240.46500000000003,50.04999999999999,400.11600000000004,319.94000000000005,50.04999999999999,600.21299999999997,319.94000000000005,50.04999999999999,399.81299999999993]
[]
["Proposed Weekly Fertiliser (Kg) / Property:",null,null,null,null,null,null,null,null,null,null,null,null,null,null,null,null,null,null,null,null,null,null,null,null,null,null,null,null,null,null,"NOTES / WORKING PAGE"]
[{"$f":"Setup!C10","v":27},"Ha"]
[null,null,{"$f":"C5","v":"Amm Nitr"},"Urea","UAN","Pot Nitrate","MAP","Pot Sulphate","Cal Nitrate","Fertimix",{"$f":"K5","v":"User Defined 9"},{"$f":"L5","v":"User Defined 10"}]
[]
[{"$f":"A421","v":"2014-07-07"},"Week 1",{"$f":"$A$476*C421","v":0},{"$f":"$A$476*D421","v":0},0,0,0,0,0,0,0,0]
["2014-07-14","Week 2",{"$f":"$A$476*C422","v":0},0,0,0,0,0,0,0,0,0]
["2014-07-21","Week 3",{"$f":"$A$476*C423","v":0},0,0,0,0,0,0,0,0,0]
["2014-07-28","Week 4",{"$f":"$A$476*C424","v":0},0,0,0,0,0,0,0,0,0]
["2014-08-04","Week 5",{"$f":"$A$476*C425","v":0},0,0,0,0,0,0,0,0,0]
["2014-08-11","Week 6",{"$f":"$A$476*C426","v":0},0,0,0,0,0,0,0,0,0]
["2014-08-18","Week 7",{"$f":"$A$476*C427","v":0},0,0,0,0,0,0,0,0,0]
["2014-08-25","Week 8",{"$f":"$A$476*C428","v":0},0,0,0,0,0,0,0,0,0]
["2014-09-01","Week 9",{"$f":"$A$476*C429","v":0},0,0,0,0,0,0,0,0,0]
["2014-09-08","Week 10",{"$f":"$A$476*C430","v":0},0,0,0,0,0,0,0,0,0]
["2014-09-15","Week 11",{"$f":"$A$476*C431","v":0},0,0,0,0,0,0,0,0,0]
["2014-09-22","Week 12",{"$f":"$A$476*C432","v":0},0,0,0,0,0,0,0,0,0]
["2014-09-29","Week 13",{"$f":"$A$476*C433","v":0},0,0,0,0,0,0,0,0,0]
["2014-10-06","Week 14",{"$f":"$A$476*C434","v":0},0,0,0,0,0,0,0,0,0]
["2014-10-13","Week 15",{"$f":"$A$476*C435","v":0},0,0,0,0,0,0,0,0,0]
["2014-10-20","Week 16",{"$f":"$A$476*C436","v":0},0,0,0,0,0,0,0,0,0]
["2014-10-27","Week 17",{"$f":"$A$476*C437","v":0},0,0,0,0,0,0,0,0,0]
["2014-11-03","Week 18",{"$f":"$A$476*C438","v":0},0,0,0,0,0,0,0,0,0]
["2014-11-10","Week 19",{"$f":"$A$476*C439","v":0},0,0,0,0,0,0,0,0,0]
["2014-11-17","Week 20",{"$f":"$A$476*C440","v":0},0,0,0,0,0,0,0,0,0]
[{"$f":"A441","v":"2014-11-24"},"Week 21",{"$f":"$A$476*C441","v":0},0,0,0,0,0,0,0,0,0]
["2014-12-01","Week 22",{"$f":"$A$476*C442","v":0},0,0,0,0,0,0,0,0,0]
["2014-12-08","Week 23",{"$f":"$A$476*C443","v":0},0,0,0,0,0,0,0,0,0]
["2014-12-15","Week 24",{"$f":"$A$476*C444","v":0},0,0,0,0,0,0,0,0,0]
["2014-12-22","Week 25",{"$f":"$A$476*C445","v":0},0,0,0,0,0,0,0,0,0]
["2014-12-29","Week 26",{"$f":"$A$476*C446","v":0},0,0,0,0,0,0,0,0,0]
["2015-01-05","Week 27",{"$f":"$A$476*C447","v":0},0,0,0,0,0,0,0,0,0]
["2015-01-12","Week 28",{"$f":"$A$476*C448","v":0},0,0,0,0,0,0,0,0,0]
["2015-01-19","Week 29",{"$f":"$A$476*C449","v":0},0,0,0,0,0,0,0,0,0]
["2015-01-26","Week 30",{"$f":"$A$476*C450","v":0},0,0,0,0,0,0,0,0,0]
["2015-02-02","Week 31",{"$f":"$A$476*C451","v":0},0,0,0,0,0,0,0,0,0]
["2015-02-09","Week 32",{"$f":"$A$476*C452","v":0},0,0,0,0,0,0,0,0,0]
["2015-02-16","Week 33",{"$f":"$A$476*C453","v":0},0,0,0,0,0,0,0,0,0]
["2015-02-23","Week 34",{"$f":"$A$476*C454","v":0},0,0,0,0,0,0,0,0,0]
["2015-03-02","Week 35",{"$f":"$A$476*C455","v":0},0,0,0,0,0,0,0,0,0]
["2015-03-09","Week 36",{"$f":"$A$476*C456","v":0},0,0,0,0,0,0,0,0,0]
["2015-03-16","Week 37",{"$f":"$A$476*C457","v":0},0,0,0,0,0,0,0,0,0]
["2015-03-23","Week 38",{"$f":"$A$476*C458","v":0},0,0,0,0,0,0,0,0,0]
["2015-03-30","Week 39",{"$f":"$A$476*C459","v":0},0,0,0,0,0,0,0,0,0]
["2015-04-06","Week 40",{"$f":"$A$476*C460","v":0},0,0,0,0,0,0,0,0,0]
[{"$f":"A461","v":"2015-04-13"},"Week 41",{"$f":"$A$476*C461","v":0},0,0,0,0,0,0,0,0,0]
["2015-04-20","Week 42",{"$f":"$A$476*C462","v":0},0,0,0,0,0,0,0,0,0]
["2015-04-27","Week 43",{"$f":"$A$476*C463","v":0},0,0,0,0,0,0,0,0,0]
["2015-05-04","Week 44",{"$f":"$A$476*C464","v":0},0,0,0,0,0,0,0,0,0]
["2015-05-11","Week 45",{"$f":"$A$476*C465","v":0},0,0,0,0,0,0,0,0,0]
["2015-05-18","Week 46",{"$f":"$A$476*C466","v":0},0,0,0,0,0,0,0,0,0]
["2015-05-25","Week 47",{"$f":"$A$476*C467","v":0},0,0,0,0,0,0,0,0,0]
["2015-06-01","Week 48",{"$f":"$A$476*C468","v":0},0,0,0,0,0,0,0,0,0]
["2015-06-08","Week 49",{"$f":"$A$476*C469","v":0},0,0,0,0,0,0,0,0,0]
["2015-06-15","Week 50",{"$f":"$A$476*C470","v":0},0,0,0,0,0,0,0,0,0]
["2015-06-22","Week 51",{"$f":"$A$476*C471","v":0},0,0,0,0,0,0,0,0,0]
["2015-06-29","Week 52",{"$f":"$A$476*C472","v":0},0,0,0,0,0,0,0,0,0]
[null,"Total:",{"$f":"SUM(C479:C530)","v":0},0,0,0,0,0,0,0,{"$f":"SUM(K479:K530)","v":0},{"$f":"SUM(L479:L530)","v":0}]
[]
["Actual Weekly Fertiliser (Kg) / Property:",null,null,null,null,null,null,null,null,null,null,null,null,null,null,null,null,null,null,null,null,null,null,null,null,null,null,null,null,null,null,"NOTES / WORKING PAGE"]
[{"$f":"Setup!C10","v":27},"Ha"]
["Week Beginning","Week No.",{"$f":"C5","v":"Amm Nitr"},"Urea","UAN","Pot Nitrate","MAP","Pot Sulphate","Cal Nitrate","Fertimix","User Defined 9","User Defined 10"]
[]
[{"$f":"A421","v":"2014-07-07"},"Week 1",0,0,0,0,0,0,0,0,0,0]
["2014-07-14","Week 2",0,0,0,0,0,0,0,0,0,0]
["2014-07-21","Week 3",0,0,0,0,0,0,0,0,0,0]
["2014-07-28","Week 4",0,0,0,0,0,0,0,0,0,0]
["2014-08-04","Week 5",0,0,0,0,0,0,0,0,0,0]
["2014-08-11","Week 6",0,0,0,0,0,0,0,0,0,0]
["2014-08-18","Week 7",0,0,0,0,0,0,0,0,0,0]
["2014-08-25","Week 8",0,0,0,0,0,0,0,0,0,0]
["2014-09-01","Week 9",0,0,0,0,0,0,0,0,0,0]
["2014-09-08","Week 10",0,0,0,0,0,0,0,0,0,0]
["2014-09-15","Week 11",0,0,0,0,0,0,0,0,0,0]
["2014-09-22","Week 12",0,0,0,0,0,0,0,0,0,0]
["2014-09-29","Week 13",0,0,0,0,0,0,0,0,0,0]
["2014-10-06","Week 14",0,0,0,0,0,0,0,0,0,0]
["2014-10-13","Week 15",0,0,0,0,0,0,0,0,0,0]
["2014-10-20","Week 16",0,0,0,0,0,0,0,0,0,0]
["2014-10-27","Week 17",0,0,0,0,0,0,0,0,0,0]
["2014-11-03","Week 18",0,0,0,0,0,0,0,0,0,0]
["2014-11-10","Week 19",0,0,0,0,0,0,0,0,0,0]
["2014-11-17","Week 20",0,0,0,0,0,0,0,0,0,0]
[{"$f":"A441","v":"2014-11-24"},"Week 21",0,0,0,0,0,0,0,0,0,0]
["2014-12-01","Week 22",0,0,0,0,0,0,0,0,0,0]
["2014-12-08","Week 23",0,0,0,0,0,0,0,0,0,0]
["2014-12-15","Week 24",0,0,0,0,0,0,0,0,0,0]
["2014-12-22","Week 25",0,0,0,0,0,0,0,0,0,0]
["2014-12-29","Week 26",0,0,0,0,0,0,0,0,0,0]
["2015-01-05","Week 27",0,0,0,0,0,0,0,0,0,0]
["2015-01-12","Week 28",0,0,0,0,0,0,0,0,0,0]
["2015-01-19","Week 29",0,0,0,0,0,0,0,0,0,0]
["2015-01-26","Week 30",0,0,0,0,0,0,0,0,0,0]
["2015-02-02","Week 31",0,0,0,0,0,0,0,0,0,0]
["2015-02-09","Week 32",0,0,0,0,0,0,0,0,0,0]
["2015-02-16","Week 33",0,0,0,0,0,0,0,0,0,0]
["2015-02-23","Week 34",0,0,0,0,0,0,0,0,0,0]
["2015-03-02","Week 35",0,0,0,0,0,0,0,0,0,0]
["2015-03-09","Week 36",0,0,0,0,0,0,0,0,0,0]
["2015-03-16","Week 37",0,0,0,0,0,0,0,0,0,0]
["2015-03-23","Week 38",0,0,0,0,0,0,0,0,0,0]
["2015-03-30","Week 39",0,0,0,0,0,0,0,0,0,0]
["2015-04-06","Week 40",0,0,0,0,0,0,0,0,0,0]
[{"$f":"A461","v":"2015-04-13"},"Week 41",0,0,0,0,0,0,0,0,0,0]
["2015-04-20","Week 42",0,0,0,0,0,0,0,0,0,0]
["2015-04-27","Week 43",0,0,0,0,0,0,0,0,0,0]
["2015-05-04","Week 44",0,0,0,0,0,0,0,0,0,0]
["2015-05-11","Week 45",0,0,0,0,0,0,0,0,0,0]
["2015-05-18","Week 46",0,0,0,0,0,0,0,0,0,0]
["2015-05-25","Week 47",0,0,0,0,0,0,0,0,0,0]
["2015-06-01","Week 48",0,0,0,0,0,0,0,0,0,0]
["2015-06-08","Week 49",0,0,0,0,0,0,0,0,0,0]
["2015-06-15","Week 50",0,0,0,0,0,0,0,0,0,0]
["2015-06-22","Week 51",0,0,0,0,0,0,0,0,0,0]
["2015-06-29","Week 52",0,0,0,0,0,0,0,0,0,0]
[null,"Total:",{"$f":"SUM(C537:C588)","v":0},0,0,0,0,0,0,0,{"$f":"SUM(K537:K588)","v":0},{"$f":"SUM(L537:L588)","v":0}]

{"sheet":"Foliar Program","index":17,"n_rows":128,"n_cols":9,"rows_kept":128,"cut":false,"hidden":false,"merged":[[80,0,80,7],[111,0,111,7],[121,0,121,7],[1,0,1,7],[10,0,10,7],[16,0,16,7],[47,0,47,7],[65,0,65,7],[74,0,74,7]]}
[]
["Proposed Foliar Nutrient Program (Kg/1000 litres):",null,null,null,null,null,null,null,"NOTES / WORKING PAGE"]
[]
[null,null,"Potassium Nitrate","Lo-Bi Urea","Zinc Nitrate","Urea","Solubor","Timing/Comments"]
[null,null,"KNO3","CO(NH2)2","NZn","CO(NH2)2","Na2B8O13.4H2O"]
[null,null,"(Kg/1000L)","(Kg/1000L)","(L/1000L)","(Kg/1000L)","(Kg/1000L)"]
[{"$f":"Setup!A5","v":"2014-07-07"},"Week 1",0,0,0,0,0]
[{"$f":"A7+7","v":"2014-07-14"},"Week 2",0,0,0,0,0]
[{"$f":"A8+7","v":"2014-07-21"},"Week 3",50,0,0,0,0,"Approx Dormancy Breaking - Carmel Only"]
[{"$f":"A9+7","v":"2014-07-28"},"Week 4",0,0,0,0,0]
["FLOWERING APPLICATIONS"]
[{"$f":"A10+7","v":"2014-08-04"},"Week 5",0,0,0,0,2.5,"Budswell/Early Pink Bud  -Fruit Set"]
[{"$f":"A12+7","v":"2014-08-11"},"Week 6",0,0,0,0,0]
[{"$f":"A13+7","v":"2014-08-18"},"Week 7",0,0,0,0,0]
[{"$f":"A14+7","v":"2014-08-25"},"Week 8",0,0,0,0,0]
[{"$f":"A15+7","v":"2014-09-01"},"Week 9",0,0,0,0,0]
["SPRING APPLICATIONS"]
[{"$f":"A16+7","v":"2014-09-08"},"Week 10",2.5,2.5,2,0,0,"2 wks after shuck fall"]
[{"$f":"A18+7","v":"2014-09-15"},"Week 11",2.5,2.5,2,0,0,"3 wks after shuck fall"]
[{"$f":"A19+7","v":"2014-09-22"},"Week 12",5,2.5,2,0,0,"4 wks after shuck fall"]
["2014-09-29","Week 13",0,0,0,0,0]
["2014-10-06","Week 14",5,4,2,0,0,"6 wks after shuck fall"]
["2014-10-13","Week 15",0,0,0,0,0]
["2014-10-20","Week 16",7.5,4,2,0,0,"8 wks after shuck fall"]
["2014-10-27","Week 17",0,0,0,0,0]
["2014-11-03","Week 18",7.5,4,2,0,0,"10 wks after shuck fall"]
["2014-11-10","Week 19",0,0,0,0,0]
["2014-11-17","Week 20",7.5,4,2,0,0,"12 wks after shuck fall"]
["2014-11-24","Week 21",0,0,0,0,0]
["2014-12-01","Week 22",0,0,0,0,0]
["2014-12-08","Week 23",0,0,0,0,0]
["2014-12-15","Week 24",0,0,0,0,0]
["2014-12-22","Week 25",0,0,0,0,0]
["2014-12-29","Week 26",0,0,0,0,0]
["2015-01-05","Week 27",0,0,0,0,0]
["2015-01-12","Week 28",0,0,0,0,0]
["2015-01-19","Week 29",0,0,0,0,0]
["2015-01-26","Week 30",0,0,0,0,0]
["2015-02-02","Week 31",0,0,0,0,0]
["2015-02-09","Week 32",0,0,0,0,0]
["2015-02-16","Week 33",0,0,0,0,0]
["2015-02-23","Week 34",0,0,0,0,0]
["2015-03-02","Week 35",0,0,0,0,0]
["2015-03-09","Week 36",0,0,0,0,0]
["2015-03-16","Week 37",0,0,0,0,0]
["2015-03-23","Week 38",0,0,0,0,0]
["2015-03-30","Week 39",0,0,0,0,0]
["POST HARVEST APPLICATIONS"]
[{"$f":"A47+7","v":"2015-04-06"},"Week 40",0,10,0,0,0,"Post harvest, pre-leaf drop - Bud building"]
[{"$f":"A49+7","v":"2015-04-13"},"Week 41",0,10,0,0,0,"Post harvest, pre-leaf drop - Bud building"]
[{"$f":"A50+7","v":"2015-04-20"},"Week 42",0,0,0,0,2.5,"Post harvest, pre-leaf drop - Improve Fruit Set"]
[{"$f":"A51+7","v":"2015-04-27"},"Week 43",0,0,0,0,0]
["2015-05-04","Week 44",0,0,0,0,0]
["2015-05-11","Week 45",0,0,0,0,0]
["2015-05-18","Week 46",0,0,0,0,0]
["2015-05-25","Week 47",0,0,0,0,0]
["2015-06-01","Week 48",0,0,0,70,0,"Defoliation"]
["WINTER APPLICATIONS"]
[{"$f":"A57+7","v":"2015-06-08"},"Week 49",0,0,0,0,0]
[{"$f":"A59+7","v":"2015-06-15"},"Week 50",0,0,0,0,0]
[{"$f":"A60+7","v":"2015-06-22"},"Week 51",0,0,0,0,0]
[{"$f":"A61+7","v":"2015-06-29"},"Week 52",0,0,0,0,0]
[]
["Note:","Compatability - Check chemical labels or expert advice to determine compatability with fungicide applications and if combining multiple nutrients"]
[]
["Actual Foliar Nutrient Program (Kg/1000 litres):"]
[]
[null,null,"Potassium Nitrate","Lo-Bi Urea","Zinc Nitrate","Urea","Solubor","Timing/Comments"]
[null,null,"KNO3","CO(NH2)2","NZn","CO(NH2)2","Na2B8O13.4H2O"]
[null,null,"(Kg/1000L)","(Kg/1000L)","(L/1000L)","(Kg/1000L)","(Kg/1000L)"]
[{"$f":"Setup!A5","v":"2014-07-07"},"Week 1",0,0,0,0]
[{"$f":"A71+7","v":"2014-07-14"},"Week 2",0,0,0,0]
["2014-07-21","Week 3",0,0,0,0]
["2014-07-28","Week 4",0,0,0,0]
["FLOWERING APPLICATIONS"]
[{"$f":"A74+7","v":"2014-08-04"},"Week 5",0,0,0,0]
["2014-08-11","Week 6",0,0,0,0]
[{"$f":"A77+7","v":"2014-08-18"},"Week 7",0,0,0,0]
["2014-08-25","Week 8",0,0,0,0]
["2014-09-01","Week 9",0,0,0,0]
["SPRING APPLICATIONS"]
[{"$f":"A80+7","v":"2014-09-08"},"Week 10",0,0,0,0]
[{"$f":"A82+7","v":"2014-09-15"},"Week 11",0,0,0,0]
["2014-09-22","Week 12",0,0,0,0]
["2014-09-29","Week 13",0,0,0,0]
["2014-10-06","Week 14",0,0,0,0]
["2014-10-13","Week 15",0,0,0,0]
["2014-10-20","Week 16",0,0,0,0]
["2014-10-27","Week 17",0,0,0,0]
["2014-11-03","Week 18",0,0,0,0]
["2014-11-10","Week 19",0,0,0,0]
["2014-11-17","Week 20",0,0,0,0]
["2014-11-24","Week 21",0,0,0,0]
["2014-12-01","Week 22",0,0,0,0]
["2014-12-08","Week 23",0,0,0,0]
["2014-12-15","Week 24",0,0,0,0]
["2014-12-22","Week 25",0,0,0,0]
["2014-12-29","Week 26",0,0,0,0]
["2015-01-05","Week 27",0,0,0,0]
["2015-01-12","Week 28",0,0,0,0]
["2015-01-19","Week 29",0,0,0,0]
["2015-01-26","Week 30",0,0,0,0]
["2015-02-02","Week 31",0,0,0,0]
["2015-02-09","Week 32",0,0,0,0]
["2015-02-16","Week 33",0,0,0,0]
[{"$f":"A105+7","v":"2015-02-23"},"Week 34",0,0,0,0]
["2015-03-02","Week 35",0,0,0,0]
["2015-03-09","Week 36",0,0,0,0]
["2015-03-16","Week 37",0,0,0,0]
["2015-03-23","Week 38",0,0,0,0]
["2015-03-30","Week 39",0,0,0,0]
["POST HARVEST APPLICATIONS"]
[{"$f":"A111+7","v":"2015-04-06"},"Week 40",0,0,0,0]
["2015-04-13","Week 41",0,0,0,0]
[{"$f":"A114+7","v":"2015-04-20"},"Week 42",0,0,0,0]
["2015-04-27","Week 43",0,0,0,0]
["2015-05-04","Week 44",0,0,0,0]
["2015-05-11","Week 45",0,0,0,0]
["2015-05-18","Week 46",0,0,0,0]
["2015-05-25","Week 47",0,0,0,0]
["2015-06-01","Week 48",0,0,0,0]
["WINTER APPLICATIONS"]
[{"$f":"A121+7","v":"2015-06-08"},"Week 49",0,0,0,0]
[{"$f":"A123+7","v":"2015-06-15"},"Week 50",0,0,0,0]
["2015-06-22","Week 51",0,0,0,0]
["2015-06-29","Week 52",0,0,0,0]
[]
["Note:","Compatability - Check chemical labels or expert advice to determine compatability with fungicide applications and if combining multiple nutrients"]

{"sheet":"Leaf Analysis","index":18,"n_rows":22,"n_cols":11,"rows_kept":22,"cut":false,"hidden":false,"merged":[[1,10,1,18],[3,2,3,3],[3,4,3,5],[3,6,3,7],[3,8,3,9],[1,0,1,9]]}
[]
["Almond Leaf Analysis",null,null,null,null,null,null,null,null,null,"NOTES / WORKING PAGE"]
[]
[null,null,"Oct",null,"Nov",null,"Dec",null,"Jan"]
[null,null,"CT Trial","Growers","CT Trial","Growers","CT Trial","Growers","CT Trial","Growers"]
["N","%",4.07,0,3.51,0,3.05,0,2.99,0]
["P","%",0.2,0,0.16,0,0.14000000000000001,0,0.14000000000000001,0]
["K","%",3.13,0,2.76,0,3.32,0,2.76,0]
["Ca","%",1.49,0,1.82,0,2.44,0,2.42,0]
["Mg","%",0.4,0,0.4,0,0.47,0,0.46,0]
["Na","%",7.0000000000000007E-2,0,7.0000000000000007E-2,0,0.08,0,7.0000000000000007E-2,0]
["Cl","%",0.35,0,0.35,0,0.51,0,0.41,0]
["Zn *","mg/kg",266.08999999999997,0,361.88,0,410.48,0,335.2,0]
["Mn","mg/kg",158.05000000000001,0,158.97999999999999,0,149.25,0,162.83000000000001,0]
["Fe","mg/kg",85.54,0,87.45,0,105.28,0,88.76,0]
["Cu","mg/kg",8.1199999999999992,0,5.91,0,5.42,0,5.65,0]
["B","mg/kg",50.82,0,39.909999999999997,0,41.4,0,40.25,0]
["S","%",0.23,0,0.2,0,0.19,0,0.17,0]
["Average leaf analysis of Treatment 1 (240:400) and Treatment 2 (320:600)"]
[]
["*  Zn levels are abnormally high at the CT Trial because of the large number of foliar "]
["sprays"]

{"sheet":"Nutrient Removal Analysis","index":19,"n_rows":41,"n_cols":9,"rows_kept":41,"cut":false,"hidden":false,"merged":[[1,8,1,16],[1,0,1,7]]}
[]
["Nutrient Removal Analysis",null,null,null,null,null,null,null,"NOTES / WORKING PAGE"]
[]
[null,null,"Husk","Shell","Kernel","TOTAL"]
[null,"Dry Weight (g):",0,0,0,{"$f":"SUM(C5:E5)","v":0}]
[null,"Wet Weight (g):",0,0,0,{"$f":"SUM(C6:E6)","v":0}]
[null,"Crackout (%):",{"$f":"C6/$F6","v":{"$error":"#DIV/0!"}},{"$f":"D6/$F6","v":{"$error":"#DIV/0!"}},{"$f":"E6/$F6","v":{"$error":"#DIV/0!"}},{"$f":"SUM(C7:E7)","v":{"$error":"#DIV/0!"}}]
[null,"Wet Yield (kg/ha):",{"$f":"($E8/$E7)*C$7","v":{"$error":"#DIV/0!"}},{"$f":"($E8/$E7)*D$7","v":{"$error":"#DIV/0!"}},0,{"$f":"SUM(C8:E8)","v":{"$error":"#DIV/0!"}}]
[null,"Dry Yield (kg/ha):",{"$f":"C8*(C5/C6)","v":{"$error":"#DIV/0!"}},{"$f":"D8*(D5/D6)","v":{"$error":"#DIV/0!"}},{"$error":"#DIV/0!"},{"$f":"SUM(C9:E9)","v":{"$error":"#DIV/0!"}}]
[]
["Crop Analysis:"]
[null,"Dry Weight","Husk","Shell","Kernel",null,"SAMPLING INSTRUCTIONS"]
["N","%",0,0,0,null,"When cracking almonds in "]
["P","%",0,0,0,null,"readiness for laboratory "]
["K","%",0,0,0,null,"analysis ensure that each "]
["Ca","%",0,0,0,null,"fruit has a husk, shell"]
["Mg","%",0,0,0,null,"& kernel, NO BLANKS. "]
["Na","%",0,0,0]
["Cl","%",0,0,0,null,"Send to laboratory & ask"]
["Zn","mg/kg",0,0,0,null,"for a full analysis "]
["Mn","mg/kg",0,0,0,null,"(inc Boron) & the wet "]
["Fe","mg/kg",0,0,0,null,"weight & dry weight of  "]
["Cu","mg/kg",0,0,0,null,"each of the 3 samples "]
["B","mg/kg",0,0,0,null,"(i.e. husk, shell & kernel)"]
["S","%",0,0,0]
[]
["Crop Removal:"]
[null,null,"TOTAL","Husk","Shell","Kernel"]
["N","kg removed / ha",{"$f":"SUM(D29:F29)","v":{"$error":"#DIV/0!"}},{"$f":"C$9*(C13/100)","v":{"$error":"#DIV/0!"}},{"$f":"D$9*(D13/100)","v":{"$error":"#DIV/0!"}},{"$f":"E$9*(E13/100)","v":{"$error":"#DIV/0!"}}]
["P","kg removed / ha",{"$f":"SUM(D30:F30)","v":{"$error":"#DIV/0!"}},{"$f":"C$9*(C14/100)","v":{"$error":"#DIV/0!"}},{"$error":"#DIV/0!"},{"$error":"#DIV/0!"}]
["K","kg removed / ha",{"$error":"#DIV/0!"},{"$error":"#DIV/0!"},{"$error":"#DIV/0!"},{"$error":"#DIV/0!"}]
["Ca","kg removed / ha",{"$error":"#DIV/0!"},{"$error":"#DIV/0!"},{"$error":"#DIV/0!"},{"$error":"#DIV/0!"}]
["Mg","kg removed / ha",{"$error":"#DIV/0!"},{"$error":"#DIV/0!"},{"$error":"#DIV/0!"},{"$error":"#DIV/0!"}]
["Na","kg removed / ha",{"$error":"#DIV/0!"},{"$error":"#DIV/0!"},{"$error":"#DIV/0!"},{"$error":"#DIV/0!"}]
["Cl","kg removed / ha",{"$error":"#DIV/0!"},{"$error":"#DIV/0!"},{"$error":"#DIV/0!"},{"$error":"#DIV/0!"}]
["Zn","kg removed / ha",{"$error":"#DIV/0!"},{"$f":"(C$9*C20)/1000000","v":{"$error":"#DIV/0!"}},{"$f":"(D$9*D20)/1000000","v":{"$error":"#DIV/0!"}},{"$error":"#DIV/0!"}]
["Mn","kg removed / ha",{"$error":"#DIV/0!"},{"$f":"(C$9*C21)/1000000","v":{"$error":"#DIV/0!"}},{"$error":"#DIV/0!"},{"$error":"#DIV/0!"}]
["Fe","kg removed / ha",{"$error":"#DIV/0!"},{"$error":"#DIV/0!"},{"$error":"#DIV/0!"},{"$error":"#DIV/0!"}]
["Cu","kg removed / ha",{"$error":"#DIV/0!"},{"$error":"#DIV/0!"},{"$error":"#DIV/0!"},{"$error":"#DIV/0!"}]
["B","kg removed / ha",{"$error":"#DIV/0!"},{"$error":"#DIV/0!"},{"$error":"#DIV/0!"},{"$error":"#DIV/0!"}]
["S","kg removed / ha",{"$error":"#DIV/0!"},{"$f":"C$9*(C25/100)","v":{"$error":"#DIV/0!"}},{"$f":"D$9*(D25/100)","v":{"$error":"#DIV/0!"}},{"$error":"#DIV/0!"}]

{"sheet":"Pumping Costs","index":20,"n_rows":29,"n_cols":11,"rows_kept":29,"cut":false,"hidden":false,"merged":[[12,2,12,3],[13,2,13,3],[14,2,14,3]]}
[]
[]
[null,"Application Rate =",{"$f":"'Irrig Diary'!P15","v":1.1608623548922055},"mm/hr/Ha          =",{"$f":"C3*10/3.6","v":3.2246176524783481},"L/sec/Ha"]
[]
[]
["Example","Flow","Meter Head","Density of Liquid","Water Power","Pump Efficiency","Pump Power","Motor Efficiency","Motor Power","Electrical Cost","Running Cost"]
[null,"(L/sec)","(MHD)","( r )","(kW)","(%)"," (kW)","(%)"," (kW)","($/kWh)","($/hr)"]
[1,3.25,79,1,{"$f":"B8*C8*D8/102.4","v":2.50732421875},0.7,{"$f":"E8/F8","v":3.5818917410714288},0.9,{"$f":"G8/H8","v":3.9798797123015874},0.11,{"$f":"I8*J8","v":0.43778676835317459}]
[2,2.78,35,1,{"$f":"B9*C9*D9/102.4","v":0.95019531249999989},0.7,{"$f":"E9/F9","v":1.357421875},0.9,{"$f":"G9/H9","v":1.5082465277777777},0.11,{"$f":"I9*J9","v":0.16590711805555555}]
[3,2.78,35,1,{"$f":"B10*C10*D10/102.4","v":0.95019531249999989},0.7,{"$f":"E10/F10","v":1.357421875},0.9,{"$f":"G10/H10","v":1.5082465277777777},0.11,{"$f":"I10*J10","v":0.16590711805555555}]
[]
[]
[null,"Water Power (kW) = ","(L/sec x MHD x r) / 102.4"]
[null,"Pump Power (kW) =","Water Power / Pump Efficiency (%)"]
[null,"Motor Power (kW) =","Pump Power / Motor Efficiency (%)"]
[null,"Open Impellor =",0.45,"Efficiency (%)"]
[]
[null,null,null,"Example 1","Example 2","Example 3"]
[null,"Water Use","ML/Ha",12,12,12]
[null,"Application Rate","mm/hr",{"$f":"$C3","v":1.1608623548922055},{"$f":"$C3","v":1.1608623548922055},{"$f":"$C3","v":1.1608623548922055}]
[null,"Pumping Hrs","hrs",{"$f":"D19*100/D20","v":1033.7142857142858},{"$f":"E19*100/E20","v":1033.7142857142858},{"$f":"F19*100/F20","v":1033.7142857142858}]
[null,"Pumping Cost","$/Ha",{"$f":"D21*K8","v":452.54643654336735},{"$f":"E21*K9","v":171.50055803571431},{"$f":"F21*K10","v":171.50055803571431}]
[]
[null,"Estimated Yield","kg/Ha",3000,3000,3000]
[null,"Estimated Price","$/kg",6,6,6]
[]
[null,"Additional Yield Required to Cover Costs =",null,{"$f":"D22/D25","v":75.42440609056122},{"$f":"E22/E25","v":28.583426339285719},{"$f":"F22/F25","v":28.583426339285719},"kg's/Ha"]
[null,null,"=",{"$f":"D27+D24","v":3075.4244060905612},{"$f":"E27+E24","v":3028.5834263392858},{"$f":"F27+F24","v":3028.5834263392858},"kg's/Ha"]
[null,null,"=",{"$f":"D27/D24","v":2.5141468696853742E-2},{"$f":"E27/E24","v":9.5278087797619065E-3},{"$f":"F27/F24","v":9.5278087797619065E-3},"Additional Yield"]